{"text_format":"1","workbook":"xlsx","n_sheets":5,"sheets":["Lotterien","System-Chancen","Spielgemeinschaften+XXL-Chancen","Rubbellose","Hotpicks+Spiele"],"not_rendered":{"charts":0,"images":0,"macros":1,"external_links":0,"defined_names":4,"comments":0,"pivot_tables":0},"unopened":[],"bounds":{"document_bytes":16777216,"sheet_cells":100000,"rows_first":2000,"rows_last":500,"rows_between":2000,"halvings":0,"cell_chars":16384,"cell_head_chars":4096},"cells_cut":0,"cells_raw":0,"read":"whole","date_system":"1900"}

{"sheet":"Lotterien","index":0,"n_rows":253,"n_cols":29,"rows_kept":253,"cut":false,"hidden":false,"merged":[[211,1,211,2],[176,1,176,3],[115,1,115,3],[115,5,116,7],[161,1,161,3],[226,5,227,7],[226,8,226,10],[227,8,227,10],[142,5,143,7],[144,1,144,3],[143,1,143,3],[128,1,128,3],[127,8,127,10],[247,25,247,28],[246,25,246,28],[160,12,161,14],[160,1,160,3],[142,8,142,10],[143,8,143,10],[197,8,197,10],[160,8,160,10],[176,8,176,10],[161,8,161,10],[188,8,188,10],[212,8,212,10],[211,8,211,10],[177,1,177,3],[175,8,175,10],[198,8,198,10],[211,5,212,7],[192,1,194,4],[188,1,190,4],[198,1,198,3],[227,1,227,2],[212,1,212,2],[226,1,226,2],[197,1,197,3],[218,15,218,17],[97,5,98,7],[175,5,176,7],[156,15,157,18],[193,15,193,16],[192,15,192,16],[176,15,176,17],[97,8,97,10],[97,12,98,14],[97,15,97,17],[98,8,98,10],[240,15,240,17],[239,15,239,17],[98,15,98,17],[217,15,217,17],[241,1,243,11],[1,1,1,3],[47,5,48,7],[29,1,29,2],[30,1,30,2],[64,1,64,3],[48,1,48,3],[2,1,2,3],[29,5,30,7],[63,1,63,3],[47,1,47,3],[1,5,2,7],[106,5,107,7],[106,12,107,14],[106,15,106,17],[107,15,107,17],[73,1,73,2],[74,1,74,2],[87,1,87,3],[88,1,88,3],[72,5,73,7],[87,5,88,7],[17,1,17,3],[16,1,16,3],[16,5,17,7],[97,1,97,3],[98,1,98,3],[106,1,106,3],[107,1,107,3],[9,15,9,17],[26,15,26,17],[54,15,54,17],[115,12,116,14],[62,8,62,10],[2,8,2,10],[55,15,55,17],[72,8,72,9],[88,15,88,17],[89,15,89,17],[87,12,88,14],[1,8,1,10],[17,8,17,10],[116,8,116,10],[73,8,73,9],[48,8,48,10],[61,8,61,10],[49,8,49,10],[29,8,29,9],[30,8,30,9],[107,8,107,10],[16,8,16,10],[87,8,87,10],[88,8,88,10],[115,8,115,10],[106,8,106,10],[1,27,2,27],[1,22,2,22],[1,24,2,24],[1,25,2,25],[44,15,44,17],[142,15,142,17],[45,15,45,17],[17,15,17,17],[35,15,35,17],[1,15,1,17],[1,23,2,23],[65,15,65,17],[66,15,66,17],[77,15,77,17],[76,15,76,17],[1,26,2,26],[128,15,128,17],[115,15,115,17],[127,15,127,17],[2,15,2,17],[8,15,8,17],[34,15,34,17],[16,15,16,17],[25,15,25,17],[248,25,248,28],[116,1,116,3],[246,23,246,24],[247,23,247,24],[248,23,248,24],[160,5,161,7],[160,15,160,17],[127,1,127,3],[204,15,204,16],[205,15,205,16],[161,15,161,17],[127,5,128,7],[143,15,143,17],[197,5,198,7],[127,12,128,14],[189,8,189,10],[128,8,128,10],[246,1,273,18],[249,23,249,24],[250,23,250,24],[251,23,251,24],[252,23,252,24],[175,15,175,17],[116,15,116,17]]}
[null,null,null,null,null,null,null,null,null,null,null,0.95]
[null,"Cash4Life ⁴",null,null,1,"vs.",null,null,"SwissLotto",null,null,1,null,null,null,1,null,null,1,null,null,null,"Bewertungsübersicht der\nLotterien von Lottohelden ¹","Preis\nje Tipp","Wer-\ntung ²","Ø AQ\nGesamt","Chancen\nje Tipp","Vertei-\nlung ³"]
[null,"5 aus 60 + 1 aus 4",null,null,{"$f":"E2*2","v":2},null,null,null,"6 aus 42 + 1 aus 6",null,null,{"$f":"L2*2.5","v":2.5},null,null,null,"2 aus 20 aus 70",null,null,{"$f":"S2*1*P2","v":1}]
[null,"Richtige",{"$f":"IF(E2=1,\"Chancen 1:\",\"Ø Gewinne 1:\")","v":"Chancen 1:"},"Ø AQ","(Ø) Gewinn",{"$f":"IFERROR(COUNTIF(E5:E13,\"Freispiel\"),\"\")","v":0},{"$f":"IFERROR(SUMIF(E5:E13,\"<>Freispiel\",D5:D13),\"\")","v":0.46257222358936528},null,"Richtige",{"$f":"IF(L2=1,\"Chancen 1:\",\"Ø Gewinne 1:\")","v":"Chancen 1:"},"(Ø) AQ","(Ø) Gewinn",{"$f":"IFERROR(COUNTIF(L5:L13,\"Freispiel\"),\"\")","v":0},{"$f":"IFERROR(SUMIF(L5:L13,\"<>Freispiel\",K5:K13),\"\")","v":0.60647773279352246},null,"Richtige",{"$f":"IF(S2=1,\"Chancen 1:\",\"Ø Gewinne 1:\")","v":"Chancen 1:"},"Ø AQ","(Ø) Gewinn",{"$f":"IFERROR(COUNTIF(S5:S5,\"Freispiel\"),\"\")","v":0},{"$f":"IFERROR(SUMIF(S5:S5,\"<>Freispiel\",R5:R5),\"\")","v":0.4720496894409939},null,{"$f":"CONCATENATE(\"KENO Typ 03 (x\",$P$9,\")\")","v":"KENO Typ 03 (x1)"},{"$f":"$S$10/$S$9","v":1},{"$f":"$U$14","v":5.0675924392305634},{"$f":"$R$14","v":0.50675922542930207},{"$f":"IFERROR($O$14/$S$9,\"\")","v":0.19437340153452681},{"$f":"$T$14","v":1.3875342465753424},5.0675924392305634]
[{"$f":"IF(C5=\"\",0,1/C5)","v":4.5774869669791084E-8},"5 + CB",{"$f":"IF(OR(E5<=0,AND(E5>1000000000,E5<>\"Freispiel\")),\"\",1/(HYPGEOMDIST(5,5,5,60)*HYPGEOMDIST(1,1,1,4))/E2)","v":21846047.999999996},{"$f":"IF(OR(E5<=0,F4>1),\"\",IF(E5=\"Freispiel\",G4/(1-(1/C5))/C5,IF(E5>1000000000,\"\",E5/C5/E3)))","v":0.16021204384426879},7000000,{"$f":"IFERROR(IF(D5<D15,D15/D5,D5/D15),\"\")","v":3.1171530002597616},{"$f":"IFERROR(D5/IF((C5*E3)<1500,1500,C5*E3)^0.25*62.2333,\"\")","v":0.12263580088096147},{"$f":"IF(J5=\"\",0,1/J5)","v":3.1771533697079272E-8},"6 + GZ",{"$f":"IF(OR(L5<=0,AND(L5>1000000000,L5<>\"Freispiel\")),\"\",1/(HYPGEOMDIST(6,6,6,42)*HYPGEOMDIST(1,1,1,6))/L2)","v":31474715.999999996},{"$f":"IF(OR(L5<=0,M4>1),\"\",IF(L5=\"Freispiel\",N4/(1-(1/J5))/J5,IF(L5>1000000000,\"\",L5/J5/L3)))","v":0.23147646455282431},{"$f":"17303432.9584/L1","v":18214139.956210528},{"$f":"IFERROR(IF(K5<K15,K15/K5,K5/K15),\"\")","v":3.4350612863880392},{"$f":"IFERROR(K5/IF((J5*L3)<1500,1500,J5*L3)^0.25*62.2333,\"\")","v":0.1529516667587382},{"$f":"IF(Q5=\"\",0,1/Q5)","v":7.8674948240165646E-2},2,{"$f":"IF(OR(S5<=0,AND(S5>1000000000,S5<>\"Freispiel\")),\"\",1/HYPGEOMDIST(P5,2,20,70)/S2)","v":12.710526315789471},{"$f":"IF(OR(S5<=0,T4>1),\"\",IF(S5=\"Freispiel\",U4/(1-(1/Q5))/Q5,IF(S5>1000000000,\"\",S5/Q5/S3)))","v":0.4720496894409939},{"$f":"6*P2","v":6},{"$f":"IFERROR(IF(R5<R7,R7/R5,R5/R7),\"\")","v":1},{"$f":"IFERROR(R5/IF((Q5*S3)<1500,1500,Q5*S3)^0.25*62.2333,\"\")","v":4.7204970666805259},null,{"$f":"CONCATENATE(\"KENO Typ 05 (x\",$P$26,\")\")","v":"KENO Typ 05 (x1)"},{"$f":"$S$27/$S$26","v":1},{"$f":"$U$32","v":4.9897903285856948},{"$f":"$R$32","v":0.49897901464874761},{"$f":"IFERROR($O$32/$S$26,\"\")","v":0.13668116057702648},{"$f":"$T$32","v":1.2909895392009254},4.9897903285856948]
[1.3732460900937325E-7,5,{"$f":"IF(OR(E6<=0,AND(E6>1000000000,E6<>\"Freispiel\")),\"\",1/(HYPGEOMDIST(5,5,5,60)*HYPGEOMDIST(0,1,1,4))/E2)","v":7282015.9999999991},{"$f":"IF(OR(E6<=0,F4>1),\"\",IF(E6=\"Freispiel\",G4/(1-(1/C6))/C6,IF(E6>1000000000,\"\",E6/C6/E3)))","v":1.5792330036077922E-2},230000,{"$f":"IFERROR(IF(D6<D15,D15/D6,D6/D15),\"\")","v":3.2545491143317249},{"$f":"IFERROR(D6/IF((C6*E3)<1500,1500,C6*E3)^0.25*62.2333,\"\")","v":1.5909210787423481E-2},1.5885766848539635E-7,6,{"$f":"IF(OR(L6<=0,AND(L6>1000000000,L6<>\"Freispiel\")),\"\",1/(HYPGEOMDIST(6,6,6,42)*HYPGEOMDIST(0,1,1,6))/L2)","v":6294943.1999999993},{"$f":"IF(OR(L6<=0,M4>1),\"\",IF(L6=\"Freispiel\",N4/(1-(1/J6))/J6,IF(L6>1000000000,\"\",L6/J6/L3)))","v":6.6887439362272164E-2},{"$f":"1000000/L1","v":1052631.5789473685},{"$f":"IFERROR(IF(K6<K15,K15/K6,K6/K15),\"\")","v":1.0074599266666666},{"$f":"IFERROR(K6/IF((J6*L3)<1500,1500,J6*L3)^0.25*62.2333,\"\")","v":6.6089801088402678E-2},{"$f":"IF(SUM(O5:O5)=0,\"\",SUM(O5:O5))","v":7.8674948240165646E-2},"Gesamt",{"$f":"IFERROR(1/O6,\"\")","v":12.710526315789471},{"$f":"IF(SUM(R5:R5)=0,\"\",SUM(R5:R5))","v":0.4720496894409939},{"$f":"IFERROR(S3*R6,\"\")","v":0.4720496894409939},{"$f":"IFERROR(AVERAGE(T5:T5),\"\")","v":1},{"$f":"IF(SUM(U5:U5)=0,\"\",SUM(U5:U5))","v":4.7204970666805259},null,{"$f":"CONCATENATE(\"KENO Typ 04 (x\",$P$17,\")\")","v":"KENO Typ 04 (x1)"},{"$f":"$S$18/$S$17","v":1},{"$f":"$U$23","v":4.9442958740560705},{"$f":"$R$23","v":0.49442956936181326},{"$f":"IFERROR($O$23/$S$17,\"\")","v":0.3212963316410275},{"$f":"$T$23","v":1.427832244838803},4.9442958740560705]
[1.2588089159192536E-5,"4 + CB",{"$f":"IF(OR(E7<=0,AND(E7>1000000000,E7<>\"Freispiel\")),\"\",1/(HYPGEOMDIST(4,5,5,60)*HYPGEOMDIST(1,1,1,4))/E2)","v":79440.174545454604},{"$f":"IF(OR(E7<=0,F4>1),\"\",IF(E7=\"Freispiel\",G4/(1-(1/C7))/C7,IF(E7>1000000000,\"\",E7/C7/E3)))","v":1.2588089159192536E-2},2000,{"$f":"IFERROR(IF(D7<D15,D15/D7,D7/D15),\"\")","v":4.0829797979798039},{"$f":"IFERROR(D7/IF((C7*E3)<1500,1500,C7*E3)^0.25*62.2333,\"\")","v":3.9238743731650517E-2},6.8626512785691215E-6,"5 + GZ",{"$f":"IF(OR(L7<=0,AND(L7>1000000000,L7<>\"Freispiel\")),\"\",1/(HYPGEOMDIST(5,6,6,42)*HYPGEOMDIST(1,1,1,6))/L2)","v":145716.27777777778},{"$f":"IF(OR(L7<=0,M4>1),\"\",IF(L7=\"Freispiel\",N4/(1-(1/J7))/J7,IF(L7>1000000000,\"\",L7/J7/L3)))","v":2.1556020518685205E-2},{"$f":"7460.0248/L1","v":7852.6576842105269},{"$f":"IFERROR(IF(K7<K15,K15/K7,K7/K15),\"\")","v":3.1261064488421639},{"$f":"IFERROR(K7/IF((J7*L3)<1500,1500,J7*L3)^0.25*62.2333,\"\")","v":5.460462130513092E-2},null,null,null,{"$f":"AVERAGE(R5:R5)","v":0.4720496894409939},null,null,null,null,{"$f":"$I$98","v":"Urlaubsgeld + Geldregen ⁷"},{"$f":"$L$99/$L$98","v":1},{"$f":"$N$104","v":4.8043575209435234},{"$f":"$K$104","v":0.53338054552982139},{"$f":"IFERROR($H$104/$L$98,\"\")","v":8.0477930285375761E-3},{"$f":"$M$104","v":3.0647983119255167},4.8043575209435234]
[3.7764267477577603E-5,4,{"$f":"IF(OR(E8<=0,AND(E8>1000000000,E8<>\"Freispiel\")),\"\",1/(HYPGEOMDIST(4,5,5,60)*HYPGEOMDIST(0,1,1,4))/E2)","v":26480.058181818207},{"$f":"IF(OR(E8<=0,F4>1),\"\",IF(E8=\"Freispiel\",G4/(1-(1/C8))/C8,IF(E8>1000000000,\"\",E8/C8/E3)))","v":9.4410668693943999E-3},500,{"$f":"IFERROR(IF(D8<D15,D15/D8,D8/D15),\"\")","v":5.4439730639730728},{"$f":"IFERROR(D8/IF((C8*E3)<1500,1500,C8*E3)^0.25*62.2333,\"\")","v":3.8730818194595805E-2},3.4313256392845609E-5,5,{"$f":"IF(OR(L8<=0,AND(L8>1000000000,L8<>\"Freispiel\")),\"\",1/(HYPGEOMDIST(5,6,6,42)*HYPGEOMDIST(0,1,1,6))/L2)","v":29143.255555555555},{"$f":"IF(OR(L8<=0,M4>1),\"\",IF(L8=\"Freispiel\",N4/(1-(1/J8))/J8,IF(L8>1000000000,\"\",L8/J8/L3)))","v":1.4447686902250784E-2},{"$f":"1000/L1","v":1052.6315789473686},{"$f":"IFERROR(IF(K8<K15,K15/K8,K8/K15),\"\")","v":4.664166327160495},{"$f":"IFERROR(K8/IF((J8*L3)<1500,1500,J8*L3)^0.25*62.2333,\"\")","v":5.4726998975709727E-2},null,null,null,null,null,null,null,null,{"$f":"CONCATENATE(\"KENO Typ 02 (x\",$P$2,\")\")","v":"KENO Typ 02 (x1)"},{"$f":"$S$3/$S$2","v":1},{"$f":"$U$6","v":4.7204970666805259},{"$f":"$R$6","v":0.4720496894409939},{"$f":"IFERROR($O$6/$S$2,\"\")","v":7.8674948240165646E-2},{"$f":"$T$6","v":1},4.7204970666805259]
[6.7975681459639772E-4,"3 + CB",{"$f":"IF(OR(E9<=0,AND(E9>1000000000,E9<>\"Freispiel\")),\"\",1/(HYPGEOMDIST(3,5,5,60)*HYPGEOMDIST(1,1,1,4))/E2)","v":1471.114343434343},{"$f":"IF(OR(E9<=0,F4>1),\"\",IF(E9=\"Freispiel\",G4/(1-(1/C9))/C9,IF(E9>1000000000,\"\",E9/C9/E3)))","v":3.3987840729819883E-2},100,{"$f":"IFERROR(IF(D9<D15,D15/D9,D9/D15),\"\")","v":1.5122147399925183},{"$f":"IFERROR(D9/IF((C9*E3)<1500,1500,C9*E3)^0.25*62.2333,\"\")","v":0.2871952803859269},3.002409934373992E-4,"4 + GZ",{"$f":"IF(OR(L9<=0,AND(L9>1000000000,L9<>\"Freispiel\")),\"\",1/(HYPGEOMDIST(4,6,6,42)*HYPGEOMDIST(1,1,1,6))/L2)","v":3330.6577777777766},{"$f":"IF(OR(L9<=0,M4>1),\"\",IF(L9=\"Freispiel\",N4/(1-(1/J9))/J9,IF(L9>1000000000,\"\",L9/J9/L3)))","v":1.7023481781376523E-2},{"$f":"134.661056/L1","v":141.74848},{"$f":"IFERROR(IF(K9<K15,K15/K9,K9/K15),\"\")","v":3.9584390326399457},{"$f":"IFERROR(K9/IF((J9*L3)<1500,1500,J9*L3)^0.25*62.2333,\"\")","v":0.11090566132058406},null,1,null,null,1,null,null,null,{"$f":"CONCATENATE(\"KENO Typ 06 (x\",$P$35,\")\")","v":"KENO Typ 06 (x1)"},{"$f":"$S$36/$S$35","v":1},{"$f":"$U$42","v":4.7024675964263301},{"$f":"$R$42","v":0.4974393473076526},{"$f":"IFERROR($O$42/$S$35,\"\")","v":0.2218881626065653},{"$f":"$T$42","v":1.3336994949962735},4.7024675964263301]
[2.039270443789193E-3,3,{"$f":"IF(OR(E10<=0,AND(E10>1000000000,E10<>\"Freispiel\")),\"\",1/(HYPGEOMDIST(3,5,5,60)*HYPGEOMDIST(0,1,1,4))/E2)","v":490.37144781144769},{"$f":"IF(OR(E10<=0,F4>1),\"\",IF(E10=\"Freispiel\",G4/(1-(1/C10))/C10,IF(E10>1000000000,\"\",E10/C10/E3)))","v":2.0392704437891929E-2},20,{"$f":"IFERROR(IF(D10<D15,D15/D10,D10/D15),\"\")","v":2.5203578999875305},{"$f":"IFERROR(D10/IF((C10*E3)<1500,1500,C10*E3)^0.25*62.2333,\"\")","v":0.20392705182106627},1.5012049671869958E-3,4,{"$f":"IF(OR(L10<=0,AND(L10>1000000000,L10<>\"Freispiel\")),\"\",1/(HYPGEOMDIST(4,6,6,42)*HYPGEOMDIST(0,1,1,6))/L2)","v":666.13155555555545},{"$f":"IF(OR(L10<=0,M4>1),\"\",IF(L10=\"Freispiel\",N4/(1-(1/J10))/J10,IF(L10>1000000000,\"\",L10/J10/L3)))","v":4.4191093117408917E-2},{"$f":"69.9130688/L1","v":73.592704000000012},{"$f":"IFERROR(IF(K10<K15,K15/K10,K10/K15),\"\")","v":1.5248868041304278},{"$f":"IFERROR(K10/IF((J10*L3)<1500,1500,J10*L3)^0.25*62.2333,\"\")","v":0.43050933314586221},null,"3 aus 20 aus 70",null,null,{"$f":"S9*1*P9","v":1},null,null,null,{"$f":"CONCATENATE(\"KENO Typ 07 (x\",$P$45,\")\")","v":"KENO Typ 07 (x1)"},{"$f":"$S$46/$S$45","v":1},{"$f":"$U$52","v":4.6708753092000821},{"$f":"$R$52","v":0.49566510711870859},{"$f":"IFERROR($O$52/$S$45,\"\")","v":9.6740378375680017E-2},{"$f":"$T$52","v":1.5798534328114815},4.6708753092000821]
[1.2009037057869707E-2,"2 + CB",{"$f":"IF(OR(E11<=0,AND(E11>1000000000,E11<>\"Freispiel\")),\"\",1/(HYPGEOMDIST(2,5,5,60)*HYPGEOMDIST(1,1,1,4))/E2)","v":83.270623213264599},{"$f":"IF(OR(E11<=0,F4>1),\"\",IF(E11=\"Freispiel\",G4/(1-(1/C11))/C11,IF(E11>1000000000,\"\",E11/C11/E3)))","v":6.0045185289348532E-2},10,{"$f":"IFERROR(IF(D11<D15,D15/D11,D11/D15),\"\")","v":1.1682644137402136},{"$f":"IFERROR(D11/IF((C11*E3)<1500,1500,C11*E3)^0.25*62.2333,\"\")","v":0.60045187480647366},4.5369750119429227E-3,"3 + GZ",{"$f":"IF(OR(L11<=0,AND(L11>1000000000,L11<>\"Freispiel\")),\"\",1/(HYPGEOMDIST(3,6,6,42)*HYPGEOMDIST(1,1,1,6))/L2)","v":220.41117647058809},{"$f":"IF(OR(L11<=0,M4>1),\"\",IF(L11=\"Freispiel\",N4/(1-(1/J11))/J11,IF(L11>1000000000,\"\",L11/J11/L3)))","v":4.2791902834008119E-2},{"$f":"22.4005574117647/L1","v":23.579534117647054},{"$f":"IFERROR(IF(K11<K15,K15/K11,K11/K15),\"\")","v":1.5747468631210679},{"$f":"IFERROR(K11/IF((J11*L3)<1500,1500,J11*L3)^0.25*62.2333,\"\")","v":0.42791904395662833},null,"Richtige",{"$f":"IF(S9=1,\"Chancen 1:\",\"Ø Gewinne 1:\")","v":"Chancen 1:"},"Ø AQ","(Ø) Gewinn",{"$f":"IFERROR(COUNTIF(S12:S13,\"Freispiel\"),\"\")","v":0},{"$f":"IFERROR(SUMIF(S12:S13,\"<>Freispiel\",R12:R13),\"\")","v":0.50675922542930207},null,{"$f":"$B$177","v":"MiniLos ⁵"},{"$f":"$E$178/$E$177","v":1},{"$f":"$G$186","v":4.5268803739164678},{"$f":"$D$186","v":0.61164910000000006},{"$f":"IFERROR($A$186/$E$177,\"\")","v":0.18999900001000003},{"$f":"$F$186","v":1.2517409081279574},4.5268803739164678]
[3.6027111173609114E-2,2,{"$f":"IF(OR(E12<=0,AND(E12>1000000000,E12<>\"Freispiel\")),\"\",1/(HYPGEOMDIST(2,5,5,60)*HYPGEOMDIST(0,1,1,4))/E2)","v":27.756874404421538},{"$f":"IF(OR(E12<=0,F4>1),\"\",IF(E12=\"Freispiel\",G4/(1-(1/C12))/C12,IF(E12>1000000000,\"\",E12/C12/E3)))","v":7.2054222347218227E-2},4,{"$f":"IFERROR(IF(D12<D15,D15/D12,D12/D15),\"\")","v":1.401917296488256},{"$f":"IFERROR(D12/IF((C12*E3)<1500,1500,C12*E3)^0.25*62.2333,\"\")","v":0.72054224976776826},2.2684875059714615E-2,3,{"$f":"IF(OR(L12<=0,AND(L12>1000000000,L12<>\"Freispiel\")),\"\",1/(HYPGEOMDIST(3,6,6,42)*HYPGEOMDIST(0,1,1,6))/L2)","v":44.082235294117609},{"$f":"IF(OR(L12<=0,M4>1),\"\",IF(L12=\"Freispiel\",N4/(1-(1/J12))/J12,IF(L12>1000000000,\"\",L12/J12/L3)))","v":9.1180566801619414E-2},{"$f":"9.54617759999999/L1","v":10.048607999999989},{"$f":"IFERROR(IF(K12<K15,K15/K12,K12/K15),\"\")","v":1.3531001335113479},{"$f":"IFERROR(K12/IF((J12*L3)<1500,1500,J12*L3)^0.25*62.2333,\"\")","v":0.91180570129177962},{"$f":"IF(Q12=\"\",0,1/Q12)","v":2.0825721592985017E-2},3,{"$f":"IF(OR(S12<=0,AND(S12>1000000000,S12<>\"Freispiel\")),\"\",1/HYPGEOMDIST(P12,3,20,70)/S9)","v":48.01754385964913},{"$f":"IF(OR(S12<=0,T11>1),\"\",IF(S12=\"Freispiel\",U11/(1-(1/Q12))/Q12,IF(S12>1000000000,\"\",S12/Q12/S10)))","v":0.33321154548776027},{"$f":"16*P9","v":16},{"$f":"IFERROR(IF(R12<R15,R15/R12,R12/R15),\"\")","v":1.3150684931506849},{"$f":"IFERROR(R12/IF((Q12*S10)<1500,1500,Q12*S10)^0.25*62.2333,\"\")","v":3.3321155764803705},null,{"$f":"CONCATENATE(\"KENO Typ 10 (x\",$P$77,\")\")","v":"KENO Typ 10 (x1)"},{"$f":"$S$78/$S$77","v":1},{"$f":"$U$86","v":4.3786163173550401},{"$f":"$R$86","v":0.49399741988648593},{"$f":"IFERROR($O$86/$S$77,\"\")","v":0.13544148336141645},{"$f":"$T$86","v":2.2022925666857236},4.3786163173550401]
[7.8058740876152985E-2,"1 + CB",{"$f":"IF(OR(E13<=0,AND(E13>1000000000,E13<>\"Freispiel\")),\"\",1/(HYPGEOMDIST(1,5,5,60)*HYPGEOMDIST(1,1,1,4))/E2)","v":12.810865109733033},{"$f":"IF(OR(E13<=0,F4>1),\"\",IF(E13=\"Freispiel\",G4/(1-(1/C13))/C13,IF(E13>1000000000,\"\",E13/C13/E3)))","v":7.8058740876152985E-2},2,{"$f":"IFERROR(IF(D13<D15,D15/D13,D13/D15),\"\")","v":1.5187437378622755},{"$f":"IFERROR(D13/IF((C13*E3)<1500,1500,C13*E3)^0.25*62.2333,\"\")","v":0.78058743724841462},7.6923076923076927E-2,"rePLAY",{"$f":"IF(OR(L13<=0,AND(L13>1000000000,L13<>\"Freispiel\")),\"\",13/L2)","v":13},{"$f":"IF(OR(L13<=0,M4>1),\"\",IF(L13=\"Freispiel\",N4/(1-(1/J13))/J13,IF(L13>1000000000,\"\",L13/J13/L3)))","v":7.6923076923076927E-2},2.5,{"$f":"IFERROR(IF(K13<K15,K15/K13,K13/K15),\"\")","v":1.1415220293724964},{"$f":"IFERROR(K13/IF((J13*L3)<1500,1500,J13*L3)^0.25*62.2333,\"\")","v":0.76923079730320298},0.1735476799415418,2,{"$f":"IF(OR(S13<=0,AND(S13>1000000000,S13<>\"Freispiel\")),\"\",1/HYPGEOMDIST(P13,3,20,70)/S9)","v":5.7621052631578955},{"$f":"IF(OR(S13<=0,T11>1),\"\",IF(S13=\"Freispiel\",U11/(1-(1/Q13))/Q13,IF(S13>1000000000,\"\",S13/Q13/S10)))","v":0.1735476799415418},{"$f":"1*P9","v":1},{"$f":"IFERROR(IF(R13<R15,R15/R13,R13/R15),\"\")","v":1.46},{"$f":"IFERROR(R13/IF((Q13*S10)<1500,1500,Q13*S10)^0.25*62.2333,\"\")","v":1.7354768627501929},null,{"$f":"$I$62","v":"Zusatzlotterie plus 5"},{"$f":"$L$63/$L$62","v":0.75},{"$f":"$N$70","v":4.2415203651227387},{"$f":"$K$70","v":0.48666666666666669},{"$f":"IFERROR($H$70/$L$62,\"\")","v":0.10000000000000003},{"$f":"$M$70","v":1.7584840182648407},4.2415203651227387]
[{"$f":"IF(SUM(A5:A13)=0,\"\",SUM(A5:A13))","v":0.12886445182213285},"Gesamt",{"$f":"IFERROR(1/A14,\"\")","v":7.7600919870459339},{"$f":"IF(SUM(D5:D13)=0,\"\",SUM(D5:D13))","v":0.46257222358936528},{"$f":"IFERROR(E3*D14,\"\")","v":0.92514444717873057},{"$f":"IFERROR(AVERAGE(F5:F13),\"\")","v":2.6689058960683512},{"$f":"IF(SUM(G5:G13)=0,\"\",SUM(G5:G13))","v":2.8092184676242811},{"$f":"IF(SUM(H5:H13)=0,\"\",SUM(H5:H13))","v":0.10598773949223246},"Gesamt",{"$f":"IFERROR(1/H14,\"\")","v":9.4350535712037438},{"$f":"IF(SUM(K5:K13)=0,\"\",SUM(K5:K13))","v":0.60647773279352246},{"$f":"IFERROR(L3*K14,\"\")","v":1.5161943319838063},{"$f":"IFERROR(AVERAGE(M5:M13),\"\")","v":2.4206098724258496},{"$f":"IF(SUM(N5:N13)=0,\"\",SUM(N5:N13))","v":2.9787436251460386},{"$f":"IF(SUM(O12:O13)=0,\"\",SUM(O12:O13))","v":0.19437340153452681},"Gesamt",{"$f":"IFERROR(1/O14,\"\")","v":5.1447368421052646},{"$f":"IF(SUM(R12:R13)=0,\"\",SUM(R12:R13))","v":0.50675922542930207},{"$f":"IFERROR(S10*R14,\"\")","v":0.50675922542930207},{"$f":"IFERROR(AVERAGE(T12:T13),\"\")","v":1.3875342465753424},{"$f":"IF(SUM(U12:U13)=0,\"\",SUM(U12:U13))","v":5.0675924392305634},null,{"$f":"CONCATENATE(\"Oster-/Halloweenlotterie (1/\",$I$143,\") ⁵\")","v":"Oster-/Halloweenlotterie (1/10) ⁵"},{"$f":"$L$144/$L$143","v":12},{"$f":"$N$158","v":4.1540937372903981},{"$f":"$K$158","v":0.54729791666666672},{"$f":"IFERROR($H$158/$L$143,\"\")","v":0.32299899999999998},{"$f":"$M$158","v":15.298269810940228},4.1540937372903981]
[null,null,null,{"$f":"AVERAGE(D5:D13)","v":5.1396913732151696E-2},null,null,null,null,null,null,{"$f":"AVERAGE(K5:K13)","v":6.7386414754835824E-2},null,null,null,null,null,null,{"$f":"AVERAGE(R12:R13)","v":0.25337961271465104},null,null,null,null,{"$f":"$B$128","v":"Hello Monday ⁸"},{"$f":"$E$129/$E$128","v":2},{"$f":"$G$141","v":4.1346499007004285},{"$f":"$D$141","v":0.49368360896625074},{"$f":"IFERROR($A$141/$E$128,\"\")","v":0.43048030189565817},{"$f":"$F$141","v":2.6119116229316415},4.1346499007004285]
[null,null,null,null,null,null,null,null,null,null,null,null,null,null,null,null,null,null,null,null,null,null,{"$f":"$I$88","v":"MiniLotto ⁷"},{"$f":"$L$89/$L$88","v":0.5},{"$f":"$N$95","v":4.107016297871823},{"$f":"$K$95","v":0.51549963983486813},{"$f":"IFERROR($H$95/$L$88,\"\")","v":9.9387775254270672E-2},{"$f":"$M$95","v":1.656366736295324},4.107016297871823]
[null,"Daily Million",null,null,1,"vs.",null,null,"Zusatzlotterie Daily Million Plus",null,null,1,null,null,null,1,null,null,1,null,null,null,{"$f":"$P$89","v":"Extragehalt ⁷"},{"$f":"$S$90/$S$89","v":0.5},{"$f":"$U$95","v":4.1053659747682083},{"$f":"$R$95","v":0.49719917590814366},{"$f":"IFERROR($O$95/$S$89,\"\")","v":8.0477930285375761E-3},{"$f":"$T$95","v":1.5713279548741645},4.1053659747682083]
[null,"6+1 aus 39",null,null,{"$f":"E17*1","v":1},null,null,null,"6+1 aus 39",null,null,{"$f":"L17*0.5","v":0.5},null,null,null,"4 aus 20 aus 70",null,null,{"$f":"S17*1*P17","v":1},null,null,null,{"$f":"$B$98","v":"TeleLotto"},{"$f":"$E$99/$E$98","v":0.5},{"$f":"$G$104","v":4.0231726396486245},{"$f":"$D$104","v":0.6148500455900836},{"$f":"IFERROR($A$104/$E$98,\"\")","v":1.3864930136277391E-2},{"$f":"$F$104","v":1.5889586580568542},4.0231726396486245]
[null,"Richtige",{"$f":"IF(E17=1,\"Chancen 1:\",\"Ø Gewinne 1:\")","v":"Chancen 1:"},"Ø AQ","(Ø) Gewinn",{"$f":"IFERROR(COUNTIF(E20:E26,\"Freispiel\"),\"\")","v":0},{"$f":"IFERROR(SUMIF(E20:E26,\"<>Freispiel\",D20:D26),\"\")","v":0.54765751360178594},null,"Richtige",{"$f":"IF(L17=1,\"Chancen 1:\",\"Ø Gewinne 1:\")","v":"Chancen 1:"},"Ø AQ","(Ø) Gewinn",{"$f":"IFERROR(COUNTIF(L20:L26,\"Freispiel\"),\"\")","v":0},{"$f":"IFERROR(SUMIF(L20:L26,\"<>Freispiel\",K20:K26),\"\")","v":0.58946436655414969},null,"Richtige",{"$f":"IF(S17=1,\"Chancen 1:\",\"Ø Gewinne 1:\")","v":"Chancen 1:"},"Ø AQ","(Ø) Gewinn",{"$f":"IFERROR(COUNTIF(S20:S22,\"Freispiel\"),\"\")","v":0},{"$f":"IFERROR(SUMIF(S20:S22,\"<>Freispiel\",R20:R22),\"\")","v":0.49442956936181326},null,{"$f":"CONCATENATE(\"KENO Typ 08 (x\",$P$55,\")\")","v":"KENO Typ 08 (x1)"},{"$f":"$S$56/$S$55","v":1},{"$f":"$U$63","v":4.0145060977911013},{"$f":"$R$63","v":0.48938370926575669},{"$f":"IFERROR($O$63/$S$55,\"\")","v":0.21270856740567007},{"$f":"$T$63","v":1.670703052483606},4.0145060977911013]
[{"$f":"IF(C20=\"\",0,1/C20)","v":3.0650185448947048E-7},6,{"$f":"IF(OR(E20<=0,AND(E20>1000000000,E20<>\"Freispiel\")),\"\",1/HYPGEOMDIST(6,6,6,39)/E17)","v":3262623.0000000009},{"$f":"IF(OR(E20<=0,F19>1),\"\",IF(E20=\"Freispiel\",G19/(1-(1/C20))/C20,IF(E20>1000000000,\"\",E20/C20/E18)))","v":0.30650185448947048},1000000,{"$f":"IFERROR(IF(D20<D28,D28/D20,D20/D28),\"\")","v":3.9176180882023726},{"$f":"IFERROR(D20/IF((C20*E18)<1500,1500,C20*E18)^0.25*62.2333,\"\")","v":0.44881174533222568},{"$f":"IF(J20=\"\",0,1/J20)","v":3.0650185448947048E-7},6,{"$f":"IF(OR(L20<=0,AND(L20>1000000000,L20<>\"Freispiel\")),\"\",1/HYPGEOMDIST(6,6,6,39)/L17)","v":3262623.0000000009},{"$f":"IF(OR(L20<=0,M19>1),\"\",IF(L20=\"Freispiel\",N19/(1-(1/J20))/J20,IF(L20>1000000000,\"\",L20/J20/L18)))","v":0.30650185448947048},500000,{"$f":"IFERROR(IF(K20<K28,K28/K20,K20/K28),\"\")","v":3.6397670549084853},{"$f":"IFERROR(K20/IF((J20*L18)<1500,1500,J20*L18)^0.25*62.2333,\"\")","v":0.53373012084587212},{"$f":"IF(Q20=\"\",0,1/Q20)","v":5.2841383146379848E-3},4,{"$f":"IF(OR(S20<=0,AND(S20>1000000000,S20<>\"Freispiel\")),\"\",1/HYPGEOMDIST(P20,4,20,70)/S17)","v":189.24561403508793},{"$f":"IF(OR(S20<=0,T19>1),\"\",IF(S20=\"Freispiel\",U19/(1-(1/Q20))/Q20,IF(S20>1000000000,\"\",S20/Q20/S18)))","v":0.11625104292203566},{"$f":"22*P17","v":22},{"$f":"IFERROR(IF(R20<R24,R24/R20,R20/R24),\"\")","v":1.4177064765300067},{"$f":"IFERROR(R20/IF((Q20*S18)<1500,1500,Q20*S18)^0.25*62.2333,\"\")","v":1.1625104716452026},null,{"$f":"$B$88","v":"Zusatzlotterie LOTTO Plus"},{"$f":"$E$89/$E$88","v":0.5},{"$f":"$G$95","v":3.8747681599319708},{"$f":"$D$95","v":0.55905665519959413},{"$f":"IFERROR($A$95/$E$88,\"\")","v":2.3834078570323648E-2},{"$f":"$F$95","v":1.4550355069442804},3.8747681599319708]
[1.8390111269368248E-6,"5 + BZ",{"$f":"IF(OR(E21<=0,AND(E21>1000000000,E21<>\"Freispiel\")),\"\",1/(HYPGEOMDIST(5,6,6,39)*HYPGEOMDIST(1,1,1,33))/E17)","v":543770.49999999965},{"$f":"IF(OR(E21<=0,F19>1),\"\",IF(E21=\"Freispiel\",G19/(1-(1/C21))/C21,IF(E21>1000000000,\"\",E21/C21/E18)))","v":1.8390111269368247E-2},10000,{"$f":"IFERROR(IF(D21<D28,D28/D21,D21/D28),\"\")","v":4.25428571428571},{"$f":"IFERROR(D21/IF((C21*E18)<1500,1500,C21*E18)^0.25*62.2333,\"\")","v":4.2145700518514795E-2},1.8390111269368248E-6,"5 + BZ",{"$f":"IF(OR(L21<=0,AND(L21>1000000000,L21<>\"Freispiel\")),\"\",1/(HYPGEOMDIST(5,6,6,39)*HYPGEOMDIST(1,1,1,33))/L17)","v":543770.49999999965},{"$f":"IF(OR(L21<=0,M19>1),\"\",IF(L21=\"Freispiel\",N19/(1-(1/J21))/J21,IF(L21>1000000000,\"\",L21/J21/L18)))","v":1.8390111269368247E-2},5000,{"$f":"IFERROR(IF(K21<K28,K28/K21,K21/K28),\"\")","v":4.579047619047615},{"$f":"IFERROR(K21/IF((J21*L18)<1500,1500,J21*L18)^0.25*62.2333,\"\")","v":5.0119966923391657E-2},6.2166333113388095E-2,3,{"$f":"IF(OR(S21<=0,AND(S21>1000000000,S21<>\"Freispiel\")),\"\",1/HYPGEOMDIST(P21,4,20,70)/S17)","v":16.085877192982462},{"$f":"IF(OR(S21<=0,T19>1),\"\",IF(S21=\"Freispiel\",U19/(1-(1/Q21))/Q21,IF(S21>1000000000,\"\",S21/Q21/S18)))","v":0.12433266622677619},{"$f":"2*P17","v":2},{"$f":"IFERROR(IF(R21<R24,R24/R21,R21/R24),\"\")","v":1.3255555555555554},{"$f":"IFERROR(R21/IF((Q21*S18)<1500,1500,Q21*S18)^0.25*62.2333,\"\")","v":1.243326707641929},null,{"$f":"CONCATENATE(\"Winter-/Frühlingslotterie (1/\",$P$143,\") ⁵\")","v":"Winter-/Frühlingslotterie (1/10) ⁵"},{"$f":"$S$144/$S$143","v":20},{"$f":"$U$154","v":3.8335929861783438},{"$f":"$R$154","v":0.48565000000000003},{"$f":"IFERROR($O$154/$S$143,\"\")","v":0.34851000000000004},{"$f":"$T$154","v":10.667862872793993},3.8335929861783438]
[5.8848356061978394E-5,5,{"$f":"IF(OR(E22<=0,AND(E22>1000000000,E22<>\"Freispiel\")),\"\",1/(HYPGEOMDIST(5,6,6,39)*HYPGEOMDIST(0,1,1,33))/E17)","v":16992.828124999989},{"$f":"IF(OR(E22<=0,F19>1),\"\",IF(E22=\"Freispiel\",G19/(1-(1/C22))/C22,IF(E22>1000000000,\"\",E22/C22/E18)))","v":2.9424178030989196E-2},500,{"$f":"IFERROR(IF(D22<D28,D28/D22,D22/D28),\"\")","v":2.6589285714285689},{"$f":"IFERROR(D22/IF((C22*E18)<1500,1500,C22*E18)^0.25*62.2333,\"\")","v":0.16038389415485332},5.8848356061978394E-5,5,{"$f":"IF(OR(L22<=0,AND(L22>1000000000,L22<>\"Freispiel\")),\"\",1/(HYPGEOMDIST(5,6,6,39)*HYPGEOMDIST(0,1,1,33))/L17)","v":16992.828124999989},{"$f":"IF(OR(L22<=0,M19>1),\"\",IF(L22=\"Freispiel\",N19/(1-(1/J22))/J22,IF(L22>1000000000,\"\",L22/J22/L18)))","v":2.9424178030989196E-2},250,{"$f":"IFERROR(IF(K22<K28,K28/K22,K22/K28),\"\")","v":2.8619047619047593},{"$f":"IFERROR(K22/IF((J22*L18)<1500,1500,J22*L18)^0.25*62.2333,\"\")","v":0.19072966806079494},0.25384586021300143,2,{"$f":"IF(OR(S22<=0,AND(S22>1000000000,S22<>\"Freispiel\")),\"\",1/HYPGEOMDIST(P22,4,20,70)/S17)","v":3.9393984962406026},{"$f":"IF(OR(S22<=0,T19>1),\"\",IF(S22=\"Freispiel\",U19/(1-(1/Q22))/Q22,IF(S22>1000000000,\"\",S22/Q22/S18)))","v":0.25384586021300143},{"$f":"1*P17","v":1},{"$f":"IFERROR(IF(R22<R24,R24/R22,R22/R24),\"\")","v":1.5402347024308469},{"$f":"IFERROR(R22/IF((Q22*S18)<1500,1500,Q22*S18)^0.25*62.2333,\"\")","v":2.5384586947689383},null,{"$f":"CONCATENATE(\"KENO Typ 09 (x\",$P$66,\")\")","v":"KENO Typ 09 (x1)"},{"$f":"$S$67/$S$66","v":1},{"$f":"$U$74","v":3.6647879392331926},{"$f":"$R$74","v":0.50045308198174754},{"$f":"IFERROR($O$74/$S$66,\"\")","v":0.10667004410809104},{"$f":"$T$74","v":1.86628873544885},3.6647879392331926]
[1.4712089015494597E-4,"4 + BZ",{"$f":"IF(OR(E23<=0,AND(E23>1000000000,E23<>\"Freispiel\")),\"\",1/(HYPGEOMDIST(4,6,6,39)*HYPGEOMDIST(1,2,1,33))/E17)","v":6797.1312499999958},{"$f":"IF(OR(E23<=0,F19>1),\"\",IF(E23=\"Freispiel\",G19/(1-(1/C23))/C23,IF(E23>1000000000,\"\",E23/C23/E18)))","v":1.4712089015494598E-2},100,{"$f":"IFERROR(IF(D23<D28,D28/D23,D23/D28),\"\")","v":5.3178571428571377},{"$f":"IFERROR(D23/IF((C23*E18)<1500,1500,C23*E18)^0.25*62.2333,\"\")","v":0.10083603504652106},1.4712089015494597E-4,"4 + BZ",{"$f":"IF(OR(L23<=0,AND(L23>1000000000,L23<>\"Freispiel\")),\"\",1/(HYPGEOMDIST(4,6,6,39)*HYPGEOMDIST(1,2,1,33))/L17)","v":6797.1312499999958},{"$f":"IF(OR(L23<=0,M19>1),\"\",IF(L23=\"Freispiel\",N19/(1-(1/J23))/J23,IF(L23>1000000000,\"\",L23/J23/L18)))","v":1.4712089015494598E-2},50,{"$f":"IFERROR(IF(K23<K28,K28/K23,K23/K28),\"\")","v":5.7238095238095186},{"$f":"IFERROR(K23/IF((J23*L18)<1500,1500,J23*L18)^0.25*62.2333,\"\")","v":0.11991493032598656},{"$f":"IF(SUM(O20:O22)=0,\"\",SUM(O20:O22))","v":0.3212963316410275},"Gesamt",{"$f":"IFERROR(1/O23,\"\")","v":3.1123915884519433},{"$f":"IF(SUM(R20:R22)=0,\"\",SUM(R20:R22))","v":0.49442956936181326},{"$f":"IFERROR(S18*R23,\"\")","v":0.49442956936181326},{"$f":"IFERROR(AVERAGE(T20:T22),\"\")","v":1.427832244838803},{"$f":"IF(SUM(U20:U22)=0,\"\",SUM(U20:U22))","v":4.9442958740560705},null,{"$f":"$B$198","v":"25 Fette Jahre ¹³"},{"$f":"$E$199/$E$198","v":2},{"$f":"$G$209","v":3.6391922068491311},{"$f":"$D$209","v":0.48000995060955137},{"$f":"IFERROR($A$209/$E$198,\"\")","v":0.19000000000000006},{"$f":"$F$209","v":2.2187869259692667},3.6391922068491311]
[2.2803737974016634E-3,4,{"$f":"IF(OR(E24<=0,AND(E24>1000000000,E24<>\"Freispiel\")),\"\",1/(HYPGEOMDIST(4,6,6,39)*HYPGEOMDIST(0,2,1,33))/E17)","v":438.52459677419313},{"$f":"IF(OR(E24<=0,F19>1),\"\",IF(E24=\"Freispiel\",G19/(1-(1/C24))/C24,IF(E24>1000000000,\"\",E24/C24/E18)))","v":5.7009344935041582E-2},25,{"$f":"IFERROR(IF(D24<D28,D28/D24,D24/D28),\"\")","v":1.3723502304147448},{"$f":"IFERROR(D24/IF((C24*E18)<1500,1500,C24*E18)^0.25*62.2333,\"\")","v":0.5700934701554996},2.2803737974016634E-3,4,{"$f":"IF(OR(L24<=0,AND(L24>1000000000,L24<>\"Freispiel\")),\"\",1/(HYPGEOMDIST(4,6,6,39)*HYPGEOMDIST(0,2,1,33))/L17)","v":438.52459677419313},{"$f":"IF(OR(L24<=0,M19>1),\"\",IF(L24=\"Freispiel\",N19/(1-(1/J24))/J24,IF(L24>1000000000,\"\",L24/J24/L18)))","v":6.8411213922049907E-2},15,{"$f":"IFERROR(IF(K24<K28,K28/K24,K24/K28),\"\")","v":1.2309267793138745},{"$f":"IFERROR(K24/IF((J24*L18)<1500,1500,J24*L18)^0.25*62.2333,\"\")","v":0.68411216418659959},null,null,null,{"$f":"AVERAGE(R20:R22)","v":0.16480985645393775},null,null,null,null,{"$f":"CONCATENATE(\"WorldMillions (1/\",$B$48,\")\")","v":"WorldMillions (1/1)"},{"$f":"$E$49/$E$48","v":10},{"$f":"$G$61","v":3.5656621198361806},{"$f":"$D$61","v":0.46707142857142864},{"$f":"IFERROR($A$61/$E$48,\"\")","v":0.37000000000000011},{"$f":"$F$61","v":3.6136786768198306},3.5656621198361806]
[3.040498396535547E-3,"3 + BZ",{"$f":"IF(OR(E25<=0,AND(E25>1000000000,E25<>\"Freispiel\")),\"\",1/(HYPGEOMDIST(3,6,6,39)*HYPGEOMDIST(1,3,1,33))/E17)","v":328.89344758064527},{"$f":"IF(OR(E25<=0,F19>1),\"\",IF(E25=\"Freispiel\",G19/(1-(1/C25))/C25,IF(E25>1000000000,\"\",E25/C25/E18)))","v":3.0404983965355473E-2},10,{"$f":"IFERROR(IF(D25<D28,D28/D25,D25/D28),\"\")","v":2.5731566820276499},{"$f":"IFERROR(D25/IF((C25*E18)<1500,1500,C25*E18)^0.25*62.2333,\"\")","v":0.30404985074959939},3.040498396535547E-3,"3 + BZ",{"$f":"IF(OR(L25<=0,AND(L25>1000000000,L25<>\"Freispiel\")),\"\",1/(HYPGEOMDIST(3,6,6,39)*HYPGEOMDIST(1,3,1,33))/L17)","v":328.89344758064527},{"$f":"IF(OR(L25<=0,M19>1),\"\",IF(L25=\"Freispiel\",N19/(1-(1/J25))/J25,IF(L25>1000000000,\"\",L25/J25/L18)))","v":3.0404983965355473E-2},5,{"$f":"IFERROR(IF(K25<K28,K28/K25,K25/K28),\"\")","v":2.7695852534562215},{"$f":"IFERROR(K25/IF((J25*L18)<1500,1500,J25*L18)^0.25*62.2333,\"\")","v":0.30404985074959939},null,null,null,null,null,null,null,null,{"$f":"$B$116","v":"Zusatzlotterie SUPER 6"},{"$f":"$E$117/$E$116","v":1.25},{"$f":"$G$125","v":3.2857118503719134},{"$f":"$D$125","v":0.44666720000000004},{"$f":"IFERROR($A$125/$E$116,\"\")","v":0.10000000000000003},{"$f":"$F$125","v":1.6476571814488346},3.2857118503719134]
[3.0404983965355462E-2,3,{"$f":"IF(OR(E26<=0,AND(E26>1000000000,E26<>\"Freispiel\")),\"\",1/(HYPGEOMDIST(3,6,6,39)*HYPGEOMDIST(0,3,1,33))/E17)","v":32.889344758064539},{"$f":"IF(OR(E26<=0,F19>1),\"\",IF(E26=\"Freispiel\",G19/(1-(1/C26))/C26,IF(E26>1000000000,\"\",E26/C26/E18)))","v":9.121495189606639E-2},3,{"$f":"IFERROR(IF(D26<D28,D28/D26,D26/D28),\"\")","v":1.1658831430490257},{"$f":"IFERROR(D26/IF((C26*E18)<1500,1500,C26*E18)^0.25*62.2333,\"\")","v":0.9121495522487979},3.0404983965355462E-2,3,{"$f":"IF(OR(L26<=0,AND(L26>1000000000,L26<>\"Freispiel\")),\"\",1/(HYPGEOMDIST(3,6,6,39)*HYPGEOMDIST(0,3,1,33))/L17)","v":32.889344758064539},{"$f":"IF(OR(L26<=0,M19>1),\"\",IF(L26=\"Freispiel\",N19/(1-(1/J26))/J26,IF(L26>1000000000,\"\",L26/J26/L18)))","v":0.12161993586142185},2,{"$f":"IFERROR(IF(K26<K28,K28/K26,K26/K28),\"\")","v":1.4442595673876866},{"$f":"IFERROR(K26/IF((J26*L18)<1500,1500,J26*L18)^0.25*62.2333,\"\")","v":1.2161994029983971},null,1,null,null,1,null,null,null,{"$f":"$I$73","v":"LOTTO 6aus49"},{"$f":"$L$74/$L$73","v":1.2},{"$f":"$N$85","v":3.2497364818195629},{"$f":"$K$85","v":0.50000000000000089},{"$f":"IFERROR($H$85/$L$73,\"\")","v":3.1875347902174916E-2},{"$f":"$M$85","v":1.9005699590153984},3.2497364818195562]
[{"$f":"IF(SUM(A20:A26)=0,\"\",SUM(A20:A26))","v":3.5933970918491022E-2},"Gesamt",{"$f":"IFERROR(1/A27,\"\")","v":27.828819761342231},{"$f":"IF(SUM(D20:D26)=0,\"\",SUM(D20:D26))","v":0.54765751360178594},{"$f":"IFERROR(E18*D27,\"\")","v":0.54765751360178594},{"$f":"IFERROR(AVERAGE(F20:F26),\"\")","v":3.0371542246093157},{"$f":"IF(SUM(G20:G26)=0,\"\",SUM(G20:G26))","v":2.538470248206012},{"$f":"IF(SUM(H20:H26)=0,\"\",SUM(H20:H26))","v":3.5933970918491022E-2},"Gesamt",{"$f":"IFERROR(1/H27,\"\")","v":27.828819761342231},{"$f":"IF(SUM(K20:K26)=0,\"\",SUM(K20:K26))","v":0.58946436655414969},{"$f":"IFERROR(L18*K27,\"\")","v":0.29473218327707484},{"$f":"IFERROR(AVERAGE(M20:M26),\"\")","v":3.1784715085468802},{"$f":"IF(SUM(N20:N26)=0,\"\",SUM(N20:N26))","v":3.0988561040906415},null,"5 aus 20 aus 70",null,null,{"$f":"S26*1*P26","v":1},null,null,null,{"$f":"CONCATENATE(\"Dreikönigslotterie (1/\",$I$161,\") ¹⁰\")","v":"Dreikönigslotterie (1/10) ¹⁰"},{"$f":"$L$162/$L$161","v":34.99},{"$f":"$N$173","v":3.2446332299207077},{"$f":"$K$173","v":0.40011431837667905},{"$f":"IFERROR($H$173/$L$161,\"\")","v":0.37920000000000004},{"$f":"$M$173","v":25.680750943996301},3.2446332299207077]
[null,null,null,{"$f":"AVERAGE(D20:D26)","v":7.8236787657397985E-2},null,null,null,null,null,null,{"$f":"AVERAGE(K20:K26)","v":8.4209195222021388E-2},null,null,null,null,"Richtige",{"$f":"IF(S26=1,\"Chancen 1:\",\"Ø Gewinne 1:\")","v":"Chancen 1:"},"Ø AQ","(Ø) Gewinn",{"$f":"IFERROR(COUNTIF(S29:S31,\"Freispiel\"),\"\")","v":0},{"$f":"IFERROR(SUMIF(S29:S31,\"<>Freispiel\",R29:R31),\"\")","v":0.49897901464874761},null,{"$f":"$I$17","v":"Zusatzlotterie Daily Million Plus"},{"$f":"$L$18/$L$17","v":0.5},{"$f":"$N$27","v":3.0988561040906415},{"$f":"$K$27","v":0.58946436655414969},{"$f":"IFERROR($H$27/$L$17,\"\")","v":3.5933970918491022E-2},{"$f":"$M$27","v":3.1784715085468802},3.0988561040906415]
[null,null,null,null,null,null,null,null,null,null,null,null,null,null,{"$f":"IF(Q29=\"\",0,1/Q29)","v":1.2810032277910271E-3},5,{"$f":"IF(OR(S29<=0,AND(S29>1000000000,S29<>\"Freispiel\")),\"\",1/HYPGEOMDIST(P29,5,20,70)/S26)","v":780.63815789473733},{"$f":"IF(OR(S29<=0,T28>1),\"\",IF(S29=\"Freispiel\",U28/(1-(1/Q29))/Q29,IF(S29>1000000000,\"\",S29/Q29/S27)))","v":0.12810032277910272},{"$f":"100*P26","v":100},{"$f":"IFERROR(IF(R29<R33,R33/R29,R29/R33),\"\")","v":1.2984068627450982},{"$f":"IFERROR(R29/IF((Q29*S27)<1500,1500,Q29*S27)^0.25*62.2333,\"\")","v":1.2810032745401687},null,{"$f":"CONCATENATE(\"GlücksSpirale (1/\",$I$176,\") ¹²\")","v":"GlücksSpirale (1/5) ¹²"},{"$f":"$L$177/$L$176","v":1},{"$f":"$N$186","v":3.0117717243225481},{"$f":"$K$186","v":0.3897216973308838},{"$f":"IFERROR($H$186/$L$176,\"\")","v":0.1099907801229997},{"$f":"$M$186","v":2.248019664019234},3.0117717243225481]
[null,"EuroJackpot",null,1,1,"vs.",null,null,"EuroMillions",null,1,1,null,null,2.0015675434234794E-2,4,{"$f":"IF(OR(S30<=0,AND(S30>1000000000,S30<>\"Freispiel\")),\"\",1/HYPGEOMDIST(P30,5,20,70)/S26)","v":49.960842105263204},{"$f":"IF(OR(S30<=0,T28>1),\"\",IF(S30=\"Freispiel\",U28/(1-(1/Q30))/Q30,IF(S30>1000000000,\"\",S30/Q30/S27)))","v":0.14010972803964356},{"$f":"7*P26","v":7},{"$f":"IFERROR(IF(R30<R33,R33/R30,R30/R33),\"\")","v":1.1871148459383758},{"$f":"IFERROR(R30/IF((Q30*S27)<1500,1500,Q30*S27)^0.25*62.2333,\"\")","v":1.4010973315283093},null,{"$f":"$I$2","v":"SwissLotto"},{"$f":"$L$3/$L$2","v":2.5},{"$f":"$N$14","v":2.9787436251460386},{"$f":"$K$14","v":0.60647773279352246},{"$f":"IFERROR($H$14/$L$2,\"\")","v":0.10598773949223246},{"$f":"$M$14","v":2.4206098724258496},2.9787436251460386]
[null,"5 aus 50 + 2 aus 12",null,{"$f":"IF(D30=1,\"Anteil\",\"Anteile\")","v":"Anteil"},{"$f":"E30*2/D30","v":2},null,null,null,"5 aus 50 + 2 aus 12",null,{"$f":"IF(K30=1,\"Anteil\",\"Anteile\")","v":"Anteil"},{"$f":"L30*3/K30","v":3},null,null,0.11538448191500066,3,{"$f":"IF(OR(S31<=0,AND(S31>1000000000,S31<>\"Freispiel\")),\"\",1/HYPGEOMDIST(P31,5,20,70)/S26)","v":8.6666766917293252},{"$f":"IF(OR(S31<=0,T28>1),\"\",IF(S31=\"Freispiel\",U28/(1-(1/Q31))/Q31,IF(S31>1000000000,\"\",S31/Q31/S27)))","v":0.23076896383000131},{"$f":"2*P26","v":2},{"$f":"IFERROR(IF(R31<R33,R33/R31,R31/R33),\"\")","v":1.387446908919302},{"$f":"IFERROR(R31/IF((Q31*S27)<1500,1500,Q31*S27)^0.25*62.2333,\"\")","v":2.307689722517217},null,{"$f":"$B$144","v":"Deutsche Weihnachtslotterie ⁵"},{"$f":"$E$145/$E$144","v":20},{"$f":"$G$158","v":2.9714550633295933},{"$f":"$D$158","v":0.54220500000000005},{"$f":"IFERROR($A$158/$E$144,\"\")","v":0.31179000000000001},{"$f":"$F$158","v":4.8921053696532493},2.9714550633295933]
[null,"Richtige",{"$f":"IF(E30=1,\"Chancen 1:\",\"Ø Gewinne 1:\")","v":"Chancen 1:"},"AQ","Ø Gewinn",{"$f":"IFERROR(COUNTIF(E33:E44,\"Freispiel\"),\"\")","v":0},{"$f":"IFERROR(SUMIF(E33:E44,\"<>Freispiel\",D33:D44),\"\")","v":0.50000000000000044},null,"Richtige",{"$f":"IF(L30=1,\"Chancen 1:\",\"Ø Gewinne 1:\")","v":"Chancen 1:"},"AQ","Ø Gewinn",{"$f":"IFERROR(COUNTIF(L33:L45,\"Freispiel\"),\"\")","v":0},{"$f":"IFERROR(SUMIF(L33:L45,\"<>Freispiel\",K33:K45),\"\")","v":0.36666666666666714},{"$f":"IF(SUM(O29:O31)=0,\"\",SUM(O29:O31))","v":0.13668116057702648},"Gesamt",{"$f":"IFERROR(1/O32,\"\")","v":7.316297255439614},{"$f":"IF(SUM(R29:R31)=0,\"\",SUM(R29:R31))","v":0.49897901464874761},{"$f":"IFERROR(S27*R32,\"\")","v":0.49897901464874761},{"$f":"IFERROR(AVERAGE(T29:T31),\"\")","v":1.2909895392009254},{"$f":"IF(SUM(U29:U31)=0,\"\",SUM(U29:U31))","v":4.9897903285856948},null,{"$f":"$I$49","v":"Zusatzlotterie Spiel 77"},{"$f":"$L$50/$L$49","v":2.5},{"$f":"$N$59","v":2.9656194993157574},{"$f":"$K$59","v":0.42398891999999999},{"$f":"IFERROR($H$59/$L$49,\"\")","v":0.10000000000000003},{"$f":"$M$59","v":1.976160001271966},2.9656194993157574]
[{"$f":"IF(C33=\"\",0,1/C33)","v":7.1511238420185272E-9},"5 + 2",{"$f":"IF(OR(E33<=0,AND(E33>1000000000,E33<>\"Freispiel\")),\"\",1/(HYPGEOMDIST(5,5,5,50)*HYPGEOMDIST(2,2,2,12))/E30)","v":139838159.99999979},{"$f":"IF(OR(E33<=0,F32>1),\"\",IF(E33=\"Freispiel\",G32/(1-(1/C33))/C33,IF(E33>1000000000,\"\",E33/C33/E31)))","v":0.22500000000000034},{"$f":"62927172/D30","v":62927172},{"$f":"IFERROR(IF(D33<D46,D46/D33,D33/D46),\"\")","v":5.400000000000003},{"$f":"IFERROR(D33/IF((C33*E31)<1500,1500,C33*E31)^0.25*62.2333,\"\")","v":0.1082782990002403},{"$f":"IF(J33=\"\",0,1/J33)","v":7.1511238420185272E-9},"5 + 2",{"$f":"IF(OR(L33<=0,AND(L33>1000000000,L33<>\"Freispiel\")),\"\",1/(HYPGEOMDIST(5,5,5,50)*HYPGEOMDIST(2,2,2,12))/L30)","v":139838159.99999979},{"$f":"IF(OR(L33<=0,M32>1),\"\",IF(L33=\"Freispiel\",N32/(1-(1/J33))/J33,IF(L33>1000000000,\"\",L33/J33/L31)))","v":0.22000000000000031},{"$f":"92293185.6/K30","v":92293185.599999994},{"$f":"IFERROR(IF(K33<K47,K47/K33,K33/K47),\"\")","v":7.8000000000000016},{"$f":"IFERROR(K33/IF((J33*L31)<1500,1500,J33*L31)^0.25*62.2333,\"\")","v":9.5666254859103378E-2},null,null,null,{"$f":"AVERAGE(R29:R31)","v":0.1663263382162492},null,null,null,null,{"$f":"$P$193","v":"EuroDreams ¹³"},{"$f":"$S$194/$S$193","v":2.5},{"$f":"$U$202","v":2.9368302078475645},{"$f":"$R$202","v":0.41532230651530577},{"$f":"IFERROR($O$202/$S$193,\"\")","v":0.21465826728984622},{"$f":"$T$202","v":7.649045023133521},2.9368302078475645]
[1.4302247684037048E-7,"5 + 1",{"$f":"IF(OR(E34<=0,AND(E34>1000000000,E34<>\"Freispiel\")),\"\",1/(HYPGEOMDIST(5,5,5,50)*HYPGEOMDIST(1,2,2,12))/E30)","v":6991907.9999999925},{"$f":"IF(OR(E34<=0,F32>1),\"\",IF(E34=\"Freispiel\",G32/(1-(1/C34))/C34,IF(E34>1000000000,\"\",E34/C34/E31)))","v":4.3000000000000045E-2},{"$f":"601304.088/D30","v":601304.08799999999},{"$f":"IFERROR(IF(D34<D46,D46/D34,D34/D46),\"\")","v":1.032},{"$f":"IFERROR(D34/IF((C34*E31)<1500,1500,C34*E31)^0.25*62.2333,\"\")","v":4.376076051675027E-2},1.4302247684037048E-7,"5 + 1",{"$f":"IF(OR(L34<=0,AND(L34>1000000000,L34<>\"Freispiel\")),\"\",1/(HYPGEOMDIST(5,5,5,50)*HYPGEOMDIST(1,2,2,12))/L30)","v":6991907.9999999925},{"$f":"IF(OR(L34<=0,M32>1),\"\",IF(L34=\"Freispiel\",N32/(1-(1/J34))/J34,IF(L34>1000000000,\"\",L34/J34/L31)))","v":9.5700000000000108E-3},{"$f":"200737.67868/K30","v":200737.67868000001},{"$f":"IFERROR(IF(K34<K47,K47/K34,K34/K47),\"\")","v":2.9472443265546717},{"$f":"IFERROR(K34/IF((J34*L31)<1500,1500,J34*L31)^0.25*62.2333,\"\")","v":8.8004631429027484E-3},null,null,null,null,null,null,null,null,{"$f":"$P$205","v":"SuperLotto ¹¹"},{"$f":"$S$206/$S$205","v":1.5},{"$f":"$U$215","v":2.8862450990755475},{"$f":"$R$215","v":0.35886899884079709},{"$f":"IFERROR($O$215/$S$205,\"\")","v":0.34713782103064295},{"$f":"$T$215","v":7.8390105734259583},2.8862450990755475]
[3.218005728908337E-7,5,{"$f":"IF(OR(E35<=0,AND(E35>1000000000,E35<>\"Freispiel\")),\"\",1/(HYPGEOMDIST(5,5,5,50)*HYPGEOMDIST(0,2,2,12))/E30)","v":3107514.6666666623},{"$f":"IF(OR(E35<=0,F32>1),\"\",IF(E35=\"Freispiel\",G32/(1-(1/C35))/C35,IF(E35>1000000000,\"\",E35/C35/E31)))","v":2.424999999999998E-2},{"$f":"150714.461333333/D30","v":150714.46133333299},{"$f":"IFERROR(IF(D35<D46,D46/D35,D35/D46),\"\")","v":1.718213058419247},{"$f":"IFERROR(D35/IF((C35*E31)<1500,1500,C35*E31)^0.25*62.2333,\"\")","v":3.0225519767879527E-2},3.218005728908337E-7,5,{"$f":"IF(OR(L35<=0,AND(L35>1000000000,L35<>\"Freispiel\")),\"\",1/(HYPGEOMDIST(5,5,5,50)*HYPGEOMDIST(0,2,2,12))/L30)","v":3107514.6666666623},{"$f":"IF(OR(L35<=0,M32>1),\"\",IF(L35=\"Freispiel\",N32/(1-(1/J35))/J35,IF(L35>1000000000,\"\",L35/J35/L31)))","v":2.2366666666666663E-3},{"$f":"20851.4234133333/K30","v":20851.423413333301},{"$f":"IFERROR(IF(K35<K47,K47/K35,K35/K47),\"\")","v":12.610340479192956},{"$f":"IFERROR(K35/IF((J35*L31)<1500,1500,J35*L31)^0.25*62.2333,\"\")","v":2.5190714486919182E-3},null,1,null,null,1,null,null,null,{"$f":"$I$128","v":"Vive la France ⁹"},{"$f":"$L$129/$L$128","v":2.2000000000000002},{"$f":"$N$140","v":2.8541884967451794},{"$f":"$K$140","v":0.42163487445322767},{"$f":"IFERROR($H$140/$L$128,\"\")","v":0.13148246039087857},{"$f":"$M$140","v":2.9627235359344626},2.8541884967451794]
[1.6090028644541621E-6,"4 + 2",{"$f":"IF(OR(E36<=0,AND(E36>1000000000,E36<>\"Freispiel\")),\"\",1/(HYPGEOMDIST(4,5,5,50)*HYPGEOMDIST(2,2,2,12))/E30)","v":621502.93333333486},{"$f":"IF(OR(E36<=0,F32>1),\"\",IF(E36=\"Freispiel\",G32/(1-(1/C36))/C36,IF(E36>1000000000,\"\",E36/C36/E31)))","v":3.9999999999999931E-3},{"$f":"4972.02346666667/D30","v":4972.0234666666702},{"$f":"IFERROR(IF(D36<D46,D46/D36,D36/D46),\"\")","v":10.416666666666694},{"$f":"IFERROR(D36/IF((C36*E31)<1500,1500,C36*E31)^0.25*62.2333,\"\")","v":7.4552897561528195E-3},1.6090028644541621E-6,"4 + 2",{"$f":"IF(OR(L36<=0,AND(L36>1000000000,L36<>\"Freispiel\")),\"\",1/(HYPGEOMDIST(4,5,5,50)*HYPGEOMDIST(2,2,2,12))/L30)","v":621502.93333333486},{"$f":"IF(OR(L36<=0,M32>1),\"\",IF(L36=\"Freispiel\",N32/(1-(1/J36))/J36,IF(L36>1000000000,\"\",L36/J36/L31)))","v":6.9666666666666672E-4},{"$f":"1298.94113066667/K30","v":1298.94113066667},{"$f":"IFERROR(IF(K36<K47,K47/K36,K36/K47),\"\")","v":40.48582995951422},{"$f":"IFERROR(K36/IF((J36*L31)<1500,1500,J36*L31)^0.25*62.2333,\"\")","v":1.1732937375672462E-3},null,"6 aus 20 aus 70",null,null,{"$f":"S35*1*P35","v":1},null,null,null,{"$f":"$P$107","v":"BlitzCash ⁷"},{"$f":"$S$108/$S$107","v":2},{"$f":"$U$113","v":2.8491888420319063},{"$f":"$R$113","v":0.45267296379069732},{"$f":"IFERROR($O$113/$S$107,\"\")","v":8.0477930285375761E-3},{"$f":"$T$113","v":1.7207342003752304},2.8491888420319063]
[3.2180057289083234E-5,"4 + 1",{"$f":"IF(OR(E37<=0,AND(E37>1000000000,E37<>\"Freispiel\")),\"\",1/(HYPGEOMDIST(4,5,5,50)*HYPGEOMDIST(1,2,2,12))/E30)","v":31075.146666666755},{"$f":"IF(OR(E37<=0,F32>1),\"\",IF(E37=\"Freispiel\",G32/(1-(1/C37))/C37,IF(E37>1000000000,\"\",E37/C37/E31)))","v":4.9999999999999914E-3},{"$f":"310.751466666667/D30","v":310.751466666667},{"$f":"IFERROR(IF(D37<D46,D46/D37,D37/D46),\"\")","v":8.3333333333333552},{"$f":"IFERROR(D37/IF((C37*E31)<1500,1500,C37*E31)^0.25*62.2333,\"\")","v":1.9707522871947002E-2},3.2180057289083234E-5,"4 + 1",{"$f":"IF(OR(L37<=0,AND(L37>1000000000,L37<>\"Freispiel\")),\"\",1/(HYPGEOMDIST(4,5,5,50)*HYPGEOMDIST(1,2,2,12))/L30)","v":31075.146666666755},{"$f":"IF(OR(L37<=0,M32>1),\"\",IF(L37=\"Freispiel\",N32/(1-(1/J37))/J37,IF(L37>1000000000,\"\",L37/J37/L31)))","v":1.2833333333333334E-3},{"$f":"119.639314666667/K30","v":119.639314666667},{"$f":"IFERROR(IF(K37<K47,K47/K37,K37/K47),\"\")","v":21.978021978022003},{"$f":"IFERROR(K37/IF((J37*L31)<1500,1500,J37*L31)^0.25*62.2333,\"\")","v":4.5706576693414014E-3},null,"Richtige",{"$f":"IF(S35=1,\"Chancen 1:\",\"Ø Gewinne 1:\")","v":"Chancen 1:"},"Ø AQ","(Ø) Gewinn",{"$f":"IFERROR(COUNTIF(S38:S41,\"Freispiel\"),\"\")","v":0},{"$f":"IFERROR(SUMIF(S38:S41,\"<>Freispiel\",R38:R41),\"\")","v":0.4974393473076526},null,{"$f":"$B$2","v":"Cash4Life ⁴"},{"$f":"$E$3/$E$2","v":2},{"$f":"$G$14","v":2.8092184676242811},{"$f":"$D$14","v":0.46257222358936528},{"$f":"IFERROR($A$14/$E$2,\"\")","v":0.12886445182213285},{"$f":"$F$14","v":2.6689058960683512},2.8092184676242811]
[7.0796126035983317E-5,"3 + 2",{"$f":"IF(OR(E38<=0,AND(E38>1000000000,E38<>\"Freispiel\")),\"\",1/(HYPGEOMDIST(3,5,5,50)*HYPGEOMDIST(2,2,2,12))/E30)","v":14125.066666666666},{"$f":"IF(OR(E38<=0,F32>1),\"\",IF(E38=\"Freispiel\",G32/(1-(1/C38))/C38,IF(E38>1000000000,\"\",E38/C38/E31)))","v":5.4999999999999884E-3},{"$f":"155.375733333333/D30","v":155.37573333333299},{"$f":"IFERROR(IF(D38<D46,D46/D38,D38/D46),\"\")","v":7.5757575757575992},{"$f":"IFERROR(D38/IF((C38*E31)<1500,1500,C38*E31)^0.25*62.2333,\"\")","v":2.6401608977626383E-2},7.0796126035983317E-5,"3 + 2",{"$f":"IF(OR(L38<=0,AND(L38>1000000000,L38<>\"Freispiel\")),\"\",1/(HYPGEOMDIST(3,5,5,50)*HYPGEOMDIST(2,2,2,12))/L30)","v":14125.066666666666},{"$f":"IF(OR(L38<=0,M32>1),\"\",IF(L38=\"Freispiel\",N32/(1-(1/J38))/J38,IF(L38>1000000000,\"\",L38/J38/L31)))","v":1.356666666666666E-3},{"$f":"57.4890213333333/K30","v":57.489021333333298},{"$f":"IFERROR(IF(K38<K47,K47/K38,K38/K47),\"\")","v":20.790020790020826},{"$f":"IFERROR(K38/IF((J38*L31)<1500,1500,J38*L31)^0.25*62.2333,\"\")","v":5.884614870107701E-3},{"$f":"IF(Q38=\"\",0,1/Q38)","v":2.9561612949023744E-4},6,{"$f":"IF(OR(S38<=0,AND(S38>1000000000,S38<>\"Freispiel\")),\"\",1/HYPGEOMDIST(P38,6,20,70)/S35)","v":3382.7653508771905},{"$f":"IF(OR(S38<=0,T37>1),\"\",IF(S38=\"Freispiel\",U37/(1-(1/Q38))/Q38,IF(S38>1000000000,\"\",S38/Q38/S36)))","v":0.14780806474511871},{"$f":"500*P35","v":500},{"$f":"IFERROR(IF(R38<R43,R43/R38,R38/R43),\"\")","v":1.1885514529167591},{"$f":"IFERROR(R38/IF((Q38*S36)<1500,1500,Q38*S36)^0.25*62.2333,\"\")","v":1.2061546432059775},null,{"$f":"$I$116","v":"Zusatzlotterie JOKER (Österreich)"},{"$f":"$L$117/$L$116","v":1.5},{"$f":"$N$125","v":2.7060105258439995},{"$f":"$K$125","v":0.49740800000000002},{"$f":"IFERROR($H$125/$L$116,\"\")","v":0.10000000000000003},{"$f":"$M$125","v":1.6509763101786401},2.7060105258439995]
[7.2405128900437316E-5,4,{"$f":"IF(OR(E39<=0,AND(E39>1000000000,E39<>\"Freispiel\")),\"\",1/(HYPGEOMDIST(4,5,5,50)*HYPGEOMDIST(0,2,2,12))/E30)","v":13811.176296296328},{"$f":"IF(OR(E39<=0,F32>1),\"\",IF(E39=\"Freispiel\",G32/(1-(1/C39))/C39,IF(E39>1000000000,\"\",E39/C39/E31)))","v":3.9999999999999775E-3},{"$f":"110.48941037037/D30","v":110.48941037037},{"$f":"IFERROR(IF(D39<D46,D46/D39,D39/D46),\"\")","v":10.416666666666735},{"$f":"IFERROR(D39/IF((C39*E31)<1500,1500,C39*E31)^0.25*62.2333,\"\")","v":1.9309350052199553E-2},7.2405128900437316E-5,4,{"$f":"IF(OR(L39<=0,AND(L39>1000000000,L39<>\"Freispiel\")),\"\",1/(HYPGEOMDIST(4,5,5,50)*HYPGEOMDIST(0,2,2,12))/L30)","v":13811.176296296328},{"$f":"IF(OR(L39<=0,M32>1),\"\",IF(L39=\"Freispiel\",N32/(1-(1/J39))/J39,IF(L39>1000000000,\"\",L39/J39/L31)))","v":9.533333333333311E-4},{"$f":"39.4999642074074/K30","v":39.499964207407402},{"$f":"IFERROR(IF(K39<K47,K47/K39,K39/K47),\"\")","v":29.585798816568154},{"$f":"IFERROR(K39/IF((J39*L31)<1500,1500,J39*L31)^0.25*62.2333,\"\")","v":4.158432229277859E-3},5.9123225898047374E-3,5,{"$f":"IF(OR(S39<=0,AND(S39>1000000000,S39<>\"Freispiel\")),\"\",1/HYPGEOMDIST(P39,6,20,70)/S35)","v":169.13826754385985},{"$f":"IF(OR(S39<=0,T37>1),\"\",IF(S39=\"Freispiel\",U37/(1-(1/Q39))/Q39,IF(S39>1000000000,\"\",S39/Q39/S36)))","v":8.8684838847071054E-2},{"$f":"15*P35","v":15},{"$f":"IFERROR(IF(R39<R43,R43/R39,R39/R43),\"\")","v":1.4022671568627461},{"$f":"IFERROR(R39/IF((Q39*S36)<1500,1500,Q39*S36)^0.25*62.2333,\"\")","v":0.88684842083550097},null,{"$f":"CONCATENATE(\"Sommerlotterie (1/\",$P$161,\") ¹⁰\")","v":"Sommerlotterie (1/10) ¹⁰"},{"$f":"$S$162/$S$161","v":34.99},{"$f":"$U$173","v":2.6774454882281207},{"$f":"$R$173","v":0.34352672192054873},{"$f":"IFERROR($O$173/$S$161,\"\")","v":0.36300000000000004},{"$f":"$T$173","v":29.985341890846737},2.6774454882281207]
[1.0147444731824279E-3,"2 + 2",{"$f":"IF(OR(E40<=0,AND(E40>1000000000,E40<>\"Freispiel\")),\"\",1/(HYPGEOMDIST(2,5,5,50)*HYPGEOMDIST(2,2,2,12))/E30)","v":985.46976744186009},{"$f":"IF(OR(E40<=0,F32>1),\"\",IF(E40=\"Freispiel\",G32/(1-(1/C40))/C40,IF(E40>1000000000,\"\",E40/C40/E31)))","v":1.2749999999999984E-2},{"$f":"25.1294790697674/D30","v":25.129479069767399},{"$f":"IFERROR(IF(D40<D46,D46/D40,D40/D46),\"\")","v":3.2679738562091578},{"$f":"IFERROR(D40/IF((C40*E31)<1500,1500,C40*E31)^0.25*62.2333,\"\")","v":0.11908709194819232},1.0147444731824279E-3,"2 + 2",{"$f":"IF(OR(L40<=0,AND(L40>1000000000,L40<>\"Freispiel\")),\"\",1/(HYPGEOMDIST(2,5,5,50)*HYPGEOMDIST(2,2,2,12))/L30)","v":985.46976744186009},{"$f":"IF(OR(L40<=0,M32>1),\"\",IF(L40=\"Freispiel\",N32/(1-(1/J40))/J40,IF(L40>1000000000,\"\",L40/J40/L31)))","v":4.7666666666666673E-3},{"$f":"14.0922176744186/K30","v":14.092217674418601},{"$f":"IFERROR(IF(K40<K47,K47/K40,K40/K47),\"\")","v":5.9171597633136157},{"$f":"IFERROR(K40/IF((J40*L31)<1500,1500,J40*L31)^0.25*62.2333,\"\")","v":4.0229670298168083E-2},4.5266219828192504E-2,4,{"$f":"IF(OR(S40<=0,AND(S40>1000000000,S40<>\"Freispiel\")),\"\",1/HYPGEOMDIST(P40,6,20,70)/S35)","v":22.091528822055171},{"$f":"IF(OR(S40<=0,T37>1),\"\",IF(S40=\"Freispiel\",U37/(1-(1/Q40))/Q40,IF(S40>1000000000,\"\",S40/Q40/S36)))","v":9.0532439656385008E-2},{"$f":"2*P35","v":2},{"$f":"IFERROR(IF(R40<R43,R43/R40,R40/R43),\"\")","v":1.3736494597839151},{"$f":"IFERROR(R40/IF((Q40*S36)<1500,1500,Q40*S36)^0.25*62.2333,\"\")","v":0.90532442960290704},null,{"$f":"CONCATENATE(\"Septemberlotterie (1/\",$P$176,\") ¹⁰\")","v":"Septemberlotterie (1/10) ¹⁰"},{"$f":"$S$177/$S$176","v":29.99},{"$f":"$U$190","v":2.6527399211473353},{"$f":"$R$190","v":0.35011670556852287},{"$f":"IFERROR($O$190/$S$176,\"\")","v":0.37555000000000005},{"$f":"$T$190","v":15.044218210741432},2.6527399211473353]
[1.415922520719666E-3,"3 + 1",{"$f":"IF(OR(E41<=0,AND(E41>1000000000,E41<>\"Freispiel\")),\"\",1/(HYPGEOMDIST(3,5,5,50)*HYPGEOMDIST(1,2,2,12))/E30)","v":706.25333333333344},{"$f":"IF(OR(E41<=0,F32>1),\"\",IF(E41=\"Freispiel\",G32/(1-(1/C41))/C41,IF(E41>1000000000,\"\",E41/C41/E31)))","v":1.4249999999999997E-2},{"$f":"20.12822/D30","v":20.128219999999999},{"$f":"IFERROR(IF(D41<D46,D46/D41,D41/D46),\"\")","v":2.9239766081871377},{"$f":"IFERROR(D41/IF((C41*E31)<1500,1500,C41*E31)^0.25*62.2333,\"\")","v":0.14250000520041833},1.415922520719666E-3,"3 + 1",{"$f":"IF(OR(L41<=0,AND(L41>1000000000,L41<>\"Freispiel\")),\"\",1/(HYPGEOMDIST(3,5,5,50)*HYPGEOMDIST(1,2,2,12))/L30)","v":706.25333333333344},{"$f":"IF(OR(L41<=0,M32>1),\"\",IF(L41=\"Freispiel\",N32/(1-(1/J41))/J41,IF(L41>1000000000,\"\",L41/J41/L31)))","v":5.3166666666666813E-3},{"$f":"11.2647406666667/K30","v":11.2647406666667},{"$f":"IFERROR(IF(K41<K47,K47/K41,K41/K47),\"\")","v":5.3050397877984006},{"$f":"IFERROR(K41/IF((J41*L31)<1500,1500,J41*L31)^0.25*62.2333,\"\")","v":4.8768772200524606E-2},0.17041400405907783,3,{"$f":"IF(OR(S41<=0,AND(S41>1000000000,S41<>\"Freispiel\")),\"\",1/HYPGEOMDIST(P41,6,20,70)/S35)","v":5.8680623433583987},{"$f":"IF(OR(S41<=0,T37>1),\"\",IF(S41=\"Freispiel\",U37/(1-(1/Q41))/Q41,IF(S41>1000000000,\"\",S41/Q41/S36)))","v":0.17041400405907783},{"$f":"1*P35","v":1},{"$f":"IFERROR(IF(R41<R43,R43/R41,R41/R43),\"\")","v":1.3703299104216735},{"$f":"IFERROR(R41/IF((Q41*S36)<1500,1500,Q41*S36)^0.25*62.2333,\"\")","v":1.7041401027819443},null,{"$f":"$B$74","v":"LOTTO 6aus45 ⁶"},{"$f":"$E$75/$E$74","v":1.3},{"$f":"$G$85","v":2.6336246705985342},{"$f":"$D$85","v":0.46382474293627779},{"$f":"IFERROR($A$85/$E$74,\"\")","v":8.5459407297183862E-2},{"$f":"$F$85","v":2.5442343450681895},2.6336246705985342]
[3.1858256716192496E-3,3,{"$f":"IF(OR(E42<=0,AND(E42>1000000000,E42<>\"Freispiel\")),\"\",1/(HYPGEOMDIST(3,5,5,50)*HYPGEOMDIST(0,2,2,12))/E30)","v":313.89037037037031},{"$f":"IF(OR(E42<=0,F32>1),\"\",IF(E42=\"Freispiel\",G32/(1-(1/C42))/C42,IF(E42>1000000000,\"\",E42/C42/E31)))","v":2.7000000000000007E-2},{"$f":"16.95008/D30","v":16.95008},{"$f":"IFERROR(IF(D42<D46,D46/D42,D42/D46),\"\")","v":1.543209876543211},{"$f":"IFERROR(D42/IF((C42*E31)<1500,1500,C42*E31)^0.25*62.2333,\"\")","v":0.27000000985342432},3.1858256716192496E-3,3,{"$f":"IF(OR(L42<=0,AND(L42>1000000000,L42<>\"Freispiel\")),\"\",1/(HYPGEOMDIST(3,5,5,50)*HYPGEOMDIST(0,2,2,12))/L30)","v":313.89037037037031},{"$f":"IF(OR(L42<=0,M32>1),\"\",IF(L42=\"Freispiel\",N32/(1-(1/J42))/J42,IF(L42>1000000000,\"\",L42/J42/L31)))","v":9.9000000000000025E-3},{"$f":"9.322544/K30","v":9.3225440000000006},{"$f":"IFERROR(IF(K42<K47,K47/K42,K42/K47),\"\")","v":2.8490028490028516},{"$f":"IFERROR(K42/IF((J42*L31)<1500,1500,J42*L31)^0.25*62.2333,\"\")","v":9.9000003612922244E-2},{"$f":"IF(SUM(O38:O41)=0,\"\",SUM(O38:O41))","v":0.2218881626065653},"Gesamt",{"$f":"IFERROR(1/O42,\"\")","v":4.506774891696776},{"$f":"IF(SUM(R38:R41)=0,\"\",SUM(R38:R41))","v":0.4974393473076526},{"$f":"IFERROR(S36*R42,\"\")","v":0.4974393473076526},{"$f":"IFERROR(AVERAGE(T38:T41),\"\")","v":1.3336994949962735},{"$f":"IF(SUM(U38:U41)=0,\"\",SUM(U38:U41))","v":4.7024675964263301},null,{"$f":"$P$128","v":"SonntagsLotto"},{"$f":"$S$129/$S$128","v":1.5},{"$f":"$U$140","v":2.5912993318705739},{"$f":"$R$140","v":0.51029653661174224},{"$f":"IFERROR($O$140/$S$128,\"\")","v":0.12235041154020068},{"$f":"$T$140","v":3.5402906336471216},2.5912993318705739]
[5.3274084842077421E-3,"1 + 2",{"$f":"IF(OR(E43<=0,AND(E43>1000000000,E43<>\"Freispiel\")),\"\",1/(HYPGEOMDIST(1,5,5,50)*HYPGEOMDIST(2,2,2,12))/E30)","v":187.70852713178303},{"$f":"IF(OR(E43<=0,F32>1),\"\",IF(E43=\"Freispiel\",G32/(1-(1/C43))/C43,IF(E43>1000000000,\"\",E43/C43/E31)))","v":3.3749999999999857E-2},{"$f":"12.6703255813953/D30","v":12.6703255813953},{"$f":"IFERROR(IF(D43<D46,D46/D43,D43/D46),\"\")","v":1.2345679012345743},{"$f":"IFERROR(D43/IF((C43*E31)<1500,1500,C43*E31)^0.25*62.2333,\"\")","v":0.3375000123167789},5.3274084842077421E-3,"1 + 2",{"$f":"IF(OR(L43<=0,AND(L43>1000000000,L43<>\"Freispiel\")),\"\",1/(HYPGEOMDIST(1,5,5,50)*HYPGEOMDIST(2,2,2,12))/L30)","v":187.70852713178303},{"$f":"IF(OR(L43<=0,M32>1),\"\",IF(L43=\"Freispiel\",N32/(1-(1/J43))/J43,IF(L43>1000000000,\"\",L43/J43/L31)))","v":1.1989999999999992E-2},{"$f":"6.75187572093023/K30","v":6.7518757209302303},{"$f":"IFERROR(IF(K43<K47,K47/K43,K43/K47),\"\")","v":2.3523876734885953},{"$f":"IFERROR(K43/IF((J43*L31)<1500,1500,J43*L31)^0.25*62.2333,\"\")","v":0.11990000437565017},null,null,null,{"$f":"AVERAGE(R38:R41)","v":0.12435983682691315},null,null,null,null,{"$f":"$B$17","v":"Daily Million"},{"$f":"$E$18/$E$17","v":1},{"$f":"$G$27","v":2.538470248206012},{"$f":"$D$27","v":0.54765751360178594},{"$f":"IFERROR($A$27/$E$17,\"\")","v":3.5933970918491022E-2},{"$f":"$F$27","v":3.0371542246093157},2.538470248206012]
[2.029488946364855E-2,"2 + 1",{"$f":"IF(OR(E44<=0,AND(E44>1000000000,E44<>\"Freispiel\")),\"\",1/(HYPGEOMDIST(2,5,5,50)*HYPGEOMDIST(1,2,2,12))/E30)","v":49.27348837209302},{"$f":"IF(OR(E44<=0,F32>1),\"\",IF(E44=\"Freispiel\",G32/(1-(1/C44))/C44,IF(E44>1000000000,\"\",E44/C44/E31)))","v":0.10150000000000016},{"$f":"10.0025181395349/D30","v":10.002518139534899},{"$f":"IFERROR(IF(D44<D46,D46/D44,D44/D46),\"\")","v":2.4360000000000017},{"$f":"IFERROR(D44/IF((C44*E31)<1500,1500,C44*E31)^0.25*62.2333,\"\")","v":1.0150000370415779},2.029488946364855E-2,"2 + 1",{"$f":"IF(OR(L44<=0,AND(L44>1000000000,L44<>\"Freispiel\")),\"\",1/(HYPGEOMDIST(2,5,5,50)*HYPGEOMDIST(1,2,2,12))/L30)","v":49.27348837209302},{"$f":"IF(OR(L44<=0,M32>1),\"\",IF(L44=\"Freispiel\",N32/(1-(1/J44))/J44,IF(L44>1000000000,\"\",L44/J44/L31)))","v":3.7766666666666671E-2},{"$f":"5.58268623255814/K30","v":5.5826862325581397},{"$f":"IFERROR(IF(K44<K47,K47/K44,K44/K47),\"\")","v":1.3389999999999984},{"$f":"IFERROR(K44/IF((J44*L31)<1500,1500,J44*L31)^0.25*62.2333,\"\")","v":0.37766668044929591},null,null,null,null,null,null,null,null,{"$f":"$P$116","v":"Zusatzlotterie JOKER (Schweiz)"},{"$f":"$S$117/$S$116","v":2},{"$f":"$U$125","v":2.4472166099189234},{"$f":"$R$125","v":0.47},{"$f":"IFERROR($O$125/$S$116,\"\")","v":0.10000000000000003},{"$f":"$T$125","v":1.7775151037562384},2.4472166099189234]
[{"$f":"IF(SUM(A33:A44)=0,\"\",SUM(A33:A44))","v":3.1416252902641169E-2},"Gesamt",{"$f":"IFERROR(1/A45,\"\")","v":31.830657943167051},{"$f":"IF(SUM(D33:D44)=0,\"\",SUM(D33:D44))","v":0.50000000000000044},{"$f":"IFERROR(E31*D45,\"\")","v":1.0000000000000009},{"$f":"IFERROR(AVERAGE(F33:F44),\"\")","v":4.6915304619181439},{"$f":"IF(SUM(G33:G44)=0,\"\",SUM(G33:G44))","v":2.1392255073031876},4.5663501293209258E-2,2,{"$f":"IF(OR(L45<=0,AND(L45>1000000000,L45<>\"Freispiel\")),\"\",1/(HYPGEOMDIST(2,5,5,50)*HYPGEOMDIST(0,2,2,12))/L30)","v":21.899328165374666},{"$f":"IF(OR(L45<=0,M32>1),\"\",IF(L45=\"Freispiel\",N32/(1-(1/J45))/J45,IF(L45>1000000000,\"\",L45/J45/L31)))","v":6.0830000000000113E-2},{"$f":"3.99640839689923/K30","v":3.9964083968992301},{"$f":"IFERROR(IF(K45<K47,K47/K45,K45/K47),\"\")","v":2.1567000000000012},{"$f":"IFERROR(K45/IF((J45*L31)<1500,1500,J45*L31)^0.25*62.2333,\"\")","v":0.60830002219940105},null,1,null,null,1,null,null,null,{"$f":"$I$198","v":"25 Fette Jahre (mit Extrarente) ¹³"},{"$f":"$L$199/$L$198","v":3},{"$f":"$N$209","v":2.4367404468124034},{"$f":"$K$209","v":0.37001326747940172},{"$f":"IFERROR($H$209/$L$198,\"\")","v":0.19000000000000006},{"$f":"$M$209","v":2.4912026699826724},2.4367404468124034]
[null,null,null,{"$f":"AVERAGE(D33:D44)","v":4.1666666666666706E-2},null,null,null,{"$f":"IF(SUM(H33:H45)=0,\"\",SUM(H33:H45))","v":7.707975419585042E-2},"Gesamt",{"$f":"IFERROR(1/H46,\"\")","v":12.973575362722613},{"$f":"IF(SUM(K33:K45)=0,\"\",SUM(K33:K45))","v":0.36666666666666714},{"$f":"IFERROR(L31*K46,\"\")","v":1.1000000000000014},{"$f":"IFERROR(AVERAGE(M33:M45),\"\")","v":12.008965109498176},{"$f":"IF(SUM(N33:N45)=0,\"\",SUM(N33:N45))","v":1.4166379410929544},null,"7 aus 20 aus 70",null,null,{"$f":"S45*1*P45","v":1},null,null,null,{"$f":"CONCATENATE(\"Weihnachtslotterie (1/\",$B$161,\") ¹⁰\")","v":"Weihnachtslotterie (1/10) ¹⁰"},{"$f":"$E$162/$E$161","v":34.99},{"$f":"$G$174","v":2.3755910562045237},{"$f":"$D$174","v":0.40011431837667905},{"$f":"IFERROR($A$174/$E$161,\"\")","v":0.15304000000000001},{"$f":"$F$174","v":18.231461904761908},2.3755910562045237]
[null,null,null,null,null,null,null,null,null,null,{"$f":"AVERAGE(K33:K45)","v":2.820512820512824E-2},null,null,null,null,"Richtige",{"$f":"IF(S45=1,\"Chancen 1:\",\"Ø Gewinne 1:\")","v":"Chancen 1:"},"Ø AQ","(Ø) Gewinn",{"$f":"IFERROR(COUNTIF(S48:S51,\"Freispiel\"),\"\")","v":0},{"$f":"IFERROR(SUMIF(S48:S51,\"<>Freispiel\",R48:R51),\"\")","v":0.49566510711870859},null,{"$f":"$P$98","v":"ExtraCash ⁷"},{"$f":"$S$99/$S$98","v":1},{"$f":"$U$104","v":2.3167364855004271},{"$f":"$R$104","v":0.37687888756108101},{"$f":"IFERROR($O$104/$S$98,\"\")","v":8.0477930285375761E-3},{"$f":"$T$104","v":1.6259460534523935},2.3167364855004271]
[null,1,null,null,1,"vs.",null,null,null,null,null,null,null,null,{"$f":"IF(Q48=\"\",0,1/Q48)","v":6.4666028325989348E-5},7,{"$f":"IF(OR(S48<=0,AND(S48>1000000000,S48<>\"Freispiel\")),\"\",1/HYPGEOMDIST(P48,7,20,70)/S45)","v":15464.070175438606},{"$f":"IF(OR(S48<=0,T47>1),\"\",IF(S48=\"Freispiel\",U47/(1-(1/Q48))/Q48,IF(S48>1000000000,\"\",S48/Q48/S46)))","v":6.4666028325989347E-2},{"$f":"1000*P45","v":1000},{"$f":"IFERROR(IF(R48<R53,R53/R48,R48/R53),\"\")","v":1.9162500000000009},{"$f":"IFERROR(R48/IF((Q48*S46)<1500,1500,Q48*S46)^0.25*62.2333,\"\")","v":0.36088436398338036},null,{"$f":"$B$30","v":"EuroJackpot"},{"$f":"$E$31/$E$30","v":2},{"$f":"$G$45","v":2.1392255073031876},{"$f":"$D$45","v":0.50000000000000044},{"$f":"IFERROR($A$45/$E$30,\"\")","v":3.1416252902641169E-2},{"$f":"$F$45","v":4.6915304619181439},2.1392255073031876]
[null,"8 x 1 aus 10",null,null,{"$f":"E48*10/B48","v":10},null,null,null,"Zusatzlotterie Spiel 77",null,null,1,null,null,1.6166507081497368E-3,6,{"$f":"IF(OR(S49<=0,AND(S49>1000000000,S49<>\"Freispiel\")),\"\",1/HYPGEOMDIST(P49,7,20,70)/S45)","v":618.56280701754304},{"$f":"IF(OR(S49<=0,T47>1),\"\",IF(S49=\"Freispiel\",U47/(1-(1/Q49))/Q49,IF(S49>1000000000,\"\",S49/Q49/S46)))","v":0.16166507081497369},{"$f":"100*P45","v":100},{"$f":"IFERROR(IF(R49<R53,R53/R49,R49/R53),\"\")","v":1.3046314416177449},{"$f":"IFERROR(R49/IF((Q49*S46)<1500,1500,Q49*S46)^0.25*62.2333,\"\")","v":1.6166507671480528},null,{"$f":"$B$64","v":"Silvester-/SommerMillionen ⁵"},{"$f":"$E$65/$E$64","v":10},{"$f":"$G$71","v":1.8311106491338149},{"$f":"$D$71","v":0.60000000000000009},{"$f":"IFERROR($A$71/$E$64,\"\")","v":5.1009000000000006E-2},{"$f":"$F$71","v":2.541666666666667},1.8311106491338149]
[null,"GK",{"$f":"IF(E48=1,\"Chancen 1:\",\"Ø Gewinne 1:\")","v":"Chancen 1:"},"Ø AQ","(Ø) Gewinn",{"$f":"IFERROR(COUNTIF(E51:E60,\"Freispiel\"),\"\")","v":0},{"$f":"IFERROR(SUMIF(E51:E60,\"<>Freispiel\",D51:D60),\"\")","v":0.46707142857142864},null,"7 x 1 aus 10",null,null,{"$f":"L49*2.5","v":2.5},null,null,1.5843176939867382E-2,5,{"$f":"IF(OR(S50<=0,AND(S50>1000000000,S50<>\"Freispiel\")),\"\",1/HYPGEOMDIST(P50,7,20,70)/S45)","v":63.118653777300466},{"$f":"IF(OR(S50<=0,T47>1),\"\",IF(S50=\"Freispiel\",U47/(1-(1/Q50))/Q50,IF(S50>1000000000,\"\",S50/Q50/S46)))","v":0.1901181232784086},{"$f":"12*P45","v":12},{"$f":"IFERROR(IF(R50<R53,R53/R50,R50/R53),\"\")","v":1.5342465753424643},{"$f":"IFERROR(R50/IF((Q50*S46)<1500,1500,Q50*S46)^0.25*62.2333,\"\")","v":1.9011813021661055},null,{"$f":"$P$218","v":"EuroMillions (mit 2. Chance)"},{"$f":"$S$219/$S$218","v":3.5},{"$f":"$U$237","v":1.5614498372772545},{"$f":"$R$237","v":0.42540191972123892},{"$f":"IFERROR($O$237/$S$218,\"\")","v":8.1858964677452878E-2},{"$f":"$T$237","v":10.950500722990329},1.5614498372772545]
[{"$f":"IF(C51=\"\",0,1/C51)","v":1E-8},1,{"$f":"IF(OR(E51<=0,AND(E51>1000000000,E51<>\"Freispiel\")),\"\",10^8/E48)","v":100000000},{"$f":"IF(OR(E51<=0,F50>1),\"\",IF(E51=\"Freispiel\",G50/(1-(1/C51))/C51,IF(E51>1000000000,\"\",E51/C51/E49)))","v":8.0071428571428571E-2},{"$f":"(50+54+60+63+70+73+77+83+87+94+97+100+103+110)/14*1000000/B48","v":80071428.571428567},{"$f":"IFERROR(IF(D51<D62,D62/D51,D51/D62),\"\")","v":1.714329408166386},{"$f":"IFERROR(D51/IF((C51*E49)<1500,1500,C51*E49)^0.25*62.2333,\"\")","v":2.8022082511798396E-2},null,"Richtige",{"$f":"IF(L49=1,\"Chancen 1:\",\"Ø Gewinne 1:\")","v":"Chancen 1:"},"(Ø) AQ","(Ø) Gewinn",{"$f":"IFERROR(COUNTIF(L52:L58,\"Freispiel\"),\"\")","v":0},{"$f":"IFERROR(SUMIF(L52:L58,\"<>Freispiel\",K52:K58),\"\")","v":0.42398891999999999},7.9215884699336908E-2,4,{"$f":"IF(OR(S51<=0,AND(S51>1000000000,S51<>\"Freispiel\")),\"\",1/HYPGEOMDIST(P51,7,20,70)/S45)","v":12.623730755460095},{"$f":"IF(OR(S51<=0,T47>1),\"\",IF(S51=\"Freispiel\",U47/(1-(1/Q51))/Q51,IF(S51>1000000000,\"\",S51/Q51/S46)))","v":7.9215884699336908E-2},{"$f":"1*P45","v":1},{"$f":"IFERROR(IF(R51<R53,R53/R51,R51/R53),\"\")","v":1.5642857142857158},{"$f":"IFERROR(R51/IF((Q51*S46)<1500,1500,Q51*S46)^0.25*62.2333,\"\")","v":0.79215887590254386},null,{"$f":"$I$30","v":"EuroMillions"},{"$f":"$L$31/$L$30","v":3},{"$f":"$N$46","v":1.4166379410929544},{"$f":"$K$46","v":0.36666666666666714},{"$f":"IFERROR($H$46/$L$30,\"\")","v":7.707975419585042E-2},{"$f":"$M$46","v":12.008965109498176},1.4166379410929544]
[8.9999999999999999E-8,2,{"$f":"IF(OR(E52<=0,AND(E52>1000000000,E52<>\"Freispiel\")),\"\",1/(0.0000001*0.9)/E48)","v":11111111.111111112},{"$f":"IF(OR(E52<=0,F50>1),\"\",IF(E52=\"Freispiel\",G50/(1-(1/C52))/C52,IF(E52>1000000000,\"\",E52/C52/E49)))","v":8.9999999999999993E-3},{"$f":"1000000/B48","v":1000000},{"$f":"IFERROR(IF(D52<D62,D62/D52,D52/D62),\"\")","v":5.1896825396825408},{"$f":"IFERROR(D52/IF((C52*E49)<1500,1500,C52*E49)^0.25*62.2333,\"\")","v":5.4553920617168468E-3},{"$f":"IF(J52=\"\",0,1/J52)","v":9.9999999999999995E-8},7,{"$f":"IF(OR(L52<=0,AND(L52>1000000000,L52<>\"Freispiel\")),\"\",10^7/L49)","v":10000000},{"$f":"IF(OR(L52<=0,M51>1),\"\",IF(L52=\"Freispiel\",N51/(1-(1/J52))/J52,IF(L52>1000000000,\"\",L52/J52/L50)))","v":7.1099999999999997E-2},1777500,{"$f":"IFERROR(IF(K52<K60,K60/K52,K52/K60),\"\")","v":1.1738514298911396},{"$f":"IFERROR(K52/IF((J52*L50)<1500,1500,J52*L50)^0.25*62.2333,\"\")","v":6.2575946769667018E-2},{"$f":"IF(SUM(O48:O51)=0,\"\",SUM(O48:O51))","v":9.6740378375680017E-2},"Gesamt",{"$f":"IFERROR(1/O52,\"\")","v":10.336945304437576},{"$f":"IF(SUM(R48:R51)=0,\"\",SUM(R48:R51))","v":0.49566510711870859},{"$f":"IFERROR(S46*R52,\"\")","v":0.49566510711870859},{"$f":"IFERROR(AVERAGE(T48:T51),\"\")","v":1.5798534328114815},{"$f":"IF(SUM(U48:U51)=0,\"\",SUM(U48:U51))","v":4.6708753092000821},null,{"$f":"$B$107","v":"Millionenkracher ⁷"},{"$f":"$E$108/$E$107","v":2.5},{"$f":"$G$113","v":1.3462704313474203},{"$f":"$D$113","v":0.36552226631082319},{"$f":"IFERROR($A$113/$E$107,\"\")","v":8.0477930285375761E-3},{"$f":"$F$113","v":3.1125570568527787},1.3462704313474203]
[8.9999999999999985E-7,3,{"$f":"IF(OR(E53<=0,AND(E53>1000000000,E53<>\"Freispiel\")),\"\",1/(0.000001*0.9)/E48)","v":1111111.1111111112},{"$f":"IF(OR(E53<=0,F50>1),\"\",IF(E53=\"Freispiel\",G50/(1-(1/C53))/C53,IF(E53>1000000000,\"\",E53/C53/E49)))","v":8.9999999999999976E-3},{"$f":"100000/B48","v":100000},{"$f":"IFERROR(IF(D53<D62,D62/D53,D53/D62),\"\")","v":5.1896825396825417},{"$f":"IFERROR(D53/IF((C53*E49)<1500,1500,C53*E49)^0.25*62.2333,\"\")","v":9.7012113770408581E-3},8.9999999999999985E-7,6,{"$f":"IF(OR(L53<=0,AND(L53>1000000000,L53<>\"Freispiel\")),\"\",1/(0.000001*0.9)/L49)","v":1111111.1111111112},{"$f":"IF(OR(L53<=0,M51>1),\"\",IF(L53=\"Freispiel\",N51/(1-(1/J53))/J53,IF(L53>1000000000,\"\",L53/J53/L50)))","v":2.7999719999999995E-2},77777,{"$f":"IFERROR(IF(K53<K60,K60/K53,K53/K60),\"\")","v":2.1632304078142823},{"$f":"IFERROR(K53/IF((J53*L50)<1500,1500,J53*L50)^0.25*62.2333,\"\")","v":4.2682725571149494E-2},null,null,null,{"$f":"AVERAGE(R48:R51)","v":0.12391627677967715},null,null,null,null,{"$f":"$I$212","v":"PowerBall (mit PowerPlay) ¹⁴⁺¹⁵"},{"$f":"$L$213/$L$212","v":4},{"$f":"$N$224","v":1.2515790139871501},{"$f":"$K$224","v":0.22190046547055564},{"$f":"IFERROR($H$224/$L$212,\"\")","v":4.0213840499251877E-2},{"$f":"$M$224","v":3.6568117754510041},1.2515790139871501]
[9.0000000000000002E-6,4,{"$f":"IF(OR(E54<=0,AND(E54>1000000000,E54<>\"Freispiel\")),\"\",1/(0.00001*0.9)/E48)","v":111111.11111111111},{"$f":"IF(OR(E54<=0,F50>1),\"\",IF(E54=\"Freispiel\",G50/(1-(1/C54))/C54,IF(E54>1000000000,\"\",E54/C54/E49)))","v":8.9999999999999993E-3},{"$f":"10000/B48","v":10000},{"$f":"IFERROR(IF(D54<D62,D62/D54,D54/D62),\"\")","v":5.1896825396825408},{"$f":"IFERROR(D54/IF((C54*E49)<1500,1500,C54*E49)^0.25*62.2333,\"\")","v":1.7251464444227104E-2},9.0000000000000002E-6,5,{"$f":"IF(OR(L54<=0,AND(L54>1000000000,L54<>\"Freispiel\")),\"\",1/(0.00001*0.9)/L49)","v":111111.11111111111},{"$f":"IF(OR(L54<=0,M51>1),\"\",IF(L54=\"Freispiel\",N51/(1-(1/J54))/J54,IF(L54>1000000000,\"\",L54/J54/L50)))","v":2.79972E-2},7777,{"$f":"IFERROR(IF(K54<K60,K60/K54,K54/K60),\"\")","v":2.1634251180220061},{"$f":"IFERROR(K54/IF((J54*L50)<1500,1500,J54*L50)^0.25*62.2333,\"\")","v":7.5894980816120422E-2},null,null,null,null,null,null,null,null,{"$f":"$P$240","v":"Millionärs Tombola ⁵"},{"$f":"$S$241/$S$240","v":15},{"$f":"$U$244","v":1.1855196499571619},{"$f":"$R$244","v":0.66666666666666663},{"$f":"IFERROR($O$244/$S$240,\"\")","v":1.0000000000000001E-5},{"$f":"$T$244","v":1},1.1855196499571619]
[8.9999999999999992E-5,5,{"$f":"IF(OR(E55<=0,AND(E55>1000000000,E55<>\"Freispiel\")),\"\",1/(0.0001*0.9)/E48)","v":11111.111111111111},{"$f":"IF(OR(E55<=0,F50>1),\"\",IF(E55=\"Freispiel\",G50/(1-(1/C55))/C55,IF(E55>1000000000,\"\",E55/C55/E49)))","v":8.9999999999999993E-3},{"$f":"1000/B48","v":1000},{"$f":"IFERROR(IF(D55<D62,D62/D55,D55/D62),\"\")","v":5.1896825396825408},{"$f":"IFERROR(D55/IF((C55*E49)<1500,1500,C55*E49)^0.25*62.2333,\"\")","v":3.0677924014187622E-2},8.9999999999999992E-5,4,{"$f":"IF(OR(L55<=0,AND(L55>1000000000,L55<>\"Freispiel\")),\"\",1/(0.0001*0.9)/L49)","v":11111.111111111111},{"$f":"IF(OR(L55<=0,M51>1),\"\",IF(L55=\"Freispiel\",N51/(1-(1/J55))/J55,IF(L55>1000000000,\"\",L55/J55/L50)))","v":2.7971999999999997E-2},777,{"$f":"IFERROR(IF(K55<K60,K60/K55,K55/K60),\"\")","v":2.165374149659864},{"$f":"IFERROR(K55/IF((J55*L50)<1500,1500,J55*L50)^0.25*62.2333,\"\")","v":0.13484100332922824},null,1,null,null,1,null,null,null,{"$f":"$I$227","v":"MegaMillions (mit MegaPlier) ¹⁴"},{"$f":"$L$228/$L$227","v":4},{"$f":"$N$239","v":1.0696738745636267},{"$f":"$K$239","v":0.20752099871381396},{"$f":"IFERROR($H$239/$L$227,\"\")","v":4.1675694996304226E-2},{"$f":"$M$239","v":2.23797042851543},1.0696738745636267]
[8.9999999999999998E-4,6,{"$f":"IF(OR(E56<=0,AND(E56>1000000000,E56<>\"Freispiel\")),\"\",1/(0.001*0.9)/E48)","v":1111.1111111111111},{"$f":"IF(OR(E56<=0,F50>1),\"\",IF(E56=\"Freispiel\",G50/(1-(1/C56))/C56,IF(E56>1000000000,\"\",E56/C56/E49)))","v":8.9999999999999993E-3},{"$f":"100/B48","v":100},{"$f":"IFERROR(IF(D56<D62,D62/D56,D56/D62),\"\")","v":5.1896825396825408},{"$f":"IFERROR(D56/IF((C56*E49)<1500,1500,C56*E49)^0.25*62.2333,\"\")","v":5.4553920617168482E-2},8.9999999999999998E-4,3,{"$f":"IF(OR(L56<=0,AND(L56>1000000000,L56<>\"Freispiel\")),\"\",1/(0.001*0.9)/L49)","v":1111.1111111111111},{"$f":"IF(OR(L56<=0,M51>1),\"\",IF(L56=\"Freispiel\",N51/(1-(1/J56))/J56,IF(L56>1000000000,\"\",L56/J56/L50)))","v":2.7720000000000002E-2},77,{"$f":"IFERROR(IF(K56<K60,K60/K56,K56/K60),\"\")","v":2.185059369202226},{"$f":"IFERROR(K56/IF((J56*L50)<1500,1500,J56*L50)^0.25*62.2333,\"\")","v":0.23762475480566858},null,"8 aus 20 aus 70",null,null,{"$f":"S55*1*P55","v":1},null,null,null,{"$f":"$I$107","v":"Weihnachtsgeld ⁷"},{"$f":"$L$108/$L$107","v":2},{"$f":"$N$113","v":1.0323977839811544},{"$f":"$K$113","v":0.3818735617745338},{"$f":"IFERROR($H$113/$L$107,\"\")","v":8.0477930285375761E-3},{"$f":"$M$113","v":5.8549983173081985},1.0323977839811544]
[9.0000000000000011E-3,7,{"$f":"IF(OR(E57<=0,AND(E57>1000000000,E57<>\"Freispiel\")),\"\",1/(0.01*0.9)/E48)","v":111.1111111111111},{"$f":"IF(OR(E57<=0,F50>1),\"\",IF(E57=\"Freispiel\",G50/(1-(1/C57))/C57,IF(E57>1000000000,\"\",E57/C57/E49)))","v":2.7000000000000003E-2},{"$f":"30/B48","v":30},{"$f":"IFERROR(IF(D57<D62,D62/D57,D57/D62),\"\")","v":1.72989417989418},{"$f":"IFERROR(D57/IF((C57*E49)<1500,1500,C57*E49)^0.25*62.2333,\"\")","v":0.27000000985342426},9.0000000000000011E-3,2,{"$f":"IF(OR(L57<=0,AND(L57>1000000000,L57<>\"Freispiel\")),\"\",1/(0.01*0.9)/L49)","v":111.1111111111111},{"$f":"IF(OR(L57<=0,M51>1),\"\",IF(L57=\"Freispiel\",N51/(1-(1/J57))/J57,IF(L57>1000000000,\"\",L57/J57/L50)))","v":6.1200000000000011E-2},17,{"$f":"IFERROR(IF(K57<K60,K60/K57,K57/K60),\"\")","v":1.0104037624379432},{"$f":"IFERROR(K57/IF((J57*L50)<1500,1500,J57*L50)^0.25*62.2333,\"\")","v":0.61200002233442841},null,"Richtige",{"$f":"IF(S55=1,\"Chancen 1:\",\"Ø Gewinne 1:\")","v":"Chancen 1:"},"Ø AQ","(Ø) Gewinn",{"$f":"IFERROR(COUNTIF(S58:S62,\"Freispiel\"),\"\")","v":0},{"$f":"IFERROR(SUMIF(S58:S62,\"<>Freispiel\",R58:R62),\"\")","v":0.48938370926575669},null,{"$f":"$B$212","v":"PowerBall ¹⁴"},{"$f":"$E$213/$E$212","v":3},{"$f":"$G$224","v":0.62985876567110721},{"$f":"$D$224","v":0.15240032760001795},{"$f":"IFERROR($A$224/$E$212,\"\")","v":4.0213840499251877E-2},{"$f":"$F$224","v":4.970131967715874},0.62985876567110721]
[9.0000000000000024E-2,8,{"$f":"IF(OR(E58<=0,AND(E58>1000000000,E58<>\"Freispiel\")),\"\",1/(0.1*0.9)/E48)","v":11.111111111111109},{"$f":"IF(OR(E58<=0,F50>1),\"\",IF(E58=\"Freispiel\",G50/(1-(1/C58))/C58,IF(E58>1000000000,\"\",E58/C58/E49)))","v":0.13500000000000004},{"$f":"15/B48","v":15},{"$f":"IFERROR(IF(D58<D62,D62/D58,D58/D62),\"\")","v":2.8903502064535864},{"$f":"IFERROR(D58/IF((C58*E49)<1500,1500,C58*E49)^0.25*62.2333,\"\")","v":1.3500000492671216},9.0000000000000024E-2,1,{"$f":"IF(OR(L58<=0,AND(L58>1000000000,L58<>\"Freispiel\")),\"\",1/(0.1*0.9)/L49)","v":11.111111111111109},{"$f":"IF(OR(L58<=0,M51>1),\"\",IF(L58=\"Freispiel\",N51/(1-(1/J58))/J58,IF(L58>1000000000,\"\",L58/J58/L50)))","v":0.18000000000000002},5,{"$f":"IFERROR(IF(K58<K60,K60/K58,K58/K60),\"\")","v":2.9717757718763034},{"$f":"IFERROR(K58/IF((J58*L50)<1500,1500,J58*L50)^0.25*62.2333,\"\")","v":1.8000000656894952},{"$f":"IF(Q58=\"\",0,1/Q58)","v":1.3343783622823193E-5},8,{"$f":"IF(OR(S58<=0,AND(S58>1000000000,S58<>\"Freispiel\")),\"\",1/HYPGEOMDIST(P58,8,20,70)/S55)","v":74941.26315789482},{"$f":"IF(OR(S58<=0,T57>1),\"\",IF(S58=\"Freispiel\",U57/(1-(1/Q58))/Q58,IF(S58>1000000000,\"\",S58/Q58/S56)))","v":0.13343783622823194},{"$f":"10000*P55","v":10000},{"$f":"IFERROR(IF(R58<R64,R64/R58,R58/R64),\"\")","v":1.3633252773006526},{"$f":"IFERROR(R58/IF((Q58*S56)<1500,1500,Q58*S56)^0.25*62.2333,\"\")","v":0.50190505456700607},null,{"$f":"$I$189","v":"Zusatzlotterie Sieger-Chance"},{"$f":"$L$190/$L$189","v":3},{"$f":"$N$195","v":0.62055602680774125},{"$f":"$K$195","v":0.36666652000001998},{"$f":"IFERROR($H$195/$L$189,\"\")","v":2.1299973700006E-5},{"$f":"$M$195","v":1.5639735055561348},0.62055602680774125]
[9.0000000000000024E-2,9,{"$f":"IF(OR(E59<=0,AND(E59>1000000000,E59<>\"Freispiel\")),\"\",1/(0.1*0.9)/E48)","v":11.111111111111109},{"$f":"IF(OR(E59<=0,F50>1),\"\",IF(E59=\"Freispiel\",G50/(1-(1/C59))/C59,IF(E59>1000000000,\"\",E59/C59/E49)))","v":9.0000000000000011E-2},{"$f":"10/B48","v":10},{"$f":"IFERROR(IF(D59<D62,D62/D59,D59/D62),\"\")","v":1.926900137635724},{"$f":"IFERROR(D59/IF((C59*E49)<1500,1500,C59*E49)^0.25*62.2333,\"\")","v":0.90000003284474761},{"$f":"IF(SUM(H52:H58)=0,\"\",SUM(H52:H58))","v":0.10000000000000003},"Gesamt",{"$f":"IFERROR(1/H59,\"\")","v":9.9999999999999964},{"$f":"IF(SUM(K52:K58)=0,\"\",SUM(K52:K58))","v":0.42398891999999999},{"$f":"IFERROR(L50*K59,\"\")","v":1.0599723000000001},{"$f":"IFERROR(AVERAGE(M52:M58),\"\")","v":1.976160001271966},{"$f":"IF(SUM(N52:N58)=0,\"\",SUM(N52:N58))","v":2.9656194993157574},4.105779576253297E-4,7,{"$f":"IF(OR(S59<=0,AND(S59>1000000000,S59<>\"Freispiel\")),\"\",1/HYPGEOMDIST(P59,8,20,70)/S55)","v":2435.5910526315774},{"$f":"IF(OR(S59<=0,T57>1),\"\",IF(S59=\"Freispiel\",U57/(1-(1/Q59))/Q59,IF(S59>1000000000,\"\",S59/Q59/S56)))","v":4.1057795762532968E-2},{"$f":"100*P55","v":100},{"$f":"IFERROR(IF(R59<R64,R64/R59,R59/R64),\"\")","v":2.3838771671826606},{"$f":"IFERROR(R59/IF((Q59*S56)<1500,1500,Q59*S56)^0.25*62.2333,\"\")","v":0.36372015555840653},null,{"$f":"$B$227","v":"MegaMillions ¹⁴"},{"$f":"$E$228/$E$227","v":3},{"$f":"$G$239","v":0.50144935333514851},{"$f":"$D$239","v":0.13485544815280689},{"$f":"IFERROR($A$239/$E$227,\"\")","v":4.1675694996304226E-2},{"$f":"$F$239","v":2.9917309769507248},0.50144935333514851]
[0.18000000000000005,"10+11",{"$f":"IF(OR(E60<=0,AND(E60>1000000000,E60<>\"Freispiel\")),\"\",1/(0.1*0.9+0.1*0.9)/E48)","v":5.5555555555555545},{"$f":"IF(OR(E60<=0,F50>1),\"\",IF(E60=\"Freispiel\",G50/(1-(1/C60))/C60,IF(E60>1000000000,\"\",E60/C60/E49)))","v":9.0000000000000011E-2},{"$f":"5/B48","v":5},{"$f":"IFERROR(IF(D60<D62,D62/D60,D60/D62),\"\")","v":1.926900137635724},{"$f":"IFERROR(D60/IF((C60*E49)<1500,1500,C60*E49)^0.25*62.2333,\"\")","v":0.90000003284474761},null,null,null,{"$f":"AVERAGE(K52:K58)","v":6.0569845714285711E-2},null,null,null,5.0295799809102907E-3,6,{"$f":"IF(OR(S60<=0,AND(S60>1000000000,S60<>\"Freispiel\")),\"\",1/HYPGEOMDIST(P60,8,20,70)/S55)","v":198.82375939849607},{"$f":"IF(OR(S60<=0,T57>1),\"\",IF(S60=\"Freispiel\",U57/(1-(1/Q60))/Q60,IF(S60>1000000000,\"\",S60/Q60/S56)))","v":7.5443699713654361E-2},{"$f":"15*P55","v":15},{"$f":"IFERROR(IF(R60<R64,R64/R60,R60/R64),\"\")","v":1.2973481181946447},{"$f":"IFERROR(R60/IF((Q60*S56)<1500,1500,Q60*S56)^0.25*62.2333,\"\")","v":0.75443702466909102}]
[{"$f":"IF(SUM(A51:A60)=0,\"\",SUM(A51:A60))","v":0.37000000000000011},"Gesamt",{"$f":"IFERROR(1/A61,\"\")","v":2.7027027027027017},{"$f":"IF(SUM(D51:D60)=0,\"\",SUM(D51:D60))","v":0.46707142857142864},{"$f":"IFERROR(E49*D61,\"\")","v":4.6707142857142863},{"$f":"IFERROR(AVERAGE(F51:F60),\"\")","v":3.6136786768198306},{"$f":"IF(SUM(G51:G60)=0,\"\",SUM(G51:G60))","v":3.5656621198361806},null,null,null,null,null,null,null,3.2189311877825824E-2,5,{"$f":"IF(OR(S61<=0,AND(S61>1000000000,S61<>\"Freispiel\")),\"\",1/HYPGEOMDIST(P61,8,20,70)/S55)","v":31.066212406015044},{"$f":"IF(OR(S61<=0,T57>1),\"\",IF(S61=\"Freispiel\",U57/(1-(1/Q61))/Q61,IF(S61>1000000000,\"\",S61/Q61/S56)))","v":6.4378623755651648E-2},{"$f":"2*P55","v":2},{"$f":"IFERROR(IF(R61<R64,R64/R61,R61/R64),\"\")","v":1.520329826009351},{"$f":"IFERROR(R61/IF((Q61*S56)<1500,1500,Q61*S56)^0.25*62.2333,\"\")","v":0.64378626105095693}]
[null,null,null,{"$f":"AVERAGE(D51:D60)","v":4.6707142857142864E-2},null,null,null,null,"Zusatzlotterie plus 5",null,null,1,null,null,0.17506575380568579,"4 / 0",{"$f":"IF(OR(S62<=0,AND(S62>1000000000,S62<>\"Freispiel\")),\"\",1/(HYPGEOMDIST(4,8,20,70)+HYPGEOMDIST(0,8,20,70))/S55)","v":5.7121394576688589},{"$f":"IF(OR(S62<=0,T57>1),\"\",IF(S62=\"Freispiel\",U57/(1-(1/Q62))/Q62,IF(S62>1000000000,\"\",S62/Q62/S56)))","v":0.17506575380568579},{"$f":"1*P55","v":1},{"$f":"IFERROR(IF(R62<R64,R64/R62,R62/R64),\"\")","v":1.7886348737307216},{"$f":"IFERROR(R62/IF((Q62*S56)<1500,1500,Q62*S56)^0.25*62.2333,\"\")","v":1.750657601945641}]
[null,null,null,null,null,null,null,null,"5 x 1 aus 10",null,null,{"$f":"L62*0.75","v":0.75},null,null,{"$f":"IF(SUM(O58:O62)=0,\"\",SUM(O58:O62))","v":0.21270856740567007},"Gesamt",{"$f":"IFERROR(1/O63,\"\")","v":4.7012680880541886},{"$f":"IF(SUM(R58:R62)=0,\"\",SUM(R58:R62))","v":0.48938370926575669},{"$f":"IFERROR(S56*R63,\"\")","v":0.48938370926575669},{"$f":"IFERROR(AVERAGE(T58:T62),\"\")","v":1.670703052483606},{"$f":"IF(SUM(U58:U62)=0,\"\",SUM(U58:U62))","v":4.0145060977911013}]
[null,"Silvester-/SommerMillionen ⁵",null,null,1,null,null,null,"Richtige",{"$f":"IF(L62=1,\"Chancen 1:\",\"Ø Gewinne 1:\")","v":"Chancen 1:"},"Ø AQ","(Ø) Gewinn",{"$f":"IFERROR(COUNTIF(L65:L69,\"Freispiel\"),\"\")","v":0},{"$f":"IFERROR(SUMIF(L65:L69,\"<>Freispiel\",K65:K69),\"\")","v":0.48666666666666669},null,null,null,{"$f":"AVERAGE(R58:R62)","v":9.7876741853151344E-2}]
[null,"51.009 aus 1.000.000",null,null,{"$f":"E64*10","v":10},null,null,{"$f":"IF(J65=\"\",0,1/J65)","v":1.0000000000000001E-5},5,{"$f":"IF(OR(L65<=0,AND(L65>1000000000,L65<>\"Freispiel\")),\"\",10^5/L62)","v":100000},{"$f":"IF(OR(L65<=0,M64>1),\"\",IF(L65=\"Freispiel\",N64/(1-(1/J65))/J65,IF(L65>1000000000,\"\",L65/J65/L63)))","v":6.6666666666666666E-2},5000,{"$f":"IFERROR(IF(K65<K71,K71/K65,K65/K71),\"\")","v":1.4600000000000002},{"$f":"IFERROR(K65/IF((J65*L63)<1500,1500,J65*L63)^0.25*62.2333,\"\")","v":0.250706882021764}]
[null,"GK",{"$f":"IF(E64=1,\"Chancen 1:\",\"Ø Gewinne 1:\")","v":"Chancen 1:"},"Ø AQ","(Ø) Gewinn",{"$f":"IFERROR(COUNTIF(E67:E70,\"Freispiel\"),\"\")","v":0},{"$f":"IFERROR(SUMIF(E67:E70,\"<>Freispiel\",D67:D70),\"\")","v":0.60000000000000009},8.9999999999999992E-5,4,{"$f":"IF(OR(L66<=0,AND(L66>1000000000,L66<>\"Freispiel\")),\"\",1/(0.0001*0.9)/L62)","v":11111.111111111111},{"$f":"IF(OR(L66<=0,M64>1),\"\",IF(L66=\"Freispiel\",N64/(1-(1/J66))/J66,IF(L66>1000000000,\"\",L66/J66/L63)))","v":0.06},500,{"$f":"IFERROR(IF(K66<K71,K71/K66,K66/K71),\"\")","v":1.6222222222222225},{"$f":"IFERROR(K66/IF((J66*L63)<1500,1500,J66*L63)^0.25*62.2333,\"\")","v":0.39081335172198423},null,1,null,null,1]
[{"$f":"IF(C67=\"\",0,1/C67)","v":3.9999999999999998E-6},1,{"$f":"IF(OR(E67<=0,AND(E67>1000000000,E67<>\"Freispiel\")),\"\",1000000/4/E64)","v":250000},{"$f":"IF(OR(E67<=0,F66>1),\"\",IF(E67=\"Freispiel\",G66/(1-(1/C67))/C67,IF(E67>1000000000,\"\",E67/C67/E65)))","v":0.4},1000000,{"$f":"IFERROR(IF(D67<D72,D72/D67,D67/D72),\"\")","v":2.6666666666666665},{"$f":"IFERROR(D67/IF((C67*E65)<1500,1500,C67*E65)^0.25*62.2333,\"\")","v":0.62603385487589613},8.9999999999999998E-4,3,{"$f":"IF(OR(L67<=0,AND(L67>1000000000,L67<>\"Freispiel\")),\"\",1/(0.001*0.9)/L62)","v":1111.1111111111111},{"$f":"IF(OR(L67<=0,M64>1),\"\",IF(L67=\"Freispiel\",N64/(1-(1/J67))/J67,IF(L67>1000000000,\"\",L67/J67/L63)))","v":0.06},50,{"$f":"IFERROR(IF(K67<K71,K71/K67,K67/K71),\"\")","v":1.6222222222222225},{"$f":"IFERROR(K67/IF((J67*L63)<1500,1500,J67*L63)^0.25*62.2333,\"\")","v":0.60000002189649826},null,"9 aus 20 aus 70",null,null,{"$f":"S66*1*P66","v":1}]
[5.0000000000000004E-6,2,{"$f":"IF(OR(E68<=0,AND(E68>1000000000,E68<>\"Freispiel\")),\"\",1000000/5/E64)","v":200000},{"$f":"IF(OR(E68<=0,F66>1),\"\",IF(E68=\"Freispiel\",G66/(1-(1/C68))/C68,IF(E68>1000000000,\"\",E68/C68/E65)))","v":0.05},100000,{"$f":"IFERROR(IF(D68<D72,D72/D68,D68/D72),\"\")","v":3.0000000000000004},{"$f":"IFERROR(D68/IF((C68*E65)<1500,1500,C68*E65)^0.25*62.2333,\"\")","v":8.2743776010836656E-2},9.0000000000000011E-3,2,{"$f":"IF(OR(L68<=0,AND(L68>1000000000,L68<>\"Freispiel\")),\"\",1/(0.01*0.9)/L62)","v":111.1111111111111},{"$f":"IF(OR(L68<=0,M64>1),\"\",IF(L68=\"Freispiel\",N64/(1-(1/J68))/J68,IF(L68>1000000000,\"\",L68/J68/L63)))","v":6.0000000000000005E-2},5,{"$f":"IFERROR(IF(K68<K71,K71/K68,K68/K71),\"\")","v":1.6222222222222222},{"$f":"IFERROR(K68/IF((J68*L63)<1500,1500,J68*L63)^0.25*62.2333,\"\")","v":0.60000002189649837},null,"Richtige",{"$f":"IF(S66=1,\"Chancen 1:\",\"Ø Gewinne 1:\")","v":"Chancen 1:"},"Ø AQ","(Ø) Gewinn",{"$f":"IFERROR(COUNTIF(S69:S73,\"Freispiel\"),\"\")","v":0},{"$f":"IFERROR(SUMIF(S69:S73,\"<>Freispiel\",R69:R73),\"\")","v":0.50045308198174754}]
[1E-3,3,{"$f":"IF(OR(E69<=0,AND(E69>1000000000,E69<>\"Freispiel\")),\"\",1000000/1000/E64)","v":1000},{"$f":"IF(OR(E69<=0,F66>1),\"\",IF(E69=\"Freispiel\",G66/(1-(1/C69))/C69,IF(E69>1000000000,\"\",E69/C69/E65)))","v":0.1},1000,{"$f":"IFERROR(IF(D69<D72,D72/D69,D69/D72),\"\")","v":1.5000000000000002},{"$f":"IFERROR(D69/IF((C69*E65)<1500,1500,C69*E65)^0.25*62.2333,\"\")","v":0.62233299999999991},9.0000000000000024E-2,1,{"$f":"IF(OR(L69<=0,AND(L69>1000000000,L69<>\"Freispiel\")),\"\",1/(0.1*0.9)/L62)","v":11.111111111111109},{"$f":"IF(OR(L69<=0,M64>1),\"\",IF(L69=\"Freispiel\",N64/(1-(1/J69))/J69,IF(L69>1000000000,\"\",L69/J69/L63)))","v":0.24000000000000007},2,{"$f":"IFERROR(IF(K69<K71,K71/K69,K69/K71),\"\")","v":2.4657534246575348},{"$f":"IFERROR(K69/IF((J69*L63)<1500,1500,J69*L63)^0.25*62.2333,\"\")","v":2.4000000875859939},{"$f":"IF(Q69=\"\",0,1/Q69)","v":2.5826677979657834E-6},9,{"$f":"IF(OR(S69<=0,AND(S69>1000000000,S69<>\"Freispiel\")),\"\",1/HYPGEOMDIST(P69,9,20,70)/S66)","v":387196.52631578926},{"$f":"IF(OR(S69<=0,T68>1),\"\",IF(S69=\"Freispiel\",U68/(1-(1/Q69))/Q69,IF(S69>1000000000,\"\",S69/Q69/S67)))","v":0.12913338989828918},{"$f":"50000*P66","v":50000},{"$f":"IFERROR(IF(R69<R75,R75/R69,R69/R75),\"\")","v":1.2901647981358513},{"$f":"IFERROR(R69/IF((Q69*S67)<1500,1500,Q69*S67)^0.25*62.2333,\"\")","v":0.32216512054659135}]
[0.05,4,{"$f":"IF(OR(E70<=0,AND(E70>1000000000,E70<>\"Freispiel\")),\"\",1000000/50000/E64)","v":20},{"$f":"IF(OR(E70<=0,F66>1),\"\",IF(E70=\"Freispiel\",G66/(1-(1/C70))/C70,IF(E70>1000000000,\"\",E70/C70/E65)))","v":0.05},10,{"$f":"IFERROR(IF(D70<D72,D72/D70,D70/D72),\"\")","v":3.0000000000000004},{"$f":"IFERROR(D70/IF((C70*E65)<1500,1500,C70*E65)^0.25*62.2333,\"\")","v":0.50000001824708207},{"$f":"IF(SUM(H65:H69)=0,\"\",SUM(H65:H69))","v":0.10000000000000003},"Gesamt",{"$f":"IFERROR(1/H70,\"\")","v":9.9999999999999964},{"$f":"IF(SUM(K65:K69)=0,\"\",SUM(K65:K69))","v":0.48666666666666669},{"$f":"IFERROR(L63*K70,\"\")","v":0.36499999999999999},{"$f":"IFERROR(AVERAGE(M65:M69),\"\")","v":1.7584840182648407},{"$f":"IF(SUM(N65:N69)=0,\"\",SUM(N65:N69))","v":4.2415203651227387},9.6850042423716717E-5,8,{"$f":"IF(OR(S70<=0,AND(S70>1000000000,S70<>\"Freispiel\")),\"\",1/HYPGEOMDIST(P70,9,20,70)/S66)","v":10325.240701754397},{"$f":"IF(OR(S70<=0,T68>1),\"\",IF(S70=\"Freispiel\",U68/(1-(1/Q70))/Q70,IF(S70>1000000000,\"\",S70/Q70/S67)))","v":9.6850042423716726E-2},{"$f":"1000*P66","v":1000},{"$f":"IFERROR(IF(R70<R75,R75/R70,R70/R75),\"\")","v":1.0334597062792739},{"$f":"IFERROR(R70/IF((Q70*S67)<1500,1500,Q70*S67)^0.25*62.2333,\"\")","v":0.59792622192378109}]
[{"$f":"IF(SUM(A67:A70)=0,\"\",SUM(A67:A70))","v":5.1009000000000006E-2},"Gesamt",{"$f":"IFERROR(1/A71,\"\")","v":19.604383540159578},{"$f":"IF(SUM(D67:D70)=0,\"\",SUM(D67:D70))","v":0.60000000000000009},{"$f":"IFERROR(E65*D71,\"\")","v":6.0000000000000009},{"$f":"IFERROR(AVERAGE(F67:F70),\"\")","v":2.541666666666667},{"$f":"IF(SUM(G67:G70)=0,\"\",SUM(G67:G70))","v":1.8311106491338149},null,null,null,{"$f":"AVERAGE(K65:K69)","v":9.7333333333333341E-2},null,null,null,1.4602006396191153E-3,7,{"$f":"IF(OR(S71<=0,AND(S71>1000000000,S71<>\"Freispiel\")),\"\",1/HYPGEOMDIST(P71,9,20,70)/S66)","v":684.83739348370921},{"$f":"IF(OR(S71<=0,T68>1),\"\",IF(S71=\"Freispiel\",U68/(1-(1/Q71))/Q71,IF(S71>1000000000,\"\",S71/Q71/S67)))","v":2.9204012792382307E-2},{"$f":"20*P66","v":20},{"$f":"IFERROR(IF(R71<R75,R75/R71,R71/R75),\"\")","v":3.4272898422526903},{"$f":"IFERROR(R71/IF((Q71*S67)<1500,1500,Q71*S67)^0.25*62.2333,\"\")","v":0.29204013858158334}]
[null,null,null,{"$f":"AVERAGE(D67:D70)","v":0.15000000000000002},null,null,null,null,null,null,null,null,null,null,1.1681605116952942E-2,6,{"$f":"IF(OR(S72<=0,AND(S72>1000000000,S72<>\"Freispiel\")),\"\",1/HYPGEOMDIST(P72,9,20,70)/S66)","v":85.604674185463523},{"$f":"IF(OR(S72<=0,T68>1),\"\",IF(S72=\"Freispiel\",U68/(1-(1/Q72))/Q72,IF(S72>1000000000,\"\",S72/Q72/S67)))","v":5.8408025584764704E-2},{"$f":"5*P66","v":5},{"$f":"IFERROR(IF(R72<R75,R75/R72,R72/R75),\"\")","v":1.7136449211263425},{"$f":"IFERROR(R72/IF((Q72*S67)<1500,1500,Q72*S67)^0.25*62.2333,\"\")","v":0.58408027716316757}]
[null,null,null,null,null,"vs.",null,null,"LOTTO 6aus49",null,1,1,null,null,9.3428805641297297E-2,"5 / 0",{"$f":"IF(OR(S73<=0,AND(S73>1000000000,S73<>\"Freispiel\")),\"\",1/(HYPGEOMDIST(5,9,20,70)+HYPGEOMDIST(0,9,20,70))/S66)","v":10.703337082562266},{"$f":"IF(OR(S73<=0,T68>1),\"\",IF(S73=\"Freispiel\",U68/(1-(1/Q73))/Q73,IF(S73>1000000000,\"\",S73/Q73/S67)))","v":0.18685761128259459},{"$f":"2*P66","v":2},{"$f":"IFERROR(IF(R73<R75,R75/R73,R73/R75),\"\")","v":1.8668844094500916},{"$f":"IFERROR(R73/IF((Q73*S67)<1500,1500,Q73*S67)^0.25*62.2333,\"\")","v":1.868576181018069}]
[null,"LOTTO 6aus45 ⁶",null,1,1,null,null,null,"6 aus 49 + 1 aus 10",null,{"$f":"IF(K73=1,\"Anteil\",\"Anteile\")","v":"Anteil"},{"$f":"L73*1.2/K73","v":1.2},null,null,{"$f":"IF(SUM(O69:O73)=0,\"\",SUM(O69:O73))","v":0.10667004410809104},"Gesamt",{"$f":"IFERROR(1/O74,\"\")","v":9.3747031639611826},{"$f":"IF(SUM(R69:R73)=0,\"\",SUM(R69:R73))","v":0.50045308198174754},{"$f":"IFERROR(S67*R74,\"\")","v":0.50045308198174754},{"$f":"IFERROR(AVERAGE(T69:T73),\"\")","v":1.86628873544885},{"$f":"IF(SUM(U69:U73)=0,\"\",SUM(U69:U73))","v":3.6647879392331926}]
[null,"6+1 aus 45",null,{"$f":"IF(D74=1,\"Anteil\",\"Anteile\")","v":"Anteil"},{"$f":"E74*1.3/D74","v":1.3},null,null,null,"Richtige",{"$f":"IF(L73=1,\"Chancen 1:\",\"Ø Gewinne 1:\")","v":"Chancen 1:"},"(Ø) AQ","(Ø) Gewinn",{"$f":"IFERROR(COUNTIF(L76:L84,\"Freispiel\"),\"\")","v":0},{"$f":"IFERROR(SUMIF(L76:L84,\"<>Freispiel\",K76:K84),\"\")","v":0.50000000000000089},null,null,null,{"$f":"AVERAGE(R69:R73)","v":0.1000906163963495}]
[null,"Richtige",{"$f":"IF(E74=1,\"Chancen 1:\",\"Ø Gewinne 1:\")","v":"Chancen 1:"},"(Ø) AQ","(Ø) Gewinn",{"$f":"IFERROR(COUNTIF(E77:E84,\"Freispiel\"),\"\")","v":0},{"$f":"IFERROR(SUMIF(E77:E84,\"<>Freispiel\",D77:D84),\"\")","v":0.46382474293627779},{"$f":"IF(J76=\"\",0,1/J76)","v":7.1511238420185239E-9},"6 + SZ",{"$f":"IF(OR(L76<=0,AND(L76>1000000000,L76<>\"Freispiel\")),\"\",1/(HYPGEOMDIST(6,6,6,49)*HYPGEOMDIST(1,1,1,10))/L73)","v":139838159.99999985},{"$f":"IF(OR(L76<=0,M75>1),\"\",IF(L76=\"Freispiel\",N75/(1-(1/J76))/J76,IF(L76>1000000000,\"\",L76/J76/L74)))","v":7.500000000000008E-2},{"$f":"12585434.4/K73","v":12585434.4},{"$f":"IFERROR(IF(K76<K86,K86/K76,K76/K86),\"\")","v":1.349999999999999},{"$f":"IFERROR(K76/IF((J76*L74)<1500,1500,J76*L74)^0.25*62.2333,\"\")","v":4.1009300097410467E-2}]
[{"$f":"IF(C77=\"\",0,1/C77)","v":1.2277380399898855E-7},6,{"$f":"IF(OR(E77<=0,AND(E77>1000000000,E77<>\"Freispiel\")),\"\",1/HYPGEOMDIST(6,6,6,45)/E74)","v":8145059.999999986},{"$f":"IF(OR(E77<=0,F76>1),\"\",IF(E77=\"Freispiel\",G76/(1-(1/C77))/C77,IF(E77>1000000000,\"\",E77/C77/E75)))","v":0.17820741420941785},{"$f":"1741812.09741667/1.2*1.3/D74","v":1886963.1055347261},{"$f":"IFERROR(IF(D77<D86,D86/D77,D77/D86),\"\")","v":3.0737025900129824},{"$f":"IFERROR(D77/IF((C77*E75)<1500,1500,C77*E75)^0.25*62.2333,\"\")","v":0.19441921676451543},6.4360114578166722E-8,6,{"$f":"IF(OR(L77<=0,AND(L77>1000000000,L77<>\"Freispiel\")),\"\",1/(HYPGEOMDIST(6,6,6,49)*HYPGEOMDIST(0,1,1,10))/L73)","v":15537573.333333315},{"$f":"IF(OR(L77<=0,M75>1),\"\",IF(L77=\"Freispiel\",N75/(1-(1/J77))/J77,IF(L77>1000000000,\"\",L77/J77/L74)))","v":5.3821647824885632E-2},{"$f":"1003509.36/K73","v":1003509.36},{"$f":"IFERROR(IF(K77<K86,K86/K77,K77/K86),\"\")","v":1.0322158053635124},{"$f":"IFERROR(K77/IF((J77*L74)<1500,1500,J77*L74)^0.25*62.2333,\"\")","v":5.0972825918101164E-2},null,1,null,null,1]
[7.3664282399393046E-7,"5 + ZZ",{"$f":"IF(OR(E78<=0,AND(E78>1000000000,E78<>\"Freispiel\")),\"\",1/(HYPGEOMDIST(5,6,6,45)*HYPGEOMDIST(1,1,1,39))/E74)","v":1357509.9999999993},{"$f":"IF(OR(E78<=0,F76>1),\"\",IF(E78=\"Freispiel\",G76/(1-(1/C78))/C78,IF(E78>1000000000,\"\",E78/C78/E75)))","v":2.6352000000000011E-2},{"$f":"46505.034576/D74","v":46505.034575999998},{"$f":"IFERROR(IF(D78<D86,D86/D78,D78/D86),\"\")","v":2.2001401361200172},{"$f":"IFERROR(D78/IF((C78*E75)<1500,1500,C78*E75)^0.25*62.2333,\"\")","v":4.4995057898788167E-2},1.8449899512407791E-6,"5 + SZ",{"$f":"IF(OR(L78<=0,AND(L78>1000000000,L78<>\"Freispiel\")),\"\",1/(HYPGEOMDIST(5,6,6,49)*HYPGEOMDIST(1,1,1,10))/L73)","v":542008.37209302268},{"$f":"IF(OR(L78<=0,M75>1),\"\",IF(L78=\"Freispiel\",N75/(1-(1/J78))/J78,IF(L78>1000000000,\"\",L78/J78/L74)))","v":1.8658171245960385E-2},{"$f":"12135.462027907/K73","v":12135.462027907},{"$f":"IFERROR(IF(K78<K86,K86/K78,K78/K86),\"\")","v":2.9775455923947418},{"$f":"IFERROR(K78/IF((J78*L74)<1500,1500,J78*L74)^0.25*62.2333,\"\")","v":4.088792723998496E-2},null,"10 aus 20 aus 70",null,null,{"$f":"S77*1*P77","v":1}]
[2.7992427311769349E-5,5,{"$f":"IF(OR(E79<=0,AND(E79>1000000000,E79<>\"Freispiel\")),\"\",1/(HYPGEOMDIST(5,6,6,45)*HYPGEOMDIST(0,1,1,39))/E74)","v":35723.947368421046},{"$f":"IF(OR(E79<=0,F76>1),\"\",IF(E79=\"Freispiel\",G76/(1-(1/C79))/C79,IF(E79>1000000000,\"\",E79/C79/E75)))","v":2.7327999999999925E-2},{"$f":"1269.14324378947/D74","v":1269.14324378947},{"$f":"IFERROR(IF(D79<D86,D86/D79,D79/D86),\"\")","v":2.1215637026871663},{"$f":"IFERROR(D79/IF((C79*E75)<1500,1500,C79*E75)^0.25*62.2333,\"\")","v":0.11585238566474752},1.6604909561167014E-5,5,{"$f":"IF(OR(L79<=0,AND(L79>1000000000,L79<>\"Freispiel\")),\"\",1/(HYPGEOMDIST(5,6,6,49)*HYPGEOMDIST(0,1,1,10))/L73)","v":60223.152454780291},{"$f":"IF(OR(L79<=0,M75>1),\"\",IF(L79=\"Freispiel\",N75/(1-(1/J79))/J79,IF(L79>1000000000,\"\",L79/J79/L74)))","v":5.5615702752381806E-2},{"$f":"4019.22353488372/K73","v":4019.2235348837198},{"$f":"IFERROR(IF(K79<K86,K86/K79,K79/K86),\"\")","v":1.0010826495428706},{"$f":"IFERROR(K79/IF((J79*L74)<1500,1500,J79*L74)^0.25*62.2333,\"\")","v":0.2110979797375801},null,"Richtige",{"$f":"IF(S77=1,\"Chancen 1:\",\"Ø Gewinne 1:\")","v":"Chancen 1:"},"Ø AQ","(Ø) Gewinn",{"$f":"IFERROR(COUNTIF(S80:S85,\"Freispiel\"),\"\")","v":0},{"$f":"IFERROR(SUMIF(S80:S85,\"<>Freispiel\",R80:R85),\"\")","v":0.49399741988648593}]
[6.9981068279423395E-5,"4 + ZZ",{"$f":"IF(OR(E80<=0,AND(E80>1000000000,E80<>\"Freispiel\")),\"\",1/(HYPGEOMDIST(4,6,6,45)*HYPGEOMDIST(1,2,1,39))/E74)","v":14289.578947368413},{"$f":"IF(OR(E80<=0,F76>1),\"\",IF(E80=\"Freispiel\",G76/(1-(1/C80))/C80,IF(E80>1000000000,\"\",E80/C80/E75)))","v":8.7839999999999793E-3},{"$f":"163.175559915789/D74","v":163.17555991578899},{"$f":"IFERROR(IF(D80<D86,D86/D80,D80/D86),\"\")","v":6.6004204083600708},{"$f":"IFERROR(D80/IF((C80*E75)<1500,1500,C80*E75)^0.25*62.2333,\"\")","v":4.6824641563941546E-2},9.6861972440140856E-5,"4 + SZ",{"$f":"IF(OR(L80<=0,AND(L80>1000000000,L80<>\"Freispiel\")),\"\",1/(HYPGEOMDIST(4,6,6,49)*HYPGEOMDIST(1,1,1,10))/L73)","v":10323.968992248056},{"$f":"IF(OR(L80<=0,M75>1),\"\",IF(L80=\"Freispiel\",N75/(1-(1/J80))/J80,IF(L80>1000000000,\"\",L80/J80/L74)))","v":1.5428872376467206E-2},{"$f":"191.14464/K73","v":191.14464000000001},{"$f":"IFERROR(IF(K80<K86,K86/K80,K80/K86),\"\")","v":3.6007528094076031},{"$f":"IFERROR(K80/IF((J80*L74)<1500,1500,J80*L74)^0.25*62.2333,\"\")","v":9.10122881012599E-2},{"$f":"IF(Q80=\"\",0,1/Q80)","v":4.6572697996104239E-7},10,{"$f":"IF(OR(S80<=0,AND(S80>1000000000,S80<>\"Freispiel\")),\"\",1/HYPGEOMDIST(P80,10,20,70)/S77)","v":2147180.7368421066},{"$f":"IF(OR(S80<=0,T79>1),\"\",IF(S80=\"Freispiel\",U79/(1-(1/Q80))/Q80,IF(S80>1000000000,\"\",S80/Q80/S78)))","v":4.6572697996104237E-2},{"$f":"100000*P77","v":100000},{"$f":"IFERROR(IF(R80<R87,R87/R80,R80/R87),\"\")","v":1.7678362400499408},{"$f":"IFERROR(R80/IF((Q80*S78)<1500,1500,Q80*S78)^0.25*62.2333,\"\")","v":7.5715898043548308E-2}]
[1.294649763169333E-3,4,{"$f":"IF(OR(E81<=0,AND(E81>1000000000,E81<>\"Freispiel\")),\"\",1/(HYPGEOMDIST(4,6,6,45)*HYPGEOMDIST(0,2,1,39))/E74)","v":772.40967283072496},{"$f":"IF(OR(E81<=0,F76>1),\"\",IF(E81=\"Freispiel\",G76/(1-(1/C81))/C81,IF(E81>1000000000,\"\",E81/C81/E75)))","v":5.1239999999999945E-2},{"$f":"51.4517531266002/D74","v":51.451753126600202},{"$f":"IFERROR(IF(D81<D86,D86/D81,D81/D86),\"\")","v":1.1315006414331534},{"$f":"IFERROR(D81/IF((C81*E75)<1500,1500,C81*E75)^0.25*62.2333,\"\")","v":0.51240001869960905},8.7175775196126769E-4,4,{"$f":"IF(OR(L81<=0,AND(L81>1000000000,L81<>\"Freispiel\")),\"\",1/(HYPGEOMDIST(4,6,6,49)*HYPGEOMDIST(0,1,1,10))/L73)","v":1147.1076658053396},{"$f":"IF(OR(L81<=0,M75>1),\"\",IF(L81=\"Freispiel\",N75/(1-(1/J81))/J81,IF(L81>1000000000,\"\",L81/J81/L74)))","v":3.6598720520922237E-2},{"$f":"50.3792074418605/K73","v":50.379207441860501},{"$f":"IFERROR(IF(K81<K86,K86/K81,K81/K86),\"\")","v":1.5179644196522237},{"$f":"IFERROR(K81/IF((J81*L74)<1500,1500,J81*L74)^0.25*62.2333,\"\")","v":0.36598721856561944},2.1169408180047369E-5,9,{"$f":"IF(OR(S81<=0,AND(S81>1000000000,S81<>\"Freispiel\")),\"\",1/HYPGEOMDIST(P81,10,20,70)/S77)","v":47237.976210526373},{"$f":"IF(OR(S81<=0,T79>1),\"\",IF(S81=\"Freispiel\",U79/(1-(1/Q81))/Q81,IF(S81>1000000000,\"\",S81/Q81/S78)))","v":2.116940818004737E-2},{"$f":"1000*P77","v":1000},{"$f":"IFERROR(IF(R81<R87,R87/R81,R81/R87),\"\")","v":3.8892397281098718},{"$f":"IFERROR(R81/IF((Q81*S78)<1500,1500,Q81*S78)^0.25*62.2333,\"\")","v":8.93632030289577E-2}]
[1.726199684225779E-3,"3 + ZZ",{"$f":"IF(OR(E82<=0,AND(E82>1000000000,E82<>\"Freispiel\")),\"\",1/(HYPGEOMDIST(3,6,6,45)*HYPGEOMDIST(1,3,1,39))/E74)","v":579.30725462304315},{"$f":"IF(OR(E82<=0,F76>1),\"\",IF(E82=\"Freispiel\",G76/(1-(1/C82))/C82,IF(E82>1000000000,\"\",E82/C82/E75)))","v":2.1959999999999948E-2},{"$f":"16.5380635049786/D74","v":16.538063504978599},{"$f":"IFERROR(IF(D82<D86,D86/D82,D82/D86),\"\")","v":2.6401681633440282},{"$f":"IFERROR(D82/IF((C82*E75)<1500,1500,C82*E75)^0.25*62.2333,\"\")","v":0.21960000801411789},1.7650403866870093E-3,"3 + SZ",{"$f":"IF(OR(L82<=0,AND(L82>1000000000,L82<>\"Freispiel\")),\"\",1/(HYPGEOMDIST(3,6,6,49)*HYPGEOMDIST(1,1,1,10))/L73)","v":566.55927396483298},{"$f":"IF(OR(L82<=0,M75>1),\"\",IF(L82=\"Freispiel\",N75/(1-(1/J82))/J82,IF(L82>1000000000,\"\",L82/J82/L74)))","v":3.1216555738433575E-2},{"$f":"21.2232349858196/K73","v":21.223234985819602},{"$f":"IFERROR(IF(K82<K86,K86/K82,K82/K86),\"\")","v":1.7796824230405439},{"$f":"IFERROR(K82/IF((J82*L74)<1500,1500,J82*L74)^0.25*62.2333,\"\")","v":0.31216556877655677},3.8898787530837031E-4,8,{"$f":"IF(OR(S82<=0,AND(S82>1000000000,S82<>\"Freispiel\")),\"\",1/HYPGEOMDIST(P82,10,20,70)/S77)","v":2570.774215538851},{"$f":"IF(OR(S82<=0,T79>1),\"\",IF(S82=\"Freispiel\",U79/(1-(1/Q82))/Q82,IF(S82>1000000000,\"\",S82/Q82/S78)))","v":3.8898787530837031E-2},{"$f":"100*P77","v":100},{"$f":"IFERROR(IF(R82<R87,R87/R82,R82/R87),\"\")","v":2.1165930493114953},{"$f":"IFERROR(R82/IF((Q82*S78)<1500,1500,Q82*S78)^0.25*62.2333,\"\")","v":0.33997181312503544}]
[2.0714396210709352E-2,3,{"$f":"IF(OR(E83<=0,AND(E83>1000000000,E83<>\"Freispiel\")),\"\",1/(HYPGEOMDIST(3,6,6,45)*HYPGEOMDIST(0,3,1,39))/E74)","v":48.275604551920253},{"$f":"IF(OR(E83<=0,F76>1),\"\",IF(E83=\"Freispiel\",G76/(1-(1/C83))/C83,IF(E83>1000000000,\"\",E83/C83/E75)))","v":8.8327999999999907E-2},{"$f":"5.54331387852061/D74","v":5.5433138785206104},{"$f":"IFERROR(IF(D83<D86,D86/D83,D83/D86),\"\")","v":1.5234719810906643},{"$f":"IFERROR(D83/IF((C83*E75)<1500,1500,C83*E75)^0.25*62.2333,\"\")","v":0.88328003223456408},1.5885363480183084E-2,3,{"$f":"IF(OR(L83<=0,AND(L83>1000000000,L83<>\"Freispiel\")),\"\",1/(HYPGEOMDIST(3,6,6,49)*HYPGEOMDIST(0,1,1,10))/L73)","v":62.951030440536996},{"$f":"IF(OR(L83<=0,M75>1),\"\",IF(L83=\"Freispiel\",N75/(1-(1/J83))/J83,IF(L83>1000000000,\"\",L83/J83/L74)))","v":0.14747131504018698},{"$f":"11.140165490641/K73","v":11.140165490640999},{"$f":"IFERROR(IF(K83<K86,K86/K83,K83/K86),\"\")","v":2.6544836707233608},{"$f":"IFERROR(K83/IF((J83*L74)<1500,1500,J83*L74)^0.25*62.2333,\"\")","v":1.4747132042202933},3.830034464574725E-3,7,{"$f":"IF(OR(S83<=0,AND(S83>1000000000,S83<>\"Freispiel\")),\"\",1/HYPGEOMDIST(P83,10,20,70)/S77)","v":261.0942562656644},{"$f":"IF(OR(S83<=0,T79>1),\"\",IF(S83=\"Freispiel\",U79/(1-(1/Q83))/Q83,IF(S83>1000000000,\"\",S83/Q83/S78)))","v":5.7450516968620878E-2},{"$f":"15*P77","v":15},{"$f":"IFERROR(IF(R83<R87,R87/R83,R83/R87),\"\")","v":1.4331098771379909},{"$f":"IFERROR(R83/IF((Q83*S78)<1500,1500,Q83*S78)^0.25*62.2333,\"\")","v":0.57450519065229466}]
[6.1625328726860211E-2,"0 + ZZ",{"$f":"IF(OR(E84<=0,AND(E84>1000000000,E84<>\"Freispiel\")),\"\",1/(HYPGEOMDIST(0,6,6,45)*HYPGEOMDIST(1,6,1,39))/E74)","v":16.227093967032047},{"$f":"IF(OR(E84<=0,F76>1),\"\",IF(E84=\"Freispiel\",G76/(1-(1/C84))/C84,IF(E84>1000000000,\"\",E84/C84/E75)))","v":6.1625328726860211E-2},1.3,{"$f":"IFERROR(IF(D84<D86,D86/D84,D84/D86),\"\")","v":1.0629071374974328},{"$f":"IFERROR(D84/IF((C84*E75)<1500,1500,C84*E75)^0.25*62.2333,\"\")","v":0.61625330975825054},1.3237802900152586E-2,"2 + SZ",{"$f":"IF(OR(L84<=0,AND(L84>1000000000,L84<>\"Freispiel\")),\"\",1/(HYPGEOMDIST(2,6,6,49)*HYPGEOMDIST(1,1,1,10))/L73)","v":75.541236528644305},{"$f":"IF(OR(L84<=0,M75>1),\"\",IF(L84=\"Freispiel\",N75/(1-(1/J84))/J84,IF(L84>1000000000,\"\",L84/J84/L74)))","v":6.6189014500762922E-2},{"$f":"6/K73","v":6},{"$f":"IFERROR(IF(K84<K86,K86/K84,K84/K86),\"\")","v":1.1914022610137305},{"$f":"IFERROR(K84/IF((J84*L74)<1500,1500,J84*L74)^0.25*62.2333,\"\")","v":0.66189016916275667},2.2501452479376571E-2,6,{"$f":"IF(OR(S84<=0,AND(S84>1000000000,S84<>\"Freispiel\")),\"\",1/HYPGEOMDIST(P84,10,20,70)/S77)","v":44.441575534581055},{"$f":"IF(OR(S84<=0,T79>1),\"\",IF(S84=\"Freispiel\",U79/(1-(1/Q84))/Q84,IF(S84>1000000000,\"\",S84/Q84/S78)))","v":0.11250726239688286},{"$f":"5*P77","v":5},{"$f":"IFERROR(IF(R84<R87,R87/R84,R84/R87),\"\")","v":1.3664921054373385},{"$f":"IFERROR(R84/IF((Q84*S78)<1500,1500,Q84*S78)^0.25*62.2333,\"\")","v":1.1250726650274132}]
[{"$f":"IF(SUM(A77:A84)=0,\"\",SUM(A77:A84))","v":8.5459407297183862E-2},"Gesamt",{"$f":"IFERROR(1/A85,\"\")","v":11.701461917732642},{"$f":"IF(SUM(D77:D84)=0,\"\",SUM(D77:D84))","v":0.46382474293627779},{"$f":"IFERROR(E75*D85,\"\")","v":0.60297216581716118},{"$f":"IFERROR(AVERAGE(F77:F84),\"\")","v":2.5442343450681895},{"$f":"IF(SUM(G77:G84)=0,\"\",SUM(G77:G84))","v":2.6336246705985342},{"$f":"IF(SUM(H76:H84)=0,\"\",SUM(H76:H84))","v":3.1875347902174916E-2},"Gesamt",{"$f":"IFERROR(1/H85,\"\")","v":31.372206605210671},{"$f":"IF(SUM(K76:K84)=0,\"\",SUM(K76:K84))","v":0.50000000000000089},{"$f":"IFERROR(L74*K85,\"\")","v":0.60000000000000109},{"$f":"IFERROR(AVERAGE(M76:M84),\"\")","v":1.9005699590153984},{"$f":"IF(SUM(N76:N84)=0,\"\",SUM(N76:N84))","v":3.2497364818195629},0.10869937340699679,"5 / 0",{"$f":"IF(OR(S85<=0,AND(S85>1000000000,S85<>\"Freispiel\")),\"\",1/(HYPGEOMDIST(5,10,20,70)+HYPGEOMDIST(0,10,20,70))/S77)","v":9.1996850456143644},{"$f":"IF(OR(S85<=0,T79>1),\"\",IF(S85=\"Freispiel\",U79/(1-(1/Q85))/Q85,IF(S85>1000000000,\"\",S85/Q85/S78)))","v":0.21739874681399357},{"$f":"2*P77","v":2},{"$f":"IFERROR(IF(R85<R87,R87/R85,R85/R87),\"\")","v":2.6404844000677037},{"$f":"IFERROR(R85/IF((Q85*S78)<1500,1500,Q85*S78)^0.25*62.2333,\"\")","v":2.1739875474777905}]
[null,null,null,{"$f":"AVERAGE(D77:D84)","v":5.7978092867034724E-2},null,null,null,null,null,null,{"$f":"AVERAGE(K76:K84)","v":5.5555555555555657E-2},null,null,null,{"$f":"IF(SUM(O80:O85)=0,\"\",SUM(O80:O85))","v":0.13544148336141645},"Gesamt",{"$f":"IFERROR(1/O86,\"\")","v":7.3832623150734955},{"$f":"IF(SUM(R80:R85)=0,\"\",SUM(R80:R85))","v":0.49399741988648593},{"$f":"IFERROR(S78*R86,\"\")","v":0.49399741988648593},{"$f":"IFERROR(AVERAGE(T80:T85),\"\")","v":2.2022925666857236},{"$f":"IF(SUM(U80:U85)=0,\"\",SUM(U80:U85))","v":4.3786163173550401}]
[null,null,null,null,null,null,null,null,null,null,null,null,null,null,null,null,null,{"$f":"AVERAGE(R80:R85)","v":8.2332903314414327E-2}]
[null,"Zusatzlotterie LOTTO Plus",null,null,1,"vs.",null,null,"MiniLotto ⁷",null,null,1,"vs."]
[null,"6 aus 45",null,null,{"$f":"E88*0.5","v":0.5},null,null,null,"5 aus 42",null,null,{"$f":"L88*0.5","v":0.5},null,null,null,"Extragehalt ⁷",null,null,1]
[null,"Richtige",{"$f":"IF(E88=1,\"Chancen 1:\",\"Ø Gewinne 1:\")","v":"Chancen 1:"},"Ø AQ","(Ø) Gewinn",{"$f":"IFERROR(COUNTIF(E91:E94,\"Freispiel\"),\"\")","v":0},{"$f":"IFERROR(SUMIF(E91:E94,\"<>Freispiel\",D91:D94),\"\")","v":0.55905665519959413},null,"Richtige",{"$f":"IF(L88=1,\"Chancen 1:\",\"Ø Gewinne 1:\")","v":"Chancen 1:"},"Ø AQ","(Ø) Gewinn",{"$f":"IFERROR(COUNTIF(L91:L94,\"Freispiel\"),\"\")","v":0},{"$f":"IFERROR(SUMIF(L91:L94,\"<>Freispiel\",K91:K94),\"\")","v":0.51549963983486813},null,"5 aus 42",null,null,{"$f":"S89*0.5","v":0.5}]
[{"$f":"IF(C91=\"\",0,1/C91)","v":1.2277380399898855E-7},6,{"$f":"IF(OR(E91<=0,AND(E91>1000000000,E91<>\"Freispiel\")),\"\",1/HYPGEOMDIST(6,6,6,45)/E88)","v":8145059.999999986},{"$f":"IF(OR(E91<=0,F90>1),\"\",IF(E91=\"Freispiel\",G90/(1-(1/C91))/C91,IF(E91>1000000000,\"\",E91/C91/E89)))","v":0.12277380399898856},500000,{"$f":"IFERROR(IF(D91<D96,D96/D91,D91/D96),\"\")","v":1.1383874999999994},{"$f":"IFERROR(D91/IF((C91*E89)<1500,1500,C91*E89)^0.25*62.2333,\"\")","v":0.17008361179965348},{"$f":"IF(J91=\"\",0,1/J91)","v":1.1755467467919332E-6},5,{"$f":"IF(OR(L91<=0,AND(L91>1000000000,L91<>\"Freispiel\")),\"\",1/HYPGEOMDIST(5,5,5,42)/L88)","v":850667.99999999977},{"$f":"IF(OR(L91<=0,M90>1),\"\",IF(L91=\"Freispiel\",N90/(1-(1/J91))/J91,IF(L91>1000000000,\"\",L91/J91/L89)))","v":0.13274161907941484},56459.523809523816,{"$f":"IFERROR(IF(K91<K96,K96/K91,K91/K96),\"\")","v":1.0300035834898853},{"$f":"IFERROR(K91/IF((J91*L89)<1500,1500,J91*L89)^0.25*62.2333,\"\")","v":0.32347998629951158},{"$f":"IFERROR(IF(R91=\"\",0,1/Q91),\"\")","v":""},"Richtige",{"$f":"IF(S89=1,\"Chancen 1:\",\"Ø Gewinne 1:\")","v":"Chancen 1:"},"Ø AQ","(Ø) Gewinn",{"$f":"IFERROR(COUNTIF(S92:S94,\"Freispiel\"),\"\")","v":0},{"$f":"IFERROR(SUMIF(S92:S94,\"<>Freispiel\",R92:R94),\"\")","v":0.49719917590814366}]
[2.8729070135763278E-5,5,{"$f":"IF(OR(E92<=0,AND(E92>1000000000,E92<>\"Freispiel\")),\"\",1/HYPGEOMDIST(5,6,6,45)/E88)","v":34807.948717948711},{"$f":"IF(OR(E92<=0,F90>1),\"\",IF(E92=\"Freispiel\",G90/(1-(1/C92))/C92,IF(E92>1000000000,\"\",E92/C92/E89)))","v":0.1436453506788164},2500,{"$f":"IFERROR(IF(D92<D96,D96/D92,D92/D96),\"\")","v":1.0277695424449045},{"$f":"IFERROR(D92/IF((C92*E89)<1500,1500,C92*E89)^0.25*62.2333,\"\")","v":0.77830943611881709},2.1747614815650768E-4,4,{"$f":"IF(OR(L92<=0,AND(L92>1000000000,L92<>\"Freispiel\")),\"\",1/HYPGEOMDIST(4,5,5,42)/L88)","v":4598.2054054054033},{"$f":"IF(OR(L92<=0,M90>1),\"\",IF(L92=\"Freispiel\",N90/(1-(1/J92))/J92,IF(L92>1000000000,\"\",L92/J92/L89)))","v":4.3495229631301535E-2},100,{"$f":"IFERROR(IF(K92<K96,K96/K92,K92/K96),\"\")","v":2.9629665379665369},{"$f":"IFERROR(K92/IF((J92*L89)<1500,1500,J92*L89)^0.25*62.2333,\"\")","v":0.39090827651967547},{"$f":"IF(Q92=\"\",0,1/Q92)","v":1.1755467467919332E-6},5,{"$f":"IF(OR(S92<=0,AND(S92>1000000000,S92<>\"Freispiel\")),\"\",1/HYPGEOMDIST(5,5,5,42)/S89)","v":850667.99999999977},{"$f":"IF(OR(S92<=0,T91>1),\"\",IF(S92=\"Freispiel\",U91/(1-(1/Q92))/Q92,IF(S92>1000000000,\"\",S92/Q92/S90)))","v":7.9644971447648899E-2},{"$f":"$L$91*0.6","v":33875.71428571429},{"$f":"IFERROR(IF(R92<R96,R96/R92,R92/R96),\"\")","v":2.0808979603311828},{"$f":"IFERROR(R92/IF((Q92*S90)<1500,1500,Q92*S90)^0.25*62.2333,\"\")","v":0.19408799177970693}]
[1.3646308314487566E-3,4,{"$f":"IF(OR(E93<=0,AND(E93>1000000000,E93<>\"Freispiel\")),\"\",1/HYPGEOMDIST(4,6,6,45)/E88)","v":732.79892037786715},{"$f":"IF(OR(E93<=0,F90>1),\"\",IF(E93=\"Freispiel\",G90/(1-(1/C93))/C93,IF(E93>1000000000,\"\",E93/C93/E89)))","v":6.8231541572437826E-2},25,{"$f":"IFERROR(IF(D93<D96,D96/D93,D93/D96),\"\")","v":2.0483805668016206},{"$f":"IFERROR(D93/IF((C93*E89)<1500,1500,C93*E89)^0.25*62.2333,\"\")","v":0.68231544062490879},7.829141333634276E-3,3,{"$f":"IF(OR(L93<=0,AND(L93>1000000000,L93<>\"Freispiel\")),\"\",1/HYPGEOMDIST(3,5,5,42)/L88)","v":127.72792792792788},{"$f":"IF(OR(L93<=0,M90>1),\"\",IF(L93=\"Freispiel\",N90/(1-(1/J93))/J93,IF(L93>1000000000,\"\",L93/J93/L89)))","v":0.15658282667268553},10,{"$f":"IFERROR(IF(K93<K96,K96/K93,K93/K96),\"\")","v":1.2149985340268659},{"$f":"IFERROR(K93/IF((J93*L89)<1500,1500,J93*L89)^0.25*62.2333,\"\")","v":1.5658283238704487},2.1747614815650768E-4,4,{"$f":"IF(OR(S93<=0,AND(S93>1000000000,S93<>\"Freispiel\")),\"\",1/HYPGEOMDIST(4,5,5,42)/S89)","v":4598.2054054054033},{"$f":"IF(OR(S93<=0,T91>1),\"\",IF(S93=\"Freispiel\",U91/(1-(1/Q93))/Q93,IF(S93>1000000000,\"\",S93/Q93/S90)))","v":0.26097137778780921},600,{"$f":"IFERROR(IF(R93<R96,R96/R93,R93/R96),\"\")","v":1.5746488958543026},{"$f":"IFERROR(R93/IF((Q93*S90)<1500,1500,Q93*S90)^0.25*62.2333,\"\")","v":2.3454496591180525}]
[2.244059589493513E-2,3,{"$f":"IF(OR(E94<=0,AND(E94>1000000000,E94<>\"Freispiel\")),\"\",1/HYPGEOMDIST(3,6,6,45)/E88)","v":44.562096509464851},{"$f":"IF(OR(E94<=0,F90>1),\"\",IF(E94=\"Freispiel\",G90/(1-(1/C94))/C94,IF(E94>1000000000,\"\",E94/C94/E89)))","v":0.22440595894935131},5,{"$f":"IFERROR(IF(D94<D96,D96/D94,D94/D96),\"\")","v":1.6056044185305978},{"$f":"IFERROR(D94/IF((C94*E89)<1500,1500,C94*E89)^0.25*62.2333,\"\")","v":2.2440596713885914},9.1339982225733099E-2,2,{"$f":"IF(OR(L94<=0,AND(L94>1000000000,L94<>\"Freispiel\")),\"\",1/HYPGEOMDIST(2,5,5,42)/L88)","v":10.948108108108119},{"$f":"IF(OR(L94<=0,M90>1),\"\",IF(L94=\"Freispiel\",N90/(1-(1/J94))/J94,IF(L94>1000000000,\"\",L94/J94/L89)))","v":0.1826799644514662},1,{"$f":"IFERROR(IF(K94<K96,K96/K94,K94/K96),\"\")","v":1.4174982896980082},{"$f":"IFERROR(K94/IF((J94*L89)<1500,1500,J94*L89)^0.25*62.2333,\"\")","v":1.8267997111821876},7.829141333634276E-3,3,{"$f":"IF(OR(S94<=0,AND(S94>1000000000,S94<>\"Freispiel\")),\"\",1/HYPGEOMDIST(3,5,5,42)/S89)","v":127.72792792792788},{"$f":"IF(OR(S94<=0,T91>1),\"\",IF(S94=\"Freispiel\",U91/(1-(1/Q94))/Q94,IF(S94>1000000000,\"\",S94/Q94/S90)))","v":0.15658282667268553},10,{"$f":"IFERROR(IF(R94<R96,R96/R94,R94/R96),\"\")","v":1.0584370084370085},{"$f":"IFERROR(R94/IF((Q94*S90)<1500,1500,Q94*S90)^0.25*62.2333,\"\")","v":1.5658283238704487}]
[{"$f":"IF(SUM(A91:A94)=0,\"\",SUM(A91:A94))","v":2.3834078570323648E-2},"Gesamt",{"$f":"IFERROR(1/A95,\"\")","v":41.956730026270982},{"$f":"IF(SUM(D91:D94)=0,\"\",SUM(D91:D94))","v":0.55905665519959413},{"$f":"IFERROR(E89*D95,\"\")","v":0.27952832759979707},{"$f":"IFERROR(AVERAGE(F91:F94),\"\")","v":1.4550355069442804},{"$f":"IF(SUM(G91:G94)=0,\"\",SUM(G91:G94))","v":3.8747681599319708},{"$f":"IF(SUM(H91:H94)=0,\"\",SUM(H91:H94))","v":9.9387775254270672E-2},"Gesamt",{"$f":"IFERROR(1/H95,\"\")","v":10.061599602583218},{"$f":"IF(SUM(K91:K94)=0,\"\",SUM(K91:K94))","v":0.51549963983486813},{"$f":"IFERROR(L89*K95,\"\")","v":0.25774981991743406},{"$f":"IFERROR(AVERAGE(M91:M94),\"\")","v":1.656366736295324},{"$f":"IF(SUM(N91:N94)=0,\"\",SUM(N91:N94))","v":4.107016297871823},{"$f":"IF(SUM(O92:O94)=0,\"\",SUM(O92:O94))","v":8.0477930285375761E-3},"Gesamt",{"$f":"IFERROR(1/O95,\"\")","v":124.25766871165639},{"$f":"IF(SUM(R92:R94)=0,\"\",SUM(R92:R94))","v":0.49719917590814366},{"$f":"IFERROR(S90*R95,\"\")","v":0.24859958795407183},{"$f":"IFERROR(AVERAGE(T92:T94),\"\")","v":1.5713279548741645},{"$f":"IF(SUM(U92:U94)=0,\"\",SUM(U92:U94))","v":4.1053659747682083}]
[null,null,null,{"$f":"AVERAGE(D91:D94)","v":0.13976416379989853},null,null,null,null,null,null,{"$f":"AVERAGE(K91:K94)","v":0.12887490995871703},null,null,null,null,null,null,{"$f":"AVERAGE(R92:R94)","v":0.1657330586360479}]
[]
[null,"TeleLotto",null,null,1,"vs.",null,null,"Urlaubsgeld + Geldregen ⁷",null,null,1,"vs.",null,null,"ExtraCash ⁷",null,null,1]
[null,"5 aus 35",null,null,{"$f":"E98*0.5","v":0.5},null,null,null,"5 aus 42",null,null,{"$f":"L98*1","v":1},null,null,null,"5 aus 42",null,null,{"$f":"S98*1","v":1}]
[null,"Richtige",{"$f":"IF(E98=1,\"Chancen 1:\",\"Ø Gewinne 1:\")","v":"Chancen 1:"},"Ø AQ","(Ø) Gewinn",{"$f":"IFERROR(COUNTIF(E101:E103,\"Freispiel\"),\"\")","v":0},{"$f":"IFERROR(SUMIF(E101:E103,\"<>Freispiel\",D101:D103),\"\")","v":0.6148500455900836},null,"Richtige",{"$f":"IF(L98=1,\"Chancen 1:\",\"Ø Gewinne 1:\")","v":"Chancen 1:"},"Ø AQ","(Ø) Gewinn",{"$f":"IFERROR(COUNTIF(L101:L103,\"Freispiel\"),\"\")","v":0},{"$f":"IFERROR(SUMIF(L101:L103,\"<>Freispiel\",K101:K103),\"\")","v":0.53338054552982139},null,"Richtige",{"$f":"IF(S98=1,\"Chancen 1:\",\"Ø Gewinne 1:\")","v":"Chancen 1:"},"Ø AQ","(Ø) Gewinn",{"$f":"IFERROR(COUNTIF(S101:S103,\"Freispiel\"),\"\")","v":0},{"$f":"IFERROR(SUMIF(S101:S103,\"<>Freispiel\",R101:R103),\"\")","v":0.37687888756108101}]
[{"$f":"IF(C101=\"\",0,1/C101)","v":3.0804110500505181E-6},5,{"$f":"IF(OR(E101<=0,AND(E101>1000000000,E101<>\"Freispiel\")),\"\",1/HYPGEOMDIST(5,5,5,35)/E98)","v":324632.00000000006},{"$f":"IF(OR(E101<=0,F100>1),\"\",IF(E101=\"Freispiel\",G100/(1-(1/C101))/C101,IF(E101>1000000000,\"\",E101/C101/E99)))","v":0.30804110500505183},50000,{"$f":"IFERROR(IF(D101<D105,D105/D101,D101/D105),\"\")","v":1.5030060120240478},{"$f":"IFERROR(D101/IF((C101*E99)<1500,1500,C101*E99)^0.25*62.2333,\"\")","v":0.95508312183094934},{"$f":"IF(J101=\"\",0,1/J101)","v":1.1755467467919332E-6},5,{"$f":"IF(OR(L101<=0,AND(L101>1000000000,L101<>\"Freispiel\")),\"\",1/HYPGEOMDIST(5,5,5,42)/L98)","v":850667.99999999977},{"$f":"IF(OR(L101<=0,M100>1),\"\",IF(L101=\"Freispiel\",N100/(1-(1/J101))/J101,IF(L101>1000000000,\"\",L101/J101/L99)))","v":3.318540476985371E-2},{"$f":"$L$91*0.5","v":28229.761904761908},{"$f":"IFERROR(IF(K101<K105,K105/K101,K101/K105),\"\")","v":5.3575816359521502},{"$f":"IFERROR(K101/IF((J101*L99)<1500,1500,J101*L99)^0.25*62.2333,\"\")","v":6.8003290221394994E-2},{"$f":"IF(Q101=\"\",0,1/Q101)","v":1.1755467467919332E-6},5,{"$f":"IF(OR(S101<=0,AND(S101>1000000000,S101<>\"Freispiel\")),\"\",1/HYPGEOMDIST(5,5,5,42)/S98)","v":850667.99999999977},{"$f":"IF(OR(S101<=0,T100>1),\"\",IF(S101=\"Freispiel\",U100/(1-(1/Q101))/Q101,IF(S101>1000000000,\"\",S101/Q101/S99)))","v":0.16592702384926852},{"$f":"$L$91*2.5","v":141148.80952380953},{"$f":"IFERROR(IF(R101<R105,R105/R101,R101/R105),\"\")","v":1.3207985057723082},{"$f":"IFERROR(R101/IF((Q101*S99)<1500,1500,Q101*S99)^0.25*62.2333,\"\")","v":0.34001645110697493}]
[4.6206165750757805E-4,4,{"$f":"IF(OR(E102<=0,AND(E102>1000000000,E102<>\"Freispiel\")),\"\",1/HYPGEOMDIST(4,5,5,35)/E98)","v":2164.2133333333322},{"$f":"IF(OR(E102<=0,F100>1),\"\",IF(E102=\"Freispiel\",G100/(1-(1/C102))/C102,IF(E102>1000000000,\"\",E102/C102/E99)))","v":9.2412331501515607E-2},100,{"$f":"IFERROR(IF(D102<D105,D105/D102,D102/D105),\"\")","v":2.2177777777777767},{"$f":"IFERROR(D102/IF((C102*E99)<1500,1500,C102*E99)^0.25*62.2333,\"\")","v":0.92412334874026381},2.1747614815650768E-4,4,{"$f":"IF(OR(L102<=0,AND(L102>1000000000,L102<>\"Freispiel\")),\"\",1/HYPGEOMDIST(4,5,5,42)/L98)","v":4598.2054054054033},{"$f":"IF(OR(L102<=0,M100>1),\"\",IF(L102=\"Freispiel\",N100/(1-(1/J102))/J102,IF(L102>1000000000,\"\",L102/J102/L99)))","v":0.10873807407825385},500,{"$f":"IFERROR(IF(K102<K105,K105/K102,K102/K105),\"\")","v":1.635062205062205},{"$f":"IFERROR(K102/IF((J102*L99)<1500,1500,J102*L99)^0.25*62.2333,\"\")","v":0.82178342104600721},2.1747614815650768E-4,4,{"$f":"IF(OR(S102<=0,AND(S102>1000000000,S102<>\"Freispiel\")),\"\",1/HYPGEOMDIST(4,5,5,42)/S98)","v":4598.2054054054033},{"$f":"IF(OR(S102<=0,T100>1),\"\",IF(S102=\"Freispiel\",U100/(1-(1/Q102))/Q102,IF(S102>1000000000,\"\",S102/Q102/S99)))","v":5.4369037039126926E-2},250,{"$f":"IFERROR(IF(R102<R105,R105/R102,R102/R105),\"\")","v":2.3106220506220505},{"$f":"IFERROR(R102/IF((Q102*S99)<1500,1500,Q102*S99)^0.25*62.2333,\"\")","v":0.41089171052300361}]
[1.3399788067719763E-2,3,{"$f":"IF(OR(E103<=0,AND(E103>1000000000,E103<>\"Freispiel\")),\"\",1/HYPGEOMDIST(3,5,5,35)/E98)","v":74.628045977011453},{"$f":"IF(OR(E103<=0,F100>1),\"\",IF(E103=\"Freispiel\",G100/(1-(1/C103))/C103,IF(E103>1000000000,\"\",E103/C103/E99)))","v":0.21439660908351621},8,{"$f":"IFERROR(IF(D103<D105,D105/D103,D103/D105),\"\")","v":1.0460921843687379},{"$f":"IFERROR(D103/IF((C103*E99)<1500,1500,C103*E99)^0.25*62.2333,\"\")","v":2.1439661690774119},7.829141333634276E-3,3,{"$f":"IF(OR(L103<=0,AND(L103>1000000000,L103<>\"Freispiel\")),\"\",1/HYPGEOMDIST(3,5,5,42)/L98)","v":127.72792792792788},{"$f":"IF(OR(L103<=0,M100>1),\"\",IF(L103=\"Freispiel\",N100/(1-(1/J103))/J103,IF(L103>1000000000,\"\",L103/J103/L99)))","v":0.39145706668171382},50,{"$f":"IFERROR(IF(K103<K105,K105/K103,K103/K105),\"\")","v":2.2017510947621957},{"$f":"IFERROR(K103/IF((J103*L99)<1500,1500,J103*L99)^0.25*62.2333,\"\")","v":3.9145708096761216},7.829141333634276E-3,3,{"$f":"IF(OR(S103<=0,AND(S103>1000000000,S103<>\"Freispiel\")),\"\",1/HYPGEOMDIST(3,5,5,42)/S98)","v":127.72792792792788},{"$f":"IF(OR(S103<=0,T100>1),\"\",IF(S103=\"Freispiel\",U100/(1-(1/Q103))/Q103,IF(S103>1000000000,\"\",S103/Q103/S99)))","v":0.15658282667268553},20,{"$f":"IFERROR(IF(R103<R105,R105/R103,R103/R105),\"\")","v":1.2464176039628225},{"$f":"IFERROR(R103/IF((Q103*S99)<1500,1500,Q103*S99)^0.25*62.2333,\"\")","v":1.5658283238704487}]
[{"$f":"IF(SUM(A101:A103)=0,\"\",SUM(A101:A103))","v":1.3864930136277391E-2},"Gesamt",{"$f":"IFERROR(1/A104,\"\")","v":72.124416796267468},{"$f":"IF(SUM(D101:D103)=0,\"\",SUM(D101:D103))","v":0.6148500455900836},{"$f":"IFERROR(E99*D104,\"\")","v":0.3074250227950418},{"$f":"IFERROR(AVERAGE(F101:F103),\"\")","v":1.5889586580568542},{"$f":"IF(SUM(G101:G103)=0,\"\",SUM(G101:G103))","v":4.0231726396486245},{"$f":"IF(SUM(H101:H103)=0,\"\",SUM(H101:H103))","v":8.0477930285375761E-3},"Gesamt",{"$f":"IFERROR(1/H104,\"\")","v":124.25766871165639},{"$f":"IF(SUM(K101:K103)=0,\"\",SUM(K101:K103))","v":0.53338054552982139},{"$f":"IFERROR(L99*K104,\"\")","v":0.53338054552982139},{"$f":"IFERROR(AVERAGE(M101:M103),\"\")","v":3.0647983119255167},{"$f":"IF(SUM(N101:N103)=0,\"\",SUM(N101:N103))","v":4.8043575209435234},{"$f":"IF(SUM(O101:O103)=0,\"\",SUM(O101:O103))","v":8.0477930285375761E-3},"Gesamt",{"$f":"IFERROR(1/O104,\"\")","v":124.25766871165639},{"$f":"IF(SUM(R101:R103)=0,\"\",SUM(R101:R103))","v":0.37687888756108101},{"$f":"IFERROR(S99*R104,\"\")","v":0.37687888756108101},{"$f":"IFERROR(AVERAGE(T101:T103),\"\")","v":1.6259460534523935},{"$f":"IF(SUM(U101:U103)=0,\"\",SUM(U101:U103))","v":2.3167364855004271}]
[null,null,null,{"$f":"AVERAGE(D101:D103)","v":0.20495001519669453},null,null,null,null,null,null,{"$f":"AVERAGE(K101:K103)","v":0.17779351517660713},null,null,null,null,null,null,{"$f":"AVERAGE(R101:R103)","v":0.12562629585369367}]
[]
[null,"Millionenkracher ⁷",null,null,1,"vs.",null,null,"Weihnachtsgeld ⁷",null,null,1,"vs.",null,null,"BlitzCash ⁷",null,null,1]
[null,"5 aus 42",null,null,{"$f":"E107*2.5","v":2.5},null,null,null,"5 aus 42",null,null,{"$f":"L107*2","v":2},null,null,null,"5 aus 42",null,null,{"$f":"S107*2","v":2}]
[null,"Richtige",{"$f":"IF(E107=1,\"Chancen 1:\",\"Ø Gewinne 1:\")","v":"Chancen 1:"},"Ø AQ","(Ø) Gewinn",{"$f":"IFERROR(COUNTIF(E110:E112,\"Freispiel\"),\"\")","v":0},{"$f":"IFERROR(SUMIF(E110:E112,\"<>Freispiel\",D110:D112),\"\")","v":0.36552226631082319},null,"Richtige",{"$f":"IF(L107=1,\"Chancen 1:\",\"Ø Gewinne 1:\")","v":"Chancen 1:"},"Ø AQ","(Ø) Gewinn",{"$f":"IFERROR(COUNTIF(L110:L112,\"Freispiel\"),\"\")","v":0},{"$f":"IFERROR(SUMIF(L110:L112,\"<>Freispiel\",K110:K112),\"\")","v":0.3818735617745338},null,"Richtige",{"$f":"IF(S107=1,\"Chancen 1:\",\"Ø Gewinne 1:\")","v":"Chancen 1:"},"Ø AQ","(Ø) Gewinn",{"$f":"IFERROR(COUNTIF(S110:S112,\"Freispiel\"),\"\")","v":0},{"$f":"IFERROR(SUMIF(S110:S112,\"<>Freispiel\",R110:R112),\"\")","v":0.45267296379069732}]
[{"$f":"IF(C110=\"\",0,1/C110)","v":1.1755467467919332E-6},5,{"$f":"IF(OR(E110<=0,AND(E110>1000000000,E110<>\"Freispiel\")),\"\",1/HYPGEOMDIST(5,5,5,42)/E107)","v":850667.99999999977},{"$f":"IF(OR(E110<=0,F109>1),\"\",IF(E110=\"Freispiel\",G109/(1-(1/C110))/C110,IF(E110>1000000000,\"\",E110/C110/E108)))","v":0.26548323815882963},{"$f":"$L$91*10","v":564595.23809523811},{"$f":"IFERROR(IF(D110<D114,D114/D110,D110/D114),\"\")","v":2.1789362451567449},{"$f":"IFERROR(D110/IF((C110*E108)<1500,1500,C110*E108)^0.25*62.2333,\"\")","v":0.43264820938340831},{"$f":"IF(J110=\"\",0,1/J110)","v":1.1755467467919332E-6},5,{"$f":"IF(OR(L110<=0,AND(L110>1000000000,L110<>\"Freispiel\")),\"\",1/HYPGEOMDIST(5,5,5,42)/L107)","v":850667.99999999977},{"$f":"IF(OR(L110<=0,M109>1),\"\",IF(L110=\"Freispiel\",N109/(1-(1/J110))/J110,IF(L110>1000000000,\"\",L110/J110/L108)))","v":0.33185404769853705},{"$f":"$L$91*10","v":564595.23809523811},{"$f":"IFERROR(IF(K110<K114,K114/K110,K110/K114),\"\")","v":2.607046527309508},{"$f":"IFERROR(K110/IF((J110*L108)<1500,1500,J110*L108)^0.25*62.2333,\"\")","v":0.57183722972629025},{"$f":"IF(Q110=\"\",0,1/Q110)","v":1.1755467467919332E-6},5,{"$f":"IF(OR(S110<=0,AND(S110>1000000000,S110<>\"Freispiel\")),\"\",1/HYPGEOMDIST(5,5,5,42)/S107)","v":850667.99999999977},{"$f":"IF(OR(S110<=0,T109>1),\"\",IF(S110=\"Freispiel\",U109/(1-(1/Q110))/Q110,IF(S110>1000000000,\"\",S110/Q110/S108)))","v":8.2963511924634262E-2},{"$f":"$L$91*2.5","v":141148.80952380953},{"$f":"IFERROR(IF(R110<R114,R114/R110,R110/R114),\"\")","v":1.8187632662815056},{"$f":"IFERROR(R110/IF((Q110*S108)<1500,1500,Q110*S108)^0.25*62.2333,\"\")","v":0.14295930743157256}]
[2.1747614815650768E-4,4,{"$f":"IF(OR(E111<=0,AND(E111>1000000000,E111<>\"Freispiel\")),\"\",1/HYPGEOMDIST(4,5,5,42)/E107)","v":4598.2054054054033},{"$f":"IF(OR(E111<=0,F109>1),\"\",IF(E111=\"Freispiel\",G109/(1-(1/C111))/C111,IF(E111>1000000000,\"\",E111/C111/E108)))","v":2.1747614815650771E-2},250,{"$f":"IFERROR(IF(D111<D114,D114/D111,D111/D114),\"\")","v":5.6024882024882015},{"$f":"IFERROR(D111/IF((C111*E108)<1500,1500,C111*E108)^0.25*62.2333,\"\")","v":0.13070806002878765},2.1747614815650768E-4,4,{"$f":"IF(OR(L111<=0,AND(L111>1000000000,L111<>\"Freispiel\")),\"\",1/HYPGEOMDIST(4,5,5,42)/L107)","v":4598.2054054054033},{"$f":"IF(OR(L111<=0,M109>1),\"\",IF(L111=\"Freispiel\",N109/(1-(1/J111))/J111,IF(L111>1000000000,\"\",L111/J111/L108)))","v":1.0873807407825384E-2},100,{"$f":"IFERROR(IF(K111<K114,K114/K111,K111/K114),\"\")","v":11.706220506220504},{"$f":"IFERROR(K111/IF((J111*L108)<1500,1500,J111*L108)^0.25*62.2333,\"\")","v":6.9103473287252123E-2},2.1747614815650768E-4,4,{"$f":"IF(OR(S111<=0,AND(S111>1000000000,S111<>\"Freispiel\")),\"\",1/HYPGEOMDIST(4,5,5,42)/S107)","v":4598.2054054054033},{"$f":"IF(OR(S111<=0,T109>1),\"\",IF(S111=\"Freispiel\",U109/(1-(1/Q111))/Q111,IF(S111>1000000000,\"\",S111/Q111/S108)))","v":0.27184518519563461},2500,{"$f":"IFERROR(IF(R111<R114,R114/R111,R111/R114),\"\")","v":1.8015998763380607},{"$f":"IFERROR(R111/IF((Q111*S108)<1500,1500,Q111*S108)^0.25*62.2333,\"\")","v":1.7275868321813033}]
[7.829141333634276E-3,3,{"$f":"IF(OR(E112<=0,AND(E112>1000000000,E112<>\"Freispiel\")),\"\",1/HYPGEOMDIST(3,5,5,42)/E107)","v":127.72792792792788},{"$f":"IF(OR(E112<=0,F109>1),\"\",IF(E112=\"Freispiel\",G109/(1-(1/C112))/C112,IF(E112>1000000000,\"\",E112/C112/E108)))","v":7.8291413336342763E-2},25,{"$f":"IFERROR(IF(D112<D114,D114/D112,D112/D114),\"\")","v":1.5562467229133894},{"$f":"IFERROR(D112/IF((C112*E108)<1500,1500,C112*E108)^0.25*62.2333,\"\")","v":0.78291416193522434},7.829141333634276E-3,3,{"$f":"IF(OR(L112<=0,AND(L112>1000000000,L112<>\"Freispiel\")),\"\",1/HYPGEOMDIST(3,5,5,42)/L107)","v":127.72792792792788},{"$f":"IF(OR(L112<=0,M109>1),\"\",IF(L112=\"Freispiel\",N109/(1-(1/J112))/J112,IF(L112>1000000000,\"\",L112/J112/L108)))","v":3.9145706668171382E-2},10,{"$f":"IFERROR(IF(K112<K114,K114/K112,K112/K114),\"\")","v":3.2517279183945842},{"$f":"IFERROR(K112/IF((J112*L108)<1500,1500,J112*L108)^0.25*62.2333,\"\")","v":0.39145708096761217},7.829141333634276E-3,3,{"$f":"IF(OR(S112<=0,AND(S112>1000000000,S112<>\"Freispiel\")),\"\",1/HYPGEOMDIST(3,5,5,42)/S107)","v":127.72792792792788},{"$f":"IF(OR(S112<=0,T109>1),\"\",IF(S112=\"Freispiel\",U109/(1-(1/Q112))/Q112,IF(S112>1000000000,\"\",S112/Q112/S108)))","v":9.7864266670428454E-2},25,{"$f":"IFERROR(IF(R112<R114,R114/R112,R112/R114),\"\")","v":1.5418394585061252},{"$f":"IFERROR(R112/IF((Q112*S108)<1500,1500,Q112*S108)^0.25*62.2333,\"\")","v":0.9786427024190304}]
[{"$f":"IF(SUM(A110:A112)=0,\"\",SUM(A110:A112))","v":8.0477930285375761E-3},"Gesamt",{"$f":"IFERROR(1/A113,\"\")","v":124.25766871165639},{"$f":"IF(SUM(D110:D112)=0,\"\",SUM(D110:D112))","v":0.36552226631082319},{"$f":"IFERROR(E108*D113,\"\")","v":0.91380566577705791},{"$f":"IFERROR(AVERAGE(F110:F112),\"\")","v":3.1125570568527787},{"$f":"IF(SUM(G110:G112)=0,\"\",SUM(G110:G112))","v":1.3462704313474203},{"$f":"IF(SUM(H110:H112)=0,\"\",SUM(H110:H112))","v":8.0477930285375761E-3},"Gesamt",{"$f":"IFERROR(1/H113,\"\")","v":124.25766871165639},{"$f":"IF(SUM(K110:K112)=0,\"\",SUM(K110:K112))","v":0.3818735617745338},{"$f":"IFERROR(L108*K113,\"\")","v":0.7637471235490676},{"$f":"IFERROR(AVERAGE(M110:M112),\"\")","v":5.8549983173081985},{"$f":"IF(SUM(N110:N112)=0,\"\",SUM(N110:N112))","v":1.0323977839811544},{"$f":"IF(SUM(O110:O112)=0,\"\",SUM(O110:O112))","v":8.0477930285375761E-3},"Gesamt",{"$f":"IFERROR(1/O113,\"\")","v":124.25766871165639},{"$f":"IF(SUM(R110:R112)=0,\"\",SUM(R110:R112))","v":0.45267296379069732},{"$f":"IFERROR(S108*R113,\"\")","v":0.90534592758139465},{"$f":"IFERROR(AVERAGE(T110:T112),\"\")","v":1.7207342003752304},{"$f":"IF(SUM(U110:U112)=0,\"\",SUM(U110:U112))","v":2.8491888420319063}]
[null,null,null,{"$f":"AVERAGE(D110:D112)","v":0.12184075543694106},null,null,null,null,null,null,{"$f":"AVERAGE(K110:K112)","v":0.12729118725817792},null,null,null,null,null,null,{"$f":"AVERAGE(R110:R112)","v":0.15089098793023245}]
[]
[null,"Zusatzlotterie SUPER 6",null,null,1,"vs.",null,null,"Zusatzlotterie JOKER (Österreich)",null,null,1,"vs.",null,null,"Zusatzlotterie JOKER (Schweiz)",null,null,1]
[null,"6 x 1 aus 10",null,null,{"$f":"E116*1.25","v":1.25},null,null,null,"6 x 1 aus 10",null,null,{"$f":"L116*1.5","v":1.5},null,null,null,"6 x 1 aus 10",null,null,{"$f":"S116*2","v":2}]
[null,"Richtige",{"$f":"IF(E116=1,\"Chancen 1:\",\"Ø Gewinne 1:\")","v":"Chancen 1:"},"Ø AQ","(Ø) Gewinn",{"$f":"IFERROR(COUNTIF(E119:E124,\"Freispiel\"),\"\")","v":0},{"$f":"IFERROR(SUMIF(E119:E124,\"<>Freispiel\",D119:D124),\"\")","v":0.44666720000000004},null,"Richtige",{"$f":"IF(L116=1,\"Chancen 1:\",\"Ø Gewinne 1:\")","v":"Chancen 1:"},"Ø AQ","(Ø) Gewinn",{"$f":"IFERROR(COUNTIF(L119:L124,\"Freispiel\"),\"\")","v":0},{"$f":"IFERROR(SUMIF(L119:L124,\"<>Freispiel\",K119:K124),\"\")","v":0.49740800000000002},null,"Richtige",{"$f":"IF(S116=1,\"Chancen 1:\",\"Ø Gewinne 1:\")","v":"Chancen 1:"},"Ø AQ","(Ø) Gewinn",{"$f":"IFERROR(COUNTIF(S119:S124,\"Freispiel\"),\"\")","v":0},{"$f":"IFERROR(SUMIF(S119:S124,\"<>Freispiel\",R119:R124),\"\")","v":0.47}]
[{"$f":"IF(C119=\"\",0,1/C119)","v":9.9999999999999995E-7},6,{"$f":"IF(OR(E119<=0,AND(E119>1000000000,E119<>\"Freispiel\")),\"\",10^6/E116)","v":1000000},{"$f":"IF(OR(E119<=0,F118>1),\"\",IF(E119=\"Freispiel\",G118/(1-(1/C119))/C119,IF(E119>1000000000,\"\",E119/C119/E117)))","v":0.08},100000,{"$f":"IFERROR(IF(D119<D126,D126/D119,D119/D126),\"\")","v":1.0746255825366178},{"$f":"IFERROR(D119/IF((C119*E117)<1500,1500,C119*E117)^0.25*62.2333,\"\")","v":0.14889678289019934},{"$f":"IF(J119=\"\",0,1/J119)","v":9.9999999999999995E-7},6,{"$f":"IF(OR(L119<=0,AND(L119>1000000000,L119<>\"Freispiel\")),\"\",10^6/L116)","v":1000000},{"$f":"IF(OR(L119<=0,M118>1),\"\",IF(L119=\"Freispiel\",N118/(1-(1/J119))/J119,IF(L119>1000000000,\"\",L119/J119/L117)))","v":0.19999999999999998},300000,{"$f":"IFERROR(IF(K119<K126,K126/K119,K119/K126),\"\")","v":2.4125064333504884},{"$f":"IFERROR(K119/IF((J119*L117)<1500,1500,J119*L117)^0.25*62.2333,\"\")","v":0.3556558949871485},{"$f":"IF(Q119=\"\",0,1/Q119)","v":9.9999999999999995E-7},6,{"$f":"IF(OR(S119<=0,AND(S119>1000000000,S119<>\"Freispiel\")),\"\",10^6/S116)","v":1000000},{"$f":"IF(OR(S119<=0,T118>1),\"\",IF(S119=\"Freispiel\",U118/(1-(1/Q119))/Q119,IF(S119>1000000000,\"\",S119/Q119/S117)))","v":0.2},400000,{"$f":"IFERROR(IF(R119<R126,R126/R119,R119/R126),\"\")","v":2.5531914893617027},{"$f":"IFERROR(R119/IF((Q119*S117)<1500,1500,Q119*S117)^0.25*62.2333,\"\")","v":0.33097510404334662}]
[9.0000000000000002E-6,5,{"$f":"IF(OR(E120<=0,AND(E120>1000000000,E120<>\"Freispiel\")),\"\",1/(0.00001*0.9)/E116)","v":111111.11111111111},{"$f":"IF(OR(E120<=0,F118>1),\"\",IF(E120=\"Freispiel\",G118/(1-(1/C120))/C120,IF(E120>1000000000,\"\",E120/C120/E117)))","v":4.7995200000000002E-2},6666,{"$f":"IFERROR(IF(D120<D126,D126/D120,D120/D126),\"\")","v":1.5510828860663846},{"$f":"IFERROR(D120/IF((C120*E117)<1500,1500,C120*E117)^0.25*62.2333,\"\")","v":0.15472260202204358},9.0000000000000002E-6,5,{"$f":"IF(OR(L120<=0,AND(L120>1000000000,L120<>\"Freispiel\")),\"\",1/(0.00001*0.9)/L116)","v":111111.11111111111},{"$f":"IF(OR(L120<=0,M118>1),\"\",IF(L120=\"Freispiel\",N118/(1-(1/J120))/J120,IF(L120>1000000000,\"\",L120/J120/L117)))","v":5.3328000000000007E-2},8888,{"$f":"IFERROR(IF(K120<K126,K126/K120,K120/K126),\"\")","v":1.5545554555455545},{"$f":"IFERROR(K120/IF((J120*L117)<1500,1500,J120*L117)^0.25*62.2333,\"\")","v":0.16425399432562926},9.0000000000000002E-6,5,{"$f":"IF(OR(S120<=0,AND(S120>1000000000,S120<>\"Freispiel\")),\"\",1/(0.00001*0.9)/S116)","v":111111.11111111111},{"$f":"IF(OR(S120<=0,T118>1),\"\",IF(S120=\"Freispiel\",U118/(1-(1/Q120))/Q120,IF(S120>1000000000,\"\",S120/Q120/S117)))","v":4.4999999999999998E-2},10000,{"$f":"IFERROR(IF(R120<R126,R126/R120,R120/R126),\"\")","v":1.7407407407407407},{"$f":"IFERROR(R120/IF((Q120*S117)<1500,1500,Q120*S117)^0.25*62.2333,\"\")","v":0.12898478165478106}]
[8.9999999999999992E-5,4,{"$f":"IF(OR(E121<=0,AND(E121>1000000000,E121<>\"Freispiel\")),\"\",1/(0.0001*0.9)/E116)","v":11111.111111111111},{"$f":"IF(OR(E121<=0,F118>1),\"\",IF(E121=\"Freispiel\",G118/(1-(1/C121))/C121,IF(E121>1000000000,\"\",E121/C121/E117)))","v":4.7952000000000002E-2},666,{"$f":"IFERROR(IF(D121<D126,D126/D121,D121/D126),\"\")","v":1.5524802580358137},{"$f":"IFERROR(D121/IF((C121*E117)<1500,1500,C121*E117)^0.25*62.2333,\"\")","v":0.27489236666266947},8.9999999999999992E-5,4,{"$f":"IF(OR(L121<=0,AND(L121>1000000000,L121<>\"Freispiel\")),\"\",1/(0.0001*0.9)/L116)","v":11111.111111111111},{"$f":"IF(OR(L121<=0,M118>1),\"\",IF(L121=\"Freispiel\",N118/(1-(1/J121))/J121,IF(L121>1000000000,\"\",L121/J121/L117)))","v":5.3280000000000001E-2},888,{"$f":"IFERROR(IF(K121<K126,K126/K121,K121/K126),\"\")","v":1.5559559559559561},{"$f":"IFERROR(K121/IF((J121*L117)<1500,1500,J121*L117)^0.25*62.2333,\"\")","v":0.29182658928871946},8.9999999999999992E-5,4,{"$f":"IF(OR(S121<=0,AND(S121>1000000000,S121<>\"Freispiel\")),\"\",1/(0.0001*0.9)/S116)","v":11111.111111111111},{"$f":"IF(OR(S121<=0,T118>1),\"\",IF(S121=\"Freispiel\",U118/(1-(1/Q121))/Q121,IF(S121>1000000000,\"\",S121/Q121/S117)))","v":4.4999999999999998E-2},1000,{"$f":"IFERROR(IF(R121<R126,R126/R121,R121/R126),\"\")","v":1.7407407407407407},{"$f":"IFERROR(R121/IF((Q121*S117)<1500,1500,Q121*S117)^0.25*62.2333,\"\")","v":0.22937098142506346}]
[8.9999999999999998E-4,3,{"$f":"IF(OR(E122<=0,AND(E122>1000000000,E122<>\"Freispiel\")),\"\",1/(0.001*0.9)/E116)","v":1111.1111111111111},{"$f":"IF(OR(E122<=0,F118>1),\"\",IF(E122=\"Freispiel\",G118/(1-(1/C122))/C122,IF(E122>1000000000,\"\",E122/C122/E117)))","v":4.752E-2},66,{"$f":"IFERROR(IF(D122<D126,D126/D122,D122/D126),\"\")","v":1.5665937149270484},{"$f":"IFERROR(D122/IF((C122*E117)<1500,1500,C122*E117)^0.25*62.2333,\"\")","v":0.47520001734202666},8.9999999999999998E-4,3,{"$f":"IF(OR(L122<=0,AND(L122>1000000000,L122<>\"Freispiel\")),\"\",1/(0.001*0.9)/L116)","v":1111.1111111111111},{"$f":"IF(OR(L122<=0,M118>1),\"\",IF(L122=\"Freispiel\",N118/(1-(1/J122))/J122,IF(L122>1000000000,\"\",L122/J122/L117)))","v":5.2800000000000007E-2},88,{"$f":"IFERROR(IF(K122<K126,K126/K122,K122/K126),\"\")","v":1.57010101010101},{"$f":"IFERROR(K122/IF((J122*L117)<1500,1500,J122*L117)^0.25*62.2333,\"\")","v":0.51427399688055564},8.9999999999999998E-4,3,{"$f":"IF(OR(S122<=0,AND(S122>1000000000,S122<>\"Freispiel\")),\"\",1/(0.001*0.9)/S116)","v":1111.1111111111111},{"$f":"IF(OR(S122<=0,T118>1),\"\",IF(S122=\"Freispiel\",U118/(1-(1/Q122))/Q122,IF(S122>1000000000,\"\",S122/Q122/S117)))","v":4.4999999999999998E-2},100,{"$f":"IFERROR(IF(R122<R126,R126/R122,R122/R126),\"\")","v":1.7407407407407407},{"$f":"IFERROR(R122/IF((Q122*S117)<1500,1500,Q122*S117)^0.25*62.2333,\"\")","v":0.40788569352861043}]
[9.0000000000000011E-3,2,{"$f":"IF(OR(E123<=0,AND(E123>1000000000,E123<>\"Freispiel\")),\"\",1/(0.01*0.9)/E116)","v":111.1111111111111},{"$f":"IF(OR(E123<=0,F118>1),\"\",IF(E123=\"Freispiel\",G118/(1-(1/C123))/C123,IF(E123>1000000000,\"\",E123/C123/E117)))","v":4.3200000000000002E-2},6,{"$f":"IFERROR(IF(D123<D126,D126/D123,D123/D126),\"\")","v":1.7232530864197531},{"$f":"IFERROR(D123/IF((C123*E117)<1500,1500,C123*E117)^0.25*62.2333,\"\")","v":0.43200001576547881},9.0000000000000011E-3,2,{"$f":"IF(OR(L123<=0,AND(L123>1000000000,L123<>\"Freispiel\")),\"\",1/(0.01*0.9)/L116)","v":111.1111111111111},{"$f":"IF(OR(L123<=0,M118>1),\"\",IF(L123=\"Freispiel\",N118/(1-(1/J123))/J123,IF(L123>1000000000,\"\",L123/J123/L117)))","v":4.8000000000000008E-2},8,{"$f":"IFERROR(IF(K123<K126,K126/K123,K123/K126),\"\")","v":1.727111111111111},{"$f":"IFERROR(K123/IF((J123*L117)<1500,1500,J123*L117)^0.25*62.2333,\"\")","v":0.48000001751719873},9.0000000000000011E-3,2,{"$f":"IF(OR(S123<=0,AND(S123>1000000000,S123<>\"Freispiel\")),\"\",1/(0.01*0.9)/S116)","v":111.1111111111111},{"$f":"IF(OR(S123<=0,T118>1),\"\",IF(S123=\"Freispiel\",U118/(1-(1/Q123))/Q123,IF(S123>1000000000,\"\",S123/Q123/S117)))","v":4.5000000000000005E-2},10,{"$f":"IFERROR(IF(R123<R126,R126/R123,R123/R126),\"\")","v":1.7407407407407403},{"$f":"IFERROR(R123/IF((Q123*S117)<1500,1500,Q123*S117)^0.25*62.2333,\"\")","v":0.45000001642237381}]
[9.0000000000000024E-2,1,{"$f":"IF(OR(E124<=0,AND(E124>1000000000,E124<>\"Freispiel\")),\"\",1/(0.1*0.9)/E116)","v":11.111111111111109},{"$f":"IF(OR(E124<=0,F118>1),\"\",IF(E124=\"Freispiel\",G118/(1-(1/C124))/C124,IF(E124>1000000000,\"\",E124/C124/E117)))","v":0.18000000000000002},2.5,{"$f":"IFERROR(IF(D124<D126,D126/D124,D124/D126),\"\")","v":2.4179075607073903},{"$f":"IFERROR(D124/IF((C124*E117)<1500,1500,C124*E117)^0.25*62.2333,\"\")","v":1.8000000656894952},9.0000000000000024E-2,1,{"$f":"IF(OR(L124<=0,AND(L124>1000000000,L124<>\"Freispiel\")),\"\",1/(0.1*0.9)/L116)","v":11.111111111111109},{"$f":"IF(OR(L124<=0,M118>1),\"\",IF(L124=\"Freispiel\",N118/(1-(1/J124))/J124,IF(L124>1000000000,\"\",L124/J124/L117)))","v":9.0000000000000024E-2},1.5,{"$f":"IFERROR(IF(K124<K126,K126/K124,K124/K126),\"\")","v":1.0856278950077203},{"$f":"IFERROR(K124/IF((J124*L117)<1500,1500,J124*L117)^0.25*62.2333,\"\")","v":0.90000003284474772},9.0000000000000024E-2,1,{"$f":"IF(OR(S124<=0,AND(S124>1000000000,S124<>\"Freispiel\")),\"\",1/(0.1*0.9)/S116)","v":11.111111111111109},{"$f":"IF(OR(S124<=0,T118>1),\"\",IF(S124=\"Freispiel\",U118/(1-(1/Q124))/Q124,IF(S124>1000000000,\"\",S124/Q124/S117)))","v":9.0000000000000024E-2},2,{"$f":"IFERROR(IF(R124<R126,R126/R124,R124/R126),\"\")","v":1.1489361702127665},{"$f":"IFERROR(R124/IF((Q124*S117)<1500,1500,Q124*S117)^0.25*62.2333,\"\")","v":0.90000003284474772}]
[{"$f":"IF(SUM(A119:A124)=0,\"\",SUM(A119:A124))","v":0.10000000000000003},"Gesamt",{"$f":"IFERROR(1/A125,\"\")","v":9.9999999999999964},{"$f":"IF(SUM(D119:D124)=0,\"\",SUM(D119:D124))","v":0.44666720000000004},{"$f":"IFERROR(E117*D125,\"\")","v":0.55833400000000011},{"$f":"IFERROR(AVERAGE(F119:F124),\"\")","v":1.6476571814488346},{"$f":"IF(SUM(G119:G124)=0,\"\",SUM(G119:G124))","v":3.2857118503719134},{"$f":"IF(SUM(H119:H124)=0,\"\",SUM(H119:H124))","v":0.10000000000000003},"Gesamt",{"$f":"IFERROR(1/H125,\"\")","v":9.9999999999999964},{"$f":"IF(SUM(K119:K124)=0,\"\",SUM(K119:K124))","v":0.49740800000000002},{"$f":"IFERROR(L117*K125,\"\")","v":0.746112},{"$f":"IFERROR(AVERAGE(M119:M124),\"\")","v":1.6509763101786401},{"$f":"IF(SUM(N119:N124)=0,\"\",SUM(N119:N124))","v":2.7060105258439995},{"$f":"IF(SUM(O119:O124)=0,\"\",SUM(O119:O124))","v":0.10000000000000003},"Gesamt",{"$f":"IFERROR(1/O125,\"\")","v":9.9999999999999964},{"$f":"IF(SUM(R119:R124)=0,\"\",SUM(R119:R124))","v":0.47},{"$f":"IFERROR(S117*R125,\"\")","v":0.94},{"$f":"IFERROR(AVERAGE(T119:T124),\"\")","v":1.7775151037562384},{"$f":"IF(SUM(U119:U124)=0,\"\",SUM(U119:U124))","v":2.4472166099189234}]
[null,null,null,{"$f":"AVERAGE(D119:D124)","v":7.444453333333334E-2},null,null,null,null,null,null,{"$f":"AVERAGE(K119:K124)","v":8.2901333333333341E-2},null,null,null,null,null,null,{"$f":"AVERAGE(R119:R124)","v":7.8333333333333324E-2}]
[]
[null,"Hello Monday ⁸",null,null,1,"vs.",null,null,"Vive la France ⁹",null,null,1,"vs.",null,null,"SonntagsLotto",null,null,1]
[null,"5 aus 49 + 1 aus 10",null,null,{"$f":"E128*2","v":2},null,null,null,"5 aus 49 + 1 aus 10",null,null,{"$f":"L128*2.2","v":2.2000000000000002},null,null,null,"5 aus 54 + 1 aus 10",null,null,{"$f":"S128*1.5","v":1.5}]
[null,"Richtige",{"$f":"IF(E128=1,\"Chancen 1:\",\"Ø Gewinne 1:\")","v":"Chancen 1:"},"Ø AQ","(Ø) Gewinn",{"$f":"IFERROR(COUNTIF(E131:E140,\"Freispiel\"),\"\")","v":0},{"$f":"IFERROR(SUMIF(E131:E140,\"<>Freispiel\",D131:D140),\"\")","v":0.49368360896625074},null,"Richtige",{"$f":"IF(L128=1,\"Chancen 1:\",\"Ø Gewinne 1:\")","v":"Chancen 1:"},"Ø AQ","(Ø) Gewinn",{"$f":"IFERROR(COUNTIF(L131:L139,\"Freispiel\"),\"\")","v":0},{"$f":"IFERROR(SUMIF(L131:L139,\"<>Freispiel\",K131:K139),\"\")","v":0.42163487445322767},null,"Richtige",{"$f":"IF(S128=1,\"Chancen 1:\",\"Ø Gewinne 1:\")","v":"Chancen 1:"},"(Ø) AQ","(Ø) Gewinn",{"$f":"IFERROR(COUNTIF(S131:S139,\"Freispiel\"),\"\")","v":0},{"$f":"IFERROR(SUMIF(S131:S139,\"<>Freispiel\",R131:R139),\"\")","v":0.51029653661174224}]
[{"$f":"IF(C131=\"\",0,1/C131)","v":5.244157484146905E-8},"5 + ZZ",{"$f":"IF(OR(E131<=0,AND(E131>1000000000,E131<>\"Freispiel\")),\"\",1/(HYPGEOMDIST(5,5,5,49)*HYPGEOMDIST(1,1,1,10))/E128)","v":19068840.000000026},{"$f":"IF(OR(E131<=0,F130>1),\"\",IF(E131=\"Freispiel\",G130/(1-(1/C131))/C131,IF(E131>1000000000,\"\",E131/C131/E129)))","v":4.7197417357322143E-2},1800000,{"$f":"IFERROR(IF(D131<D142,D142/D131,D131/D142),\"\")","v":1.0459970833333347},{"$f":"IFERROR(D131/IF((C131*E129)<1500,1500,C131*E129)^0.25*62.2333,\"\")","v":3.7376832791544662E-2},{"$f":"IF(J131=\"\",0,1/J131)","v":5.244157484146905E-8},"5 + ZZ",{"$f":"IF(OR(L131<=0,AND(L131>1000000000,L131<>\"Freispiel\")),\"\",1/(HYPGEOMDIST(5,5,5,49)*HYPGEOMDIST(1,1,1,10))/L128)","v":19068840.000000026},{"$f":"IF(OR(L131<=0,M130>1),\"\",IF(L131=\"Freispiel\",N130/(1-(1/J131))/J131,IF(L131>1000000000,\"\",L131/J131/L129)))","v":0.11072985558474895},4645277.7786111115,{"$f":"IFERROR(IF(K131<K141,K141/K131,K131/K141),\"\")","v":2.363582238198588},{"$f":"IFERROR(K131/IF((J131*L129)<1500,1500,J131*L129)^0.25*62.2333,\"\")","v":8.5625047460734266E-2},{"$f":"IF(Q131=\"\",0,1/Q131)","v":3.1620453374060519E-8},"5 + SZ",{"$f":"IF(OR(S131<=0,AND(S131>1000000000,S131<>\"Freispiel\")),\"\",1/(HYPGEOMDIST(5,5,5,54)*HYPGEOMDIST(1,1,1,10))/S128)","v":31625099.999999959},{"$f":"IF(OR(S131<=0,T130>1),\"\",IF(S131=\"Freispiel\",U130/(1-(1/Q131))/Q131,IF(S131>1000000000,\"\",S131/Q131/S129)))","v":0.22000000000000022},10436282.999999998,{"$f":"IFERROR(IF(R131<R141,R141/R131,R131/R141),\"\")","v":3.880096880819083},{"$f":"IFERROR(R131/IF((Q131*S129)<1500,1500,Q131*S129)^0.25*62.2333,\"\")","v":0.16497370190774094}]
[4.7197417357322145E-7,5,{"$f":"IF(OR(E132<=0,AND(E132>1000000000,E132<>\"Freispiel\")),\"\",1/(HYPGEOMDIST(5,5,5,49)*HYPGEOMDIST(0,1,1,10))/E128)","v":2118760.0000000028},{"$f":"IF(OR(E132<=0,F130>1),\"\",IF(E132=\"Freispiel\",G130/(1-(1/C132))/C132,IF(E132>1000000000,\"\",E132/C132/E129)))","v":2.5114270191579524E-2},106422.2222222222,{"$f":"IFERROR(IF(D132<D142,D142/D132,D132/D142),\"\")","v":1.9657493735644214},{"$f":"IFERROR(D132/IF((C132*E129)<1500,1500,C132*E129)^0.25*62.2333,\"\")","v":3.4448114234776263E-2},4.7197417357322145E-7,5,{"$f":"IF(OR(L132<=0,AND(L132>1000000000,L132<>\"Freispiel\")),\"\",1/(HYPGEOMDIST(5,5,5,49)*HYPGEOMDIST(0,1,1,10))/L128)","v":2118760.0000000028},{"$f":"IF(OR(L132<=0,M130>1),\"\",IF(L132=\"Freispiel\",N130/(1-(1/J132))/J132,IF(L132>1000000000,\"\",L132/J132/L129)))","v":2.1433637340498919E-2},99908.01359342222,{"$f":"IFERROR(IF(K132<K141,K141/K132,K132/K141),\"\")","v":2.1857381759078258},{"$f":"IFERROR(K132/IF((J132*L129)<1500,1500,J132*L129)^0.25*62.2333,\"\")","v":2.8707316483860421E-2},2.8458408036654467E-7,5,{"$f":"IF(OR(S132<=0,AND(S132>1000000000,S132<>\"Freispiel\")),\"\",1/(HYPGEOMDIST(5,5,5,54)*HYPGEOMDIST(0,1,1,10))/S128)","v":3513899.9999999953},{"$f":"IF(OR(S132<=0,T130>1),\"\",IF(S132=\"Freispiel\",U130/(1-(1/Q132))/Q132,IF(S132>1000000000,\"\",S132/Q132/S129)))","v":4.1295031161956867E-2},217659.91500000007,{"$f":"IFERROR(IF(R132<R141,R141/R132,R132/R141),\"\")","v":1.3730372295085493},{"$f":"IFERROR(R132/IF((Q132*S129)<1500,1500,Q132*S129)^0.25*62.2333,\"\")","v":5.3635269175077133E-2}]
[1.1537146465123207E-5,"4 + ZZ",{"$f":"IF(OR(E133<=0,AND(E133>1000000000,E133<>\"Freispiel\")),\"\",1/(HYPGEOMDIST(4,5,5,49)*HYPGEOMDIST(1,1,1,10))/E128)","v":86676.545454545441},{"$f":"IF(OR(E133<=0,F130>1),\"\",IF(E133=\"Freispiel\",G130/(1-(1/C133))/C133,IF(E133>1000000000,\"\",E133/C133/E129)))","v":1.1537146465123207E-2},2000,{"$f":"IFERROR(IF(D133<D142,D142/D133,D133/D142),\"\")","v":4.2790789772727269},{"$f":"IFERROR(D133/IF((C133*E129)<1500,1500,C133*E129)^0.25*62.2333,\"\")","v":3.5187494092920983E-2},1.1537146465123207E-5,"4 + ZZ",{"$f":"IF(OR(L133<=0,AND(L133>1000000000,L133<>\"Freispiel\")),\"\",1/(HYPGEOMDIST(4,5,5,49)*HYPGEOMDIST(1,1,1,10))/L128)","v":86676.545454545441},{"$f":"IF(OR(L133<=0,M130>1),\"\",IF(L133=\"Freispiel\",N130/(1-(1/J133))/J133,IF(L133>1000000000,\"\",L133/J133/L129)))","v":5.2314328105957141E-3},997.57355235999967,{"$f":"IFERROR(IF(K133<K141,K141/K133,K133/K141),\"\")","v":8.955160293525255},{"$f":"IFERROR(K133/IF((J133*L129)<1500,1500,J133*L129)^0.25*62.2333,\"\")","v":1.5579819211239968E-2},7.7470110766448136E-6,"4 + SZ",{"$f":"IF(OR(S133<=0,AND(S133>1000000000,S133<>\"Freispiel\")),\"\",1/(HYPGEOMDIST(4,5,5,54)*HYPGEOMDIST(1,1,1,10))/S128)","v":129082.04081632658},{"$f":"IF(OR(S133<=0,T130>1),\"\",IF(S133=\"Freispiel\",U130/(1-(1/Q133))/Q133,IF(S133>1000000000,\"\",S133/Q133/S129)))","v":7.5081874839921445E-3},1453.7582448979595,{"$f":"IFERROR(IF(R133<R141,R141/R133,R133/R141),\"\")","v":7.5517047622970352},{"$f":"IFERROR(R133/IF((Q133*S129)<1500,1500,Q133*S129)^0.25*62.2333,\"\")","v":2.2275049036007438E-2}]
[1.038343181861089E-4,4,{"$f":"IF(OR(E134<=0,AND(E134>1000000000,E134<>\"Freispiel\")),\"\",1/(HYPGEOMDIST(4,5,5,49)*HYPGEOMDIST(0,1,1,10))/E128)","v":9630.7272727272684},{"$f":"IF(OR(E134<=0,F130>1),\"\",IF(E134=\"Freispiel\",G130/(1-(1/C134))/C134,IF(E134>1000000000,\"\",E134/C134/E129)))","v":1.0383431818610889E-2},200,{"$f":"IFERROR(IF(D134<D142,D142/D134,D134/D142),\"\")","v":4.7545321969696959},{"$f":"IFERROR(D134/IF((C134*E129)<1500,1500,C134*E129)^0.25*62.2333,\"\")","v":5.485187480397203E-2},1.038343181861089E-4,4,{"$f":"IF(OR(L134<=0,AND(L134>1000000000,L134<>\"Freispiel\")),\"\",1/(HYPGEOMDIST(4,5,5,49)*HYPGEOMDIST(0,1,1,10))/L128)","v":9630.7272727272684},{"$f":"IF(OR(L134<=0,M130>1),\"\",IF(L134=\"Freispiel\",N130/(1-(1/J134))/J134,IF(L134>1000000000,\"\",L134/J134/L129)))","v":1.8868711545012705E-2},399.78271273111102,{"$f":"IFERROR(IF(K134<K141,K141/K134,K134/K141),\"\")","v":2.4828573626732191},{"$f":"IFERROR(K134/IF((J134*L129)<1500,1500,J134*L129)^0.25*62.2333,\"\")","v":9.7329531872950223E-2},6.9723099689803338E-5,4,{"$f":"IF(OR(S134<=0,AND(S134>1000000000,S134<>\"Freispiel\")),\"\",1/(HYPGEOMDIST(4,5,5,54)*HYPGEOMDIST(0,1,1,10))/S128)","v":14342.44897959184},{"$f":"IF(OR(S134<=0,T130>1),\"\",IF(S134=\"Freispiel\",U130/(1-(1/Q134))/Q134,IF(S134>1000000000,\"\",S134/Q134/S129)))","v":8.7595520646575036E-3},188.45014285714291,{"$f":"IFERROR(IF(R134<R141,R141/R134,R134/R141),\"\")","v":6.4728897962546004},{"$f":"IFERROR(R134/IF((Q134*S129)<1500,1500,Q134*S129)^0.25*62.2333,\"\")","v":4.5011769450028528E-2}]
[4.9609729800029862E-4,"3 + ZZ",{"$f":"IF(OR(E135<=0,AND(E135>1000000000,E135<>\"Freispiel\")),\"\",1/(HYPGEOMDIST(3,5,5,49)*HYPGEOMDIST(1,1,1,10))/E128)","v":2015.7336152219843},{"$f":"IF(OR(E135<=0,F130>1),\"\",IF(E135=\"Freispiel\",G130/(1-(1/C135))/C135,IF(E135>1000000000,\"\",E135/C135/E129)))","v":9.921945960005972E-3},40,{"$f":"IFERROR(IF(D135<D142,D142/D135,D135/D142),\"\")","v":4.9756732293868851},{"$f":"IFERROR(D135/IF((C135*E129)<1500,1500,C135*E129)^0.25*62.2333,\"\")","v":7.7491470885627967E-2},4.9609729800029862E-4,"3 + ZZ",{"$f":"IF(OR(L135<=0,AND(L135>1000000000,L135<>\"Freispiel\")),\"\",1/(HYPGEOMDIST(3,5,5,49)*HYPGEOMDIST(1,1,1,10))/L128)","v":2015.7336152219843},{"$f":"IF(OR(L135<=0,M130>1),\"\",IF(L135=\"Freispiel\",N130/(1-(1/J135))/J135,IF(L135>1000000000,\"\",L135/J135/L129)))","v":1.1275515378177186E-2},50.002557828837197,{"$f":"IFERROR(IF(K135<K141,K141/K135,K135/K141),\"\")","v":4.1548716677166668},{"$f":"IFERROR(K135/IF((J135*L129)<1500,1500,J135*L129)^0.25*62.2333,\"\")","v":8.5989471044343221E-2},3.7185653167895108E-4,"3 + SZ",{"$f":"IF(OR(S135<=0,AND(S135>1000000000,S135<>\"Freispiel\")),\"\",1/(HYPGEOMDIST(3,5,5,54)*HYPGEOMDIST(1,1,1,10))/S128)","v":2689.2091836734703},{"$f":"IF(OR(S135<=0,T130>1),\"\",IF(S135=\"Freispiel\",U130/(1-(1/Q135))/Q135,IF(S135>1000000000,\"\",S135/Q135/S129)))","v":1.0010916645322856E-2},40.382173469387752,{"$f":"IFERROR(IF(R135<R141,R141/R135,R135/R141),\"\")","v":5.6637785717227782},{"$f":"IFERROR(R135/IF((Q135*S129)<1500,1500,Q135*S129)^0.25*62.2333,\"\")","v":7.8174968462751585E-2}]
[4.4648756820026879E-3,3,{"$f":"IF(OR(E136<=0,AND(E136>1000000000,E136<>\"Freispiel\")),\"\",1/(HYPGEOMDIST(3,5,5,49)*HYPGEOMDIST(0,1,1,10))/E128)","v":223.97040169133157},{"$f":"IF(OR(E136<=0,F130>1),\"\",IF(E136=\"Freispiel\",G130/(1-(1/C136))/C136,IF(E136>1000000000,\"\",E136/C136/E129)))","v":4.4648756820026878E-2},20,{"$f":"IFERROR(IF(D136<D142,D142/D136,D136/D142),\"\")","v":1.1057051620859744},{"$f":"IFERROR(D136/IF((C136*E129)<1500,1500,C136*E129)^0.25*62.2333,\"\")","v":0.44648758449445924},4.4648756820026879E-3,3,{"$f":"IF(OR(L136<=0,AND(L136>1000000000,L136<>\"Freispiel\")),\"\",1/(HYPGEOMDIST(3,5,5,49)*HYPGEOMDIST(0,1,1,10))/L128)","v":223.97040169133157},{"$f":"IF(OR(L136<=0,M130>1),\"\",IF(L136=\"Freispiel\",N130/(1-(1/J136))/J136,IF(L136>1000000000,\"\",L136/J136/L129)))","v":4.0581697239475557E-2},19.996017870490956,{"$f":"IFERROR(IF(K136<K141,K141/K136,K136/K141),\"\")","v":1.1544199126822274},{"$f":"IFERROR(K136/IF((J136*L129)<1500,1500,J136*L129)^0.25*62.2333,\"\")","v":0.40581698720470666},3.3467087851105598E-3,3,{"$f":"IF(OR(S136<=0,AND(S136>1000000000,S136<>\"Freispiel\")),\"\",1/(HYPGEOMDIST(3,5,5,54)*HYPGEOMDIST(0,1,1,10))/S128)","v":298.80102040816337},{"$f":"IF(OR(S136<=0,T130>1),\"\",IF(S136=\"Freispiel\",U130/(1-(1/Q136))/Q136,IF(S136>1000000000,\"\",S136/Q136/S129)))","v":3.2535479097299293E-2},14.582451530612246,{"$f":"IFERROR(IF(R136<R141,R141/R136,R136/R141),\"\")","v":1.7427010989916236},{"$f":"IFERROR(R136/IF((Q136*S129)<1500,1500,Q136*S129)^0.25*62.2333,\"\")","v":0.32535480284654394}]
[6.9453621720041705E-3,"2 + ZZ",{"$f":"IF(OR(E137<=0,AND(E137>1000000000,E137<>\"Freispiel\")),\"\",1/(HYPGEOMDIST(2,5,5,49)*HYPGEOMDIST(1,1,1,10))/E128)","v":143.98097251585622},{"$f":"IF(OR(E137<=0,F130>1),\"\",IF(E137=\"Freispiel\",G130/(1-(1/C137))/C137,IF(E137>1000000000,\"\",E137/C137/E129)))","v":4.1672173032025028E-2},12,{"$f":"IFERROR(IF(D137<D142,D142/D137,D137/D142),\"\")","v":1.1846841022349741},{"$f":"IFERROR(D137/IF((C137*E129)<1500,1500,C137*E129)^0.25*62.2333,\"\")","v":0.41672174552816144},6.9453621720041705E-3,"2 + ZZ",{"$f":"IF(OR(L137<=0,AND(L137>1000000000,L137<>\"Freispiel\")),\"\",1/(HYPGEOMDIST(2,5,5,49)*HYPGEOMDIST(1,1,1,10))/L128)","v":143.98097251585622},{"$f":"IF(OR(L137<=0,M130>1),\"\",IF(L137=\"Freispiel\",N130/(1-(1/J137))/J137,IF(L137>1000000000,\"\",L137/J137/L129)))","v":3.1566363997914917E-2},9.9989027318604631,{"$f":"IFERROR(IF(K137<K141,K141/K137,K137/K141),\"\")","v":1.4841214967547889},{"$f":"IFERROR(K137/IF((J137*L129)<1500,1500,J137*L129)^0.25*62.2333,\"\")","v":0.31566365149902975},5.825752329636902E-3,"2 + SZ",{"$f":"IF(OR(S137<=0,AND(S137>1000000000,S137<>\"Freispiel\")),\"\",1/(HYPGEOMDIST(2,5,5,54)*HYPGEOMDIST(1,1,1,10))/S128)","v":171.65165002171082},{"$f":"IF(OR(S137<=0,T130>1),\"\",IF(S137=\"Freispiel\",U130/(1-(1/Q137))/Q137,IF(S137>1000000000,\"\",S137/Q137/S129)))","v":2.5027291613307152E-2},6.4439638514980473,{"$f":"IFERROR(IF(R137<R141,R141/R137,R137/R141),\"\")","v":2.2655114286891105},{"$f":"IFERROR(R137/IF((Q137*S129)<1500,1500,Q137*S129)^0.25*62.2333,\"\")","v":0.25027292526657235}]
[6.2508259548037542E-2,2,{"$f":"IF(OR(E138<=0,AND(E138>1000000000,E138<>\"Freispiel\")),\"\",1/(HYPGEOMDIST(2,5,5,49)*HYPGEOMDIST(0,1,1,10))/E128)","v":15.997885835095135},{"$f":"IF(OR(E138<=0,F130>1),\"\",IF(E138=\"Freispiel\",G130/(1-(1/C138))/C138,IF(E138>1000000000,\"\",E138/C138/E129)))","v":0.18752477864411263},6,{"$f":"IFERROR(IF(D138<D142,D142/D138,D138/D142),\"\")","v":3.7984809549739826},{"$f":"IFERROR(D138/IF((C138*E129)<1500,1500,C138*E129)^0.25*62.2333,\"\")","v":1.8752478548767264},6.2508259548037542E-2,2,{"$f":"IF(OR(L138<=0,AND(L138>1000000000,L138<>\"Freispiel\")),\"\",1/(HYPGEOMDIST(2,5,5,49)*HYPGEOMDIST(0,1,1,10))/L128)","v":15.997885835095135},{"$f":"IF(OR(L138<=0,M130>1),\"\",IF(L138=\"Freispiel\",N130/(1-(1/J138))/J138,IF(L138>1000000000,\"\",L138/J138/L129)))","v":0.1249956907463695},4.3992669389664094,{"$f":"IFERROR(IF(K138<K141,K141/K138,K138/K141),\"\")","v":2.6680933786043317},{"$f":"IFERROR(K138/IF((J138*L129)<1500,1500,J138*L129)^0.25*62.2333,\"\")","v":1.2499569530798271},5.2431770966732127E-2,2,{"$f":"IF(OR(S138<=0,AND(S138>1000000000,S138<>\"Freispiel\")),\"\",1/(HYPGEOMDIST(2,5,5,54)*HYPGEOMDIST(0,1,1,10))/S128)","v":19.072405557967866},{"$f":"IF(OR(S138<=0,T130>1),\"\",IF(S138=\"Freispiel\",U130/(1-(1/Q138))/Q138,IF(S138>1000000000,\"\",S138/Q138/S129)))","v":0.10486354193346425},3,{"$f":"IFERROR(IF(R138<R141,R141/R138,R138/R141),\"\")","v":1.8494577362167059},{"$f":"IFERROR(R138/IF((Q138*S129)<1500,1500,Q138*S129)^0.25*62.2333,\"\")","v":1.0486354576037156}]
[3.5594981131521375E-2,"1 + ZZ",{"$f":"IF(OR(E139<=0,AND(E139>1000000000,E139<>\"Freispiel\")),\"\",1/(HYPGEOMDIST(1,5,5,49)*HYPGEOMDIST(1,1,1,10))/E128)","v":28.093848295776823},{"$f":"IF(OR(E139<=0,F130>1),\"\",IF(E139=\"Freispiel\",G130/(1-(1/C139))/C139,IF(E139>1000000000,\"\",E139/C139/E129)))","v":3.5594981131521375E-2},2,{"$f":"IFERROR(IF(D139<D142,D142/D139,D139/D142),\"\")","v":1.3869472416409456},{"$f":"IFERROR(D139/IF((C139*E129)<1500,1500,C139*E129)^0.25*62.2333,\"\")","v":0.35594982430530447},5.6951969810434232E-2,"0 + ZZ",{"$f":"IF(OR(L139<=0,AND(L139>1000000000,L139<>\"Freispiel\")),\"\",1/(HYPGEOMDIST(0,5,5,49)*HYPGEOMDIST(1,1,1,10))/L128)","v":17.558655184860505},{"$f":"IF(OR(L139<=0,M130>1),\"\",IF(L139=\"Freispiel\",N130/(1-(1/J139))/J139,IF(L139>1000000000,\"\",L139/J139/L129)))","v":5.6951969810434239E-2},2.2000000000000002,{"$f":"IFERROR(IF(K139<K141,K141/K139,K139/K141),\"\")","v":1.2156672973472638},{"$f":"IFERROR(K139/IF((J139*L129)<1500,1500,J139*L129)^0.25*62.2333,\"\")","v":0.56951971888848762},6.0296536611741947E-2,"0 + SZ",{"$f":"IF(OR(S139<=0,AND(S139>1000000000,S139<>\"Freispiel\")),\"\",1/(HYPGEOMDIST(0,5,5,54)*HYPGEOMDIST(1,1,1,10))/S128)","v":16.584700485189448},{"$f":"IF(OR(S139<=0,T130>1),\"\",IF(S139=\"Freispiel\",U130/(1-(1/Q139))/Q139,IF(S139>1000000000,\"\",S139/Q139/S129)))","v":6.0296536611741947E-2},1.5,{"$f":"IFERROR(IF(R139<R141,R141/R139,R139/R141),\"\")","v":1.063438198324606},{"$f":"IFERROR(R139/IF((Q139*S129)<1500,1500,Q139*S129)^0.25*62.2333,\"\")","v":0.60296538812213629}]
[0.32035483018369243,1,{"$f":"IF(OR(E140<=0,AND(E140>1000000000,E140<>\"Freispiel\")),\"\",1/(HYPGEOMDIST(1,5,5,49)*HYPGEOMDIST(0,1,1,10))/E128)","v":3.1215386995307579},{"$f":"IF(OR(E140<=0,F130>1),\"\",IF(E140=\"Freispiel\",G130/(1-(1/C140))/C140,IF(E140>1000000000,\"\",E140/C140/E129)))","v":8.0088707545923107E-2},0.5,{"$f":"IFERROR(IF(D140<D142,D142/D140,D140/D142),\"\")","v":1.6222679078534719},{"$f":"IFERROR(D140/IF((C140*E129)<1500,1500,C140*E129)^0.25*62.2333,\"\")","v":0.80088710468693525},{"$f":"IF(SUM(H131:H139)=0,\"\",SUM(H131:H139))","v":0.13148246039087857},"Gesamt",{"$f":"IFERROR(1/H140,\"\")","v":7.6055771775729086},{"$f":"IF(SUM(K131:K139)=0,\"\",SUM(K131:K139))","v":0.42163487445322767},{"$f":"IFERROR(L129*K140,\"\")","v":0.9275967237971009},{"$f":"IFERROR(AVERAGE(M131:M139),\"\")","v":2.9627235359344626},{"$f":"IF(SUM(N131:N139)=0,\"\",SUM(N131:N139))","v":2.8541884967451794},{"$f":"IF(SUM(O131:O139)=0,\"\",SUM(O131:O139))","v":0.12235041154020068},"Gesamt",{"$f":"IFERROR(1/O140,\"\")","v":8.1732459042152872},{"$f":"IF(SUM(R131:R139)=0,\"\",SUM(R131:R139))","v":0.51029653661174224},{"$f":"IFERROR(S129*R140,\"\")","v":0.76544480491761335},{"$f":"IFERROR(AVERAGE(T131:T139),\"\")","v":3.5402906336471216},{"$f":"IF(SUM(U131:U139)=0,\"\",SUM(U131:U139))","v":2.5912993318705739}]
[{"$f":"IF(SUM(A131:A140)=0,\"\",SUM(A131:A140))","v":0.43048030189565817},"Gesamt",{"$f":"IFERROR(1/A141,\"\")","v":2.3229866630282765},{"$f":"IF(SUM(D131:D140)=0,\"\",SUM(D131:D140))","v":0.49368360896625074},{"$f":"IFERROR(E129*D141,\"\")","v":0.98736721793250148},{"$f":"IFERROR(AVERAGE(F131:F140),\"\")","v":2.6119116229316415},{"$f":"IF(SUM(G131:G140)=0,\"\",SUM(G131:G140))","v":4.1346499007004285},null,null,null,{"$f":"AVERAGE(K131:K139)","v":4.6848319383691966E-2},null,null,null,null,null,null,{"$f":"AVERAGE(R131:R139)","v":5.6699615179082473E-2}]
[null,null,null,{"$f":"AVERAGE(D131:D140)","v":4.9368360896625073E-2}]
[null,null,null,null,null,"vs.",null,null,10,null,null,1,null,null,null,10,null,null,1]
[null,"Deutsche Weihnachtslotterie ⁵",null,null,1,null,null,null,"322.999 aus 1.000.000",null,null,{"$f":"L143*120/I143","v":12},null,null,null,"34.851 aus 100.000",null,null,{"$f":"S143*IF(P143=50,5,200/P143)","v":20}]
[null,"31.179 aus 100.000",null,null,{"$f":"E144*20","v":20},null,null,null,"GK",{"$f":"IF(L143=1,\"Chancen 1:\",\"Ø Gewinne 1:\")","v":"Chancen 1:"},"Ø AQ","(Ø) Gewinn",{"$f":"IFERROR(COUNTIF(L146:L157,\"Freispiel\"),\"\")","v":0},{"$f":"IFERROR(SUMIF(L146:L157,\"<>Freispiel\",K146:K157),\"\")","v":0.54729791666666672},null,"GK","Chancen 1:","Ø AQ","(Ø) Gewinn",{"$f":"IFERROR(COUNTIF(S146:S153,\"Freispiel\"),\"\")","v":0},{"$f":"IFERROR(SUMIF(S146:S153,\"<>Freispiel\",R146:R153),\"\")","v":0.48565000000000003}]
[null,"GK",{"$f":"IF(E144=1,\"Chancen 1:\",\"Ø Gewinne 1:\")","v":"Chancen 1:"},"Ø AQ","(Ø) Gewinn",{"$f":"IFERROR(COUNTIF(E147:E157,\"Freispiel\"),\"\")","v":0},{"$f":"IFERROR(SUMIF(E147:E157,\"<>Freispiel\",D147:D157),\"\")","v":0.54220500000000005},{"$f":"IF(J146=\"\",0,1/J146)","v":9.9999999999999995E-7},1,{"$f":"IF(OR(L146<=0,AND(L146>1000000000,L146<>\"Freispiel\")),\"\",1000000/1/L143)","v":1000000},{"$f":"IF(OR(L146<=0,M145>1),\"\",IF(L146=\"Freispiel\",N145/(1-(1/J146))/J146,IF(L146>1000000000,\"\",L146/J146/L144)))","v":8.3333333333333329E-2},{"$f":"10000000/I143","v":1000000},{"$f":"IFERROR(IF(K146<K159,K159/K146,K146/K159),\"\")","v":1.8271584260552789},{"$f":"IFERROR(K146/IF((J146*L144)<1500,1500,J146*L144)^0.25*62.2333,\"\")","v":8.8114275169036999E-2},{"$f":"IF(Q146=\"\",0,1/Q146)","v":1.0000000000000001E-5},1,{"$f":"IF(OR(S146<=0,AND(S146>1000000000,S146<>\"Freispiel\")),\"\",100000/1/S143)","v":100000},{"$f":"IF(OR(S146<=0,T145>1),\"\",IF(S146=\"Freispiel\",U145/(1-(1/Q146))/Q146,IF(S146>1000000000,\"\",S146/Q146/S144)))","v":0.1},{"$f":"2000000/P143","v":200000},{"$f":"IFERROR(IF(R146<R155,R155/R146,R146/R155),\"\")","v":1.647276845464841},{"$f":"IFERROR(R146/IF((Q146*S144)<1500,1500,Q146*S144)^0.25*62.2333,\"\")","v":0.16548755202167331}]
[{"$f":"IF(C147=\"\",0,1/C147)","v":1.0000000000000001E-5},1,{"$f":"IF(OR(E147<=0,AND(E147>1000000000,E147<>\"Freispiel\")),\"\",100000/1/E144)","v":100000},{"$f":"IF(OR(E147<=0,F146>1),\"\",IF(E147=\"Freispiel\",G146/(1-(1/C147))/C147,IF(E147>1000000000,\"\",E147/C147/E145)))","v":0.2},400000,{"$f":"IFERROR(IF(D147<D159,D159/D147,D147/D159),\"\")","v":4.057505924880811},{"$f":"IFERROR(D147/IF((C147*E145)<1500,1500,C147*E145)^0.25*62.2333,\"\")","v":0.33097510404334662},9.9999999999999995E-7,2,{"$f":"IF(OR(L147<=0,AND(L147>1000000000,L147<>\"Freispiel\")),\"\",1000000/1/L143)","v":1000000},{"$f":"IF(OR(L147<=0,M145>1),\"\",IF(L147=\"Freispiel\",N145/(1-(1/J147))/J147,IF(L147>1000000000,\"\",L147/J147/L144)))","v":8.3333333333333339E-4},{"$f":"100000/I143","v":10000},{"$f":"IFERROR(IF(K147<K159,K159/K147,K147/K159),\"\")","v":54.729791666666671},{"$f":"IFERROR(K147/IF((J147*L144)<1500,1500,J147*L144)^0.25*62.2333,\"\")","v":8.8114275169037012E-4},1.0000000000000001E-5,2,{"$f":"IF(OR(S147<=0,AND(S147>1000000000,S147<>\"Freispiel\")),\"\",100000/1/S143)","v":100000},{"$f":"IF(OR(S147<=0,T145>1),\"\",IF(S147=\"Freispiel\",U145/(1-(1/Q147))/Q147,IF(S147>1000000000,\"\",S147/Q147/S144)))","v":1.2500000000000001E-2},{"$f":"250000/P143","v":25000},{"$f":"IFERROR(IF(R147<R155,R155/R147,R147/R155),\"\")","v":4.8564999999999996},{"$f":"IFERROR(R147/IF((Q147*S144)<1500,1500,Q147*S144)^0.25*62.2333,\"\")","v":2.0685944002709164E-2}]
[1.0000000000000001E-5,2,{"$f":"IF(OR(E148<=0,AND(E148>1000000000,E148<>\"Freispiel\")),\"\",100000/1/E144)","v":100000},{"$f":"IF(OR(E148<=0,F146>1),\"\",IF(E148=\"Freispiel\",G146/(1-(1/C148))/C148,IF(E148>1000000000,\"\",E148/C148/E145)))","v":2.5000000000000001E-2},50000,{"$f":"IFERROR(IF(D148<D159,D159/D148,D148/D159),\"\")","v":1.9716545454545455},{"$f":"IFERROR(D148/IF((C148*E145)<1500,1500,C148*E145)^0.25*62.2333,\"\")","v":4.1371888005418328E-2},1.9999999999999999E-6,3,{"$f":"IF(OR(L148<=0,AND(L148>1000000000,L148<>\"Freispiel\")),\"\",1000000/2/L143)","v":500000},{"$f":"IF(OR(L148<=0,M145>1),\"\",IF(L148=\"Freispiel\",N145/(1-(1/J148))/J148,IF(L148>1000000000,\"\",L148/J148/L144)))","v":8.3333333333333339E-4},{"$f":"50000/I143","v":5000},{"$f":"IFERROR(IF(K148<K159,K159/K148,K148/K159),\"\")","v":54.729791666666671},{"$f":"IFERROR(K148/IF((J148*L144)<1500,1500,J148*L144)^0.25*62.2333,\"\")","v":1.0478612296432642E-3},2.0000000000000002E-5,3,{"$f":"IF(OR(S148<=0,AND(S148>1000000000,S148<>\"Freispiel\")),\"\",100000/2/S143)","v":50000},{"$f":"IF(OR(S148<=0,T145>1),\"\",IF(S148=\"Freispiel\",U145/(1-(1/Q148))/Q148,IF(S148>1000000000,\"\",S148/Q148/S144)))","v":2.4000000000000002E-3},{"$f":"24000/P143","v":2400},{"$f":"IFERROR(IF(R148<R155,R155/R148,R148/R155),\"\")","v":25.294270833333332},{"$f":"IFERROR(R148/IF((Q148*S144)<1500,1500,Q148*S144)^0.25*62.2333,\"\")","v":4.7231753834053643E-3}]
[1.0000000000000001E-5,3,{"$f":"IF(OR(E149<=0,AND(E149>1000000000,E149<>\"Freispiel\")),\"\",100000/1/E144)","v":100000},{"$f":"IF(OR(E149<=0,F146>1),\"\",IF(E149=\"Freispiel\",G146/(1-(1/C149))/C149,IF(E149>1000000000,\"\",E149/C149/E145)))","v":1.2500000000000001E-2},25000,{"$f":"IFERROR(IF(D149<D159,D159/D149,D149/D159),\"\")","v":3.9433090909090911},{"$f":"IFERROR(D149/IF((C149*E145)<1500,1500,C149*E145)^0.25*62.2333,\"\")","v":2.0685944002709164E-2},3.9999999999999998E-6,4,{"$f":"IF(OR(L149<=0,AND(L149>1000000000,L149<>\"Freispiel\")),\"\",1000000/4/L143)","v":250000},{"$f":"IF(OR(L149<=0,M145>1),\"\",IF(L149=\"Freispiel\",N145/(1-(1/J149))/J149,IF(L149>1000000000,\"\",L149/J149/L144)))","v":8.3333333333333339E-4},{"$f":"25000/I143","v":2500},{"$f":"IFERROR(IF(K149<K159,K159/K149,K149/K159),\"\")","v":54.729791666666671},{"$f":"IFERROR(K149/IF((J149*L144)<1500,1500,J149*L144)^0.25*62.2333,\"\")","v":1.2461240298272699E-3},2.0000000000000002E-5,4,{"$f":"IF(OR(S149<=0,AND(S149>1000000000,S149<>\"Freispiel\")),\"\",100000/2/S143)","v":50000},{"$f":"IF(OR(S149<=0,T145>1),\"\",IF(S149=\"Freispiel\",U145/(1-(1/Q149))/Q149,IF(S149>1000000000,\"\",S149/Q149/S144)))","v":1.5325E-3},{"$f":"15325/P143","v":1532.5},{"$f":"IFERROR(IF(R149<R155,R155/R149,R149/R155),\"\")","v":39.612561174551388},{"$f":"IFERROR(R149/IF((Q149*S144)<1500,1500,Q149*S144)^0.25*62.2333,\"\")","v":3.0159442812786332E-3}]
[2.0000000000000002E-5,4,{"$f":"IF(OR(E150<=0,AND(E150>1000000000,E150<>\"Freispiel\")),\"\",100000/2/E144)","v":50000},{"$f":"IF(OR(E150<=0,F146>1),\"\",IF(E150=\"Freispiel\",G146/(1-(1/C150))/C150,IF(E150>1000000000,\"\",E150/C150/E145)))","v":0.01},10000,{"$f":"IFERROR(IF(D150<D159,D159/D150,D150/D159),\"\")","v":4.9291363636363643},{"$f":"IFERROR(D150/IF((C150*E145)<1500,1500,C150*E145)^0.25*62.2333,\"\")","v":1.9679897430855683E-2},9.9000000000000008E-5,6,{"$f":"IF(OR(L150<=0,AND(L150>1000000000,L150<>\"Freispiel\")),\"\",1000000/99/L143)","v":10101.010101010101},{"$f":"IF(OR(L150<=0,M145>1),\"\",IF(L150=\"Freispiel\",N145/(1-(1/J150))/J150,IF(L150>1000000000,\"\",L150/J150/L144)))","v":8.2500000000000004E-3},{"$f":"10000/I143","v":1000},{"$f":"IFERROR(IF(K150<K159,K159/K150,K150/K159),\"\")","v":5.528261784511785},{"$f":"IFERROR(K150/IF((J150*L144)<1500,1500,J150*L144)^0.25*62.2333,\"\")","v":2.7516314607062751E-2},5.0000000000000001E-4,5,{"$f":"IF(OR(S150<=0,AND(S150>1000000000,S150<>\"Freispiel\")),\"\",100000/50/S143)","v":2000},{"$f":"IF(OR(S150<=0,T145>1),\"\",IF(S150=\"Freispiel\",U145/(1-(1/Q150))/Q150,IF(S150>1000000000,\"\",S150/Q150/S144)))","v":9.3749999999999997E-3},{"$f":"3750/P143","v":375},{"$f":"IFERROR(IF(R150<R155,R155/R150,R150/R155),\"\")","v":6.4753333333333343},{"$f":"IFERROR(R150/IF((Q150*S144)<1500,1500,Q150*S144)^0.25*62.2333,\"\")","v":4.1255239167765731E-2}]
[2.0000000000000002E-5,5,{"$f":"IF(OR(E151<=0,AND(E151>1000000000,E151<>\"Freispiel\")),\"\",100000/2/E144)","v":50000},{"$f":"IF(OR(E151<=0,F146>1),\"\",IF(E151=\"Freispiel\",G146/(1-(1/C151))/C151,IF(E151>1000000000,\"\",E151/C151/E145)))","v":5.0000000000000001E-3},5000,{"$f":"IFERROR(IF(D151<D159,D159/D151,D151/D159),\"\")","v":9.8582727272727286},{"$f":"IFERROR(D151/IF((C151*E145)<1500,1500,C151*E145)^0.25*62.2333,\"\")","v":9.8399487154278414E-3},8.0000000000000004E-4,5,{"$f":"IF(OR(L151<=0,AND(L151>1000000000,L151<>\"Freispiel\")),\"\",1000000/800/L143)","v":1250},{"$f":"IF(OR(L151<=0,M145>1),\"\",IF(L151=\"Freispiel\",N145/(1-(1/J151))/J151,IF(L151>1000000000,\"\",L151/J151/L144)))","v":5.3333333333333337E-2},{"$f":"8000/I143","v":800},{"$f":"IFERROR(IF(K151<K159,K159/K151,K151/K159),\"\")","v":1.1693813926753787},{"$f":"IFERROR(K151/IF((J151*L144)<1500,1500,J151*L144)^0.25*62.2333,\"\")","v":0.29991538438001369},0.02,7,{"$f":"IF(OR(S151<=0,AND(S151>1000000000,S151<>\"Freispiel\")),\"\",100000/2000/S143)","v":50},{"$f":"IF(OR(S151<=0,T145>1),\"\",IF(S151=\"Freispiel\",U145/(1-(1/Q151))/Q151,IF(S151>1000000000,\"\",S151/Q151/S144)))","v":0.03},{"$f":"300/P143","v":30},{"$f":"IFERROR(IF(R151<R155,R155/R151,R151/R155),\"\")","v":2.023541666666667},{"$f":"IFERROR(R151/IF((Q151*S144)<1500,1500,Q151*S144)^0.25*62.2333,\"\")","v":0.30000001094824913}]
[2.0000000000000002E-5,6,{"$f":"IF(OR(E152<=0,AND(E152>1000000000,E152<>\"Freispiel\")),\"\",100000/2/E144)","v":50000},{"$f":"IF(OR(E152<=0,F146>1),\"\",IF(E152=\"Freispiel\",G146/(1-(1/C152))/C152,IF(E152>1000000000,\"\",E152/C152/E145)))","v":2.5000000000000001E-3},2500,{"$f":"IFERROR(IF(D152<D159,D159/D152,D152/D159),\"\")","v":19.716545454545457},{"$f":"IFERROR(D152/IF((C152*E145)<1500,1500,C152*E145)^0.25*62.2333,\"\")","v":4.9199743577139207E-3},9.990000000000001E-4,11,{"$f":"IF(OR(L152<=0,AND(L152>1000000000,L152<>\"Freispiel\")),\"\",1000000/999/L143)","v":1001.001001001001},{"$f":"IF(OR(L152<=0,M145>1),\"\",IF(L152=\"Freispiel\",N145/(1-(1/J152))/J152,IF(L152>1000000000,\"\",L152/J152/L144)))","v":2.0812500000000001E-2},{"$f":"2500/I143","v":250},{"$f":"IFERROR(IF(K152<K159,K159/K152,K152/K159),\"\")","v":2.1913830497163831},{"$f":"IFERROR(K152/IF((J152*L144)<1500,1500,J152*L144)^0.25*62.2333,\"\")","v":0.1237209203452011},2.7960000000000002E-2,"6+9-12",{"$f":"IF(OR(S152<=0,AND(S152>1000000000,S152<>\"Freispiel\")),\"\",100000/(1500+999+3*99)/S143)","v":35.765379113018597},{"$f":"IF(OR(S152<=0,T145>1),\"\",IF(S152=\"Freispiel\",U145/(1-(1/Q152))/Q152,IF(S152>1000000000,\"\",S152/Q152/S144)))","v":0.10485},{"$f":"750/P143","v":75},{"$f":"IFERROR(IF(R152<R155,R155/R152,R152/R155),\"\")","v":1.7271697724698856},{"$f":"IFERROR(R152/IF((Q152*S144)<1500,1500,Q152*S144)^0.25*62.2333,\"\")","v":1.048500038264131}]
[7.5000000000000002E-4,"7+8",{"$f":"IF(OR(E153<=0,AND(E153>1000000000,E153<>\"Freispiel\")),\"\",100000/(66+9)/E144)","v":1333.3333333333333},{"$f":"IF(OR(E153<=0,F146>1),\"\",IF(E153=\"Freispiel\",G146/(1-(1/C153))/C153,IF(E153>1000000000,\"\",E153/C153/E145)))","v":3.7499999999999999E-2},1000,{"$f":"IFERROR(IF(D153<D159,D159/D153,D153/D159),\"\")","v":1.3144363636363638},{"$f":"IFERROR(D153/IF((C153*E145)<1500,1500,C153*E145)^0.25*62.2333,\"\")","v":0.18262570911951545},1.098E-3,"7+10",{"$f":"IF(OR(L153<=0,AND(L153>1000000000,L153<>\"Freispiel\")),\"\",1000000/(999+99)/L143)","v":910.74681238615665},{"$f":"IF(OR(L153<=0,M145>1),\"\",IF(L153=\"Freispiel\",N145/(1-(1/J153))/J153,IF(L153>1000000000,\"\",L153/J153/L144)))","v":4.5750000000000006E-2},{"$f":"5000/I143","v":500},{"$f":"IFERROR(IF(K153<K159,K159/K153,K153/K159),\"\")","v":1.0031099759043482},{"$f":"IFERROR(K153/IF((J153*L144)<1500,1500,J153*L144)^0.25*62.2333,\"\")","v":0.27846409313603193},0.29999000000000003,"8+13",{"$f":"IF(OR(S153<=0,AND(S153>1000000000,S153<>\"Freispiel\")),\"\",100000/(2*10000+9999)/S143)","v":3.3334444481482715},{"$f":"IF(OR(S153<=0,T145>1),\"\",IF(S153=\"Freispiel\",U145/(1-(1/Q153))/Q153,IF(S153>1000000000,\"\",S153/Q153/S144)))","v":0.22499250000000001},{"$f":"150/P143","v":15},{"$f":"IFERROR(IF(R153<R155,R155/R153,R153/R155),\"\")","v":3.7062493565324823},{"$f":"IFERROR(R153/IF((Q153*S144)<1500,1500,Q153*S144)^0.25*62.2333,\"\")","v":2.2499250821091317}]
[9.8999999999999999E-4,9,{"$f":"IF(OR(E154<=0,AND(E154>1000000000,E154<>\"Freispiel\")),\"\",100000/99/E144)","v":1010.10101010101},{"$f":"IF(OR(E154<=0,F146>1),\"\",IF(E154=\"Freispiel\",G146/(1-(1/C154))/C154,IF(E154>1000000000,\"\",E154/C154/E145)))","v":2.4750000000000001E-2},500,{"$f":"IFERROR(IF(D154<D159,D159/D154,D154/D159),\"\")","v":1.9915702479338844},{"$f":"IFERROR(D154/IF((C154*E145)<1500,1500,C154*E145)^0.25*62.2333,\"\")","v":0.1291960790758778},9.9990000000000009E-3,8,{"$f":"IF(OR(L154<=0,AND(L154>1000000000,L154<>\"Freispiel\")),\"\",1000000/9999/L143)","v":100.0100010001},{"$f":"IF(OR(L154<=0,M145>1),\"\",IF(L154=\"Freispiel\",N145/(1-(1/J154))/J154,IF(L154>1000000000,\"\",L154/J154/L144)))","v":8.3324999999999996E-2},{"$f":"1000/I143","v":100},{"$f":"IFERROR(IF(K154<K159,K159/K154,K154/K159),\"\")","v":1.8269757102126734},{"$f":"IFERROR(K154/IF((J154*L144)<1500,1500,J154*L144)^0.25*62.2333,\"\")","v":0.83325003040876211},{"$f":"IF(SUM(O146:O153)=0,\"\",SUM(O146:O153))","v":0.34851000000000004},"Gesamt",{"$f":"IFERROR(1/O154,\"\")","v":2.8693581245875293},{"$f":"IF(SUM(R146:R153)=0,\"\",SUM(R146:R153))","v":0.48565000000000003},{"$f":"IFERROR(S144*R154,\"\")","v":9.713000000000001},{"$f":"IFERROR(AVERAGE(T146:T153),\"\")","v":10.667862872793993},{"$f":"IF(SUM(U146:U153)=0,\"\",SUM(U146:U153))","v":3.8335929861783438}]
[9.9899999999999989E-3,10,{"$f":"IF(OR(E155<=0,AND(E155>1000000000,E155<>\"Freispiel\")),\"\",100000/999/E144)","v":100.10010010010011},{"$f":"IF(OR(E155<=0,F146>1),\"\",IF(E155=\"Freispiel\",G146/(1-(1/C155))/C155,IF(E155>1000000000,\"\",E155/C155/E145)))","v":2.4974999999999997E-2},50,{"$f":"IFERROR(IF(D155<D159,D159/D155,D155/D159),\"\")","v":1.973628173628174},{"$f":"IFERROR(D155/IF((C155*E145)<1500,1500,C155*E145)^0.25*62.2333,\"\")","v":0.23236044559769956},9.9990000000000009E-3,12,{"$f":"IF(OR(L155<=0,AND(L155>1000000000,L155<>\"Freispiel\")),\"\",1000000/9999/L143)","v":100.0100010001},{"$f":"IF(OR(L155<=0,M145>1),\"\",IF(L155=\"Freispiel\",N145/(1-(1/J155))/J155,IF(L155>1000000000,\"\",L155/J155/L144)))","v":4.1662499999999998E-2},{"$f":"500/I143","v":50},{"$f":"IFERROR(IF(K155<K159,K159/K155,K155/K159),\"\")","v":1.09470530386372},{"$f":"IFERROR(K155/IF((J155*L144)<1500,1500,J155*L144)^0.25*62.2333,\"\")","v":0.41662501520438106},null,null,null,{"$f":"AVERAGE(R146:R153)","v":6.0706250000000003E-2}]
[9.9989999999999996E-2,11,{"$f":"IF(OR(E156<=0,AND(E156>1000000000,E156<>\"Freispiel\")),\"\",100000/9999/E144)","v":10.001000100010002},{"$f":"IF(OR(E156<=0,F146>1),\"\",IF(E156=\"Freispiel\",G146/(1-(1/C156))/C156,IF(E156>1000000000,\"\",E156/C156/E145)))","v":9.9989999999999996E-2},20,{"$f":"IFERROR(IF(D156<D159,D159/D156,D156/D159),\"\")","v":2.0285500871441613},{"$f":"IFERROR(D156/IF((C156*E145)<1500,1500,C156*E145)^0.25*62.2333,\"\")","v":0.9999000364905144},9.9998999999999991E-2,14,{"$f":"IF(OR(L156<=0,AND(L156>1000000000,L156<>\"Freispiel\")),\"\",1000000/99999/L143)","v":10.000100001000011},{"$f":"IF(OR(L156<=0,M145>1),\"\",IF(L156=\"Freispiel\",N145/(1-(1/J156))/J156,IF(L156>1000000000,\"\",L156/J156/L144)))","v":4.1666249999999995E-2},{"$f":"50/I143","v":5},{"$f":"IFERROR(IF(K156<K159,K159/K156,K156/K159),\"\")","v":1.0946067794011276},{"$f":"IFERROR(K156/IF((J156*L144)<1500,1500,J156*L144)^0.25*62.2333,\"\")","v":0.41666251520574948}]
[0.19997999999999999,"12+13",{"$f":"IF(OR(E157<=0,AND(E157>1000000000,E157<>\"Freispiel\")),\"\",100000/(9999+9999)/E144)","v":5.0005000500050008},{"$f":"IF(OR(E157<=0,F146>1),\"\",IF(E157=\"Freispiel\",G146/(1-(1/C157))/C157,IF(E157>1000000000,\"\",E157/C157/E145)))","v":9.9989999999999996E-2},10,{"$f":"IFERROR(IF(D157<D159,D159/D157,D157/D159),\"\")","v":2.0285500871441613},{"$f":"IFERROR(D157/IF((C157*E145)<1500,1500,C157*E145)^0.25*62.2333,\"\")","v":0.9999000364905144},0.19999799999999998,"9+13",{"$f":"IF(OR(L157<=0,AND(L157>1000000000,L157<>\"Freispiel\")),\"\",1000000/(99999+99999)/L143)","v":5.0000500005000053},{"$f":"IF(OR(L157<=0,M145>1),\"\",IF(L157=\"Freispiel\",N145/(1-(1/J157))/J157,IF(L157>1000000000,\"\",L157/J157/L144)))","v":0.16666499999999998},{"$f":"100/I143","v":10},{"$f":"IFERROR(IF(K157<K159,K159/K157,K157/K159),\"\")","v":3.6542803089420364},{"$f":"IFERROR(K157/IF((J157*L144)<1500,1500,J157*L144)^0.25*62.2333,\"\")","v":1.6666500608229979},null,"© Copyright 2023 by Lottoexperte\n(www.lotteriecheck.de) - Alle Rechte vorbehalten!"]
[{"$f":"IF(SUM(A147:A157)=0,\"\",SUM(A147:A157))","v":0.31179000000000001},"Gesamt",{"$f":"IFERROR(1/A158,\"\")","v":3.2072869559639501},{"$f":"IF(SUM(D147:D157)=0,\"\",SUM(D147:D157))","v":0.54220500000000005},{"$f":"IFERROR(E145*D158,\"\")","v":10.844100000000001},{"$f":"IFERROR(AVERAGE(F147:F157),\"\")","v":4.8921053696532493},{"$f":"IF(SUM(G147:G157)=0,\"\",SUM(G147:G157))","v":2.9714550633295933},{"$f":"IF(SUM(H146:H157)=0,\"\",SUM(H146:H157))","v":0.32299899999999998},"Gesamt",{"$f":"IFERROR(1/H158,\"\")","v":3.0959848172904563},{"$f":"IF(SUM(K146:K157)=0,\"\",SUM(K146:K157))","v":0.54729791666666672},{"$f":"IFERROR(L144*K158,\"\")","v":6.5675750000000006},{"$f":"IFERROR(AVERAGE(M146:M157),\"\")","v":15.298269810940228},{"$f":"IF(SUM(N146:N157)=0,\"\",SUM(N146:N157))","v":4.1540937372903981}]
[null,null,null,{"$f":"AVERAGE(D147:D157)","v":4.929136363636364E-2},null,null,null,null,null,null,{"$f":"AVERAGE(K146:K157)","v":4.5608159722222229E-2}]
[]
[null,10,null,null,1,"vs.",null,null,10,null,null,1,"vs.",null,null,10,null,null,1]
[null,"15.304 aus 100.000",null,null,{"$f":"E161*IF(B161=1,249.99,IF(B161=2,149.99,IF(B161=5,64.99,IF(B161=10,34.99,IF(B161=20,19.99,IF(B161=50,8.99,4.99))))))","v":34.99},null,null,null,"37.920 aus 100.000",null,null,{"$f":"L161*IF(I161=1,249.99,IF(I161=2,149.99,IF(I161=5,64.99,IF(I161=10,34.99,IF(I161=20,19.99,IF(I161=50,8.99,4.99))))))","v":34.99},null,null,null,"36.300 aus 100.000",null,null,{"$f":"S161*IF(P161=1,249.99,IF(P161=2,149.99,IF(P161=5,64.99,IF(P161=10,34.99,IF(P161=20,19.99,IF(P161=50,8.99,4.99))))))","v":34.99}]
[null,"GK",{"$f":"IF(E161=1,\"Chancen 1:\",\"Ø Gewinne 1:\")","v":"Chancen 1:"},"Ø AQ","(Ø) Gewinn",{"$f":"IFERROR(COUNTIF(E164:E173,\"Freispiel\"),\"\")","v":0},{"$f":"IFERROR(SUMIF(E164:E173,\"<>Freispiel\",D164:D173),\"\")","v":0.40011431837667905},null,"GK",{"$f":"IF(L161=1,\"Chancen 1:\",\"Ø Gewinne 1:\")","v":"Chancen 1:"},"Ø AQ","(Ø) Gewinn",{"$f":"IFERROR(COUNTIF(L164:L172,\"Freispiel\"),\"\")","v":0},{"$f":"IFERROR(SUMIF(L164:L172,\"<>Freispiel\",K164:K172),\"\")","v":0.40011431837667905},null,"GK",{"$f":"IF(S161=1,\"Chancen 1:\",\"Ø Gewinne 1:\")","v":"Chancen 1:"},"Ø AQ","(Ø) Gewinn",{"$f":"IFERROR(COUNTIF(S164:S172,\"Freispiel\"),\"\")","v":0},{"$f":"IFERROR(SUMIF(S164:S172,\"<>Freispiel\",R164:R172),\"\")","v":0.34352672192054873}]
[{"$f":"IF(C164=\"\",0,1/C164)","v":1.0000000000000001E-5},1,{"$f":"IF(OR(E164<=0,AND(E164>1000000000,E164<>\"Freispiel\")),\"\",100000/1/E161)","v":100000},{"$f":"IF(OR(E164<=0,F163>1),\"\",IF(E164=\"Freispiel\",G163/(1-(1/C164))/C164,IF(E164>1000000000,\"\",E164/C164/E162)))","v":0.11431837667905115},{"$f":"4000000/B161","v":400000},{"$f":"IFERROR(IF(D164<D175,D175/D164,D164/D175),\"\")","v":2.8571428571428568},{"$f":"IFERROR(D164/IF((C164*E162)<1500,1500,C164*E162)^0.25*62.2333,\"\")","v":0.16449507279547745},{"$f":"IF(J164=\"\",0,1/J164)","v":1.0000000000000001E-5},1,{"$f":"IF(OR(L164<=0,AND(L164>1000000000,L164<>\"Freispiel\")),\"\",100000/1/L161)","v":100000},{"$f":"IF(OR(L164<=0,M163>1),\"\",IF(L164=\"Freispiel\",N163/(1-(1/J164))/J164,IF(L164>1000000000,\"\",L164/J164/L162)))","v":5.7159188339525574E-2},{"$f":"2000000/I161","v":200000},{"$f":"IFERROR(IF(K164<K174,K174/K164,K164/K174),\"\")","v":1.2857142857142856},{"$f":"IFERROR(K164/IF((J164*L162)<1500,1500,J164*L162)^0.25*62.2333,\"\")","v":8.2247536397738727E-2},{"$f":"IF(Q164=\"\",0,1/Q164)","v":1.0000000000000001E-5},1,{"$f":"IF(OR(S164<=0,AND(S164>1000000000,S164<>\"Freispiel\")),\"\",100000/1/S161)","v":100000},{"$f":"IF(OR(S164<=0,T163>1),\"\",IF(S164=\"Freispiel\",U163/(1-(1/Q164))/Q164,IF(S164>1000000000,\"\",S164/Q164/S162)))","v":5.7159188339525574E-2},{"$f":"2000000/P161","v":200000},{"$f":"IFERROR(IF(R164<R174,R174/R164,R164/R174),\"\")","v":1.497504159733777},{"$f":"IFERROR(R164/IF((Q164*S162)<1500,1500,Q164*S162)^0.25*62.2333,\"\")","v":8.2247536397738727E-2}]
[1.0000000000000001E-5,2,{"$f":"IF(OR(E165<=0,AND(E165>1000000000,E165<>\"Freispiel\")),\"\",100000/1/E161)","v":100000},{"$f":"IF(OR(E165<=0,F163>1),\"\",IF(E165=\"Freispiel\",G163/(1-(1/C165))/C165,IF(E165>1000000000,\"\",E165/C165/E162)))","v":3.5724492712203487E-2},{"$f":"1250000/B161","v":125000},{"$f":"IFERROR(IF(D165<D175,D175/D165,D165/D175),\"\")","v":1.1200000000000001},{"$f":"IFERROR(D165/IF((C165*E162)<1500,1500,C165*E162)^0.25*62.2333,\"\")","v":5.1404710248586706E-2},1.0000000000000001E-5,2,{"$f":"IF(OR(L165<=0,AND(L165>1000000000,L165<>\"Freispiel\")),\"\",100000/1/L161)","v":100000},{"$f":"IF(OR(L165<=0,M163>1),\"\",IF(L165=\"Freispiel\",N163/(1-(1/J165))/J165,IF(L165>1000000000,\"\",L165/J165/L162)))","v":2.143469562732209E-2},{"$f":"750000/I161","v":75000},{"$f":"IFERROR(IF(K165<K174,K174/K165,K165/K174),\"\")","v":2.0740740740740744},{"$f":"IFERROR(K165/IF((J165*L162)<1500,1500,J165*L162)^0.25*62.2333,\"\")","v":3.0842826149152024E-2},1.0000000000000001E-5,2,{"$f":"IF(OR(S165<=0,AND(S165>1000000000,S165<>\"Freispiel\")),\"\",100000/1/S161)","v":100000},{"$f":"IF(OR(S165<=0,T163>1),\"\",IF(S165=\"Freispiel\",U163/(1-(1/Q165))/Q165,IF(S165>1000000000,\"\",S165/Q165/S162)))","v":1.7147756501857674E-2},{"$f":"600000/P161","v":60000},{"$f":"IFERROR(IF(R165<R174,R174/R165,R165/R174),\"\")","v":2.2259259259259259},{"$f":"IFERROR(R165/IF((Q165*S162)<1500,1500,Q165*S162)^0.25*62.2333,\"\")","v":2.4674260919321619E-2}]
[1.0000000000000001E-5,3,{"$f":"IF(OR(E166<=0,AND(E166>1000000000,E166<>\"Freispiel\")),\"\",100000/1/E161)","v":100000},{"$f":"IF(OR(E166<=0,F163>1),\"\",IF(E166=\"Freispiel\",G163/(1-(1/C166))/C166,IF(E166>1000000000,\"\",E166/C166/E162)))","v":1.4289797084881393E-2},{"$f":"500000/B161","v":50000},{"$f":"IFERROR(IF(D166<D175,D175/D166,D166/D175),\"\")","v":2.8000000000000003},{"$f":"IFERROR(D166/IF((C166*E162)<1500,1500,C166*E162)^0.25*62.2333,\"\")","v":2.0561884099434682E-2},1.0000000000000001E-5,3,{"$f":"IF(OR(L166<=0,AND(L166>1000000000,L166<>\"Freispiel\")),\"\",100000/1/L161)","v":100000},{"$f":"IF(OR(L166<=0,M163>1),\"\",IF(L166=\"Freispiel\",N163/(1-(1/J166))/J166,IF(L166>1000000000,\"\",L166/J166/L162)))","v":7.1448985424406967E-3},{"$f":"250000/I161","v":25000},{"$f":"IFERROR(IF(K166<K174,K174/K166,K166/K174),\"\")","v":6.2222222222222223},{"$f":"IFERROR(K166/IF((J166*L162)<1500,1500,J166*L162)^0.25*62.2333,\"\")","v":1.0280942049717341E-2},1.0000000000000001E-5,3,{"$f":"IF(OR(S166<=0,AND(S166>1000000000,S166<>\"Freispiel\")),\"\",100000/1/S161)","v":100000},{"$f":"IF(OR(S166<=0,T163>1),\"\",IF(S166=\"Freispiel\",U163/(1-(1/Q166))/Q166,IF(S166>1000000000,\"\",S166/Q166/S162)))","v":5.7159188339525576E-3},{"$f":"200000/P161","v":20000},{"$f":"IFERROR(IF(R166<R174,R174/R166,R166/R174),\"\")","v":6.6777777777777771},{"$f":"IFERROR(R166/IF((Q166*S162)<1500,1500,Q166*S162)^0.25*62.2333,\"\")","v":8.2247536397738723E-3}]
[2.0000000000000002E-5,4,{"$f":"IF(OR(E167<=0,AND(E167>1000000000,E167<>\"Freispiel\")),\"\",100000/2/E161)","v":50000},{"$f":"IF(OR(E167<=0,F163>1),\"\",IF(E167=\"Freispiel\",G163/(1-(1/C167))/C167,IF(E167>1000000000,\"\",E167/C167/E162)))","v":1.1431837667905115E-2},{"$f":"200000/B161","v":20000},{"$f":"IFERROR(IF(D167<D175,D175/D167,D167/D175),\"\")","v":3.5000000000000004},{"$f":"IFERROR(D167/IF((C167*E162)<1500,1500,C167*E162)^0.25*62.2333,\"\")","v":1.9561871095127237E-2},2.0000000000000002E-5,4,{"$f":"IF(OR(L167<=0,AND(L167>1000000000,L167<>\"Freispiel\")),\"\",100000/2/L161)","v":50000},{"$f":"IF(OR(L167<=0,M163>1),\"\",IF(L167=\"Freispiel\",N163/(1-(1/J167))/J167,IF(L167>1000000000,\"\",L167/J167/L162)))","v":6.859102600743069E-4},{"$f":"12000/I161","v":1200},{"$f":"IFERROR(IF(K167<K174,K174/K167,K167/K174),\"\")","v":64.814814814814824},{"$f":"IFERROR(K167/IF((J167*L162)<1500,1500,J167*L162)^0.25*62.2333,\"\")","v":1.173712265707634E-3},2.0000000000000002E-5,4,{"$f":"IF(OR(S167<=0,AND(S167>1000000000,S167<>\"Freispiel\")),\"\",100000/2/S161)","v":50000},{"$f":"IF(OR(S167<=0,T163>1),\"\",IF(S167=\"Freispiel\",U163/(1-(1/Q167))/Q167,IF(S167>1000000000,\"\",S167/Q167/S162)))","v":4.572735067162046E-4},{"$f":"8000/P161","v":800},{"$f":"IFERROR(IF(R167<R174,R174/R167,R167/R174),\"\")","v":83.472222222222214},{"$f":"IFERROR(R167/IF((Q167*S162)<1500,1500,Q167*S162)^0.25*62.2333,\"\")","v":7.8247484380508929E-4}]
[2.0000000000000002E-5,7,{"$f":"IF(OR(E168<=0,AND(E168>1000000000,E168<>\"Freispiel\")),\"\",100000/2/E161)","v":50000},{"$f":"IF(OR(E168<=0,F163>1),\"\",IF(E168=\"Freispiel\",G163/(1-(1/C168))/C168,IF(E168>1000000000,\"\",E168/C168/E162)))","v":1.1431837667905116E-3},{"$f":"20000/B161","v":2000},{"$f":"IFERROR(IF(D168<D175,D175/D168,D168/D175),\"\")","v":35},{"$f":"IFERROR(D168/IF((C168*E162)<1500,1500,C168*E162)^0.25*62.2333,\"\")","v":1.9561871095127234E-3},2.0000000000000002E-5,5,{"$f":"IF(OR(L168<=0,AND(L168>1000000000,L168<>\"Freispiel\")),\"\",100000/2/L161)","v":50000},{"$f":"IF(OR(L168<=0,M163>1),\"\",IF(L168=\"Freispiel\",N163/(1-(1/J168))/J168,IF(L168>1000000000,\"\",L168/J168/L162)))","v":3.4867104887110605E-4},{"$f":"6100/I161","v":610},{"$f":"IFERROR(IF(K168<K174,K174/K168,K168/K174),\"\")","v":127.50455373406191},{"$f":"IFERROR(K168/IF((J168*L162)<1500,1500,J168*L162)^0.25*62.2333,\"\")","v":5.9663706840138071E-4},2.0000000000000002E-5,5,{"$f":"IF(OR(S168<=0,AND(S168>1000000000,S168<>\"Freispiel\")),\"\",100000/2/S161)","v":50000},{"$f":"IF(OR(S168<=0,T163>1),\"\",IF(S168=\"Freispiel\",U163/(1-(1/Q168))/Q168,IF(S168>1000000000,\"\",S168/Q168/S162)))","v":2.4578450985996E-4},{"$f":"4300/P161","v":430},{"$f":"IFERROR(IF(R168<R174,R174/R168,R168/R174),\"\")","v":155.29715762273901},{"$f":"IFERROR(R168/IF((Q168*S162)<1500,1500,Q168*S162)^0.25*62.2333,\"\")","v":4.2058022854523557E-4}]
[2.0000000000000002E-5,8,{"$f":"IF(OR(E169<=0,AND(E169>1000000000,E169<>\"Freispiel\")),\"\",100000/2/E161)","v":50000},{"$f":"IF(OR(E169<=0,F163>1),\"\",IF(E169=\"Freispiel\",G163/(1-(1/C169))/C169,IF(E169>1000000000,\"\",E169/C169/E162)))","v":7.144898542440697E-4},{"$f":"12500/B161","v":1250},{"$f":"IFERROR(IF(D169<D175,D175/D169,D169/D175),\"\")","v":56.000000000000007},{"$f":"IFERROR(D169/IF((C169*E162)<1500,1500,C169*E162)^0.25*62.2333,\"\")","v":1.2226169434454523E-3},2.0000000000000001E-4,6,{"$f":"IF(OR(L169<=0,AND(L169>1000000000,L169<>\"Freispiel\")),\"\",100000/(2*10)/L161)","v":5000},{"$f":"IF(OR(L169<=0,M163>1),\"\",IF(L169=\"Freispiel\",N163/(1-(1/J169))/J169,IF(L169>1000000000,\"\",L169/J169/L162)))","v":2.0005715918833952E-3},{"$f":"3500/I161","v":350},{"$f":"IFERROR(IF(K169<K174,K174/K169,K169/K174),\"\")","v":22.222222222222221},{"$f":"IFERROR(K169/IF((J169*L162)<1500,1500,J169*L162)^0.25*62.2333,\"\")","v":6.0876327033025533E-3},1.98E-3,"10+11",{"$f":"IF(OR(S169<=0,AND(S169>1000000000,S169<>\"Freispiel\")),\"\",100000/(2*99)/S161)","v":505.05050505050502},{"$f":"IF(OR(S169<=0,T163>1),\"\",IF(S169=\"Freispiel\",U163/(1-(1/Q169))/Q169,IF(S169>1000000000,\"\",S169/Q169/S162)))","v":2.829379822806516E-3},{"$f":"500/P161","v":50},{"$f":"IFERROR(IF(R169<R174,R174/R169,R169/R174),\"\")","v":13.490460157126824},{"$f":"IFERROR(R169/IF((Q169*S162)<1500,1500,Q169*S162)^0.25*62.2333,\"\")","v":1.5271946524093812E-2}]
[2.0000000000000002E-5,9,{"$f":"IF(OR(E170<=0,AND(E170>1000000000,E170<>\"Freispiel\")),\"\",100000/2/E161)","v":50000},{"$f":"IF(OR(E170<=0,F163>1),\"\",IF(E170=\"Freispiel\",G163/(1-(1/C170))/C170,IF(E170>1000000000,\"\",E170/C170/E162)))","v":5.4872820805944549E-4},{"$f":"9600/B161","v":960},{"$f":"IFERROR(IF(D170<D175,D175/D170,D170/D175),\"\")","v":72.916666666666686},{"$f":"IFERROR(D170/IF((C170*E162)<1500,1500,C170*E162)^0.25*62.2333,\"\")","v":9.3896981256610718E-4},2.8940000000000004E-2,"7-12+14",{"$f":"IF(OR(L170<=0,AND(L170>1000000000,L170<>\"Freispiel\")),\"\",100000/(14*100+5*99+999)/L161)","v":34.554250172771248},{"$f":"IF(OR(L170<=0,M163>1),\"\",IF(L170=\"Freispiel\",N163/(1-(1/J170))/J170,IF(L170>1000000000,\"\",L170/J170/L162)))","v":8.2709345527293518E-2},{"$f":"1000/I161","v":100},{"$f":"IFERROR(IF(K170<K174,K174/K170,K170/K174),\"\")","v":1.8604285714285715},{"$f":"IFERROR(K170/IF((J170*L162)<1500,1500,J170*L162)^0.25*62.2333,\"\")","v":0.82709348545701933},1.0969999999999999E-2,"6-9",{"$f":"IF(OR(S170<=0,AND(S170>1000000000,S170<>\"Freispiel\")),\"\",100000/(8*100+3*99)/S161)","v":91.157702825888791},{"$f":"IF(OR(S170<=0,T163>1),\"\",IF(S170=\"Freispiel\",U163/(1-(1/Q170))/Q170,IF(S170>1000000000,\"\",S170/Q170/S162)))","v":3.1351814804229779E-2},{"$f":"1000/P161","v":100},{"$f":"IFERROR(IF(R170<R174,R174/R170,R170/R174),\"\")","v":1.2174617644079813},{"$f":"IFERROR(R170/IF((Q170*S162)<1500,1500,Q170*S162)^0.25*62.2333,\"\")","v":0.25962779622602417}]
[8.0000000000000007E-5,5,{"$f":"IF(OR(E171<=0,AND(E171>1000000000,E171<>\"Freispiel\")),\"\",100000/8/E161)","v":12500},{"$f":"IF(OR(E171<=0,F163>1),\"\",IF(E171=\"Freispiel\",G163/(1-(1/C171))/C171,IF(E171>1000000000,\"\",E171/C171/E162)))","v":1.3718205201486137E-2},{"$f":"60000/B161","v":6000},{"$f":"IFERROR(IF(D171<D175,D175/D171,D171/D175),\"\")","v":2.916666666666667},{"$f":"IFERROR(D171/IF((C171*E162)<1500,1500,C171*E162)^0.25*62.2333,\"\")","v":3.3197596089747795E-2},0.05,13,{"$f":"IF(OR(L171<=0,AND(L171>1000000000,L171<>\"Freispiel\")),\"\",100000/(5*1000)/L161)","v":20},{"$f":"IF(OR(L171<=0,M163>1),\"\",IF(L171=\"Freispiel\",N163/(1-(1/J171))/J171,IF(L171>1000000000,\"\",L171/J171/L162)))","v":5.7159188339525574E-2},{"$f":"400/I161","v":40},{"$f":"IFERROR(IF(K171<K174,K174/K171,K171/K174),\"\")","v":1.2857142857142856},{"$f":"IFERROR(K171/IF((J171*L162)<1500,1500,J171*L162)^0.25*62.2333,\"\")","v":0.5715919042550236},4.999E-2,"12+13",{"$f":"IF(OR(S171<=0,AND(S171>1000000000,S171<>\"Freispiel\")),\"\",100000/(4*1000+999)/S161)","v":20.004000800160032},{"$f":"IF(OR(S171<=0,T163>1),\"\",IF(S171=\"Freispiel\",U163/(1-(1/Q171))/Q171,IF(S171>1000000000,\"\",S171/Q171/S162)))","v":5.7147756501857674E-2},{"$f":"400/P161","v":40},{"$f":"IFERROR(IF(R171<R174,R174/R171,R171/R174),\"\")","v":1.4972046589018304},{"$f":"IFERROR(R171/IF((Q171*S162)<1500,1500,Q171*S162)^0.25*62.2333,\"\")","v":0.57147758587417263}]
[5.2859999999999997E-2,"6+10-16",{"$f":"IF(OR(E172<=0,AND(E172>1000000000,E172<>\"Freispiel\")),\"\",100000/(5*99+3*999+1794)/E161)","v":18.917896329928112},{"$f":"IF(OR(E172<=0,F163>1),\"\",IF(E172=\"Freispiel\",G163/(1-(1/C172))/C172,IF(E172>1000000000,\"\",E172/C172/E162)))","v":0.1510717347813661},{"$f":"1000/B161","v":100},{"$f":"IFERROR(IF(D172<D175,D175/D172,D172/D175),\"\")","v":3.7757142857142854},{"$f":"IFERROR(D172/IF((C172*E162)<1500,1500,C172*E162)^0.25*62.2333,\"\")","v":1.5107174029460273},0.29999000000000003,"15+16",{"$f":"IF(OR(L172<=0,AND(L172>1000000000,L172<>\"Freispiel\")),\"\",100000/(2*10000+9999)/L161)","v":3.3334444481482715},{"$f":"IF(OR(L172<=0,M163>1),\"\",IF(L172=\"Freispiel\",N163/(1-(1/J172))/J172,IF(L172>1000000000,\"\",L172/J172/L162)))","v":0.17147184909974278},{"$f":"200/I161","v":20},{"$f":"IFERROR(IF(K172<K174,K174/K172,K172/K174),\"\")","v":3.8570142857142855},{"$f":"IFERROR(K172/IF((J172*L162)<1500,1500,J172*L162)^0.25*62.2333,\"\")","v":1.7147185535746454},0.29999000000000003,"14+15",{"$f":"IF(OR(S172<=0,AND(S172>1000000000,S172<>\"Freispiel\")),\"\",100000/(2*10000+9999)/S161)","v":3.3334444481482715},{"$f":"IF(OR(S172<=0,T163>1),\"\",IF(S172=\"Freispiel\",U163/(1-(1/Q172))/Q172,IF(S172>1000000000,\"\",S172/Q172/S162)))","v":0.17147184909974278},{"$f":"200/P161","v":20},{"$f":"IFERROR(IF(R172<R174,R174/R172,R172/R174),\"\")","v":4.4923627287853583},{"$f":"IFERROR(R172/IF((Q172*S162)<1500,1500,Q172*S162)^0.25*62.2333,\"\")","v":1.7147185535746454}]
[9.9989999999999996E-2,17,{"$f":"IF(OR(E173<=0,AND(E173>1000000000,E173<>\"Freispiel\")),\"\",100000/9999/E161)","v":10.001000100010002},{"$f":"IF(OR(E173<=0,F163>1),\"\",IF(E173=\"Freispiel\",G163/(1-(1/C173))/C173,IF(E173>1000000000,\"\",E173/C173/E162)))","v":5.7153472420691617E-2},{"$f":"200/B161","v":20},{"$f":"IFERROR(IF(D173<D175,D175/D173,D173/D175),\"\")","v":1.4284285714285712},{"$f":"IFERROR(D173/IF((C173*E162)<1500,1500,C173*E162)^0.25*62.2333,\"\")","v":0.571534745064598},{"$f":"IF(SUM(H164:H172)=0,\"\",SUM(H164:H172))","v":0.37920000000000004},"Gesamt",{"$f":"IFERROR(1/H173,\"\")","v":2.6371308016877633},{"$f":"IF(SUM(K164:K172)=0,\"\",SUM(K164:K172))","v":0.40011431837667905},{"$f":"IFERROR(L162*K173,\"\")","v":14},{"$f":"IFERROR(AVERAGE(M164:M172),\"\")","v":25.680750943996301},{"$f":"IF(SUM(N164:N172)=0,\"\",SUM(N164:N172))","v":3.2446332299207077},{"$f":"IF(SUM(O164:O172)=0,\"\",SUM(O164:O172))","v":0.36300000000000004},"Gesamt",{"$f":"IFERROR(1/O173,\"\")","v":2.7548209366391183},{"$f":"IF(SUM(R164:R172)=0,\"\",SUM(R164:R172))","v":0.34352672192054873},{"$f":"IFERROR(S162*R173,\"\")","v":12.020000000000001},{"$f":"IFERROR(AVERAGE(T164:T172),\"\")","v":29.985341890846737},{"$f":"IF(SUM(U164:U172)=0,\"\",SUM(U164:U172))","v":2.6774454882281207}]
[{"$f":"IF(SUM(A164:A173)=0,\"\",SUM(A164:A173))","v":0.15304000000000001},"Gesamt",{"$f":"IFERROR(1/A174,\"\")","v":6.5342394145321476},{"$f":"IF(SUM(D164:D173)=0,\"\",SUM(D164:D173))","v":0.40011431837667905},{"$f":"IFERROR(E162*D174,\"\")","v":14},{"$f":"IFERROR(AVERAGE(F164:F173),\"\")","v":18.231461904761908},{"$f":"IF(SUM(G164:G173)=0,\"\",SUM(G164:G173))","v":2.3755910562045237},null,null,null,{"$f":"AVERAGE(K164:K172)","v":4.4457146486297672E-2},null,null,null,null,null,null,{"$f":"AVERAGE(R164:R172)","v":3.8169635768949856E-2}]
[null,null,null,{"$f":"AVERAGE(D164:D173)","v":4.0011431837667907E-2}]
[null,null,null,null,null,"vs.",null,null,5,null,null,1,null,null,null,10,null,null,1]
[null,"MiniLos ⁵",null,null,1,null,null,null,"(1+2+3+4+5+6+6+7) x 1 aus 10",null,null,{"$f":"L176*5/I176","v":1},null,null,null,"37.555 aus 100.000",null,null,{"$f":"S176*IF(P176=1,199.99,IF(P176=2,119.99,IF(P176=5,54.99,IF(P176=10,29.99,IF(P176=20,15.99,IF(P176=50,6.99,3.99))))))","v":29.99}]
[null,"6 x 1 aus 10",null,null,{"$f":"E177*1","v":1},null,null,null,"Richtige",{"$f":"IF(L176=1,\"Chancen 1:\",\"Ø Gewinne 1:\")","v":"Chancen 1:"},"Ø AQ","(Ø) Gewinn",{"$f":"IFERROR(COUNTIF(L179:L185,\"Freispiel\"),\"\")","v":0},{"$f":"IFERROR(SUMIF(L179:L185,\"<>Freispiel\",K179:K185),\"\")","v":0.3897216973308838},null,"GK",{"$f":"IF(S176=1,\"Chancen 1:\",\"Ø Gewinne 1:\")","v":"Chancen 1:"},"Ø AQ","(Ø) Gewinn",{"$f":"IFERROR(COUNTIF(S179:S189,\"Freispiel\"),\"\")","v":0},{"$f":"IFERROR(SUMIF(S179:S189,\"<>Freispiel\",R179:R189),\"\")","v":0.35011670556852287}]
[null,"Richtige",{"$f":"IF(E177=1,\"Chancen 1:\",\"Ø Gewinne 1:\")","v":"Chancen 1:"},"Ø AQ","(Ø) Gewinn",{"$f":"IFERROR(COUNTIF(E180:E185,\"Freispiel\"),\"\")","v":0},{"$f":"IFERROR(SUMIF(E180:E185,\"<>Freispiel\",D180:D185),\"\")","v":0.61164910000000006},{"$f":"IF(J179=\"\",0,1/J179)","v":9.9999999999999995E-8},7,{"$f":"IF(OR(L179<=0,AND(L179>1000000000,L179<>\"Freispiel\")),\"\",10^7/L176)","v":10000000},{"$f":"IF(OR(L179<=0,M178>1),\"\",IF(L179=\"Freispiel\",N178/(1-(1/J179))/J179,IF(L179>1000000000,\"\",L179/J179/L177)))","v":4.2000000000000003E-2},{"$f":"2100000/I176","v":420000},{"$f":"IFERROR(IF(K179<K187,K187/K179,K179/K187),\"\")","v":1.3255840045268155},{"$f":"IFERROR(K179/IF((J179*L177)<1500,1500,J179*L177)^0.25*62.2333,\"\")","v":4.6480642323685623E-2},{"$f":"IF(Q179=\"\",0,1/Q179)","v":1.0000000000000001E-5},1,{"$f":"IF(OR(S179<=0,AND(S179>1000000000,S179<>\"Freispiel\")),\"\",100000/1/S176)","v":100000},{"$f":"IF(OR(S179<=0,T178>1),\"\",IF(S179=\"Freispiel\",U178/(1-(1/Q179))/Q179,IF(S179>1000000000,\"\",S179/Q179/S177)))","v":5.0016672224074694E-2},{"$f":"1500000/P176","v":150000},{"$f":"IFERROR(IF(R179<R191,R191/R179,R179/R191),\"\")","v":1.5714285714285714},{"$f":"IFERROR(R179/IF((Q179*S177)<1500,1500,Q179*S177)^0.25*62.2333,\"\")","v":7.4798606577014801E-2}]
[{"$f":"IF(C180=\"\",0,1/C180)","v":9.9999999999999995E-7},6,{"$f":"IF(OR(E180<=0,AND(E180>1000000000,E180<>\"Freispiel\")),\"\",10^6/E177)","v":1000000},{"$f":"IF(OR(E180<=0,F179>1),\"\",IF(E180=\"Freispiel\",G179/(1-(1/C180))/C180,IF(E180>1000000000,\"\",E180/C180/E178)))","v":0.1},100000,{"$f":"IFERROR(IF(D180<D187,D187/D180,D180/D187),\"\")","v":1.0194151666666667},{"$f":"IFERROR(D180/IF((C180*E178)<1500,1500,C180*E178)^0.25*62.2333,\"\")","v":0.19679897430855683},1.9999998E-6,6,{"$f":"IF(OR(L180<=0,AND(L180>1000000000,L180<>\"Freispiel\")),\"\",1/(0.000002*0.9999999)/L176)","v":500000.05000000499},{"$f":"IF(OR(L180<=0,M178>1),\"\",IF(L180=\"Freispiel\",N178/(1-(1/J180))/J180,IF(L180>1000000000,\"\",L180/J180/L177)))","v":3.9999996000000003E-2},{"$f":"100000/I176","v":20000},{"$f":"IFERROR(IF(K180<K187,K187/K180,K180/K187),\"\")","v":1.3918633439394907},{"$f":"IFERROR(K180/IF((J180*L177)<1500,1500,J180*L177)^0.25*62.2333,\"\")","v":9.3613884487452531E-2},1.0000000000000001E-5,2,{"$f":"IF(OR(S180<=0,AND(S180>1000000000,S180<>\"Freispiel\")),\"\",100000/1/S176)","v":100000},{"$f":"IF(OR(S180<=0,T178>1),\"\",IF(S180=\"Freispiel\",U178/(1-(1/Q180))/Q180,IF(S180>1000000000,\"\",S180/Q180/S177)))","v":1.0003334444814939E-2},{"$f":"300000/P176","v":30000},{"$f":"IFERROR(IF(R180<R191,R191/R180,R180/R191),\"\")","v":3.1818181818181817},{"$f":"IFERROR(R180/IF((Q180*S177)<1500,1500,Q180*S177)^0.25*62.2333,\"\")","v":1.4959721315402961E-2}]
[1.7999910000000001E-5,5,{"$f":"IF(OR(E181<=0,AND(E181>1000000000,E181<>\"Freispiel\")),\"\",1/(0.00001*0.9*0.99999+0.00001*0.9)/E177)","v":55555.833334722229},{"$f":"IF(OR(E181<=0,F179>1),\"\",IF(E181=\"Freispiel\",G179/(1-(1/C181))/C181,IF(E181>1000000000,\"\",E181/C181/E178)))","v":8.9999549999999998E-2},5000,{"$f":"IFERROR(IF(D181<D187,D187/D181,D181/D187),\"\")","v":1.1326891819644285},{"$f":"IFERROR(D181/IF((C181*E178)<1500,1500,C181*E178)^0.25*62.2333,\"\")","v":0.36482177496292828},9.9999790000020024E-6,5,{"$f":"IF(OR(L181<=0,AND(L181>1000000000,L181<>\"Freispiel\")),\"\",1/(0.00001*0.999998*0.9999999)/L176)","v":100000.21000042098},{"$f":"IF(OR(L181<=0,M178>1),\"\",IF(L181=\"Freispiel\",N178/(1-(1/J181))/J181,IF(L181>1000000000,\"\",L181/J181/L177)))","v":1.9999958000004005E-2},{"$f":"10000/I176","v":2000},{"$f":"IFERROR(IF(K181<K187,K187/K181,K181/K187),\"\")","v":2.7837322553434913},{"$f":"IFERROR(K181/IF((J181*L177)<1500,1500,J181*L177)^0.25*62.2333,\"\")","v":6.9992529055131772E-2},1.0000000000000001E-5,3,{"$f":"IF(OR(S181<=0,AND(S181>1000000000,S181<>\"Freispiel\")),\"\",100000/1/S176)","v":100000},{"$f":"IF(OR(S181<=0,T178>1),\"\",IF(S181=\"Freispiel\",U178/(1-(1/Q181))/Q181,IF(S181>1000000000,\"\",S181/Q181/S177)))","v":5.0016672224074696E-3},{"$f":"150000/P176","v":15000},{"$f":"IFERROR(IF(R181<R191,R191/R181,R181/R191),\"\")","v":6.3636363636363633},{"$f":"IFERROR(R181/IF((Q181*S177)<1500,1500,Q181*S177)^0.25*62.2333,\"\")","v":7.4798606577014806E-3}]
[1.7999010000000002E-4,4,{"$f":"IF(OR(E182<=0,AND(E182>1000000000,E182<>\"Freispiel\")),\"\",1/(0.0001*0.9*0.9999+0.0001*0.9*0.99999)/E177)","v":5555.8611279175902},{"$f":"IF(OR(E182<=0,F179>1),\"\",IF(E182=\"Freispiel\",G179/(1-(1/C182))/C182,IF(E182>1000000000,\"\",E182/C182/E178)))","v":8.9995050000000007E-2},500,{"$f":"IFERROR(IF(D182<D187,D187/D182,D182/D187),\"\")","v":1.1327458195385931},{"$f":"IFERROR(D182/IF((C182*E178)<1500,1500,C182*E178)^0.25*62.2333,\"\")","v":0.64871450361044569},9.999879000212001E-5,4,{"$f":"IF(OR(L182<=0,AND(L182>1000000000,L182<>\"Freispiel\")),\"\",1/(0.0001*0.99999*0.999998*0.9999999)/L176)","v":10000.121001252111},{"$f":"IF(OR(L182<=0,M178>1),\"\",IF(L182=\"Freispiel\",N178/(1-(1/J182))/J182,IF(L182>1000000000,\"\",L182/J182/L177)))","v":1.9999758000424001E-2},{"$f":"1000/I176","v":200},{"$f":"IFERROR(IF(K182<K187,K187/K182,K182/K187),\"\")","v":2.7837600929444215},{"$f":"IFERROR(K182/IF((J182*L177)<1500,1500,J182*L177)^0.25*62.2333,\"\")","v":0.12446471744882075},2.0000000000000002E-5,8,{"$f":"IF(OR(S182<=0,AND(S182>1000000000,S182<>\"Freispiel\")),\"\",100000/2/S176)","v":50000},{"$f":"IF(OR(S182<=0,T178>1),\"\",IF(S182=\"Freispiel\",U178/(1-(1/Q182))/Q182,IF(S182>1000000000,\"\",S182/Q182/S177)))","v":1.4004668222740914E-3},{"$f":"21000/P176","v":2100},{"$f":"IFERROR(IF(R182<R191,R191/R182,R182/R191),\"\")","v":22.727272727272727},{"$f":"IFERROR(R182/IF((Q182*S177)<1500,1500,Q182*S177)^0.25*62.2333,\"\")","v":2.4906289837429096E-3}]
[1.7990100000000004E-3,3,{"$f":"IF(OR(E183<=0,AND(E183>1000000000,E183<>\"Freispiel\")),\"\",1/(0.001*0.9*0.999+0.001*0.9*0.9999)/E177)","v":555.86127925914798},{"$f":"IF(OR(E183<=0,F179>1),\"\",IF(E183=\"Freispiel\",G179/(1-(1/C183))/C183,IF(E183>1000000000,\"\",E183/C183/E178)))","v":8.9950500000000017E-2},50,{"$f":"IFERROR(IF(D183<D187,D187/D183,D183/D187),\"\")","v":1.1333068372790218},{"$f":"IFERROR(D183/IF((C183*E178)<1500,1500,C183*E178)^0.25*62.2333,\"\")","v":0.89950503282668304},9.9988790123119804E-4,3,{"$f":"IF(OR(L183<=0,AND(L183>1000000000,L183<>\"Freispiel\")),\"\",1/(0.001*0.9999*0.99999*0.999998*0.9999999)/L176)","v":1000.1121113363447},{"$f":"IF(OR(L183<=0,M178>1),\"\",IF(L183=\"Freispiel\",N178/(1-(1/J183))/J183,IF(L183>1000000000,\"\",L183/J183/L177)))","v":1.999775802462396E-2},{"$f":"100/I176","v":20},{"$f":"IFERROR(IF(K183<K187,K187/K183,K183/K187),\"\")","v":2.7840384967941008},{"$f":"IFERROR(K183/IF((J183*L177)<1500,1500,J183*L177)^0.25*62.2333,\"\")","v":0.19997758754425418},2.0000000000000002E-5,9,{"$f":"IF(OR(S183<=0,AND(S183>1000000000,S183<>\"Freispiel\")),\"\",100000/2/S176)","v":50000},{"$f":"IF(OR(S183<=0,T178>1),\"\",IF(S183=\"Freispiel\",U178/(1-(1/Q183))/Q183,IF(S183>1000000000,\"\",S183/Q183/S177)))","v":8.002667555851951E-4},{"$f":"12000/P176","v":1200},{"$f":"IFERROR(IF(R183<R191,R191/R183,R183/R191),\"\")","v":39.772727272727273},{"$f":"IFERROR(R183/IF((Q183*S177)<1500,1500,Q183*S177)^0.25*62.2333,\"\")","v":1.4232165621388053E-3}]
[1.7901E-2,2,{"$f":"IF(OR(E184<=0,AND(E184>1000000000,E184<>\"Freispiel\")),\"\",1/(0.01*0.9*0.99+0.01*0.9*0.999)/E177)","v":55.862800960840175},{"$f":"IF(OR(E184<=0,F179>1),\"\",IF(E184=\"Freispiel\",G179/(1-(1/C184))/C184,IF(E184>1000000000,\"\",E184/C184/E178)))","v":7.1604000000000001E-2},4,{"$f":"IFERROR(IF(D184<D187,D187/D184,D184/D187),\"\")","v":1.423684663799043},{"$f":"IFERROR(D184/IF((C184*E178)<1500,1500,C184*E178)^0.25*62.2333,\"\")","v":0.71604002613128115},9.9888801332996685E-3,2,{"$f":"IF(OR(L184<=0,AND(L184>1000000000,L184<>\"Freispiel\")),\"\",1/(0.01*0.999*0.9999*0.99999*0.999998*0.9999999)/L176)","v":100.11132245609056},{"$f":"IF(OR(L184<=0,M178>1),\"\",IF(L184=\"Freispiel\",N178/(1-(1/J184))/J184,IF(L184>1000000000,\"\",L184/J184/L177)))","v":4.9944400666498343E-2},{"$f":"25/I176","v":5},{"$f":"IFERROR(IF(K184<K187,K187/K184,K184/K187),\"\")","v":1.1147301288464868},{"$f":"IFERROR(K184/IF((J184*L177)<1500,1500,J184*L177)^0.25*62.2333,\"\")","v":0.49944402489177481},2.0000000000000002E-5,10,{"$f":"IF(OR(S184<=0,AND(S184>1000000000,S184<>\"Freispiel\")),\"\",100000/2/S176)","v":50000},{"$f":"IF(OR(S184<=0,T178>1),\"\",IF(S184=\"Freispiel\",U178/(1-(1/Q184))/Q184,IF(S184>1000000000,\"\",S184/Q184/S177)))","v":4.1513837945981991E-4},{"$f":"6225/P176","v":622.5},{"$f":"IFERROR(IF(R184<R191,R191/R184,R184/R191),\"\")","v":76.67031763417306},{"$f":"IFERROR(R184/IF((Q184*S177)<1500,1500,Q184*S177)^0.25*62.2333,\"\")","v":7.382935916095052E-4}]
[0.17010000000000003,1,{"$f":"IF(OR(E185<=0,AND(E185>1000000000,E185<>\"Freispiel\")),\"\",1/(0.1*0.9*0.9+0.1*0.9*0.99)/E177)","v":5.8788947677836561},{"$f":"IF(OR(E185<=0,F179>1),\"\",IF(E185=\"Freispiel\",G179/(1-(1/C185))/C185,IF(E185>1000000000,\"\",E185/C185/E178)))","v":0.17010000000000003},1,{"$f":"IFERROR(IF(D185<D187,D187/D185,D185/D187),\"\")","v":1.6686037795199895},{"$f":"IFERROR(D185/IF((C185*E178)<1500,1500,C185*E178)^0.25*62.2333,\"\")","v":1.7010000620765731},9.888991331966672E-2,1,{"$f":"IF(OR(L185<=0,AND(L185>1000000000,L185<>\"Freispiel\")),\"\",1/(0.1*0.99*0.999*0.9999*0.99999*0.999998*0.9999999)/L176)","v":10.112254793544501},{"$f":"IF(OR(L185<=0,M178>1),\"\",IF(L185=\"Freispiel\",N178/(1-(1/J185))/J185,IF(L185>1000000000,\"\",L185/J185/L177)))","v":0.19777982663933344},{"$f":"10/I176","v":2},{"$f":"IFERROR(IF(K185<K187,K187/K185,K185/K187),\"\")","v":3.5524293257398312},{"$f":"IFERROR(K185/IF((J185*L177)<1500,1500,J185*L177)^0.25*62.2333,\"\")","v":1.9777983385714284},1.1999999999999999E-4,4,{"$f":"IF(OR(S185<=0,AND(S185>1000000000,S185<>\"Freispiel\")),\"\",100000/12/S176)","v":8333.3333333333339},{"$f":"IF(OR(S185<=0,T178>1),\"\",IF(S185=\"Freispiel\",U178/(1-(1/Q185))/Q185,IF(S185>1000000000,\"\",S185/Q185/S177)))","v":3.0010003334444812E-2},{"$f":"75000/P176","v":7500},{"$f":"IFERROR(IF(R185<R191,R191/R185,R185/R191),\"\")","v":1.0606060606060608},{"$f":"IFERROR(R185/IF((Q185*S177)<1500,1500,Q185*S177)^0.25*62.2333,\"\")","v":8.3529536081563507E-2}]
[{"$f":"IF(SUM(A180:A185)=0,\"\",SUM(A180:A185))","v":0.18999900001000003},"Gesamt",{"$f":"IFERROR(1/A186,\"\")","v":5.2631855954366493},{"$f":"IF(SUM(D180:D185)=0,\"\",SUM(D180:D185))","v":0.61164910000000006},{"$f":"IFERROR(E178*D186,\"\")","v":0.61164910000000006},{"$f":"IFERROR(AVERAGE(F180:F185),\"\")","v":1.2517409081279574},{"$f":"IF(SUM(G180:G185)=0,\"\",SUM(G180:G185))","v":4.5268803739164678},{"$f":"IF(SUM(H179:H185)=0,\"\",SUM(H179:H185))","v":0.1099907801229997},"Gesamt",{"$f":"IFERROR(1/H186,\"\")","v":9.0916711280866185},{"$f":"IF(SUM(K179:K185)=0,\"\",SUM(K179:K185))","v":0.3897216973308838},{"$f":"IFERROR(L177*K186,\"\")","v":0.3897216973308838},{"$f":"IFERROR(AVERAGE(M179:M185),\"\")","v":2.248019664019234},{"$f":"IF(SUM(N179:N185)=0,\"\",SUM(N179:N185))","v":3.0117717243225481},4.0000000000000002E-4,5,{"$f":"IF(OR(S186<=0,AND(S186>1000000000,S186<>\"Freispiel\")),\"\",100000/(4*10)/S176)","v":2500},{"$f":"IF(OR(S186<=0,T178>1),\"\",IF(S186=\"Freispiel\",U178/(1-(1/Q186))/Q186,IF(S186>1000000000,\"\",S186/Q186/S177)))","v":5.0016672224074696E-3},{"$f":"3750/P176","v":375},{"$f":"IFERROR(IF(R186<R191,R191/R186,R186/R191),\"\")","v":6.3636363636363633},{"$f":"IFERROR(R186/IF((Q186*S177)<1500,1500,Q186*S177)^0.25*62.2333,\"\")","v":1.8810853680728063E-2}]
[null,null,null,{"$f":"AVERAGE(D180:D185)","v":0.10194151666666668},null,null,null,null,null,null,{"$f":"AVERAGE(K179:K185)","v":5.5674528190126256E-2},null,null,null,1.4960000000000001E-2,"6+11-14",{"$f":"IF(OR(S187<=0,AND(S187>1000000000,S187<>\"Freispiel\")),\"\",100000/(11*100+4*99)/S176)","v":66.844919786096256},{"$f":"IF(OR(S187<=0,T178>1),\"\",IF(S187=\"Freispiel\",U178/(1-(1/Q187))/Q187,IF(S187>1000000000,\"\",S187/Q187/S177)))","v":3.7412470823607873E-2},{"$f":"750/P176","v":75},{"$f":"IFERROR(IF(R187<R191,R191/R187,R187/R191),\"\")","v":1.1754285714285715},{"$f":"IFERROR(R187/IF((Q187*S177)<1500,1500,Q187*S177)^0.25*62.2333,\"\")","v":0.34795894364514535}]
[null,null,null,null,null,null,null,null,null,null,null,null,null,null,5.9989999999999995E-2,"7+15",{"$f":"IF(OR(S188<=0,AND(S188>1000000000,S188<>\"Freispiel\")),\"\",100000/(5*1000+999)/S176)","v":16.669444907484582},{"$f":"IF(OR(S188<=0,T178>1),\"\",IF(S188=\"Freispiel\",U178/(1-(1/Q188))/Q188,IF(S188>1000000000,\"\",S188/Q188/S177)))","v":6.0010003334444811E-2},{"$f":"300/P176","v":30},{"$f":"IFERROR(IF(R188<R191,R191/R188,R188/R191),\"\")","v":1.8853999999999997},{"$f":"IFERROR(R188/IF((Q188*S177)<1500,1500,Q188*S177)^0.25*62.2333,\"\")","v":0.60010005524459709}]
[null,"Tipp: Bei den Lotterien SwissLotto, PowerBall und MegaMillions kann der aktuelle Wechselkurs über der Zelle mit der Tippanzahl eingetragen werden!",null,null,null,null,null,null,"Zusatzlotterie Sieger-Chance",null,null,1,null,null,0.29999000000000003,"16-18",{"$f":"IF(OR(S189<=0,AND(S189>1000000000,S189<>\"Freispiel\")),\"\",100000/(2*10000+9999)/S176)","v":3.3334444481482715},{"$f":"IF(OR(S189<=0,T178>1),\"\",IF(S189=\"Freispiel\",U178/(1-(1/Q189))/Q189,IF(S189>1000000000,\"\",S189/Q189/S177)))","v":0.1500450150050017},{"$f":"150/P176","v":15},{"$f":"IFERROR(IF(R189<R191,R191/R189,R189/R191),\"\")","v":4.7141285714285726},{"$f":"IFERROR(R189/IF((Q189*S177)<1500,1500,Q189*S177)^0.25*62.2333,\"\")","v":1.5004502048076906}]
[null,null,null,null,null,null,null,null,"(5+5+6+7+7+7) x 1 aus 10",null,null,{"$f":"L189*3","v":3},null,null,{"$f":"IF(SUM(O179:O189)=0,\"\",SUM(O179:O189))","v":0.37555000000000005},"Gesamt",{"$f":"IFERROR(1/O190,\"\")","v":2.6627612834509384},{"$f":"IF(SUM(R179:R189)=0,\"\",SUM(R179:R189))","v":0.35011670556852287},{"$f":"IFERROR(S177*R190,\"\")","v":10.5},{"$f":"IFERROR(AVERAGE(T179:T189),\"\")","v":15.044218210741432},{"$f":"IF(SUM(U179:U189)=0,\"\",SUM(U179:U189))","v":2.6527399211473353}]
[null,null,null,null,null,null,null,null,"Richtige",{"$f":"IF(L189=1,\"Chancen 1:\",\"Ø Gewinne 1:\")","v":"Chancen 1:"},"Ø AQ","(Ø) Gewinn",{"$f":"IFERROR(COUNTIF(L192:L194,\"Freispiel\"),\"\")","v":0},{"$f":"IFERROR(SUMIF(L192:L194,\"<>Freispiel\",K192:K194),\"\")","v":0.36666652000001998},null,null,null,{"$f":"AVERAGE(R179:R189)","v":3.1828791415320259E-2}]
[null,null,null,null,null,null,null,{"$f":"IF(J192=\"\",0,1/J192)","v":2.9999999999999999E-7},7,{"$f":"IF(OR(L192<=0,AND(L192>1000000000,L192<>\"Freispiel\")),\"\",1/0.0000003)","v":3333333.3333333335},{"$f":"IF(OR(L192<=0,M191>1),\"\",IF(L192=\"Freispiel\",N191/(1-(1/J192))/J192,IF(L192>1000000000,\"\",L192/J192/L190)))","v":9.9999999999999992E-2},1000000,{"$f":"IFERROR(IF(K192<K196,K196/K192,K192/K196),\"\")","v":1.2222217333334},{"$f":"IFERROR(K192/IF((J192*L190)<1500,1500,J192*L190)^0.25*62.2333,\"\")","v":0.11066819600877527}]
[null,"Veraltete Gewinntabellen oder sonstige Fehler gefunden? Dann schreibe bitte eine E-Mail an:\nlottohelden@lotteriecheck.de",null,null,null,null,null,9.9999969999999993E-7,6,{"$f":"IF(OR(L193<=0,AND(L193>1000000000,L193<>\"Freispiel\")),\"\",1/(0.000001*0.9999997))","v":1000000.30000009},{"$f":"IF(OR(L193<=0,M191>1),\"\",IF(L193=\"Freispiel\",N191/(1-(1/J193))/J193,IF(L193>1000000000,\"\",L193/J193/L190)))","v":0.19999993999999999},600000,{"$f":"IFERROR(IF(K193<K196,K196/K193,K193/K196),\"\")","v":1.6363637999999761},{"$f":"IFERROR(K193/IF((J193*L190)<1500,1500,J193*L190)^0.25*62.2333,\"\")","v":0.2990696550073863},null,"EuroDreams ¹³",null,1,1]
[null,null,null,null,null,null,null,1.9999974000006001E-5,5,{"$f":"IF(OR(L194<=0,AND(L194>1000000000,L194<>\"Freispiel\")),\"\",1/(0.00002*0.999999*0.9999997))","v":50000.065000069495},{"$f":"IF(OR(L194<=0,M191>1),\"\",IF(L194=\"Freispiel\",N191/(1-(1/J194))/J194,IF(L194>1000000000,\"\",L194/J194/L190)))","v":6.6666580000020001E-2},10000,{"$f":"IFERROR(IF(K194<K196,K196/K194,K194/K196),\"\")","v":1.8333349833350283},{"$f":"IFERROR(K194/IF((J194*L190)<1500,1500,J194*L190)^0.25*62.2333,\"\")","v":0.21081817579157966},null,"6 aus 40 + 1 aus 5",null,{"$f":"IF(R193=1,\"Anteil\",\"Anteile\")","v":"Anteil"},{"$f":"S193*2.5/R193","v":2.5}]
[null,null,null,null,null,null,null,{"$f":"IF(SUM(H192:H194)=0,\"\",SUM(H192:H194))","v":2.1299973700006E-5},"Gesamt",{"$f":"IFERROR(1/H195,\"\")","v":46948.414776667931},{"$f":"IF(SUM(K192:K194)=0,\"\",SUM(K192:K194))","v":0.36666652000001998},{"$f":"IFERROR(L190*K195,\"\")","v":1.0999995600000601},{"$f":"IFERROR(AVERAGE(M192:M194),\"\")","v":1.5639735055561348},{"$f":"IF(SUM(N192:N194)=0,\"\",SUM(N192:N194))","v":0.62055602680774125},null,"Richtige",{"$f":"IF(S193=1,\"Chancen 1:\",\"Ø Gewinne 1:\")","v":"Chancen 1:"},"(Ø) AQ","(Ø) Gewinn",{"$f":"IFERROR(COUNTIF(S196:S201,\"Freispiel\"),\"\")","v":0},{"$f":"IFERROR(SUMIF(S196:S201,\"<>Freispiel\",R196:R201),\"\")","v":0.41532230651530577}]
[null,null,null,null,null,null,null,null,null,null,{"$f":"AVERAGE(K192:K194)","v":0.12222217333334},null,null,null,{"$f":"IF(Q196=\"\",0,1/Q196)","v":5.2105315263210069E-8},"6 + TZ",{"$f":"IF(OR(S196<=0,AND(S196>1000000000,S196<>\"Freispiel\")),\"\",1/(HYPGEOMDIST(6,6,6,40)*HYPGEOMDIST(1,1,1,5))/S193)","v":19191899.999999974},{"$f":"IF(OR(S196<=0,T195>1),\"\",IF(S196=\"Freispiel\",U195/(1-(1/Q196))/Q196,IF(S196>1000000000,\"\",S196/Q196/S194)))","v":0.12078183469839207},{"$f":"PV(0.00125,360,-20000)/R193","v":5795082.2333701691},{"$f":"IFERROR(IF(R196<R203,R203/R196,R196/R203),\"\")","v":1.7448882393790845},{"$f":"IFERROR(R196/IF((Q196*S194)<1500,1500,Q196*S194)^0.25*62.2333,\"\")","v":9.0315014869620347E-2}]
[null,null,null,null,null,null,null,null,null,null,null,null,null,null,2.0842126105284028E-7,6,{"$f":"IF(OR(S197<=0,AND(S197>1000000000,S197<>\"Freispiel\")),\"\",1/(HYPGEOMDIST(6,6,6,40)*HYPGEOMDIST(0,1,1,5))/S193)","v":4797974.9999999935},{"$f":"IF(OR(S197<=0,T195>1),\"\",IF(S197=\"Freispiel\",U195/(1-(1/Q197))/Q197,IF(S197>1000000000,\"\",S197/Q197/S194)))","v":9.6324718169136427E-3},{"$f":"PV(0.00125,60,-2000)/R193","v":115540.89741439043},{"$f":"IFERROR(IF(R197<R203,R203/R197,R197/R203),\"\")","v":7.1861496960389397},{"$f":"IFERROR(R197/IF((Q197*S194)<1500,1500,Q197*S194)^0.25*62.2333,\"\")","v":1.0186173759819107E-2}]
[null,"25 Fette Jahre ¹³",null,null,1,"vs.",null,null,"25 Fette Jahre (mit Extrarente) ¹³",null,null,1,null,null,5.3147421568474246E-5,5,{"$f":"IF(OR(S198<=0,AND(S198>1000000000,S198<>\"Freispiel\")),\"\",1/HYPGEOMDIST(5,6,6,40)/S193)","v":18815.588235294101},{"$f":"IF(OR(S198<=0,T195>1),\"\",IF(S198=\"Freispiel\",U195/(1-(1/Q198))/Q198,IF(S198>1000000000,\"\",S198/Q198/S194)))","v":2.2082837292170228E-3},{"$f":"103.875393389118/R193","v":103.875393389118},{"$f":"IFERROR(IF(R198<R203,R203/R198,R198/R203),\"\")","v":31.345783833565925},{"$f":"IFERROR(R198/IF((Q198*S194)<1500,1500,Q198*S194)^0.25*62.2333,\"\")","v":9.3317533413967077E-3}]
[null,"7 x 1 aus 10",null,null,{"$f":"E198*2","v":2},null,null,null,"7 x 1 aus 10",null,null,{"$f":"L198*3","v":3},null,null,2.1923311396995632E-3,4,{"$f":"IF(OR(S199<=0,AND(S199>1000000000,S199<>\"Freispiel\")),\"\",1/HYPGEOMDIST(4,6,6,40)/S193)","v":456.13547237076597},{"$f":"IF(OR(S199<=0,T195>1),\"\",IF(S199=\"Freispiel\",U195/(1-(1/Q199))/Q199,IF(S199>1000000000,\"\",S199/Q199/S194)))","v":3.5498420135394677E-2},{"$f":"40.4802215921854/R193","v":40.480221592185401},{"$f":"IFERROR(IF(R199<R203,R203/R199,R199/R203),\"\")","v":1.9499567630109695},{"$f":"IFERROR(R199/IF((Q199*S194)<1500,1500,Q199*S194)^0.25*62.2333,\"\")","v":0.3549842143087984}]
[null,"GK",{"$f":"IF(E198=1,\"Chancen 1:\",\"Ø Gewinne 1:\")","v":"Chancen 1:"},"Ø AQ","(Ø) Gewinn",{"$f":"IFERROR(COUNTIF(E201:E208,\"Freispiel\"),\"\")","v":0},{"$f":"IFERROR(SUMIF(E201:E208,\"<>Freispiel\",D201:D208),\"\")","v":0.48000995060955137},null,"GK",{"$f":"IF(L198=1,\"Chancen 1:\",\"Ø Gewinne 1:\")","v":"Chancen 1:"},"Ø AQ","(Ø) Gewinn",{"$f":"IFERROR(COUNTIF(L201:L208,\"Freispiel\"),\"\")","v":0},{"$f":"IFERROR(SUMIF(L201:L208,\"<>Freispiel\",K201:K208),\"\")","v":0.37001326747940172},3.1179820653504851E-2,3,{"$f":"IF(OR(S200<=0,AND(S200>1000000000,S200<>\"Freispiel\")),\"\",1/HYPGEOMDIST(3,6,6,40)/S193)","v":32.072025401069531},{"$f":"IF(OR(S200<=0,T195>1),\"\",IF(S200=\"Freispiel\",U195/(1-(1/Q200))/Q200,IF(S200>1000000000,\"\",S200/Q200/S194)))","v":6.5968588586891336E-2},{"$f":"5.28936562207871/R193","v":5.2893656220787104},{"$f":"IFERROR(IF(R200<R203,R203/R200,R200/R203),\"\")","v":1.049293093910038},{"$f":"IFERROR(R200/IF((Q200*S194)<1500,1500,Q200*S194)^0.25*62.2333,\"\")","v":0.6596859099435981}]
[{"$f":"IF(C201=\"\",0,1/C201)","v":9.9999999999999995E-8},1,{"$f":"IF(OR(E201<=0,AND(E201>1000000000,E201<>\"Freispiel\")),\"\",10^7/E198)","v":10000000},{"$f":"IF(OR(E201<=0,F200>1),\"\",IF(E201=\"Freispiel\",G200/(1-(1/C201))/C201,IF(E201>1000000000,\"\",E201/C201/E199)))","v":7.5009950609551276E-2},{"$f":"250000+PV(0.00125,300,-5000)","v":1500199.0121910255},{"$f":"IFERROR(IF(D201<D210,D210/D201,D201/D210),\"\")","v":1.2501399275460554},{"$f":"IFERROR(D201/IF((C201*E199)<1500,1500,C201*E199)^0.25*62.2333,\"\")","v":6.9804627065718342E-2},{"$f":"IF(J201=\"\",0,1/J201)","v":9.9999999999999995E-8},1,{"$f":"IF(OR(L201<=0,AND(L201>1000000000,L201<>\"Freispiel\")),\"\",10^7/L198)","v":10000000},{"$f":"IF(OR(L201<=0,M200>1),\"\",IF(L201=\"Freispiel\",N200/(1-(1/J201))/J201,IF(L201>1000000000,\"\",L201/J201/L199)))","v":0.1000132674794017},{"$f":"500000+PV(0.00125,300,-10000)","v":3000398.0243820511},{"$f":"IFERROR(IF(K201<K210,K210/K201,K201/K210),\"\")","v":2.162371488151448},{"$f":"IFERROR(K201/IF((J201*L199)<1500,1500,J201*L199)^0.25*62.2333,\"\")","v":8.4100801170428147E-2},0.18123270754849702,2,{"$f":"IF(OR(S201<=0,AND(S201>1000000000,S201<>\"Freispiel\")),\"\",1/HYPGEOMDIST(2,6,6,40)/S193)","v":5.5177678109366912},{"$f":"IF(OR(S201<=0,T195>1),\"\",IF(S201=\"Freispiel\",U195/(1-(1/Q201))/Q201,IF(S201>1000000000,\"\",S201/Q201/S194)))","v":0.18123270754849702},{"$f":"2.5/R193","v":2.5},{"$f":"IFERROR(IF(R201<R203,R203/R201,R201/R203),\"\")","v":2.6181985128961731},{"$f":"IFERROR(R201/IF((Q201*S194)<1500,1500,Q201*S194)^0.25*62.2333,\"\")","v":1.8123271416243316}]
[8.9999999999999985E-7,2,{"$f":"IF(OR(E202<=0,AND(E202>1000000000,E202<>\"Freispiel\")),\"\",1/(0.000001*0.9)/E198)","v":1111111.1111111112},{"$f":"IF(OR(E202<=0,F200>1),\"\",IF(E202=\"Freispiel\",G200/(1-(1/C202))/C202,IF(E202>1000000000,\"\",E202/C202/E199)))","v":2.2499999999999996E-2},50000,{"$f":"IFERROR(IF(D202<D210,D210/D202,D202/D210),\"\")","v":2.6667219478308413},{"$f":"IFERROR(D202/IF((C202*E199)<1500,1500,C202*E199)^0.25*62.2333,\"\")","v":3.6266736522568704E-2},8.9999999999999985E-7,2,{"$f":"IF(OR(L202<=0,AND(L202>1000000000,L202<>\"Freispiel\")),\"\",1/(0.000001*0.9)/L198)","v":1111111.1111111112},{"$f":"IF(OR(L202<=0,M200>1),\"\",IF(L202=\"Freispiel\",N200/(1-(1/J202))/J202,IF(L202>1000000000,\"\",L202/J202/L199)))","v":1.4999999999999998E-2},50000,{"$f":"IFERROR(IF(K202<K210,K210/K202,K202/K210),\"\")","v":3.0834438956616816},{"$f":"IFERROR(K202/IF((J202*L199)<1500,1500,J202*L199)^0.25*62.2333,\"\")","v":2.1847130524122287E-2},{"$f":"IF(SUM(O196:O201)=0,\"\",SUM(O196:O201))","v":0.21465826728984622},"Gesamt",{"$f":"IFERROR(1/O202,\"\")","v":4.6585673714105402},{"$f":"IF(SUM(R196:R201)=0,\"\",SUM(R196:R201))","v":0.41532230651530577},{"$f":"IFERROR(S194*R202,\"\")","v":1.0383057662882644},{"$f":"IFERROR(AVERAGE(T196:T201),\"\")","v":7.649045023133521},{"$f":"IF(SUM(U196:U201)=0,\"\",SUM(U196:U201))","v":2.9368302078475645}]
[9.0000000000000002E-6,3,{"$f":"IF(OR(E203<=0,AND(E203>1000000000,E203<>\"Freispiel\")),\"\",1/(0.00001*0.9)/E198)","v":111111.11111111111},{"$f":"IF(OR(E203<=0,F200>1),\"\",IF(E203=\"Freispiel\",G200/(1-(1/C203))/C203,IF(E203>1000000000,\"\",E203/C203/E199)))","v":2.2499999999999999E-2},5000,{"$f":"IFERROR(IF(D203<D210,D210/D203,D203/D210),\"\")","v":2.6667219478308413},{"$f":"IFERROR(D203/IF((C203*E199)<1500,1500,C203*E199)^0.25*62.2333,\"\")","v":6.4492390827390528E-2},9.0000000000000002E-6,3,{"$f":"IF(OR(L203<=0,AND(L203>1000000000,L203<>\"Freispiel\")),\"\",1/(0.00001*0.9)/L198)","v":111111.11111111111},{"$f":"IF(OR(L203<=0,M200>1),\"\",IF(L203=\"Freispiel\",N200/(1-(1/J203))/J203,IF(L203>1000000000,\"\",L203/J203/L199)))","v":1.4999999999999999E-2},5000,{"$f":"IFERROR(IF(K203<K210,K210/K203,K203/K210),\"\")","v":3.0834438956616812},{"$f":"IFERROR(K203/IF((J203*L199)<1500,1500,J203*L199)^0.25*62.2333,\"\")","v":3.885030237947952E-2},null,null,null,{"$f":"AVERAGE(R196:R201)","v":6.9220384419217629E-2}]
[8.9999999999999992E-5,4,{"$f":"IF(OR(E204<=0,AND(E204>1000000000,E204<>\"Freispiel\")),\"\",1/(0.0001*0.9)/E198)","v":11111.111111111111},{"$f":"IF(OR(E204<=0,F200>1),\"\",IF(E204=\"Freispiel\",G200/(1-(1/C204))/C204,IF(E204>1000000000,\"\",E204/C204/E199)))","v":2.2499999999999999E-2},500,{"$f":"IFERROR(IF(D204<D210,D210/D204,D204/D210),\"\")","v":2.6667219478308413},{"$f":"IFERROR(D204/IF((C204*E199)<1500,1500,C204*E199)^0.25*62.2333,\"\")","v":0.11468549071253173},8.9999999999999992E-5,4,{"$f":"IF(OR(L204<=0,AND(L204>1000000000,L204<>\"Freispiel\")),\"\",1/(0.0001*0.9)/L198)","v":11111.111111111111},{"$f":"IF(OR(L204<=0,M200>1),\"\",IF(L204=\"Freispiel\",N200/(1-(1/J204))/J204,IF(L204>1000000000,\"\",L204/J204/L199)))","v":1.4999999999999999E-2},500,{"$f":"IFERROR(IF(K204<K210,K210/K204,K204/K210),\"\")","v":3.0834438956616812},{"$f":"IFERROR(K204/IF((J204*L199)<1500,1500,J204*L199)^0.25*62.2333,\"\")","v":6.9086692795214594E-2}]
[8.9999999999999998E-4,5,{"$f":"IF(OR(E205<=0,AND(E205>1000000000,E205<>\"Freispiel\")),\"\",1/(0.001*0.9)/E198)","v":1111.1111111111111},{"$f":"IF(OR(E205<=0,F200>1),\"\",IF(E205=\"Freispiel\",G200/(1-(1/C205))/C205,IF(E205>1000000000,\"\",E205/C205/E199)))","v":2.2499999999999999E-2},50,{"$f":"IFERROR(IF(D205<D210,D210/D205,D205/D210),\"\")","v":2.6667219478308413},{"$f":"IFERROR(D205/IF((C205*E199)<1500,1500,C205*E199)^0.25*62.2333,\"\")","v":0.20394284676430521},8.9999999999999998E-4,5,{"$f":"IF(OR(L205<=0,AND(L205>1000000000,L205<>\"Freispiel\")),\"\",1/(0.001*0.9)/L198)","v":1111.1111111111111},{"$f":"IF(OR(L205<=0,M200>1),\"\",IF(L205=\"Freispiel\",N200/(1-(1/J205))/J205,IF(L205>1000000000,\"\",L205/J205/L199)))","v":1.4999999999999999E-2},50,{"$f":"IFERROR(IF(K205<K210,K210/K205,K205/K210),\"\")","v":3.0834438956616812},{"$f":"IFERROR(K205/IF((J205*L199)<1500,1500,J205*L199)^0.25*62.2333,\"\")","v":0.12285544330541452},null,"SuperLotto ¹¹",null,1,1]
[9.0000000000000011E-3,6,{"$f":"IF(OR(E206<=0,AND(E206>1000000000,E206<>\"Freispiel\")),\"\",1/(0.01*0.9)/E198)","v":111.1111111111111},{"$f":"IF(OR(E206<=0,F200>1),\"\",IF(E206=\"Freispiel\",G200/(1-(1/C206))/C206,IF(E206>1000000000,\"\",E206/C206/E199)))","v":4.5000000000000005E-2},10,{"$f":"IFERROR(IF(D206<D210,D210/D206,D206/D210),\"\")","v":1.3333609739154204},{"$f":"IFERROR(D206/IF((C206*E199)<1500,1500,C206*E199)^0.25*62.2333,\"\")","v":0.45000001642237381},9.0000000000000011E-3,6,{"$f":"IF(OR(L206<=0,AND(L206>1000000000,L206<>\"Freispiel\")),\"\",1/(0.01*0.9)/L198)","v":111.1111111111111},{"$f":"IF(OR(L206<=0,M200>1),\"\",IF(L206=\"Freispiel\",N200/(1-(1/J206))/J206,IF(L206>1000000000,\"\",L206/J206/L199)))","v":3.0000000000000002E-2},10,{"$f":"IFERROR(IF(K206<K210,K210/K206,K206/K210),\"\")","v":1.5417219478308404},{"$f":"IFERROR(K206/IF((J206*L199)<1500,1500,J206*L199)^0.25*62.2333,\"\")","v":0.30000001094824919},null,"6+1 aus 90",null,{"$f":"IF(R205=1,\"Anteil\",\"Anteile\")","v":"Anteil"},{"$f":"S205*1.5/R205","v":1.5}]
[9.0000000000000024E-2,7,{"$f":"IF(OR(E207<=0,AND(E207>1000000000,E207<>\"Freispiel\")),\"\",1/(0.1*0.9)/E198)","v":11.111111111111109},{"$f":"IF(OR(E207<=0,F200>1),\"\",IF(E207=\"Freispiel\",G200/(1-(1/C207))/C207,IF(E207>1000000000,\"\",E207/C207/E199)))","v":0.18000000000000005},4,{"$f":"IFERROR(IF(D207<D210,D210/D207,D207/D210),\"\")","v":2.9999378099795311},{"$f":"IFERROR(D207/IF((C207*E199)<1500,1500,C207*E199)^0.25*62.2333,\"\")","v":1.8000000656894954},9.0000000000000024E-2,7,{"$f":"IF(OR(L207<=0,AND(L207>1000000000,L207<>\"Freispiel\")),\"\",1/(0.1*0.9)/L198)","v":11.111111111111109},{"$f":"IF(OR(L207<=0,M200>1),\"\",IF(L207=\"Freispiel\",N200/(1-(1/J207))/J207,IF(L207>1000000000,\"\",L207/J207/L199)))","v":0.12000000000000004},4,{"$f":"IFERROR(IF(K207<K210,K210/K207,K207/K210),\"\")","v":2.5945015608215796},{"$f":"IFERROR(K207/IF((J207*L199)<1500,1500,J207*L199)^0.25*62.2333,\"\")","v":1.200000043792997},null,"Richtige",{"$f":"IF(S205=1,\"Chancen 1:\",\"Ø Gewinne 1:\")","v":"Chancen 1:"},"Ø AQ","(Ø) Gewinn",{"$f":"IFERROR(COUNTIF(S208:S214,\"Freispiel\"),\"\")","v":0},{"$f":"IFERROR(SUMIF(S208:S214,\"<>Freispiel\",R208:R214),\"\")","v":0.35886899884079709}]
[9.0000000000000024E-2,8,{"$f":"IF(OR(E208<=0,AND(E208>1000000000,E208<>\"Freispiel\")),\"\",1/(0.1*0.9)/E198)","v":11.111111111111109},{"$f":"IF(OR(E208<=0,F200>1),\"\",IF(E208=\"Freispiel\",G200/(1-(1/C208))/C208,IF(E208>1000000000,\"\",E208/C208/E199)))","v":9.0000000000000024E-2},2,{"$f":"IFERROR(IF(D208<D210,D210/D208,D208/D210),\"\")","v":1.4999689049897655},{"$f":"IFERROR(D208/IF((C208*E199)<1500,1500,C208*E199)^0.25*62.2333,\"\")","v":0.90000003284474772},9.0000000000000024E-2,8,{"$f":"IF(OR(L208<=0,AND(L208>1000000000,L208<>\"Freispiel\")),\"\",1/(0.1*0.9)/L198)","v":11.111111111111109},{"$f":"IF(OR(L208<=0,M200>1),\"\",IF(L208=\"Freispiel\",N200/(1-(1/J208))/J208,IF(L208>1000000000,\"\",L208/J208/L199)))","v":6.0000000000000019E-2},2,{"$f":"IFERROR(IF(K208<K210,K210/K208,K208/K210),\"\")","v":1.2972507804107898},{"$f":"IFERROR(K208/IF((J208*L199)<1500,1500,J208*L199)^0.25*62.2333,\"\")","v":0.60000002189649848},{"$f":"IF(Q208=\"\",0,1/Q208)","v":1.6061299426902344E-9},6,{"$f":"IF(OR(S208<=0,AND(S208>1000000000,S208<>\"Freispiel\")),\"\",1/HYPGEOMDIST(6,6,6,90)/S205)","v":622614629.99999905},{"$f":"IF(OR(S208<=0,T207>1),\"\",IF(S208=\"Freispiel\",U207/(1-(1/Q208))/Q208,IF(S208>1000000000,\"\",S208/Q208/S206)))","v":5.568E-2},{"$f":"65000967.3719999*0.8/R205","v":52000773.897599921},{"$f":"IFERROR(IF(R208<R216,R216/R208,R208/R216),\"\")","v":1.0860787676254724},{"$f":"IFERROR(R208/IF((Q208*S206)<1500,1500,Q208*S206)^0.25*62.2333,\"\")","v":1.9821860350401982E-2}]
[{"$f":"IF(SUM(A201:A208)=0,\"\",SUM(A201:A208))","v":0.19000000000000006},"Gesamt",{"$f":"IFERROR(1/A209,\"\")","v":5.2631578947368407},{"$f":"IF(SUM(D201:D208)=0,\"\",SUM(D201:D208))","v":0.48000995060955137},{"$f":"IFERROR(E199*D209,\"\")","v":0.96001990121910274},{"$f":"IFERROR(AVERAGE(F201:F208),\"\")","v":2.2187869259692667},{"$f":"IF(SUM(G201:G208)=0,\"\",SUM(G201:G208))","v":3.6391922068491311},{"$f":"IF(SUM(H201:H208)=0,\"\",SUM(H201:H208))","v":0.19000000000000006},"Gesamt",{"$f":"IFERROR(1/H209,\"\")","v":5.2631578947368407},{"$f":"IF(SUM(K201:K208)=0,\"\",SUM(K201:K208))","v":0.37001326747940172},{"$f":"IFERROR(L199*K209,\"\")","v":1.1100398024382052},{"$f":"IFERROR(AVERAGE(M201:M208),\"\")","v":2.4912026699826724},{"$f":"IF(SUM(N201:N208)=0,\"\",SUM(N201:N208))","v":2.4367404468124034},9.6367796561413816E-9,"5 + GZ",{"$f":"IF(OR(S209<=0,AND(S209>1000000000,S209<>\"Freispiel\")),\"\",1/(HYPGEOMDIST(5,6,6,90)*HYPGEOMDIST(1,1,1,84))/S205)","v":103769105.00000012},{"$f":"IF(OR(S209<=0,T207>1),\"\",IF(S209=\"Freispiel\",U207/(1-(1/Q209))/Q209,IF(S209>1000000000,\"\",S209/Q209/S206)))","v":1.2849039541521841E-3},{"$f":"250000*0.8/R205","v":200000},{"$f":"IFERROR(IF(R209<R216,R216/R209,R209/R216),\"\")","v":39.899480166380997},{"$f":"IFERROR(R209/IF((Q209*S206)<1500,1500,Q209*S206)^0.25*62.2333,\"\")","v":7.1590214508431319E-4}]
[null,null,null,{"$f":"AVERAGE(D201:D208)","v":6.0001243826193922E-2},null,null,null,null,null,null,{"$f":"AVERAGE(K201:K208)","v":4.6251658434925215E-2},null,null,null,7.9985271145973459E-7,5,{"$f":"IF(OR(S210<=0,AND(S210>1000000000,S210<>\"Freispiel\")),\"\",1/(HYPGEOMDIST(5,6,6,90)*HYPGEOMDIST(0,1,1,84))/S205)","v":1250230.180722893},{"$f":"IF(OR(S210<=0,T207>1),\"\",IF(S210=\"Freispiel\",U207/(1-(1/Q210))/Q210,IF(S210>1000000000,\"\",S210/Q210/S206)))","v":1.0664702819463127E-2},{"$f":"25000*0.8/R205","v":20000},{"$f":"IFERROR(IF(R210<R216,R216/R210,R210/R216),\"\")","v":4.8071662851061445},{"$f":"IFERROR(R210/IF((Q210*S206)<1500,1500,Q210*S206)^0.25*62.2333,\"\")","v":1.7934995794767854E-2}]
[null,null,null,null,1.1000000000000001,null,null,null,null,null,{"$f":"(24*2+13*3+3*4+2*5+1*10)/43","v":2.7674418604651163},1.1000000000000001,null,null,8.3984534703272301E-5,4,{"$f":"IF(OR(S211<=0,AND(S211>1000000000,S211<>\"Freispiel\")),\"\",1/HYPGEOMDIST(4,6,6,90)/S205)","v":11906.954102122767},{"$f":"IF(OR(S211<=0,T207>1),\"\",IF(S211=\"Freispiel\",U207/(1-(1/Q211))/Q211,IF(S211>1000000000,\"\",S211/Q211/S206)))","v":1.3997422450545383E-2},{"$f":"250/R205","v":250},{"$f":"IFERROR(IF(R211<R216,R216/R211,R211/R216),\"\")","v":3.6626028838903881},{"$f":"IFERROR(R211/IF((Q211*S206)<1500,1500,Q211*S206)^0.25*62.2333,\"\")","v":7.5352543441790792E-2}]
[null,"PowerBall ¹⁴",null,1,1,"vs.",null,null,"PowerBall (mit PowerPlay) ¹⁴⁺¹⁵",null,null,1,null,null,3.0607697091859175E-3,3,{"$f":"IF(OR(S212<=0,AND(S212>1000000000,S212<>\"Freispiel\")),\"\",1/HYPGEOMDIST(3,6,6,90)/S205)","v":326.71520402166198},{"$f":"IF(OR(S212<=0,T207>1),\"\",IF(S212=\"Freispiel\",U207/(1-(1/Q212))/Q212,IF(S212>1000000000,\"\",S212/Q212/S206)))","v":5.101282848643196E-2},{"$f":"25/R205","v":25},{"$f":"IFERROR(IF(R212<R216,R216/R212,R212/R216),\"\")","v":1.0049824986284621},{"$f":"IFERROR(R212/IF((Q212*S206)<1500,1500,Q212*S206)^0.25*62.2333,\"\")","v":0.51012830348102478}]
[null,"5 aus 69 + 1 aus 26",null,{"$f":"IF(D212=1,\"Anteil\",\"Anteile\")","v":"Anteil"},{"$f":"E212*3/D212","v":3},null,null,null,"5 aus 69 + 1 aus 26",null,null,{"$f":"L212*4","v":4},null,null,4.6485439958261182E-2,2,{"$f":"IF(OR(S213<=0,AND(S213>1000000000,S213<>\"Freispiel\")),\"\",1/HYPGEOMDIST(2,6,6,90)/S205)","v":21.512112198957137},{"$f":"IF(OR(S213<=0,T207>1),\"\",IF(S213=\"Freispiel\",U207/(1-(1/Q213))/Q213,IF(S213>1000000000,\"\",S213/Q213/S206)))","v":7.7475733263768651E-2},{"$f":"2.5/R205","v":2.5},{"$f":"IFERROR(IF(R213<R216,R216/R213,R213/R216),\"\")","v":1.5112203466952887},{"$f":"IFERROR(R213/IF((Q213*S206)<1500,1500,Q213*S206)^0.25*62.2333,\"\")","v":0.77475736091180758}]
[null,"Richtige",{"$f":"IF(E212=1,\"Chancen 1:\",\"Ø Gewinne 1:\")","v":"Chancen 1:"},"Ø AQ","(Ø) Gewinn",{"$f":"IFERROR(COUNTIF(E215:E223,\"Freispiel\"),\"\")","v":0},{"$f":"IFERROR(SUMIF(E215:E223,\"<>Freispiel\",D215:D223),\"\")","v":0.15240032760001795},null,"Richtige",{"$f":"IF(L212=1,\"Chancen 1:\",\"Ø Gewinne 1:\")","v":"Chancen 1:"},"Ø AQ","(Ø) Gewinn",{"$f":"IFERROR(COUNTIF(L215:L223,\"Freispiel\"),\"\")","v":0},{"$f":"IFERROR(SUMIF(L215:L223,\"<>Freispiel\",K215:K223),\"\")","v":0.22190046547055564},0.29750681573287152,1,{"$f":"IF(OR(S214<=0,AND(S214>1000000000,S214<>\"Freispiel\")),\"\",1/HYPGEOMDIST(1,6,6,90)/S205)","v":3.3612675310870532},{"$f":"IF(OR(S214<=0,T207>1),\"\",IF(S214=\"Freispiel\",U207/(1-(1/Q214))/Q214,IF(S214>1000000000,\"\",S214/Q214/S206)))","v":0.14875340786643576},{"$f":"0.75/R205","v":0.75},{"$f":"IFERROR(IF(R214<R216,R216/R214,R214/R216),\"\")","v":2.9015430656549532},{"$f":"IFERROR(R214/IF((Q214*S206)<1500,1500,Q214*S206)^0.25*62.2333,\"\")","v":1.4875341329506699}]
[{"$f":"IF(C215=\"\",0,1/C215)","v":3.4222978130236971E-9},"5 + PB",{"$f":"IF(OR(E215<=0,AND(E215>1000000000,E215<>\"Freispiel\")),\"\",1/(HYPGEOMDIST(5,5,5,69)*HYPGEOMDIST(1,1,1,26))/E212)","v":292201338.00000054},{"$f":"IF(OR(E215<=0,F214>1),\"\",IF(E215=\"Freispiel\",G214/(1-(1/C215))/C215,IF(E215>1000000000,\"\",E215/C215/E213)))","v":6.3550577021531648E-2},{"$f":"164730000*0.6*0.62/E211/D212","v":55708690.909090906},{"$f":"IFERROR(IF(D215<D225,D225/D215,D215/D225),\"\")","v":3.7529787645529806},{"$f":"IFERROR(D215/IF((C215*E213)<1500,1500,C215*E213)^0.25*62.2333,\"\")","v":2.2984838948166431E-2},{"$f":"IF(J215=\"\",0,1/J215)","v":3.4222978130236971E-9},"5 + PB",{"$f":"IF(OR(L215<=0,AND(L215>1000000000,L215<>\"Freispiel\")),\"\",1/(HYPGEOMDIST(5,5,5,69)*HYPGEOMDIST(1,1,1,26))/L212)","v":292201338.00000054},{"$f":"IF(OR(L215<=0,M214>1),\"\",IF(L215=\"Freispiel\",N214/(1-(1/J215))/J215,IF(L215>1000000000,\"\",L215/J215/L213)))","v":4.7662932766148733E-2},{"$f":"164730000*0.6*0.62/L211","v":55708690.909090906},{"$f":"IFERROR(IF(K215<K225,K225/K215,K215/K225),\"\")","v":1.933147792122405},{"$f":"IFERROR(K215/IF((J215*L213)<1500,1500,J215*L213)^0.25*62.2333,\"\")","v":1.6042352108132159E-2},{"$f":"IF(SUM(O208:O214)=0,\"\",SUM(O208:O214))","v":0.34713782103064295},"Gesamt",{"$f":"IFERROR(1/O215,\"\")","v":2.8807002274515252},{"$f":"IF(SUM(R208:R214)=0,\"\",SUM(R208:R214))","v":0.35886899884079709},{"$f":"IFERROR(S206*R215,\"\")","v":0.53830349826119561},{"$f":"IFERROR(AVERAGE(T208:T214),\"\")","v":7.8390105734259583},{"$f":"IF(SUM(U208:U214)=0,\"\",SUM(U208:U214))","v":2.8862450990755475}]
[8.555744532559244E-8,5,{"$f":"IF(OR(E216<=0,AND(E216>1000000000,E216<>\"Freispiel\")),\"\",1/(HYPGEOMDIST(5,5,5,69)*HYPGEOMDIST(0,1,1,26))/E212)","v":11688053.52000002},{"$f":"IF(OR(E216<=0,F214>1),\"\",IF(E216=\"Freispiel\",G214/(1-(1/C216))/C216,IF(E216>1000000000,\"\",E216/C216/E213)))","v":1.7681872033955773E-2},{"$f":"1000000*0.62/D212","v":620000},{"$f":"IFERROR(IF(D216<D225,D225/D216,D216/D225),\"\")","v":1.0442027967503085},{"$f":"IFERROR(D216/IF((C216*E213)<1500,1500,C216*E213)^0.25*62.2333,\"\")","v":1.4299972827754366E-2},8.555744532559244E-8,5,{"$f":"IF(OR(L216<=0,AND(L216>1000000000,L216<>\"Freispiel\")),\"\",1/(HYPGEOMDIST(5,5,5,69)*HYPGEOMDIST(0,1,1,26))/L212)","v":11688053.52000002},{"$f":"IF(OR(L216<=0,M214>1),\"\",IF(L216=\"Freispiel\",N214/(1-(1/J216))/J216,IF(L216>1000000000,\"\",L216/J216/L213)))","v":2.6522808050933658E-2},{"$f":"1000000*0.62*2","v":1240000},{"$f":"IFERROR(IF(K216<K225,K225/K216,K216/K225),\"\")","v":1.0757312831778496},{"$f":"IFERROR(K216/IF((J216*L213)<1500,1500,J216*L213)^0.25*62.2333,\"\")","v":1.9961436297804312E-2},null,null,null,{"$f":"AVERAGE(R208:R214)","v":5.1266999834399585E-2}]
[1.0951353001675859E-6,"4 + PB",{"$f":"IF(OR(E217<=0,AND(E217>1000000000,E217<>\"Freispiel\")),\"\",1/(HYPGEOMDIST(4,5,5,69)*HYPGEOMDIST(1,1,1,26))/E212)","v":913129.18124999932},{"$f":"IF(OR(E217<=0,F214>1),\"\",IF(E217=\"Freispiel\",G214/(1-(1/C217))/C217,IF(E217>1000000000,\"\",E217/C217/E213)))","v":1.131639810173172E-2},{"$f":"50000*0.62/D212","v":31000},{"$f":"IFERROR(IF(D217<D225,D225/D217,D217/D225),\"\")","v":1.4963568426197427},{"$f":"IFERROR(D217/IF((C217*E213)<1500,1500,C217*E213)^0.25*62.2333,\"\")","v":1.7310821517852341E-2},1.0951353001675859E-6,"4 + PB",{"$f":"IF(OR(L217<=0,AND(L217>1000000000,L217<>\"Freispiel\")),\"\",1/(HYPGEOMDIST(4,5,5,69)*HYPGEOMDIST(1,1,1,26))/L212)","v":913129.18124999932},{"$f":"IF(OR(L217<=0,M214>1),\"\",IF(L217=\"Freispiel\",N214/(1-(1/J217))/J217,IF(L217>1000000000,\"\",L217/J217/L213)))","v":2.348810536231526E-2},{"$f":"50000*0.62*K211","v":85790.69767441861},{"$f":"IFERROR(IF(K217<K225,K225/K217,K217/K225),\"\")","v":1.049706091410169},{"$f":"IFERROR(K217/IF((J217*L213)<1500,1500,J217*L213)^0.25*62.2333,\"\")","v":3.34366503440921E-2}]
[2.7378382504189653E-5,4,{"$f":"IF(OR(E218<=0,AND(E218>1000000000,E218<>\"Freispiel\")),\"\",1/(HYPGEOMDIST(4,5,5,69)*HYPGEOMDIST(0,1,1,26))/E212)","v":36525.167249999969},{"$f":"IF(OR(E218<=0,F214>1),\"\",IF(E218=\"Freispiel\",G214/(1-(1/C218))/C218,IF(E218>1000000000,\"\",E218/C218/E213)))","v":9.1261275013965507E-4},{"$f":"100/D212","v":100},{"$f":"IFERROR(IF(D218<D225,D225/D218,D218/D225),\"\")","v":18.554824848484806},{"$f":"IFERROR(D218/IF((C218*E213)<1500,1500,C218*E213)^0.25*62.2333,\"\")","v":3.1216269080874145E-3},2.7378382504189653E-5,4,{"$f":"IF(OR(L218<=0,AND(L218>1000000000,L218<>\"Freispiel\")),\"\",1/(HYPGEOMDIST(4,5,5,69)*HYPGEOMDIST(0,1,1,26))/L212)","v":36525.167249999969},{"$f":"IF(OR(L218<=0,M214>1),\"\",IF(L218=\"Freispiel\",N214/(1-(1/J218))/J218,IF(L218>1000000000,\"\",L218/J218/L213)))","v":1.8942020453480049E-3},{"$f":"100*K211","v":276.74418604651163},{"$f":"IFERROR(IF(K218<K225,K225/K218,K218/K225),\"\")","v":13.016355533486095},{"$f":"IFERROR(K218/IF((J218*L213)<1500,1500,J218*L213)^0.25*62.2333,\"\")","v":6.0295663797807798E-3},null,"EuroMillions (mit 2. Chance)",null,null,1]
[6.8993523910557754E-5,"3 + PB",{"$f":"IF(OR(E219<=0,AND(E219>1000000000,E219<>\"Freispiel\")),\"\",1/(HYPGEOMDIST(3,5,5,69)*HYPGEOMDIST(1,1,1,26))/E212)","v":14494.113988095261},{"$f":"IF(OR(E219<=0,F214>1),\"\",IF(E219=\"Freispiel\",G214/(1-(1/C219))/C219,IF(E219>1000000000,\"\",E219/C219/E213)))","v":2.299784130351925E-3},{"$f":"100/D212","v":100},{"$f":"IFERROR(IF(D219<D225,D225/D219,D219/D225),\"\")","v":7.3630257335257348},{"$f":"IFERROR(D219/IF((C219*E213)<1500,1500,C219*E213)^0.25*62.2333,\"\")","v":9.9113239591706211E-3},6.8993523910557754E-5,"3 + PB",{"$f":"IF(OR(L219<=0,AND(L219>1000000000,L219<>\"Freispiel\")),\"\",1/(HYPGEOMDIST(3,5,5,69)*HYPGEOMDIST(1,1,1,26))/L212)","v":14494.113988095261},{"$f":"IF(OR(L219<=0,M214>1),\"\",IF(L219=\"Freispiel\",N214/(1-(1/J219))/J219,IF(L219>1000000000,\"\",L219/J219/L213)))","v":4.7733891542769604E-3},{"$f":"100*K211","v":276.74418604651163},{"$f":"IFERROR(IF(K219<K225,K225/K219,K219/K225),\"\")","v":5.1652204497960819},{"$f":"IFERROR(K219/IF((J219*L213)<1500,1500,J219*L213)^0.25*62.2333,\"\")","v":1.9144179456072719E-2},null,"5 aus 50 + 2 aus 12 (5 aus 50)",null,null,{"$f":"S218*3.5","v":3.5}]
[1.4258661608181945E-3,"2 + PB",{"$f":"IF(OR(E220<=0,AND(E220>1000000000,E220<>\"Freispiel\")),\"\",1/(HYPGEOMDIST(2,5,5,69)*HYPGEOMDIST(1,1,1,26))/E212)","v":701.32809619815737},{"$f":"IF(OR(E220<=0,F214>1),\"\",IF(E220=\"Freispiel\",G214/(1-(1/C220))/C220,IF(E220>1000000000,\"\",E220/C220/E213)))","v":3.3270210419091202E-3},{"$f":"7/D212","v":7},{"$f":"IFERROR(IF(D220<D225,D225/D220,D220/D225),\"\")","v":5.0896491245569564},{"$f":"IFERROR(D220/IF((C220*E213)<1500,1500,C220*E213)^0.25*62.2333,\"\")","v":3.0571570890690611E-2},1.4258661608181945E-3,"2 + PB",{"$f":"IF(OR(L220<=0,AND(L220>1000000000,L220<>\"Freispiel\")),\"\",1/(HYPGEOMDIST(2,5,5,69)*HYPGEOMDIST(1,1,1,26))/L212)","v":701.32809619815737},{"$f":"IF(OR(L220<=0,M214>1),\"\",IF(L220=\"Freispiel\",N214/(1-(1/J220))/J220,IF(L220>1000000000,\"\",L220/J220/L213)))","v":6.9055029765206742E-3},{"$f":"7*K211","v":19.372093023255815},{"$f":"IFERROR(IF(K220<K225,K225/K220,K220/K225),\"\")","v":3.5704288823475197},{"$f":"IFERROR(K220/IF((J220*L213)<1500,1500,J220*L213)^0.25*62.2333,\"\")","v":5.9050399502268446E-2},null,"Richtige",{"$f":"IF(S218=1,\"Chancen 1:\",\"Ø Gewinne 1:\")","v":"Chancen 1:"},"(Ø) AQ","(Ø) Gewinn",{"$f":"IFERROR(COUNTIF(S221:S236,\"Freispiel\"),\"\")","v":0},{"$f":"IFERROR(SUMIF(S221:S236,\"<>Freispiel\",R221:R236),\"\")","v":0.42540191972123892}]
[1.7248380977639441E-3,3,{"$f":"IF(OR(E221<=0,AND(E221>1000000000,E221<>\"Freispiel\")),\"\",1/(HYPGEOMDIST(3,5,5,69)*HYPGEOMDIST(0,1,1,26))/E212)","v":579.76455952381036},{"$f":"IF(OR(E221<=0,F214>1),\"\",IF(E221=\"Freispiel\",G214/(1-(1/C221))/C221,IF(E221>1000000000,\"\",E221/C221/E213)))","v":4.0246222281158693E-3},{"$f":"7/D212","v":7},{"$f":"IFERROR(IF(D221<D225,D225/D221,D221/D225),\"\")","v":4.2074432763004195},{"$f":"IFERROR(D221/IF((C221*E213)<1500,1500,C221*E213)^0.25*62.2333,\"\")","v":3.8784189709523749E-2},1.7248380977639441E-3,3,{"$f":"IF(OR(L221<=0,AND(L221>1000000000,L221<>\"Freispiel\")),\"\",1/(HYPGEOMDIST(3,5,5,69)*HYPGEOMDIST(0,1,1,26))/L212)","v":579.76455952381036},{"$f":"IF(OR(L221<=0,M214>1),\"\",IF(L221=\"Freispiel\",N214/(1-(1/J221))/J221,IF(L221>1000000000,\"\",L221/J221/L213)))","v":8.3534310199846838E-3},{"$f":"7*K211","v":19.372093023255815},{"$f":"IFERROR(IF(K221<K225,K225/K221,K221/K225),\"\")","v":2.9515545427406171},{"$f":"IFERROR(K221/IF((J221*L213)<1500,1500,J221*L213)^0.25*62.2333,\"\")","v":7.4913451615158749E-2},{"$f":"IF(Q221=\"\",0,1/Q221)","v":7.1511238420185272E-9},"5 + 2",{"$f":"IF(OR(S221<=0,AND(S221>1000000000,S221<>\"Freispiel\")),\"\",1/(HYPGEOMDIST(5,5,5,50)*HYPGEOMDIST(2,2,2,12))/S218)","v":139838159.99999979},{"$f":"IF(OR(S221<=0,T220>1),\"\",IF(S221=\"Freispiel\",U220/(1-(1/Q221))/Q221,IF(S221>1000000000,\"\",S221/Q221/S219)))","v":0.18857142857142883},92293185.599999994,{"$f":"IFERROR(IF(R221<R238,R238/R221,R221/R238),\"\")","v":7.0924523780239666},{"$f":"IFERROR(R221/IF((Q221*S219)<1500,1500,Q221*S219)^0.25*62.2333,\"\")","v":7.8899687938309218E-2}]
[1.0872229476238735E-2,"1 + PB",{"$f":"IF(OR(E222<=0,AND(E222>1000000000,E222<>\"Freispiel\")),\"\",1/(HYPGEOMDIST(1,5,5,69)*HYPGEOMDIST(1,1,1,26))/E212)","v":91.977455239102582},{"$f":"IF(OR(E222<=0,F214>1),\"\",IF(E222=\"Freispiel\",G214/(1-(1/C222))/C222,IF(E222>1000000000,\"\",E222/C222/E213)))","v":1.4496305968318314E-2},{"$f":"4/D212","v":4},{"$f":"IFERROR(IF(D222<D225,D225/D222,D222/D225),\"\")","v":1.1681161925212684},{"$f":"IFERROR(D222/IF((C222*E213)<1500,1500,C222*E213)^0.25*62.2333,\"\")","v":0.14496306497348879},1.0872229476238735E-2,"1 + PB",{"$f":"IF(OR(L222<=0,AND(L222>1000000000,L222<>\"Freispiel\")),\"\",1/(HYPGEOMDIST(1,5,5,69)*HYPGEOMDIST(1,1,1,26))/L212)","v":91.977455239102582},{"$f":"IF(OR(L222<=0,M214>1),\"\",IF(L222=\"Freispiel\",N214/(1-(1/J222))/J222,IF(L222>1000000000,\"\",L222/J222/L213)))","v":3.0088262969125801E-2},{"$f":"4*K211","v":11.069767441860465},{"$f":"IFERROR(IF(K222<K225,K225/K222,K222/K225),\"\")","v":1.2203415894053833},{"$f":"IFERROR(K222/IF((J222*L213)<1500,1500,J222*L213)^0.25*62.2333,\"\")","v":0.30088264067171799},1.4302247684037048E-7,"5 + 1",{"$f":"IF(OR(S222<=0,AND(S222>1000000000,S222<>\"Freispiel\")),\"\",1/(HYPGEOMDIST(5,5,5,50)*HYPGEOMDIST(1,2,2,12))/S218)","v":6991907.9999999925},{"$f":"IF(OR(S222<=0,T220>1),\"\",IF(S222=\"Freispiel\",U220/(1-(1/Q222))/Q222,IF(S222>1000000000,\"\",S222/Q222/S219)))","v":8.2028571428571506E-3},200737.67867999998,{"$f":"IFERROR(IF(R222<R238,R238/R222,R222/R238),\"\")","v":3.2412633207600461},{"$f":"IFERROR(R222/IF((Q222*S219)<1500,1500,Q222*S219)^0.25*62.2333,\"\")","v":7.2580848566744767E-3}]
[2.6093350742972952E-2,"0 + PB",{"$f":"IF(OR(E223<=0,AND(E223>1000000000,E223<>\"Freispiel\")),\"\",1/(HYPGEOMDIST(0,5,5,69)*HYPGEOMDIST(1,1,1,26))/E212)","v":38.323939682959427},{"$f":"IF(OR(E223<=0,F214>1),\"\",IF(E223=\"Freispiel\",G214/(1-(1/C223))/C223,IF(E223>1000000000,\"\",E223/C223/E213)))","v":3.4791134323963933E-2},{"$f":"4/D212","v":4},{"$f":"IFERROR(IF(D223<D225,D225/D223,D223/D225),\"\")","v":2.0545901301306557},{"$f":"IFERROR(D223/IF((C223*E213)<1500,1500,C223*E213)^0.25*62.2333,\"\")","v":0.34791135593637296},2.6093350742972952E-2,"0 + PB",{"$f":"IF(OR(L223<=0,AND(L223>1000000000,L223<>\"Freispiel\")),\"\",1/(HYPGEOMDIST(0,5,5,69)*HYPGEOMDIST(1,1,1,26))/L212)","v":38.323939682959427},{"$f":"IF(OR(L223<=0,M214>1),\"\",IF(L223=\"Freispiel\",N214/(1-(1/J223))/J223,IF(L223>1000000000,\"\",L223/J223/L213)))","v":7.221183112590189E-2},{"$f":"4*K211","v":11.069767441860465},{"$f":"IFERROR(IF(K223<K225,K225/K223,K223/K225),\"\")","v":2.9288198145729183},{"$f":"IFERROR(K223/IF((J223*L213)<1500,1500,J223*L213)^0.25*62.2333,\"\")","v":0.72211833761212285},3.218005728908337E-7,5,{"$f":"IF(OR(S223<=0,AND(S223>1000000000,S223<>\"Freispiel\")),\"\",1/(HYPGEOMDIST(5,5,5,50)*HYPGEOMDIST(0,2,2,12))/S218)","v":3107514.6666666623},{"$f":"IF(OR(S223<=0,T220>1),\"\",IF(S223=\"Freispiel\",U220/(1-(1/Q223))/Q223,IF(S223>1000000000,\"\",S223/Q223/S219)))","v":1.9171428571428597E-3},20851.42341333333,{"$f":"IFERROR(IF(R223<R238,R238/R223,R223/R238),\"\")","v":13.868356175711012},{"$f":"IFERROR(R223/IF((Q223*S219)<1500,1500,Q223*S219)^0.25*62.2333,\"\")","v":2.0775763772588442E-3}]
[{"$f":"IF(SUM(A215:A223)=0,\"\",SUM(A215:A223))","v":4.0213840499251877E-2},"Gesamt",{"$f":"IFERROR(1/A224,\"\")","v":24.867060384809644},{"$f":"IF(SUM(D215:D223)=0,\"\",SUM(D215:D223))","v":0.15240032760001795},{"$f":"IFERROR(E213*D224,\"\")","v":0.45720098280005383},{"$f":"IFERROR(AVERAGE(F215:F223),\"\")","v":4.970131967715874},{"$f":"IF(SUM(G215:G223)=0,\"\",SUM(G215:G223))","v":0.62985876567110721},{"$f":"IF(SUM(H215:H223)=0,\"\",SUM(H215:H223))","v":4.0213840499251877E-2},"Gesamt",{"$f":"IFERROR(1/H224,\"\")","v":24.867060384809644},{"$f":"IF(SUM(K215:K223)=0,\"\",SUM(K215:K223))","v":0.22190046547055564},{"$f":"IFERROR(L213*K224,\"\")","v":0.88760186188222256},{"$f":"IFERROR(AVERAGE(M215:M223),\"\")","v":3.6568117754510041},{"$f":"IF(SUM(N215:N223)=0,\"\",SUM(N215:N223))","v":1.2515790139871501},4.7197417357322267E-7,"5 (2C)",{"$f":"IF(OR(S224<=0,AND(S224>1000000000,S224<>\"Freispiel\")),\"\",1/HYPGEOMDIST(5,5,5,50)/S218)","v":2118759.9999999972},{"$f":"IF(OR(S224<=0,T220>1),\"\",IF(S224=\"Freispiel\",U220/(1-(1/Q224))/Q224,IF(S224>1000000000,\"\",S224/Q224/S219)))","v":6.7424881939031817E-2},500000,{"$f":"IFERROR(IF(R224<R238,R238/R224,R224/R238),\"\")","v":2.5359502649434051},{"$f":"IFERROR(R224/IF((Q224*S219)<1500,1500,Q224*S219)^0.25*62.2333,\"\")","v":8.040916881724422E-2}]
[null,null,null,{"$f":"AVERAGE(D215:D223)","v":1.6933369733335327E-2},null,null,null,null,null,null,{"$f":"AVERAGE(K215:K223)","v":2.4655607274506181E-2},null,null,null,1.6090028644541621E-6,"4 + 2",{"$f":"IF(OR(S225<=0,AND(S225>1000000000,S225<>\"Freispiel\")),\"\",1/(HYPGEOMDIST(4,5,5,50)*HYPGEOMDIST(2,2,2,12))/S218)","v":621502.93333333486},{"$f":"IF(OR(S225<=0,T220>1),\"\",IF(S225=\"Freispiel\",U220/(1-(1/Q225))/Q225,IF(S225>1000000000,\"\",S225/Q225/S219)))","v":5.9714285714285566E-4},1298.9411306666666,{"$f":"IFERROR(IF(R225<R238,R238/R225,R225/R238),\"\")","v":44.524722458861838},{"$f":"IFERROR(R225/IF((Q225*S219)<1500,1500,Q225*S219)^0.25*62.2333,\"\")","v":9.6766106178576929E-4}]
[null,null,null,null,1.1000000000000001,null,null,null,null,null,{"$f":"(5*2+6*3+3*4+1*5)/15","v":3},1.1000000000000001,null,null,3.2180057289083234E-5,"4 + 1",{"$f":"IF(OR(S226<=0,AND(S226>1000000000,S226<>\"Freispiel\")),\"\",1/(HYPGEOMDIST(4,5,5,50)*HYPGEOMDIST(1,2,2,12))/S218)","v":31075.146666666755},{"$f":"IF(OR(S226<=0,T220>1),\"\",IF(S226=\"Freispiel\",U220/(1-(1/Q226))/Q226,IF(S226>1000000000,\"\",S226/Q226/S219)))","v":1.099999999999997E-3},119.63931466666668,{"$f":"IFERROR(IF(R226<R238,R238/R226,R226/R238),\"\")","v":24.170563620525005},{"$f":"IFERROR(R226/IF((Q226*S219)<1500,1500,Q226*S219)^0.25*62.2333,\"\")","v":3.7695994717782074E-3}]
[null,"MegaMillions ¹⁴",null,1,1,"vs.",null,null,"MegaMillions (mit MegaPlier) ¹⁴",null,null,1,null,null,7.0796126035983317E-5,"3 + 2",{"$f":"IF(OR(S227<=0,AND(S227>1000000000,S227<>\"Freispiel\")),\"\",1/(HYPGEOMDIST(3,5,5,50)*HYPGEOMDIST(2,2,2,12))/S218)","v":14125.066666666666},{"$f":"IF(OR(S227<=0,T220>1),\"\",IF(S227=\"Freispiel\",U220/(1-(1/Q227))/Q227,IF(S227>1000000000,\"\",S227/Q227/S219)))","v":1.162857142857143E-3},57.489021333333341,{"$f":"IFERROR(IF(R227<R238,R238/R227,R227/R238),\"\")","v":22.864046668064127},{"$f":"IFERROR(R227/IF((Q227*S219)<1500,1500,Q227*S219)^0.25*62.2333,\"\")","v":4.8532711724990343E-3}]
[null,"5 aus 70 + 1 aus 25",null,{"$f":"IF(D227=1,\"Anteil\",\"Anteile\")","v":"Anteil"},{"$f":"E227*3/D227","v":3},null,null,null,"5 aus 70 + 1 aus 25",null,null,{"$f":"L227*4","v":4},null,null,7.2405128900437316E-5,4,{"$f":"IF(OR(S228<=0,AND(S228>1000000000,S228<>\"Freispiel\")),\"\",1/(HYPGEOMDIST(4,5,5,50)*HYPGEOMDIST(0,2,2,12))/S218)","v":13811.176296296328},{"$f":"IF(OR(S228<=0,T220>1),\"\",IF(S228=\"Freispiel\",U220/(1-(1/Q228))/Q228,IF(S228>1000000000,\"\",S228/Q228/S219)))","v":8.1714285714285548E-4},39.499964207407416,{"$f":"IFERROR(IF(R228<R238,R238/R228,R228/R238),\"\")","v":32.537297181475942},{"$f":"IFERROR(R228/IF((Q228*S219)<1500,1500,Q228*S219)^0.25*62.2333,\"\")","v":3.4296210893365992E-3}]
[null,"Richtige",{"$f":"IF(E227=1,\"Chancen 1:\",\"Ø Gewinne 1:\")","v":"Chancen 1:"},"Ø AQ","(Ø) Gewinn",{"$f":"IFERROR(COUNTIF(E230:E238,\"Freispiel\"),\"\")","v":0},{"$f":"IFERROR(SUMIF(E230:E238,\"<>Freispiel\",D230:D238),\"\")","v":0.13485544815280689},null,"Richtige",{"$f":"IF(L227=1,\"Chancen 1:\",\"Ø Gewinne 1:\")","v":"Chancen 1:"},"Ø AQ","(Ø) Gewinn",{"$f":"IFERROR(COUNTIF(L230:L238,\"Freispiel\"),\"\")","v":0},{"$f":"IFERROR(SUMIF(L230:L238,\"<>Freispiel\",K230:K238),\"\")","v":0.20752099871381396},1.0619418905397471E-4,"4 (2C)",{"$f":"IF(OR(S229<=0,AND(S229>1000000000,S229<>\"Freispiel\")),\"\",1/HYPGEOMDIST(4,5,5,50)/S218)","v":9416.7111111111335},{"$f":"IF(OR(S229<=0,T220>1),\"\",IF(S229=\"Freispiel\",U220/(1-(1/Q229))/Q229,IF(S229>1000000000,\"\",S229/Q229/S219)))","v":3.0341196872564202E-2},1000,{"$f":"IFERROR(IF(R229<R238,R238/R229,R229/R238),\"\")","v":1.141177619224528},{"$f":"IFERROR(R229/IF((Q229*S219)<1500,1500,Q229*S219)^0.25*62.2333,\"\")","v":0.14014051727020471}]
[{"$f":"IF(C230=\"\",0,1/C230)","v":3.3049618880057454E-9},"5 + MB",{"$f":"IF(OR(E230<=0,AND(E230>1000000000,E230<>\"Freispiel\")),\"\",1/(HYPGEOMDIST(5,5,5,70)*HYPGEOMDIST(1,1,1,25))/E227)","v":302575350.00000024},{"$f":"IF(OR(E230<=0,F229>1),\"\",IF(E230=\"Freispiel\",G229/(1-(1/C230))/C230,IF(E230>1000000000,\"\",E230/C230/E228)))","v":6.3935839753334403E-2},{"$f":"171612500*0.6*0.62/E226/D227","v":58036227.272727266},{"$f":"IFERROR(IF(D230<D240,D240/D230,D230/D240),\"\")","v":4.2669581812370607},{"$f":"IFERROR(D230/IF((C230*E228)<1500,1500,C230*E228)^0.25*62.2333,\"\")","v":2.2923372125628935E-2},{"$f":"IF(J230=\"\",0,1/J230)","v":3.3049618880057454E-9},"5 + MB",{"$f":"IF(OR(L230<=0,AND(L230>1000000000,L230<>\"Freispiel\")),\"\",1/(HYPGEOMDIST(5,5,5,70)*HYPGEOMDIST(1,1,1,25))/L227)","v":302575350.00000024},{"$f":"IF(OR(L230<=0,M229>1),\"\",IF(L230=\"Freispiel\",N229/(1-(1/J230))/J230,IF(L230>1000000000,\"\",L230/J230/L228)))","v":4.7951879815000806E-2},{"$f":"171612500*0.6*0.62/L226","v":58036227.272727266},{"$f":"IFERROR(IF(K230<K240,K240/K230,K230/K240),\"\")","v":2.0796301145898415},{"$f":"IFERROR(K230/IF((J230*L228)<1500,1500,J230*L228)^0.25*62.2333,\"\")","v":1.5999451115336936E-2},1.0147444731824279E-3,"2 + 2",{"$f":"IF(OR(S230<=0,AND(S230>1000000000,S230<>\"Freispiel\")),\"\",1/(HYPGEOMDIST(2,5,5,50)*HYPGEOMDIST(2,2,2,12))/S218)","v":985.46976744186009},{"$f":"IF(OR(S230<=0,T220>1),\"\",IF(S230=\"Freispiel\",U220/(1-(1/Q230))/Q230,IF(S230>1000000000,\"\",S230/Q230/S219)))","v":4.0857142857142889E-3},14.092217674418611,{"$f":"IFERROR(IF(R230<R238,R238/R230,R230/R238),\"\")","v":6.5074594362951705},{"$f":"IFERROR(R230/IF((Q230*S219)<1500,1500,Q230*S219)^0.25*62.2333,\"\")","v":3.3178976610523096E-2}]
[7.9319085312137862E-8,5,{"$f":"IF(OR(E231<=0,AND(E231>1000000000,E231<>\"Freispiel\")),\"\",1/(HYPGEOMDIST(5,5,5,70)*HYPGEOMDIST(0,1,1,25))/E227)","v":12607306.250000015},{"$f":"IF(OR(E231<=0,F229>1),\"\",IF(E231=\"Freispiel\",G229/(1-(1/C231))/C231,IF(E231>1000000000,\"\",E231/C231/E228)))","v":1.6392610964508492E-2},{"$f":"1000000*0.62/D227","v":620000},{"$f":"IFERROR(IF(D231<D240,D240/D231,D231/D240),\"\")","v":1.0940121493156423},{"$f":"IFERROR(D231/IF((C231*E228)<1500,1500,C231*E228)^0.25*62.2333,\"\")","v":1.3008735199123817E-2},7.9319085312137862E-8,5,{"$f":"IF(OR(L231<=0,AND(L231>1000000000,L231<>\"Freispiel\")),\"\",1/(HYPGEOMDIST(5,5,5,70)*HYPGEOMDIST(0,1,1,25))/L227)","v":12607306.250000015},{"$f":"IF(OR(L231<=0,M229>1),\"\",IF(L231=\"Freispiel\",N229/(1-(1/J231))/J231,IF(L231>1000000000,\"\",L231/J231/L228)))","v":3.6883374670144103E-2},{"$f":"1000000*0.62*K226","v":1860000},{"$f":"IFERROR(IF(K231<K240,K240/K231,K231/K240),\"\")","v":1.5995989518587457},{"$f":"IFERROR(K231/IF((J231*L228)<1500,1500,J231*L228)^0.25*62.2333,\"\")","v":2.7238482420923575E-2},1.415922520719666E-3,"3 + 1",{"$f":"IF(OR(S231<=0,AND(S231>1000000000,S231<>\"Freispiel\")),\"\",1/(HYPGEOMDIST(3,5,5,50)*HYPGEOMDIST(1,2,2,12))/S218)","v":706.25333333333344},{"$f":"IF(OR(S231<=0,T220>1),\"\",IF(S231=\"Freispiel\",U220/(1-(1/Q231))/Q231,IF(S231>1000000000,\"\",S231/Q231/S219)))","v":4.5571428571428568E-3},11.264740666666667,{"$f":"IFERROR(IF(R231<R238,R238/R231,R231/R238),\"\")","v":5.8342739773680892},{"$f":"IFERROR(R231/IF((Q231*S219)<1500,1500,Q231*S219)^0.25*62.2333,\"\")","v":4.0221506668395718E-2}]
[1.0741126136018708E-6,"4 + MB",{"$f":"IF(OR(E232<=0,AND(E232>1000000000,E232<>\"Freispiel\")),\"\",1/(HYPGEOMDIST(4,5,5,70)*HYPGEOMDIST(1,1,1,25))/E227)","v":931001.07692307455},{"$f":"IF(OR(E232<=0,F229>1),\"\",IF(E232=\"Freispiel\",G229/(1-(1/C232))/C232,IF(E232>1000000000,\"\",E232/C232/E228)))","v":2.2198327347771997E-3},{"$f":"10000*0.62/D227","v":6200},{"$f":"IFERROR(IF(D232<D240,D240/D232,D232/D240),\"\")","v":6.7500305085595196},{"$f":"IFERROR(D232/IF((C232*E228)<1500,1500,C232*E228)^0.25*62.2333,\"\")","v":3.3792881276626225E-3},1.0741126136018708E-6,"4 + MB",{"$f":"IF(OR(L232<=0,AND(L232>1000000000,L232<>\"Freispiel\")),\"\",1/(HYPGEOMDIST(4,5,5,70)*HYPGEOMDIST(1,1,1,25))/L227)","v":931001.07692307455},{"$f":"IF(OR(L232<=0,M229>1),\"\",IF(L232=\"Freispiel\",N229/(1-(1/J232))/J232,IF(L232>1000000000,\"\",L232/J232/L228)))","v":4.9946236532486992E-3},{"$f":"10000*0.62*K226","v":18600},{"$f":"IFERROR(IF(K232<K240,K240/K232,K232/K240),\"\")","v":4.6165417750707949},{"$f":"IFERROR(K232/IF((J232*L228)<1500,1500,J232*L228)^0.25*62.2333,\"\")","v":7.0757593917949654E-3},3.1858256716192496E-3,3,{"$f":"IF(OR(S232<=0,AND(S232>1000000000,S232<>\"Freispiel\")),\"\",1/(HYPGEOMDIST(3,5,5,50)*HYPGEOMDIST(0,2,2,12))/S218)","v":313.89037037037031},{"$f":"IF(OR(S232<=0,T220>1),\"\",IF(S232=\"Freispiel\",U220/(1-(1/Q232))/Q232,IF(S232>1000000000,\"\",S232/Q232/S219)))","v":8.4857142857142909E-3},9.3225440000000042,{"$f":"IFERROR(IF(R232<R238,R238/R232,R232/R238),\"\")","v":3.1332212100680459},{"$f":"IFERROR(R232/IF((Q232*S219)<1500,1500,Q232*S219)^0.25*62.2333,\"\")","v":8.4857145953933386E-2}]
[2.5778702726444898E-5,4,{"$f":"IF(OR(E233<=0,AND(E233>1000000000,E233<>\"Freispiel\")),\"\",1/(HYPGEOMDIST(4,5,5,70)*HYPGEOMDIST(0,1,1,25))/E227)","v":38791.711538461444},{"$f":"IF(OR(E233<=0,F229>1),\"\",IF(E233=\"Freispiel\",G229/(1-(1/C233))/C233,IF(E233>1000000000,\"\",E233/C233/E228)))","v":4.2964504544074833E-3},{"$f":"500/D227","v":500},{"$f":"IFERROR(IF(D233<D240,D240/D233,D233/D240),\"\")","v":3.4875157627557516},{"$f":"IFERROR(D233/IF((C233*E228)<1500,1500,C233*E228)^0.25*62.2333,\"\")","v":1.4476633828421325E-2},2.5778702726444898E-5,4,{"$f":"IF(OR(L233<=0,AND(L233>1000000000,L233<>\"Freispiel\")),\"\",1/(HYPGEOMDIST(4,5,5,70)*HYPGEOMDIST(0,1,1,25))/L227)","v":38791.711538461444},{"$f":"IF(OR(L233<=0,M229>1),\"\",IF(L233=\"Freispiel\",N229/(1-(1/J233))/J233,IF(L233>1000000000,\"\",L233/J233/L228)))","v":9.6670135224168358E-3},{"$f":"500*K226","v":1500},{"$f":"IFERROR(IF(K233<K240,K240/K233,K233/K240),\"\")","v":2.3852132504532446},{"$f":"IFERROR(K233/IF((J233*L228)<1500,1500,J233*L228)^0.25*62.2333,\"\")","v":3.0312058014384122E-2},4.6725443183748992E-3,"3 (2C)",{"$f":"IF(OR(S233<=0,AND(S233>1000000000,S233<>\"Freispiel\")),\"\",1/HYPGEOMDIST(3,5,5,50)/S218)","v":214.01616161616158},{"$f":"IF(OR(S233<=0,T220>1),\"\",IF(S233=\"Freispiel\",U220/(1-(1/Q233))/Q233,IF(S233>1000000000,\"\",S233/Q233/S219)))","v":1.3350126623928284E-2},10,{"$f":"IFERROR(IF(R233<R238,R238/R233,R233/R238),\"\")","v":1.9915631313131326},{"$f":"IFERROR(R233/IF((Q233*S219)<1500,1500,Q233*S219)^0.25*62.2333,\"\")","v":0.13350127111129992}]
[6.8743207270519625E-5,"3 + MB",{"$f":"IF(OR(E234<=0,AND(E234>1000000000,E234<>\"Freispiel\")),\"\",1/(HYPGEOMDIST(3,5,5,70)*HYPGEOMDIST(1,1,1,25))/E227)","v":14546.891826923063},{"$f":"IF(OR(E234<=0,F229>1),\"\",IF(E234=\"Freispiel\",G229/(1-(1/C234))/C234,IF(E234>1000000000,\"\",E234/C234/E228)))","v":4.5828804847013078E-3},{"$f":"200/D227","v":200},{"$f":"IFERROR(IF(D234<D240,D240/D234,D234/D240),\"\")","v":3.2695460275835226},{"$f":"IFERROR(D234/IF((C234*E228)<1500,1500,C234*E228)^0.25*62.2333,\"\")","v":1.9732790095718628E-2},6.8743207270519625E-5,"3 + MB",{"$f":"IF(OR(L234<=0,AND(L234>1000000000,L234<>\"Freispiel\")),\"\",1/(HYPGEOMDIST(3,5,5,70)*HYPGEOMDIST(1,1,1,25))/L227)","v":14546.891826923063},{"$f":"IF(OR(L234<=0,M229>1),\"\",IF(L234=\"Freispiel\",N229/(1-(1/J234))/J234,IF(L234>1000000000,\"\",L234/J234/L228)))","v":1.0311481090577944E-2},{"$f":"200*K226","v":600},{"$f":"IFERROR(IF(K234<K240,K240/K234,K234/K240),\"\")","v":2.2361374222999197},{"$f":"IFERROR(K234/IF((J234*L228)<1500,1500,J234*L228)^0.25*62.2333,\"\")","v":4.1317718280114456E-2},5.3274084842077421E-3,"1 + 2",{"$f":"IF(OR(S234<=0,AND(S234>1000000000,S234<>\"Freispiel\")),\"\",1/(HYPGEOMDIST(1,5,5,50)*HYPGEOMDIST(2,2,2,12))/S218)","v":187.70852713178303},{"$f":"IF(OR(S234<=0,T220>1),\"\",IF(S234=\"Freispiel\",U220/(1-(1/Q234))/Q234,IF(S234>1000000000,\"\",S234/Q234/S219)))","v":1.0277142857142854E-2},6.7518757209302329,{"$f":"IFERROR(IF(R234<R238,R238/R234,R234/R238),\"\")","v":2.5870633844598565},{"$f":"IFERROR(R234/IF((Q234*S219)<1500,1500,Q234*S219)^0.25*62.2333,\"\")","v":0.10277143232198591}]
[1.4436073526809109E-3,"2 + MB",{"$f":"IF(OR(E235<=0,AND(E235>1000000000,E235<>\"Freispiel\")),\"\",1/(HYPGEOMDIST(2,5,5,70)*HYPGEOMDIST(1,1,1,25))/E227)","v":692.70913461538453},{"$f":"IF(OR(E235<=0,F229>1),\"\",IF(E235=\"Freispiel\",G229/(1-(1/C235))/C235,IF(E235>1000000000,\"\",E235/C235/E228)))","v":4.8120245089363694E-3},{"$f":"10/D227","v":10},{"$f":"IFERROR(IF(D235<D240,D240/D235,D235/D240),\"\")","v":3.1138533596033575},{"$f":"IFERROR(D235/IF((C235*E228)<1500,1500,C235*E228)^0.25*62.2333,\"\")","v":4.4353982310040181E-2},1.4436073526809109E-3,"2 + MB",{"$f":"IF(OR(L235<=0,AND(L235>1000000000,L235<>\"Freispiel\")),\"\",1/(HYPGEOMDIST(2,5,5,70)*HYPGEOMDIST(1,1,1,25))/L227)","v":692.70913461538453},{"$f":"IF(OR(L235<=0,M229>1),\"\",IF(L235=\"Freispiel\",N229/(1-(1/J235))/J235,IF(L235>1000000000,\"\",L235/J235/L228)))","v":1.0827055145106831E-2},{"$f":"10*K226","v":30},{"$f":"IFERROR(IF(K235<K240,K240/K235,K235/K240),\"\")","v":2.1296546879046874},{"$f":"IFERROR(K235/IF((J235*L228)<1500,1500,J235*L228)^0.25*62.2333,\"\")","v":9.2871070781066919E-2},2.029488946364855E-2,"2 + 1",{"$f":"IF(OR(S235<=0,AND(S235>1000000000,S235<>\"Freispiel\")),\"\",1/(HYPGEOMDIST(2,5,5,50)*HYPGEOMDIST(1,2,2,12))/S218)","v":49.27348837209302},{"$f":"IF(OR(S235<=0,T220>1),\"\",IF(S235=\"Freispiel\",U220/(1-(1/Q235))/Q235,IF(S235>1000000000,\"\",S235/Q235/S219)))","v":3.2371428571428572E-2},5.5826862325581397,{"$f":"IFERROR(IF(R235<R238,R238/R235,R235/R238),\"\")","v":1.2175376582274458},{"$f":"IFERROR(R235/IF((Q235*S219)<1500,1500,Q235*S219)^0.25*62.2333,\"\")","v":0.32371429752796793}]
[1.6498369744924702E-3,3,{"$f":"IF(OR(E236<=0,AND(E236>1000000000,E236<>\"Freispiel\")),\"\",1/(HYPGEOMDIST(3,5,5,70)*HYPGEOMDIST(0,1,1,25))/E227)","v":606.12049278846121},{"$f":"IF(OR(E236<=0,F229>1),\"\",IF(E236=\"Freispiel\",G229/(1-(1/C236))/C236,IF(E236>1000000000,\"\",E236/C236/E228)))","v":5.499456581641568E-3},{"$f":"10/D227","v":10},{"$f":"IFERROR(IF(D236<D240,D240/D236,D236/D240),\"\")","v":2.7246216896529365},{"$f":"IFERROR(D236/IF((C236*E228)<1500,1500,C236*E228)^0.25*62.2333,\"\")","v":5.2411012858016096E-2},1.6498369744924702E-3,3,{"$f":"IF(OR(L236<=0,AND(L236>1000000000,L236<>\"Freispiel\")),\"\",1/(HYPGEOMDIST(3,5,5,70)*HYPGEOMDIST(0,1,1,25))/L227)","v":606.12049278846121},{"$f":"IF(OR(L236<=0,M229>1),\"\",IF(L236=\"Freispiel\",N229/(1-(1/J236))/J236,IF(L236>1000000000,\"\",L236/J236/L228)))","v":1.2373777308693528E-2},{"$f":"10*K226","v":30},{"$f":"IFERROR(IF(K236<K240,K240/K236,K236/K240),\"\")","v":1.8634478519166005},{"$f":"IFERROR(K236/IF((J236*L228)<1500,1500,J236*L228)^0.25*62.2333,\"\")","v":0.10974137228129789},4.5663501293209258E-2,2,{"$f":"IF(OR(S236<=0,AND(S236>1000000000,S236<>\"Freispiel\")),\"\",1/(HYPGEOMDIST(2,5,5,50)*HYPGEOMDIST(0,2,2,12))/S218)","v":21.899328165374666},{"$f":"IF(OR(S236<=0,T220>1),\"\",IF(S236=\"Freispiel\",U220/(1-(1/Q236))/Q236,IF(S236>1000000000,\"\",S236/Q236/S219)))","v":5.2140000000000034E-2},3.9964083968992252,{"$f":"IFERROR(IF(R236<R238,R238/R236,R236/R238),\"\")","v":1.9610630825236253},{"$f":"IFERROR(R236/IF((Q236*S219)<1500,1500,Q236*S219)^0.25*62.2333,\"\")","v":0.52140001902805744}]
[1.1187956983277056E-2,"1 + MB",{"$f":"IF(OR(E237<=0,AND(E237>1000000000,E237<>\"Freispiel\")),\"\",1/(HYPGEOMDIST(1,5,5,70)*HYPGEOMDIST(1,1,1,25))/E227)","v":89.381823821339964},{"$f":"IF(OR(E237<=0,F229>1),\"\",IF(E237=\"Freispiel\",G229/(1-(1/C237))/C237,IF(E237>1000000000,\"\",E237/C237/E228)))","v":1.4917275977702741E-2},{"$f":"4/D227","v":4},{"$f":"IFERROR(IF(D237<D240,D240/D237,D237/D240),\"\")","v":1.0044688256785028},{"$f":"IFERROR(D237/IF((C237*E228)<1500,1500,C237*E228)^0.25*62.2333,\"\")","v":0.14917276522096257},1.1187956983277056E-2,"1 + MB",{"$f":"IF(OR(L237<=0,AND(L237>1000000000,L237<>\"Freispiel\")),\"\",1/(HYPGEOMDIST(1,5,5,70)*HYPGEOMDIST(1,1,1,25))/L227)","v":89.381823821339964},{"$f":"IF(OR(L237<=0,M229>1),\"\",IF(L237=\"Freispiel\",N229/(1-(1/J237))/J237,IF(L237>1000000000,\"\",L237/J237/L228)))","v":3.3563870949831168E-2},{"$f":"4*K226","v":12},{"$f":"IFERROR(IF(K237<K240,K240/K237,K237/K240),\"\")","v":1.45563504619146},{"$f":"IFERROR(K237/IF((J237*L228)<1500,1500,J237*L228)^0.25*62.2333,\"\")","v":0.33563872174716575},{"$f":"IF(SUM(O221:O236)=0,\"\",SUM(O221:O236))","v":8.1858964677452878E-2},"Gesamt",{"$f":"IFERROR(1/O237,\"\")","v":12.216133003150951},{"$f":"IF(SUM(R221:R236)=0,\"\",SUM(R221:R236))","v":0.42540191972123892},{"$f":"IFERROR(S219*R237,\"\")","v":1.4889067190243361},{"$f":"IFERROR(AVERAGE(T221:T236),\"\")","v":10.950500722990329},{"$f":"IF(SUM(U221:U236)=0,\"\",SUM(U221:U236))","v":1.5614498372772545}]
[2.7298615039196023E-2,"0 + MB",{"$f":"IF(OR(E238<=0,AND(E238>1000000000,E238<>\"Freispiel\")),\"\",1/(HYPGEOMDIST(0,5,5,70)*HYPGEOMDIST(1,1,1,25))/E227)","v":36.631895008745879},{"$f":"IF(OR(E238<=0,F229>1),\"\",IF(E238=\"Freispiel\",G229/(1-(1/C238))/C238,IF(E238>1000000000,\"\",E238/C238/E228)))","v":1.8199076692797349E-2},{"$f":"2/D227","v":2},{"$f":"IFERROR(IF(D238<D240,D240/D238,D238/D240),\"\")","v":1.2145722881702274},{"$f":"IFERROR(D238/IF((C238*E228)<1500,1500,C238*E228)^0.25*62.2333,\"\")","v":0.18199077356957435},2.7298615039196023E-2,"0 + MB",{"$f":"IF(OR(L238<=0,AND(L238>1000000000,L238<>\"Freispiel\")),\"\",1/(HYPGEOMDIST(0,5,5,70)*HYPGEOMDIST(1,1,1,25))/L227)","v":36.631895008745879},{"$f":"IF(OR(L238<=0,M229>1),\"\",IF(L238=\"Freispiel\",N229/(1-(1/J238))/J238,IF(L238>1000000000,\"\",L238/J238/L228)))","v":4.0947922558794037E-2},{"$f":"2*K226","v":6},{"$f":"IFERROR(IF(K238<K240,K240/K238,K238/K240),\"\")","v":1.7758747563535817},{"$f":"IFERROR(K238/IF((J238*L228)<1500,1500,J238*L228)^0.25*62.2333,\"\")","v":0.40947924053154228},null,null,null,{"$f":"AVERAGE(R221:R236)","v":2.6587619982577432E-2}]
[{"$f":"IF(SUM(A230:A238)=0,\"\",SUM(A230:A238))","v":4.1675694996304226E-2},"Gesamt",{"$f":"IFERROR(1/A239,\"\")","v":23.994800808689078},{"$f":"IF(SUM(D230:D238)=0,\"\",SUM(D230:D238))","v":0.13485544815280689},{"$f":"IFERROR(E228*D239,\"\")","v":0.40456634445842066},{"$f":"IFERROR(AVERAGE(F230:F238),\"\")","v":2.9917309769507248},{"$f":"IF(SUM(G230:G238)=0,\"\",SUM(G230:G238))","v":0.50144935333514851},{"$f":"IF(SUM(H230:H238)=0,\"\",SUM(H230:H238))","v":4.1675694996304226E-2},"Gesamt",{"$f":"IFERROR(1/H239,\"\")","v":23.994800808689078},{"$f":"IF(SUM(K230:K238)=0,\"\",SUM(K230:K238))","v":0.20752099871381396},{"$f":"IFERROR(L228*K239,\"\")","v":0.83008399485525586},{"$f":"IFERROR(AVERAGE(M230:M238),\"\")","v":2.23797042851543},{"$f":"IF(SUM(N230:N238)=0,\"\",SUM(N230:N238))","v":1.0696738745636267}]
[null,null,null,{"$f":"AVERAGE(D230:D238)","v":1.498393868364521E-2},null,null,null,null,null,null,{"$f":"AVERAGE(K230:K238)","v":2.3057888745979329E-2},null,null,null,null,"Millionärs Tombola ⁵",null,null,1]
[null,null,null,null,null,null,null,null,null,null,null,null,null,null,null,"1 aus 100.000",null,null,{"$f":"S240*15","v":15}]
[null,"Rechtliche Hinweise: Dieser Rechner darf nur für private Zwecke verwendet werden. Eine Weitergabe\ndieser Excel-Datei an andere Personen darf nur unverändert und kostenlos erfolgen! ",null,null,null,null,null,null,null,null,null,null,null,null,null,"GK",{"$f":"IF(S240=1,\"Chancen 1:\",\"Ø Gewinne 1:\")","v":"Chancen 1:"},"Ø AQ","(Ø) Gewinn",{"$f":"IFERROR(COUNTIF(S243:S243,\"Freispiel\"),\"\")","v":0},{"$f":"IFERROR(SUMIF(S243:S243,\"<>Freispiel\",R243:R243),\"\")","v":0.66666666666666663}]
[null,null,null,null,null,null,null,null,null,null,null,null,null,null,{"$f":"IF(Q243=\"\",0,1/Q243)","v":1.0000000000000001E-5},1,{"$f":"IF(OR(S243<=0,AND(S243>1000000000,S243<>\"Freispiel\")),\"\",100000/1/S240)","v":100000},{"$f":"IF(OR(S243<=0,T242>1),\"\",IF(S243=\"Freispiel\",U242/(1-(1/Q243))/Q243,IF(S243>1000000000,\"\",S243/Q243/S241)))","v":0.66666666666666663},1000000,{"$f":"IFERROR(IF(R243<R245,R245/R243,R243/R245),\"\")","v":1},{"$f":"IFERROR(R243/IF((Q243*S241)<1500,1500,Q243*S241)^0.25*62.2333,\"\")","v":1.1855196499571619}]
[null,null,null,null,null,null,null,null,null,null,null,null,null,null,{"$f":"IF(SUM(O243:O243)=0,\"\",SUM(O243:O243))","v":1.0000000000000001E-5},"Gesamt",{"$f":"IFERROR(1/O244,\"\")","v":99999.999999999985},{"$f":"IF(SUM(R243:R243)=0,\"\",SUM(R243:R243))","v":0.66666666666666663},{"$f":"IFERROR(S241*R244,\"\")","v":10},{"$f":"IFERROR(AVERAGE(T243:T243),\"\")","v":1},{"$f":"IF(SUM(U243:U243)=0,\"\",SUM(U243:U243))","v":1.1855196499571619}]
[null,null,null,null,null,null,null,null,null,null,null,null,null,null,null,null,null,{"$f":"AVERAGE(R243:R243)","v":0.66666666666666663}]
[]
[null,"¹ Die Ø AQs wurden in den Gewinnklassen, die in den AGB in Abschnitt 11.1 als Typ A oder Typ B gekennzeichnet sind oder für die gemäß Abschnitt 10.12 maximale Auszahlungsbeträge\n¹ festgelegt sind, ohne Berücksichtigung dieser Gewinnbeschränkungen berechnet. Die Ø Gesamt-AQs sind daher bei diesen Lotterien als Höchstwerte zu betrachten, deren tatsächlicher\n¹ Wert umso geringer ausfällt, je mehr Tipps bei ELBL (Lottoland und Lottohelden) bei dieser Lotterie abgegeben werden. Die Bewertungsübersicht kann mit Strg+[1-6] sortiert werden.\n² Je geringer der Wert, desto höher ist das Verlustpotenzial in Relation zum Spieleinsatz. Berechnung: Summe aller berechneten Werte (X) in den einzelnen Gewinnklassen. Berechnung\n² von X je Gewinnklasse: [Ø AQ dieser Gewinnklasse]/([1:Wahrscheinlichkeit dieser Gewinnklasse]*[Preis je Tipp in Euro])^0,25*62,2333\n² Für den in den runden Klammern berechneten Wert gilt jedoch eine Untergrenze von 1.500. Die Lotteriebewertungen wurden daher speziell für Gelegenheitsspieler kalkuliert und tref-\n² fen somit am genauesten auf diejenigen Spieler zu, die in ihrem gesamten Leben lediglich 1.500 € für diese Lotterie ausgeben.\n² Beispiel: Die 1:Wahrscheinlichkeit einer Gewinnklasse liegt bei 400 und der Spielpreis bei 3 €. Der Wert in den runden Klammern beläuft sich dadurch auf 1.500 (anstelle von 1.200).\n³ Je höher der Wert, desto ungleichmäßiger ist die Ø Gesamt-AQ auf die Gewinnklassen verteilt. Berechnung: Mittelwert (Ø) aller berechneten Werte (X) in den einzelnen Gewinnklassen. \n³ Berechnung von X je Gewinnklasse: Wenn der Ø der Ø AQs aller Gewinnklassen (Y) größer ist als die Ø Gewinnklassen-AQ (Z), dann wird Y durch Z geteilt, ansonsten wird Z durch Y geteilt.\n⁴ Die Auszahlungsbeträge in den ersten beiden Gewinnklassen wurden auf Grundlage der Cash-Option, die bei der Originallotterie in den USA angeboten wird, ermittelt.\n⁵ Die Ziehung der Zahlen erfolgt durch Lottohelden selbst (einem Zufallszahlengenerator von ELBL), wodurch ein deutlich erhöhtes Manipulationsrisiko besteht. Da manche Lotterien nur\n⁵ ein Mal im Jahr (SilvesterMillionen: 31. Dezember / SommerMillionen: 22. September / Deutsche Weihnachtslotterie: 26. Dezember / Osterlotterie: Ostermontag / Halloweenlotterie: 31.\n⁵ Oktober / Winterlotterie: 26. Januar / Frühlingslotterie: 20. März) oder nur wenige Male im Jahr (Millionärs Tombola: unregelmäßig) stattfinden, ist das Lotterieangebot häufig erst wenige ⁵ Wochen vor der Ziehung verfügbar. Die Valentinstags-/Vatertagslotterie ist mit der Gewinntabelle der Winter-/Frühlingslotterie identisch und findet am entsprechenden Jahrestag statt.\n⁶ Der Ø Gewinn in der ersten Gewinnklasse wurde auf Grundlage der Jackpothöhe und Anzahl der Jackpotgewinner bei 200 Ziehungen im Zeitraum vom 01.01.2017 bis 28.11.2018 bei der\n⁶ Originallotterie berechnet und entspricht somit der Ø Gewinnauszahlung von Lottohelden, sofern es jeweils nur einen Gewinner bei ELBL (Lottoland und Lottohelden) gegeben hätte.\n⁷ Der Ø Gewinn in der ersten Gewinnklasse wurde auf Grundlage der Anzahl der Jackpotgewinner (29x0 / 33x1 / 23x2 / 9x3 / 2x4 / 3x5 / 1x6) bei den letzten 100 Ziehungen im Jahr 2019\n⁷ bei der Originallotterie berechnet und entspricht somit der Ø Gewinnauszahlung von Lottohelden, sofern es jeweils nur einen Gewinner bei ELBL gegeben hätte. Die Lotterien \"BlitzCash\",\n⁷ \"ExtraCash\", \"Extragehalt\", \"Urlaubsgeld + Geldregen\", \"Millionenkracher\" und \"Weihnachtsgeld\" sind nicht dauerhaft verfügbar, sondern nur für wenige Wochen im Jahr.\n⁸ Der Ø Gewinn in der ersten und zweiten Gewinnklasse wurde auf Grundlage der Anzahl der Gewinner in der jeweiligen Gewinnklasse bei 100 Ziehungen im Zeitraum vom 20.03.2017 bis \n⁸ 11.02.2019 bei der Originallotterie berechnet und entspricht somit der Ø Gewinnauszahlung von Lottohelden, sofern es jeweils nur einen Gewinner bei Lottohelden gegeben hätte.\n⁹ Der Ø Gewinn in der ersten Gewinnklasse wurde auf Grundlage der Jackpothöhe und Anzahl der Jackpotgewinner bei 300 Ziehungen im Zeitraum vom 18.03.2017 bis 13.02.2019 bei der\n⁹ Originallotterie berechnet und entspricht somit der Ø Gewinnauszahlung von Lottohelden, sofern es jeweils nur einen Gewinner bei ELBL (Lottoland und Lottohelden) gegeben hätte.\n¹⁰ Da die Lotterieziehung nur ein Mal im Jahr stattfindet (Sommerlotterie: erster Samstag im Juli / Dreikönigslotterie: 6. Januar / Weihnachtslotterie: 22. Dezember / Septemberlotterie: \n¹⁰ erster oder zweiter Samstag im September), ist das Lotterieangebot häufig erst wenige Wochen vor der Ziehung verfügbar.\n¹¹ Entsprechend den AGB von Lottohelden (Abschnitt 11.9) wurden die Gewinnbeträge bereits nach Abzug der Einbehaltung von 20 % der Gewinne in den Gewinnklassen 1 bis 3 kalkuliert.\n¹² In der ersten Gewinnklasse wurde der festgelegte Sofortauszahlungsbetrag angesetzt, der 300.000 € niedriger ist als bei der monatlichen Rentenoption von 10.000 € über 20 Jahre.\n¹³ In Gewinnklassen, bei denen die nominale Gesamtgewinnsumme nur in monatlichen Raten ausgezahlt wird, wurden diese mit einer monatlichen Inflationsrate von 0,125 % diskontiert.\n¹⁴ Der Ø Gewinn in der ersten Gewinnklasse wurde bei Auszahlung des Jackpots in einem Betrag und auf Grundlage der Jackpothöhe und Anzahl der Jackpotgewinner bei 200 Ziehungen im\n¹⁴ Zeitraum vom 29.10.2017 bis 26.09.2019 bei PowerBall bzw. vom 01.11.2017 bis 28.09.2019 bei MegaMillions berechnet und entspricht somit der Ø Gewinnauszahlung von Lottohelden,\n¹⁴ sofern es jeweils nur einen Gewinner bei ELBL (Lottoland und Lottohelden) gegeben hätte. Entsprechend den AGB von Lottohelden (Abschnitt 11.7 und 11.8) wurden die Gewinnbeträge\n¹⁴ bereits nach Abzug der Einbehaltung von 38 % der Gewinne in den Gewinnklassen 1 bis 3 sowie weiteren 40 % in Gewinnklasse 1 kalkuliert.\n¹⁵ Die Ø Gewinne wurden in den Gewinnklassen 3 bis 9 für einen Jackpot von maximal 150.000.000 $ kalkuliert. Bei einem höheren Jackpot reduzieren sich die angegebenen Ø Gewinne in\n¹⁵ diesen Gewinnklassen um jeweils 6,2225 %, da der 10-fach-Multiplikator in diesem Fall nicht mehr verfügbar ist. ",null,null,null,null,null,null,null,null,null,null,null,null,null,null,null,null,null,null,null,null,1,1,null,1]
[null,null,null,null,null,null,null,null,null,null,null,null,null,null,null,null,null,null,null,null,null,null,2,2,null,2]
[null,null,null,null,null,null,null,null,null,null,null,null,null,null,null,null,null,null,null,null,null,null,5,5,null,10]
[null,null,null,null,null,null,null,null,null,null,null,null,null,null,null,null,null,null,null,null,null,null,10,10]
[null,null,null,null,null,null,null,null,null,null,null,null,null,null,null,null,null,null,null,null,null,null,null,20]
[null,null,null,null,null,null,null,null,null,null,null,null,null,null,null,null,null,null,null,null,null,null,null,50]
[null,null,null,null,null,null,null,null,null,null,null,null,null,null,null,null,null,null,null,null,null,null,null,100]

{"sheet":"System-Chancen","index":1,"n_rows":119,"n_cols":29,"rows_kept":119,"cut":false,"hidden":false,"merged":[[118,1,132,18],[99,5,100,7],[99,12,100,14],[16,12,17,14],[34,5,35,7],[34,12,35,14],[53,5,54,7],[53,12,54,14],[71,8,71,10],[114,1,114,18],[84,15,84,17],[99,15,99,17],[100,15,100,17],[84,1,84,3],[85,1,85,3],[99,1,99,3],[100,1,100,3],[84,8,84,10],[85,15,85,17],[85,8,85,10],[99,8,99,10],[100,8,100,10],[116,1,116,18],[84,5,85,7],[84,12,85,14],[16,1,16,3],[17,1,17,3],[16,8,16,10],[17,8,17,10],[34,8,34,10],[16,5,17,7],[70,15,70,17],[71,15,71,17],[53,1,53,3],[53,8,53,10],[53,15,53,17],[70,5,71,7],[70,12,71,14],[1,27,2,27],[2,1,2,3],[2,8,2,10],[2,15,2,17],[1,1,1,3],[1,8,1,10],[1,15,1,17],[1,22,2,22],[1,23,2,23],[1,5,2,7],[1,12,2,14],[1,24,2,24],[1,25,2,25],[34,1,34,3],[34,15,34,17],[1,26,2,26],[35,15,35,17],[54,1,54,3],[54,8,54,10],[54,15,54,17],[16,15,16,17],[17,15,17,17],[70,1,70,3],[71,1,71,3],[70,8,70,10],[35,1,35,3],[35,8,35,10]]}
[]
[null,"LOTTO 6aus49 L (210 Tipps)",null,null,1,"vs.",null,null,"LOTTO 6aus49 XL (924 Tipps)",null,null,1,"vs.",null,null,"LOTTO 6aus49 XXL (1.716 Tipps)",null,null,1,null,null,null,"Bewertungsübersicht der System-\nChancen von Lottohelden ¹","Preis\nje Spiel","Wer-\ntung ²","Ø AQ\nGesamt","Chancen\nje Spiel","Vertei-\nlung ³"]
[null,"Vollsystem 010 / 42 Anteile",null,null,{"$f":"E2*6","v":6},null,null,null,"Vollsystem 012 / 84 Anteile",null,null,{"$f":"L2*13.2","v":13.2},null,null,null,"Vollsystem 013 / 78 Anteile",null,null,{"$f":"S2*26.4","v":26.4}]
[null,"Richtige",{"$f":"IF(E2=1,\"Chancen 1:\",\"Ø Gewinne 1:\")","v":"Chancen 1:"},"Ø AQ","(Ø) Gewinn",null,null,null,"Richtige",{"$f":"IF(L2=1,\"Chancen 1:\",\"Ø Gewinne 1:\")","v":"Chancen 1:"},"Ø AQ","(Ø) Gewinn",null,null,null,"Richtige",{"$f":"IF(S2=1,\"Chancen 1:\",\"Ø Gewinne 1:\")","v":"Chancen 1:"},"Ø AQ","(Ø) Gewinn",null,null,null,{"$f":"$I$2","v":"LOTTO 6aus49 XL (924 Tipps)"},{"$f":"$L$3/$L$2","v":13.2},{"$f":"$N$14","v":3.4948435931517756},{"$f":"IFERROR(ROUND($K$14,10),\"\")","v":0.5},{"$f":"IFERROR($H$14/$L$2,\"\")","v":0.17914959693405569},{"$f":"$M$14","v":1.5704197662850374},3.4948435931517756]
[{"$f":"IFERROR(IF(OR(E5<=0,E5>1000000000),0,1/C5),\"\")","v":1.5017360068238898E-6},"6 + SZ",{"$f":"IF(OR(E5<=0,E5>1000000000),\"\",1/(HYPGEOMDIST(6,10,6,49)*HYPGEOMDIST(1,1,1,10))/E2)","v":665895.99999999942},{"$f":"IF(OR(E5<=0,E5>1000000000),\"\",E5/C5/E3)","v":7.684881559433078E-2},307039.91345401469,{"$f":"IFERROR(IF(D5<D15,D15/D5,D5/D15),\"\")","v":1.383278680697954},{"$f":"IFERROR(D5/IF((C5*E3)<1500,1500,C5*E3)^0.25*62.2333,\"\")","v":0.10697211805835083},{"$f":"IFERROR(IF(OR(L5<=0,L5>1000000000),0,1/J5),\"\")","v":6.6076384300251119E-6},"6 + SZ",{"$f":"IF(OR(L5<=0,L5>1000000000),\"\",1/(HYPGEOMDIST(6,12,6,49)*HYPGEOMDIST(1,1,1,10))/L2)","v":151339.99999999994},{"$f":"IF(OR(L5<=0,L5>1000000000),\"\",L5/J5/L3)","v":7.7918394324547335E-2},155656.64132141625,{"$f":"IFERROR(IF(K5<K15,K15/K5,K5/K15),\"\")","v":1.4025310978418533},{"$f":"IFERROR(K5/IF((J5*L3)<1500,1500,J5*L3)^0.25*62.2333,\"\")","v":0.12898253546506808},{"$f":"IFERROR(IF(OR(S5<=0,S5>1000000000),0,1/Q5),\"\")","v":1.2271328512903776E-5},"6 + SZ",{"$f":"IF(OR(S5<=0,S5>1000000000),\"\",1/(HYPGEOMDIST(6,13,6,49)*HYPGEOMDIST(1,1,1,10))/S2)","v":81490.76923076922},{"$f":"IF(OR(S5<=0,S5>1000000000),\"\",S5/Q5/S3)","v":7.8503491889375027E-2},168888.98245207887,{"$f":"IFERROR(IF(R5<R15,R15/R5,R5/R15),\"\")","v":1.4130628540087509},{"$f":"IFERROR(R5/IF((Q5*S3)<1500,1500,Q5*S3)^0.25*62.2333,\"\")","v":0.12756564211461163},null,{"$f":"$B$2","v":"LOTTO 6aus49 L (210 Tipps)"},{"$f":"$E$3/$E$2","v":6},{"$f":"$G$14","v":3.4779721219415807},{"$f":"IFERROR(ROUND($D$14,10),\"\")","v":0.5},{"$f":"IFERROR($A$14/$E$2,\"\")","v":0.11673905749331941},{"$f":"$F$14","v":1.6035798723335486},3.4779721219415807]
[1.351562406141501E-5,6,{"$f":"IF(OR(E6<=0,E6>1000000000),\"\",1/(HYPGEOMDIST(6,10,6,49)*HYPGEOMDIST(0,1,1,10))/E2)","v":73988.444444444365},{"$f":"IF(OR(E6<=0,E6>1000000000),\"\",E6/C6/E3)","v":5.9286181258368292E-2},26318.953970148246,{"$f":"IFERROR(IF(D6<D15,D15/D6,D6/D15),\"\")","v":1.0671512626506294},{"$f":"IFERROR(D6/IF((C6*E3)<1500,1500,C6*E3)^0.25*62.2333,\"\")","v":0.14293794082038488},5.9468745870225995E-5,6,{"$f":"IF(OR(L6<=0,L6>1000000000),\"\",1/(HYPGEOMDIST(6,12,6,49)*HYPGEOMDIST(0,1,1,10))/L2)","v":16815.555555555551},{"$f":"IF(OR(L6<=0,L6>1000000000),\"\",L6/J6/L3)","v":6.2428924718751E-2},13857.057084839134,{"$f":"IFERROR(IF(K6<K15,K15/K6,K6/K15),\"\")","v":1.123720644937519},{"$f":"IFERROR(K6/IF((J6*L3)<1500,1500,J6*L3)^0.25*62.2333,\"\")","v":0.17899355655068841},1.1044195661613397E-4,6,{"$f":"IF(OR(S6<=0,S6>1000000000),\"\",1/(HYPGEOMDIST(6,13,6,49)*HYPGEOMDIST(0,1,1,10))/S2)","v":9054.5299145299141},{"$f":"IF(OR(S6<=0,S6>1000000000),\"\",S6/Q6/S3)","v":6.4144739603950895E-2},15333.132239137813,{"$f":"IFERROR(IF(R6<R15,R15/R6,R6/R15),\"\")","v":1.1546053128711165},{"$f":"IFERROR(R6/IF((Q6*S3)<1500,1500,Q6*S3)^0.25*62.2333,\"\")","v":0.18053708185234393},null,{"$f":"$P$2","v":"LOTTO 6aus49 XXL (1.716 Tipps)"},{"$f":"$S$3/$S$2","v":26.4},{"$f":"$U$14","v":3.3831634089502254},{"$f":"IFERROR(ROUND($R$14,10),\"\")","v":0.5},{"$f":"IFERROR($O$14/$S$2,\"\")","v":0.21453350072684027},{"$f":"$T$14","v":1.5639074661938077},3.3831634089502254]
[7.0281245119358066E-5,"5 + SZ",{"$f":"IF(OR(E7<=0,E7>1000000000),\"\",1/(HYPGEOMDIST(5,10,6,49)*HYPGEOMDIST(1,1,1,10))/E2)","v":14228.547008546991},{"$f":"IF(OR(E7<=0,E7>1000000000),\"\",E7/C7/E3)","v":2.0263551521891857E-2},1729.9253723361135,{"$f":"IFERROR(IF(D7<D15,D15/D7,D7/D15),\"\")","v":2.7416494830896623},{"$f":"IFERROR(D7/IF((C7*E3)<1500,1500,C7*E3)^0.25*62.2333,\"\")","v":7.3775208359401018E-2},2.0955653306651008E-4,"5 + SZ",{"$f":"IF(OR(L7<=0,L7>1000000000),\"\",1/(HYPGEOMDIST(5,12,6,49)*HYPGEOMDIST(1,1,1,10))/L2)","v":4771.9819819819941},{"$f":"IF(OR(L7<=0,L7>1000000000),\"\",L7/J7/L3)","v":2.1648609898625753E-2},1363.6494480998285,{"$f":"IFERROR(IF(K7<K15,K15/K7,K7/K15),\"\")","v":2.5662412420800353},{"$f":"IFERROR(K7/IF((J7*L3)<1500,1500,J7*L3)^0.25*62.2333,\"\")","v":8.5042234663073771E-2},3.3132586984840217E-4,"5 + SZ",{"$f":"IF(OR(S7<=0,S7>1000000000),\"\",1/(HYPGEOMDIST(5,13,6,49)*HYPGEOMDIST(1,1,1,10))/S2)","v":3018.1766381766356},{"$f":"IF(OR(S7<=0,S7>1000000000),\"\",S7/Q7/S3)","v":2.2514609330132659E-2},1793.9609925040345,{"$f":"IFERROR(IF(R7<R15,R15/R7,R7/R15),\"\")","v":2.4675336240990062},{"$f":"IFERROR(R7/IF((Q7*S3)<1500,1500,Q7*S3)^0.25*62.2333,\"\")","v":8.3396937188238679E-2},null,{"$f":"$B$71","v":"SuperLotto L (210 Tipps) ⁵"},{"$f":"$E$72/$E$71","v":5},{"$f":"$G$82","v":2.9378254183973835},{"$f":"IFERROR(ROUND($D$82,10),\"\")","v":0.35886899880000001},{"$f":"IFERROR($A$82/$E$71,\"\")","v":0.51735763099559651},{"$f":"$F$82","v":6.8376895093915415},2.9378254183973835]
[6.3253120607422255E-4,5,{"$f":"IF(OR(E8<=0,E8>1000000000),\"\",1/(HYPGEOMDIST(5,10,6,49)*HYPGEOMDIST(0,1,1,10))/E2)","v":1580.9496676163324},{"$f":"IF(OR(E8<=0,E8>1000000000),\"\",E8/C8/E3)","v":5.9561082633288936E-2},564.97844275180228,{"$f":"IFERROR(IF(D8<D15,D15/D8,D8/D15),\"\")","v":1.0720994873992009},{"$f":"IFERROR(D8/IF((C8*E3)<1500,1500,C8*E3)^0.25*62.2333,\"\")","v":0.37559351953973102},1.8860087975985907E-3,5,{"$f":"IF(OR(L8<=0,L8>1000000000),\"\",1/(HYPGEOMDIST(5,12,6,49)*HYPGEOMDIST(0,1,1,10))/L2)","v":530.22022022022156},{"$f":"IF(OR(L8<=0,L8>1000000000),\"\",L8/J8/L3)","v":6.3485150752396108E-2},444.32666008697248,{"$f":"IFERROR(IF(K8<K15,K15/K8,K8/K15),\"\")","v":1.1427327135431311},{"$f":"IFERROR(K8/IF((J8*L3)<1500,1500,J8*L3)^0.25*62.2333,\"\")","v":0.43195393191504738},2.9819328286356198E-3,5,{"$f":"IF(OR(S8<=0,S8>1000000000),\"\",1/(HYPGEOMDIST(5,13,6,49)*HYPGEOMDIST(0,1,1,10))/S2)","v":335.35295979740391},{"$f":"IF(OR(S8<=0,S8>1000000000),\"\",S8/Q8/S3)","v":6.5809557449318962E-2},582.63294866268109,{"$f":"IFERROR(IF(R8<R15,R15/R8,R8/R15),\"\")","v":1.1845720340877417},{"$f":"IFERROR(R8/IF((Q8*S3)<1500,1500,Q8*S3)^0.25*62.2333,\"\")","v":0.42221657967884918},null,{"$f":"$I$71","v":"SuperLotto XL (924 Tipps) ⁵"},{"$f":"$L$72/$L$71","v":11},{"$f":"$N$82","v":2.9341266299417326},{"$f":"IFERROR(ROUND($K$82,10),\"\")","v":0.35886899880000001},{"$f":"IFERROR($H$82/$L$71,\"\")","v":0.5874629624427552},{"$f":"$M$82","v":5.6069625524900548},2.9341266299417326]
[1.1127863810565016E-3,"4 + SZ",{"$f":"IF(OR(E9<=0,E9>1000000000),\"\",1/(HYPGEOMDIST(4,10,6,49)*HYPGEOMDIST(1,1,1,10))/E2)","v":898.6450742240213},{"$f":"IF(OR(E9<=0,E9>1000000000),\"\",E9/C9/E3)","v":2.2542881258588426E-2},121.54829521108496,{"$f":"IFERROR(IF(D9<D15,D15/D9,D9/D15),\"\")","v":2.4644389915503768},{"$f":"IFERROR(D9/IF((C9*E3)<1500,1500,C9*E3)^0.25*62.2333,\"\")","v":0.16371836239707499},2.3575109969982458E-3,"4 + SZ",{"$f":"IF(OR(L9<=0,L9>1000000000),\"\",1/(HYPGEOMDIST(4,12,6,49)*HYPGEOMDIST(1,1,1,10))/L2)","v":424.17617617617589},{"$f":"IF(OR(L9<=0,L9>1000000000),\"\",L9/J9/L3)","v":2.6845294432189248E-2},150.31017329551898,{"$f":"IFERROR(IF(K9<K15,K15/K9,K9/K15),\"\")","v":2.0694708972512066},{"$f":"IFERROR(K9/IF((J9*L3)<1500,1500,J9*L3)^0.25*62.2333,\"\")","v":0.19313498543657784},3.2212237346372378E-3,"4 + SZ",{"$f":"IF(OR(S9<=0,S9>1000000000),\"\",1/(HYPGEOMDIST(4,13,6,49)*HYPGEOMDIST(1,1,1,10))/S2)","v":310.44102564102593},{"$f":"IF(OR(S9<=0,S9>1000000000),\"\",S9/Q9/S3)","v":2.9015125853041387E-2},237.79761532353064,{"$f":"IFERROR(IF(R9<R15,R15/R9,R9/R15),\"\")","v":1.9147101355664864},{"$f":"IFERROR(R9/IF((Q9*S3)<1500,1500,Q9*S3)^0.25*62.2333,\"\")","v":0.18978047537560597},null,{"$f":"$P$71","v":"SuperLotto XXL (1.716 Tipps) ⁵"},{"$f":"$S$72/$S$71","v":22},{"$f":"$U$82","v":2.9045572502744665},{"$f":"IFERROR(ROUND($R$82,10),\"\")","v":0.35886899880000001},{"$f":"IFERROR($O$82/$S$71,\"\")","v":0.61919658071638939},{"$f":"$T$82","v":5.1679549125638315},2.9045572502744665]
[7.8424944950648626E-3,"3 + SZ",{"$f":"IF(OR(E10<=0,E10>1000000000),\"\",1/(HYPGEOMDIST(3,10,6,49)*HYPGEOMDIST(1,1,1,10))/E2)","v":127.5104497209761},{"$f":"IF(OR(E10<=0,E10>1000000000),\"\",E10/C10/E3)","v":4.2723333952073062E-2},32.686029154849699,{"$f":"IFERROR(IF(D10<D15,D15/D10,D10/D15),\"\")","v":1.3003562787931684},{"$f":"IFERROR(D10/IF((C10*E3)<1500,1500,C10*E3)^0.25*62.2333,\"\")","v":0.42723335511225413},1.2224131095546445E-2,"3 + SZ",{"$f":"IF(OR(L10<=0,L10>1000000000),\"\",1/(HYPGEOMDIST(3,12,6,49)*HYPGEOMDIST(1,1,1,10))/L2)","v":81.805405405405452},{"$f":"IF(OR(L10<=0,L10>1000000000),\"\",L10/J10/L3)","v":4.46581171453031E-2},48.22323498581963,{"$f":"IFERROR(IF(K10<K15,K15/K10,K10/K15),\"\")","v":1.244019208754271},{"$f":"IFERROR(K10/IF((J10*L3)<1500,1500,J10*L3)^0.25*62.2333,\"\")","v":0.44658118775063743},1.4602880930355496E-2,"3 + SZ",{"$f":"IF(OR(S10<=0,S10>1000000000),\"\",1/(HYPGEOMDIST(3,13,6,49)*HYPGEOMDIST(1,1,1,10))/S2)","v":68.479638009049751},{"$f":"IF(OR(S10<=0,S10>1000000000),\"\",S10/Q10/S3)","v":4.4866615545517324E-2},81.112669208953292,{"$f":"IFERROR(IF(R10<R15,R15/R10,R10/R15),\"\")","v":1.2382381617172404},{"$f":"IFERROR(R10/IF((Q10*S3)<1500,1500,Q10*S3)^0.25*62.2333,\"\")","v":0.42820801823708965},null,{"$f":"$I$54","v":"LOTTO 6aus45 XL (462 Tipps) ⁴"},{"$f":"$L$55/$L$54","v":10},{"$f":"$N$68","v":2.4370614273367122},{"$f":"IFERROR(ROUND($K$68,10),\"\")","v":0.37645019000000002},{"$f":"IFERROR($H$68/$L$54,\"\")","v":0.36113116101771814},{"$f":"$M$68","v":2.0297170869217998},2.4370614273367122]
[1.0015077429508516E-2,4,{"$f":"IF(OR(E11<=0,E11>1000000000),\"\",1/(HYPGEOMDIST(4,10,6,49)*HYPGEOMDIST(0,1,1,10))/E2)","v":99.849452691557914},{"$f":"IF(OR(E11<=0,E11>1000000000),\"\",E11/C11/E3)","v":6.5451764078639632E-2},39.211936925694829,{"$f":"IFERROR(IF(D11<D15,D15/D11,D11/D15),\"\")","v":1.1781317534155133},{"$f":"IFERROR(D11/IF((C11*E3)<1500,1500,C11*E3)^0.25*62.2333,\"\")","v":0.6545176646724703},2.1217598972984211E-2,4,{"$f":"IF(OR(L11<=0,L11>1000000000),\"\",1/(HYPGEOMDIST(4,12,6,49)*HYPGEOMDIST(0,1,1,10))/L2)","v":47.130686241797321},{"$f":"IF(OR(L11<=0,L11>1000000000),\"\",L11/J11/L3)","v":7.4744099269266617E-2},46.500177122329355,{"$f":"IFERROR(IF(K11<K15,K15/K11,K11/K15),\"\")","v":1.3453937868468004},{"$f":"IFERROR(K11/IF((J11*L3)<1500,1500,J11*L3)^0.25*62.2333,\"\")","v":0.7474410199699002},2.8991013611735138E-2,4,{"$f":"IF(OR(S11<=0,S11>1000000000),\"\",1/(HYPGEOMDIST(4,13,6,49)*HYPGEOMDIST(0,1,1,10))/S2)","v":34.493447293447325},{"$f":"IF(OR(S11<=0,S11>1000000000),\"\",S11/Q11/S3)","v":7.8232192124816566E-2},71.240347086696616,{"$f":"IFERROR(IF(R11<R15,R15/R11,R11/R15),\"\")","v":1.4081794582466987},{"$f":"IFERROR(R11/IF((Q11*S3)<1500,1500,Q11*S3)^0.25*62.2333,\"\")","v":0.78232194979835001},null,{"$f":"$I$17","v":"EuroJackpot XL (1.260 Tipps)"},{"$f":"$L$18/$L$17","v":18},{"$f":"$N$32","v":2.42627367828171},{"$f":"IFERROR(ROUND($K$32,10),\"\")","v":0.5},{"$f":"IFERROR($H$32/$L$17,\"\")","v":0.22367894428816854},{"$f":"$M$32","v":3.5115528499522384},2.42627367828171]
[2.646841892084394E-2,"2 + SZ",{"$f":"IF(OR(E12<=0,E12>1000000000),\"\",1/(HYPGEOMDIST(2,10,6,49)*HYPGEOMDIST(1,1,1,10))/E2)","v":37.780873991400284},{"$f":"IF(OR(E12<=0,E12>1000000000),\"\",E12/C12/E3)","v":4.4114031534739896E-2},10,{"$f":"IFERROR(IF(D12<D15,D15/D12,D12/D15),\"\")","v":1.2593624663800096},{"$f":"IFERROR(D12/IF((C12*E3)<1500,1500,C12*E3)^0.25*62.2333,\"\")","v":0.44114033144644588},3.1171534293643451E-2,"2 + SZ",{"$f":"IF(OR(L12<=0,L12>1000000000),\"\",1/(HYPGEOMDIST(2,12,6,49)*HYPGEOMDIST(1,1,1,10))/L2)","v":32.08055113937467},{"$f":"IF(OR(L12<=0,L12>1000000000),\"\",L12/J12/L3)","v":3.5422198060958469E-2},15,{"$f":"IFERROR(IF(K12<K15,K15/K12,K12/K15),\"\")","v":1.5683825001472045},{"$f":"IFERROR(K12/IF((J12*L3)<1500,1500,J12*L3)^0.25*62.2333,\"\")","v":0.35422199353661971},3.2856482093299867E-2,"2 + SZ",{"$f":"IF(OR(S12<=0,S12>1000000000),\"\",1/(HYPGEOMDIST(2,13,6,49)*HYPGEOMDIST(1,1,1,10))/S2)","v":30.435394670688776},{"$f":"IF(OR(S12<=0,S12>1000000000),\"\",S12/Q12/S3)","v":3.1592771243557562E-2},25.384615384615383,{"$f":"IFERROR(IF(R12<R15,R15/R12,R12/R15),\"\")","v":1.7584894698620179},{"$f":"IFERROR(R12/IF((Q12*S3)<1500,1500,Q12*S3)^0.25*62.2333,\"\")","v":0.31592772396509333},null,{"$f":"$P$54","v":"LOTTO 6aus45 XXL (924 Tipps) ⁴"},{"$f":"$S$55/$S$54","v":18},{"$f":"$U$68","v":2.4186086834355036},{"$f":"IFERROR(ROUND($R$68,10),\"\")","v":0.37747038020000001},{"$f":"IFERROR($O$68/$S$54,\"\")","v":0.40826139260625927},{"$f":"$T$68","v":1.8741394860440257},2.4186086834355036]
[7.058245045558377E-2,3,{"$f":"IF(OR(E13<=0,E13>1000000000),\"\",1/(HYPGEOMDIST(3,10,6,49)*HYPGEOMDIST(0,1,1,10))/E2)","v":14.167827746775121},{"$f":"IF(OR(E13<=0,E13>1000000000),\"\",E13/C13/E3)","v":0.10920835816807907},9.2834712422007968,{"$f":"IFERROR(IF(D13<D15,D15/D13,D13/D15),\"\")","v":1.9657504470254235},{"$f":"IFERROR(D13/IF((C13*E3)<1500,1500,C13*E3)^0.25*62.2333,\"\")","v":1.0920836215354679},0.110017179859918,3,{"$f":"IF(OR(L13<=0,L13>1000000000),\"\",1/(HYPGEOMDIST(3,12,6,49)*HYPGEOMDIST(0,1,1,10))/L2)","v":9.0894894894894946},{"$f":"IF(OR(L13<=0,L13>1000000000),\"\",L13/J13/L3)","v":9.2849211397961956E-2},11.140165490640955,{"$f":"IFERROR(IF(K13<K15,K15/K13,K13/K15),\"\")","v":1.6712858051633168},{"$f":"IFERROR(K13/IF((J13*L3)<1500,1500,J13*L3)^0.25*62.2333,\"\")","v":0.9284921478641629},0.13142592837319947,3,{"$f":"IF(OR(S13<=0,S13>1000000000),\"\",1/(HYPGEOMDIST(3,13,6,49)*HYPGEOMDIST(0,1,1,10))/S2)","v":7.608848667672194},{"$f":"IF(OR(S13<=0,S13>1000000000),\"\",S13/Q13/S3)","v":8.5320896960289438E-2},17.138716139447624,{"$f":"IFERROR(IF(R13<R15,R15/R13,R13/R15),\"\")","v":1.5357761452852103},{"$f":"IFERROR(R13/IF((Q13*S3)<1500,1500,Q13*S3)^0.25*62.2333,\"\")","v":0.85320900074004236},null,{"$f":"$B$54","v":"LOTTO 6aus45 L (210 Tipps) ⁴"},{"$f":"$E$55/$E$54","v":8},{"$f":"$G$68","v":2.3725625453149166},{"$f":"IFERROR(ROUND($D$68,10),\"\")","v":0.37685760359999998},{"$f":"IFERROR($A$68/$E$54,\"\")","v":0.31528910995728909},{"$f":"$F$68","v":2.3172700509521276},2.3725625453149166]
[{"$f":"IF(SUM(A5:A13)=0,\"\",SUM(A5:A13))","v":0.11673905749331941},"Gesamt",{"$f":"IFERROR(1/A14,\"\")","v":8.5661133597658754},{"$f":"IF(SUM(D5:D13)=0,\"\",SUM(D5:D13))","v":0.49999999999999994},{"$f":"IFERROR(E3*D14,\"\")","v":2.9999999999999996},{"$f":"IFERROR(AVERAGE(F5:F13),\"\")","v":1.6035798723335486},{"$f":"IF(SUM(G5:G13)=0,\"\",SUM(G5:G13))","v":3.4779721219415807},{"$f":"IF(SUM(H5:H13)=0,\"\",SUM(H5:H13))","v":0.17914959693405569},"Gesamt",{"$f":"IFERROR(1/H14,\"\")","v":5.5819271553711411},{"$f":"IF(SUM(K5:K13)=0,\"\",SUM(K5:K13))","v":0.49999999999999956},{"$f":"IFERROR(L3*K14,\"\")","v":6.5999999999999934},{"$f":"IFERROR(AVERAGE(M5:M13),\"\")","v":1.5704197662850374},{"$f":"IF(SUM(N5:N13)=0,\"\",SUM(N5:N13))","v":3.4948435931517756},{"$f":"IF(SUM(O5:O13)=0,\"\",SUM(O5:O13))","v":0.21453350072684027},"Gesamt",{"$f":"IFERROR(1/O14,\"\")","v":4.6612766612766601},{"$f":"IF(SUM(R5:R13)=0,\"\",SUM(R5:R13))","v":0.49999999999999983},{"$f":"IFERROR(S3*R14,\"\")","v":13.199999999999996},{"$f":"IFERROR(AVERAGE(T5:T13),\"\")","v":1.5639074661938077},{"$f":"IF(SUM(U5:U13)=0,\"\",SUM(U5:U13))","v":3.3831634089502254},null,{"$f":"$B$17","v":"EuroJackpot L (210 Tipps)"},{"$f":"$E$18/$E$17","v":10},{"$f":"$G$32","v":2.3071521315290702},{"$f":"IFERROR(ROUND($D$32,10),\"\")","v":0.5},{"$f":"IFERROR($A$32/$E$17,\"\")","v":0.16081154814966092},{"$f":"$F$32","v":4.0382350352995031},2.3071521315290702]
[null,null,null,{"$f":"AVERAGE(D5:D13)","v":5.5555555555555552E-2},null,null,null,null,null,null,{"$f":"AVERAGE(K5:K13)","v":5.5555555555555504E-2},null,null,null,null,null,null,{"$f":"AVERAGE(R5:R13)","v":5.5555555555555539E-2},null,null,null,null,{"$f":"$P$17","v":"EuroJackpot XXL (2.520 Tipps)"},{"$f":"$S$18/$S$17","v":48},{"$f":"$U$32","v":2.2831120451659093},{"$f":"IFERROR(ROUND($R$32,10),\"\")","v":0.5},{"$f":"IFERROR($O$32/$S$17,\"\")","v":0.25668695869568064},{"$f":"$T$32","v":3.3373423210053157},2.2831120451659088]
[null,null,null,null,null,null,null,null,null,null,null,null,null,null,null,null,null,null,null,null,null,null,{"$f":"$I$35","v":"EuroMillions XL (1.176 Tipps)"},{"$f":"$L$36/$L$35","v":21},{"$f":"$N$51","v":1.6404105771376505},{"$f":"IFERROR(ROUND($K$51,10),\"\")","v":0.36666666669999998},{"$f":"IFERROR($H$51/$L$35,\"\")","v":0.3103535687254465},{"$f":"$M$51","v":11.905112916807408},1.6404105771376505]
[null,"EuroJackpot L (210 Tipps)",null,null,1,"vs.",null,null,"EuroJackpot XL (1.260 Tipps)",null,null,1,"vs.",null,null,"EuroJackpot XXL (2.520 Tipps)",null,null,1,null,null,null,{"$f":"$P$35","v":"EuroMillions XXL (2.520 Tipps)"},{"$f":"$S$36/$S$35","v":42},{"$f":"$U$51","v":1.616417485134598},{"$f":"IFERROR(ROUND($R$51,10),\"\")","v":0.36666666669999998},{"$f":"IFERROR($O$51/$S$35,\"\")","v":0.32345414155907071},{"$f":"$T$51","v":6.3435162575989299},1.616417485134598]
[null,"Vollsystem 0705 / 42 Anteile",null,null,{"$f":"E17*10","v":10},null,null,null,"Vollsystem 0905 / 140 Anteile",null,null,{"$f":"L17*18","v":18},null,null,null,"Vollsystem 1005 / 105 Anteile",null,null,{"$f":"S17*48","v":48},null,null,null,{"$f":"$B$35","v":"EuroMillions L (216 Tipps)"},{"$f":"$E$36/$E$35","v":9},{"$f":"$G$51","v":1.5952208197989393},{"$f":"IFERROR(ROUND($D$51,10),\"\")","v":0.36666666669999998},{"$f":"IFERROR($A$51/$E$35,\"\")","v":0.31269327342407838},{"$f":"$F$51","v":46.04579623948424},1.5952208197989393]
[null,"Richtige",{"$f":"IF(E17=1,\"Chancen 1:\",\"Ø Gewinne 1:\")","v":"Chancen 1:"},"AQ","Ø Gewinn",null,null,null,"Richtige",{"$f":"IF(L17=1,\"Chancen 1:\",\"Ø Gewinne 1:\")","v":"Chancen 1:"},"AQ","Ø Gewinn",null,null,null,"Richtige",{"$f":"IF(S17=1,\"Chancen 1:\",\"Ø Gewinne 1:\")","v":"Chancen 1:"},"AQ","Ø Gewinn",null,null,null,{"$f":"$B$85","v":"PowerBall L (462 Tipps) ⁶"},{"$f":"$E$86/$E$85","v":9},{"$f":"$G$97","v":0.74244890586729195},{"$f":"IFERROR(ROUND($D$97,10),\"\")","v":0.1524003276},{"$f":"IFERROR($A$97/$E$85,\"\")","v":6.347400093013944E-2},{"$f":"$F$97","v":3.5674295623269248},0.74244890586729195]
[{"$f":"IFERROR(IF(OR(E20<=0,E20>1000000000),0,1/C20),\"\")","v":1.5017360068238913E-6},"5 + 2",{"$f":"IF(OR(E20<=0,E20>1000000000),\"\",1/(HYPGEOMDIST(5,7,5,50)*HYPGEOMDIST(2,5,2,12))/E17)","v":665895.99999999872},{"$f":"IF(OR(E20<=0,E20>1000000000),\"\",E20/C20/E18)","v":0.23978465488215503},1596716.4254740719,{"$f":"IFERROR(IF(D20<D33,D33/D20,D20/D33),\"\")","v":5.7548317171717187},{"$f":"IFERROR(D20/IF((C20*E18)<1500,1500,C20*E18)^0.25*62.2333,\"\")","v":0.29375997048174213},{"$f":"IFERROR(IF(OR(L20<=0,L20>1000000000),0,1/J20),\"\")","v":9.0104160409433481E-6},"5 + 2",{"$f":"IF(OR(L20<=0,L20>1000000000),\"\",1/(HYPGEOMDIST(5,9,5,50)*HYPGEOMDIST(2,5,2,12))/L17)","v":110982.66666666645},{"$f":"IF(OR(L20<=0,L20>1000000000),\"\",L20/J20/L18)","v":0.24011181488193126},479668.4912478546,{"$f":"IFERROR(IF(K20<K33,K33/K20,K20/K33),\"\")","v":5.7626835571663477},{"$f":"IFERROR(K20/IF((J20*L18)<1500,1500,J20*L18)^0.25*62.2333,\"\")","v":0.3974700832462319},{"$f":"IFERROR(IF(OR(S20<=0,S20>1000000000),0,1/Q20),\"\")","v":1.8020832081886693E-5},"5 + 2",{"$f":"IF(OR(S20<=0,S20>1000000000),\"\",1/(HYPGEOMDIST(5,10,5,50)*HYPGEOMDIST(2,5,2,12))/S17)","v":55491.333333333234},{"$f":"IF(OR(S20<=0,S20>1000000000),\"\",S20/Q20/S18)","v":0.24030590316229861},640074.95876864681,{"$f":"IFERROR(IF(R20<R33,R33/R20,R20/R33),\"\")","v":5.7673416758951639},{"$f":"IFERROR(R20/IF((Q20*S18)<1500,1500,Q20*S18)^0.25*62.2333,\"\")","v":0.37018658004576566},null,{"$f":"$I$85","v":"PowerBall XL (792 Tipps) ⁶"},{"$f":"$L$86/$L$85","v":18},{"$f":"$N$97","v":0.7158474666828214},{"$f":"IFERROR(ROUND($K$97,10),\"\")","v":0.1524003276},{"$f":"IFERROR($H$97/$L$85,\"\")","v":7.0984233480819947E-2},{"$f":"$M$97","v":3.4411016013901783},0.7158474666828214]
[3.1536456143301712E-6,5,{"$f":"IF(OR(E21<=0,E21>1000000000),\"\",1/(HYPGEOMDIST(5,7,5,50)*HYPGEOMDIST(0,5,2,12))/E17)","v":317093.33333333279},{"$f":"IF(OR(E21<=0,E21>1000000000),\"\",E21/C21/E18)","v":1.1412356902356903E-2},36187.822913580188,{"$f":"IFERROR(IF(D21<D33,D33/D21,D21/D33),\"\")","v":3.6510132852628887},{"$f":"IFERROR(D21/IF((C21*E18)<1500,1500,C21*E18)^0.25*62.2333,\"\")","v":1.6830669727241586E-2},1.8921873685981029E-5,5,{"$f":"IF(OR(L21<=0,L21>1000000000),\"\",1/(HYPGEOMDIST(5,9,5,50)*HYPGEOMDIST(0,5,2,12))/L17)","v":52848.888888888789},{"$f":"IF(OR(L21<=0,L21>1000000000),\"\",L21/J21/L18)","v":1.1558956228956233E-2},10995.803881481464,{"$f":"IFERROR(IF(K21<K33,K33/K21,K21/K33),\"\")","v":3.6047084045779072},{"$f":"IFERROR(K21/IF((J21*L18)<1500,1500,J21*L18)^0.25*62.2333,\"\")","v":2.3033734587452784E-2},3.7843747371962051E-5,5,{"$f":"IF(OR(S21<=0,S21>1000000000),\"\",1/(HYPGEOMDIST(5,10,5,50)*HYPGEOMDIST(0,5,2,12))/S17)","v":26424.444444444402},{"$f":"IF(OR(S21<=0,S21>1000000000),\"\",S21/Q21/S18)","v":1.1651346801346801E-2},14778.257580246891,{"$f":"IFERROR(IF(R21<R33,R33/R21,R21/R33),\"\")","v":3.5761244924793032},{"$f":"IFERROR(R21/IF((Q21*S18)<1500,1500,Q21*S18)^0.25*62.2333,\"\")","v":2.1606637420344074E-2},null,{"$f":"$P$85","v":"PowerBall XXL (2.002 Tipps) ⁶"},{"$f":"$S$86/$S$85","v":33},{"$f":"$U$97","v":0.66859202721499988},{"$f":"IFERROR(ROUND($R$97,10),\"\")","v":0.1524003276},{"$f":"IFERROR($O$97/$S$85,\"\")","v":8.9590411115776619E-2},{"$f":"$T$97","v":3.2535787762486392},0.66859202721499988]
[5.2560760238836158E-6,"5 + 1",{"$f":"IF(OR(E22<=0,E22>1000000000),\"\",1/(HYPGEOMDIST(5,7,5,50)*HYPGEOMDIST(1,5,2,12))/E17)","v":190255.99999999977},{"$f":"IF(OR(E22<=0,E22>1000000000),\"\",E22/C22/E18)","v":4.1677988215488224E-2},79294.87325925917,{"$f":"IFERROR(IF(D22<D33,D33/D22,D22/D33),\"\")","v":1.000271717171717},{"$f":"IFERROR(D22/IF((C22*E18)<1500,1500,C22*E18)^0.25*62.2333,\"\")","v":6.9838513625698623E-2},3.1536456143301696E-5,"5 + 1",{"$f":"IF(OR(L22<=0,L22>1000000000),\"\",1/(HYPGEOMDIST(5,9,5,50)*HYPGEOMDIST(1,5,2,12))/L17)","v":31709.333333333292},{"$f":"IF(OR(L22<=0,L22>1000000000),\"\",L22/J22/L18)","v":4.2050550074387287E-2},24001.108364857853,{"$f":"IFERROR(IF(K22<K33,K33/K22,K22/K33),\"\")","v":1.0092132017852944},{"$f":"IFERROR(K22/IF((J22*L18)<1500,1500,J22*L18)^0.25*62.2333,\"\")","v":9.5209351659838806E-2},6.3072912286603379E-5,"5 + 1",{"$f":"IF(OR(S22<=0,S22>1000000000),\"\",1/(HYPGEOMDIST(5,10,5,50)*HYPGEOMDIST(1,5,2,12))/S17)","v":15854.66666666665},{"$f":"IF(OR(S22<=0,S22>1000000000),\"\",S22/Q22/S18)","v":4.2291063738156769E-2},32184.514490266978,{"$f":"IFERROR(IF(R22<R33,R33/R22,R22/R33),\"\")","v":1.0149855297157619},{"$f":"IFERROR(R22/IF((Q22*S18)<1500,1500,Q22*S18)^0.25*62.2333,\"\")","v":8.9109057735835676E-2},null,{"$f":"$B$100","v":"MegaMillions L (462 Tipps) ⁶"},{"$f":"$E$101/$E$100","v":9},{"$f":"$G$112","v":0.61192833944442604},{"$f":"IFERROR(ROUND($D$112,10),\"\")","v":0.13485544820000001},{"$f":"IFERROR($A$112/$E$100,\"\")","v":6.3973955578337779E-2},{"$f":"$F$112","v":2.6393725152474121},0.61192833944442604]
[1.0762441382237845E-4,"4 + 2",{"$f":"IF(OR(E23<=0,E23>1000000000),\"\",1/(HYPGEOMDIST(4,7,5,50)*HYPGEOMDIST(2,5,2,12))/E17)","v":9291.5720930232746},{"$f":"IF(OR(E23<=0,E23>1000000000),\"\",E23/C23/E18)","v":6.6467845117845117E-3},617.59077478036306,{"$f":"IFERROR(IF(D23<D33,D33/D23,D23/D33),\"\")","v":6.2686952755566496},{"$f":"IFERROR(D23/IF((C23*E18)<1500,1500,C23*E18)^0.25*62.2333,\"\")","v":2.3692567663216521E-2},3.6942705767867724E-4,"4 + 2",{"$f":"IF(OR(L23<=0,L23>1000000000),\"\",1/(HYPGEOMDIST(4,9,5,50)*HYPGEOMDIST(2,5,2,12))/L17)","v":2706.8943089430845},{"$f":"IF(OR(L23<=0,L23>1000000000),\"\",L23/J23/L18)","v":7.9576194950613834E-3},387.72782863049162,{"$f":"IFERROR(IF(K23<K33,K33/K23,K23/K33),\"\")","v":5.2360717539366686},{"$f":"IFERROR(K23/IF((J23*L18)<1500,1500,J23*L18)^0.25*62.2333,\"\")","v":3.3332665835906876E-2},6.0069440272955557E-4,"4 + 2",{"$f":"IF(OR(S23<=0,S23>1000000000),\"\",1/(HYPGEOMDIST(4,10,5,50)*HYPGEOMDIST(2,5,2,12))/S17)","v":1664.7399999999993},{"$f":"IF(OR(S23<=0,S23>1000000000),\"\",S23/Q23/S18)","v":8.7726758168618791E-3},701.00276828940673,{"$f":"IFERROR(IF(R23<R33,R33/R23,R23/R33),\"\")","v":4.7495960795199537},{"$f":"IFERROR(R23/IF((Q23*S18)<1500,1500,Q23*S18)^0.25*62.2333,\"\")","v":3.2471922248323286E-2},null,{"$f":"$I$100","v":"MegaMillions XL (792 Tipps) ⁶"},{"$f":"$L$101/$L$100","v":18},{"$f":"$N$112","v":0.58426492105613459},{"$f":"IFERROR(ROUND($K$112,10),\"\")","v":0.13485544820000001},{"$f":"IFERROR($H$112/$L$100,\"\")","v":7.1185250219490737E-2},{"$f":"$M$112","v":2.6092065273763314},0.58426492105613459]
[2.2601126902699469E-4,4,{"$f":"IF(OR(E24<=0,E24>1000000000),\"\",1/(HYPGEOMDIST(4,7,5,50)*HYPGEOMDIST(0,5,2,12))/E17)","v":4424.5581395348936},{"$f":"IF(OR(E24<=0,E24>1000000000),\"\",E24/C24/E18)","v":2.8782491582491558E-3},127.34980740740758,{"$f":"IFERROR(IF(D24<D33,D33/D24,D24/D33),\"\")","v":14.476393243180027},{"$f":"IFERROR(D24/IF((C24*E18)<1500,1500,C24*E18)^0.25*62.2333,\"\")","v":1.2350477260295105E-2},7.7579682112522189E-4,4,{"$f":"IF(OR(L24<=0,L24>1000000000),\"\",1/(HYPGEOMDIST(4,9,5,50)*HYPGEOMDIST(0,5,2,12))/L17)","v":1288.9972899728978},{"$f":"IF(OR(L24<=0,L24>1000000000),\"\",L24/J24/L18)","v":3.7880134680134772E-3},87.889303703703789,{"$f":"IFERROR(IF(K24<K33,K33/K24,K24/K33),\"\")","v":10.999608902794545},{"$f":"IFERROR(K24/IF((J24*L18)<1500,1500,J24*L18)^0.25*62.2333,\"\")","v":1.9100873030636827E-2},1.2614582457320662E-3,4,{"$f":"IF(OR(S24<=0,S24>1000000000),\"\",1/(HYPGEOMDIST(4,10,5,50)*HYPGEOMDIST(0,5,2,12))/S17)","v":792.73333333333335},{"$f":"IF(OR(S24<=0,S24>1000000000),\"\",S24/Q24/S18)","v":4.2047138047138083E-3},159.99440592592606,{"$f":"IFERROR(IF(R24<R33,R33/R24,R24/R33),\"\")","v":9.9095131326072998},{"$f":"IFERROR(R24/IF((Q24*S18)<1500,1500,Q24*S18)^0.25*62.2333,\"\")","v":1.8735581718656441E-2},null,{"$f":"$P$100","v":"MegaMillions XXL (2.002 Tipps) ⁶"},{"$f":"$S$101/$S$100","v":33},{"$f":"$U$112","v":0.5555329466615565},{"$f":"IFERROR(ROUND($R$112,10),\"\")","v":0.13485544820000001},{"$f":"IFERROR($O$112/$S$100,\"\")","v":8.9068213917624151E-2},{"$f":"$T$112","v":2.5640092682892957},0.5555329466615565]
[3.766854483783243E-4,"4 + 1",{"$f":"IF(OR(E25<=0,E25>1000000000),\"\",1/(HYPGEOMDIST(4,7,5,50)*HYPGEOMDIST(1,5,2,12))/E17)","v":2654.7348837209374},{"$f":"IF(OR(E25<=0,E25>1000000000),\"\",E25/C25/E18)","v":7.304511784511779E-3},193.91542242894093,{"$f":"IFERROR(IF(D25<D33,D33/D25,D25/D33),\"\")","v":5.7042370381296612},{"$f":"IFERROR(D25/IF((C25*E18)<1500,1500,C25*E18)^0.25*62.2333,\"\")","v":3.561301441898055E-2},1.2929947018753695E-3,"4 + 1",{"$f":"IF(OR(L25<=0,L25>1000000000),\"\",1/(HYPGEOMDIST(4,9,5,50)*HYPGEOMDIST(1,5,2,12))/L17)","v":773.39837398373891},{"$f":"IF(OR(L25<=0,L25>1000000000),\"\",L25/J25/L18)","v":9.8610602145486111E-3},137.27750284237743,{"$f":"IFERROR(IF(K25<K33,K33/K25,K25/K33),\"\")","v":4.2253739212740395},{"$f":"IFERROR(K25/IF((J25*L18)<1500,1500,J25*L18)^0.25*62.2333,\"\")","v":5.6497275020572862E-2},2.102430409553443E-3,"4 + 1",{"$f":"IF(OR(S25<=0,S25>1000000000),\"\",1/(HYPGEOMDIST(4,10,5,50)*HYPGEOMDIST(1,5,2,12))/S17)","v":475.64000000000016},{"$f":"IF(OR(S25<=0,S25>1000000000),\"\",S25/Q25/S18)","v":1.1333795317516257E-2},258.75870743152484,{"$f":"IFERROR(IF(R25<R33,R33/R25,R25/R33),\"\")","v":3.6763207292328022},{"$f":"IFERROR(R25/IF((Q25*S18)<1500,1500,Q25*S18)^0.25*62.2333,\"\")","v":5.7381023956140351E-2},null,null,null,null,null,null,null,3.2857118503719134]
[2.2601126902699535E-3,"3 + 2",{"$f":"IF(OR(E26<=0,E26>1000000000),\"\",1/(HYPGEOMDIST(3,7,5,50)*HYPGEOMDIST(2,5,2,12))/E17)","v":442.45581395348808},{"$f":"IF(OR(E26<=0,E26>1000000000),\"\",E26/C26/E18)","v":1.6260530303030311E-2},71.945661705426346,{"$f":"IFERROR(IF(D26<D33,D33/D26,D26/D33),\"\")","v":2.5624420538671902},{"$f":"IFERROR(D26/IF((C26*E18)<1500,1500,C26*E18)^0.25*62.2333,\"\")","v":0.12407664997169528},4.9256941023823539E-3,"3 + 2",{"$f":"IF(OR(L26<=0,L26>1000000000),\"\",1/(HYPGEOMDIST(3,9,5,50)*HYPGEOMDIST(2,5,2,12))/L17)","v":203.01707317073172},{"$f":"IF(OR(L26<=0,L26>1000000000),\"\",L26/J26/L18)","v":2.0687464344441089E-2},75.598352325581402,{"$f":"IFERROR(IF(K26<K33,K33/K26,K26/K33),\"\")","v":2.0141021622044706},{"$f":"IFERROR(K26/IF((J26*L18)<1500,1500,J26*L18)^0.25*62.2333,\"\")","v":0.16558798689949575},6.6934519161293326E-3,"3 + 2",{"$f":"IF(OR(S26<=0,S26>1000000000),\"\",1/(HYPGEOMDIST(3,10,5,50)*HYPGEOMDIST(2,5,2,12))/S17)","v":149.39974358974357},{"$f":"IF(OR(S26<=0,S26>1000000000),\"\",S26/Q26/S18)","v":2.2759684888754659E-2},163.21397215503876,{"$f":"IFERROR(IF(R26<R33,R33/R26,R26/R33),\"\")","v":1.8307224757427896},{"$f":"IFERROR(R26/IF((Q26*S18)<1500,1500,Q26*S18)^0.25*62.2333,\"\")","v":0.15391867040061247},null,null,null,null,null,null,null,3.2497364818195562]
[4.7462366495669012E-3,3,{"$f":"IF(OR(E27<=0,E27>1000000000),\"\",1/(HYPGEOMDIST(3,7,5,50)*HYPGEOMDIST(0,5,2,12))/E17)","v":210.6932447397563},{"$f":"IF(OR(E27<=0,E27>1000000000),\"\",E27/C27/E18)","v":1.1492727272727276E-2},24.214399999999998,{"$f":"IFERROR(IF(D27<D33,D33/D27,D27/D33),\"\")","v":3.6254812002320307},{"$f":"IFERROR(D27/IF((C27*E18)<1500,1500,C27*E18)^0.25*62.2333,\"\")","v":0.10556823936481577},1.034395761500294E-2,3,{"$f":"IF(OR(L27<=0,L27>1000000000),\"\",1/(HYPGEOMDIST(3,9,5,50)*HYPGEOMDIST(0,5,2,12))/L17)","v":96.674796747967505},{"$f":"IF(OR(L27<=0,L27>1000000000),\"\",L27/J27/L18)","v":1.0436363636363634E-2},18.160800000000002,{"$f":"IFERROR(IF(K27<K33,K33/K27,K27/K33),\"\")","v":3.9924506387921048},{"$f":"IFERROR(K27/IF((J27*L18)<1500,1500,J27*L18)^0.25*62.2333,\"\")","v":0.10056007540248618},1.4056249023871594E-2,3,{"$f":"IF(OR(S27<=0,S27>1000000000),\"\",1/(HYPGEOMDIST(3,10,5,50)*HYPGEOMDIST(0,5,2,12))/S17)","v":71.142735042735055},{"$f":"IF(OR(S27<=0,S27>1000000000),\"\",S27/Q27/S18)","v":9.9272727272727256E-3},33.90016,{"$f":"IFERROR(IF(R27<R33,R33/R27,R27/R33),\"\")","v":4.1971916971917},{"$f":"IFERROR(R27/IF((Q27*S18)<1500,1500,Q27*S18)^0.25*62.2333,\"\")","v":8.0818323121254004E-2},null,null,null,null,null,null,null,3.2446332299207077]
[7.9103944159448318E-3,"3 + 1",{"$f":"IF(OR(E28<=0,E28>1000000000),\"\",1/(HYPGEOMDIST(3,7,5,50)*HYPGEOMDIST(1,5,2,12))/E17)","v":126.41594684385383},{"$f":"IF(OR(E28<=0,E28>1000000000),\"\",E28/C28/E18)","v":2.9633863636363639E-2},37.461929302325586,{"$f":"IFERROR(IF(D28<D33,D33/D28,D28/D33),\"\")","v":1.4060490787822084},{"$f":"IFERROR(D28/IF((C28*E18)<1500,1500,C28*E18)^0.25*62.2333,\"\")","v":0.29633864717826713},1.7239929358338225E-2,"3 + 1",{"$f":"IF(OR(L28<=0,L28>1000000000),\"\",1/(HYPGEOMDIST(3,9,5,50)*HYPGEOMDIST(1,5,2,12))/L17)","v":58.004878048780533},{"$f":"IF(OR(L28<=0,L28>1000000000),\"\",L28/J28/L18)","v":3.5121599718111317E-2},36.670033953488371,{"$f":"IFERROR(IF(K28<K33,K33/K28,K28/K33),\"\")","v":1.1863544656589273},{"$f":"IFERROR(K28/IF((J28*L18)<1500,1500,J28*L18)^0.25*62.2333,\"\")","v":0.35121600999844732},2.3427081706452645E-2,"3 + 1",{"$f":"IF(OR(S28<=0,S28>1000000000),\"\",1/(HYPGEOMDIST(3,10,5,50)*HYPGEOMDIST(1,5,2,12))/S17)","v":42.685641025641054},{"$f":"IF(OR(S28<=0,S28>1000000000),\"\",S28/Q28/S18)","v":3.7313847780126821E-2},76.452744558139528,{"$f":"IFERROR(IF(R28<R33,R33/R28,R28/R33),\"\")","v":1.1166542489048303},{"$f":"IFERROR(R28/IF((Q28*S18)<1500,1500,Q28*S18)^0.25*62.2333,\"\")","v":0.34515335946879439},null,null,null,null,null,null,null,3.0988561040906415]
[1.8532924060213601E-2,"2 + 2",{"$f":"IF(OR(E29<=0,E29>1000000000),\"\",1/(HYPGEOMDIST(2,7,5,50)*HYPGEOMDIST(2,5,2,12))/E17)","v":53.958026091888847},{"$f":"IF(OR(E29<=0,E29>1000000000),\"\",E29/C29/E18)","v":4.3161818181818162E-2},23.289265116279068,{"$f":"IFERROR(IF(D29<D33,D33/D29,D29/D33),\"\")","v":1.0358836363636357},{"$f":"IFERROR(D29/IF((C29*E18)<1500,1500,C29*E18)^0.25*62.2333,\"\")","v":0.4316181975697263},2.7443152856130266E-2,"2 + 2",{"$f":"IF(OR(L29<=0,L29>1000000000),\"\",1/(HYPGEOMDIST(2,9,5,50)*HYPGEOMDIST(2,5,2,12))/L17)","v":36.438961851156961},{"$f":"IF(OR(L29<=0,L29>1000000000),\"\",L29/J29/L18)","v":4.2111990335246166E-2},27.621309767441861,{"$f":"IFERROR(IF(K29<K33,K33/K29,K29/K33),\"\")","v":1.0106877680459074},{"$f":"IFERROR(K29/IF((J29*L18)<1500,1500,J29*L18)^0.25*62.2333,\"\")","v":0.42111991872088045},3.1793896601614323E-2,"2 + 2",{"$f":"IF(OR(S29<=0,S29>1000000000),\"\",1/(HYPGEOMDIST(2,10,5,50)*HYPGEOMDIST(2,5,2,12))/S17)","v":31.452577597840754},{"$f":"IF(OR(S29<=0,S29>1000000000),\"\",S29/Q29/S18)","v":4.1268619752340689E-2},62.304214325581398,{"$f":"IFERROR(IF(R29<R33,R33/R29,R29/R33),\"\")","v":1.0096452684076844},{"$f":"IFERROR(R29/IF((Q29*S18)<1500,1500,Q29*S18)^0.25*62.2333,\"\")","v":0.41202010133572425},null,null,null,null,null,null,null,3.0117717243225481]
[6.1776413534045324E-2,"1 + 2",{"$f":"IF(OR(E30<=0,E30>1000000000),\"\",1/(HYPGEOMDIST(1,7,5,50)*HYPGEOMDIST(2,5,2,12))/E17)","v":16.187407827566656},{"$f":"IF(OR(E30<=0,E30>1000000000),\"\",E30/C30/E18)","v":2.7954545454545454E-2},4.5251162790697697,{"$f":"IFERROR(IF(D30<D33,D33/D30,D30/D33),\"\")","v":1.4905149051490518},{"$f":"IFERROR(D30/IF((C30*E18)<1500,1500,C30*E18)^0.25*62.2333,\"\")","v":0.27954546474723219},6.5177488033309389E-2,"1 + 2",{"$f":"IF(OR(L30<=0,L30>1000000000),\"\",1/(HYPGEOMDIST(1,9,5,50)*HYPGEOMDIST(2,5,2,12))/L17)","v":15.34272077943451},{"$f":"IF(OR(L30<=0,L30>1000000000),\"\",L30/J30/L18)","v":2.2939444276653599E-2},6.3351627906976775,{"$f":"IFERROR(IF(K30<K33,K33/K30,K30/K33),\"\")","v":1.8163764633597745},{"$f":"IFERROR(K30/IF((J30*L18)<1500,1500,J30*L18)^0.25*62.2333,\"\")","v":0.2293944511380944},6.535412079220719E-2,"1 + 2",{"$f":"IF(OR(S30<=0,S30>1000000000),\"\",1/(HYPGEOMDIST(1,10,5,50)*HYPGEOMDIST(2,5,2,12))/S17)","v":15.301253966517132},{"$f":"IF(OR(S30<=0,S30>1000000000),\"\",S30/Q30/S18)","v":2.0701449713077621E-2},15.204390697674427,{"$f":"IFERROR(IF(R30<R33,R33/R30,R30/R33),\"\")","v":2.0127414864256976},{"$f":"IFERROR(R30/IF((Q30*S18)<1500,1500,Q30*S18)^0.25*62.2333,\"\")","v":0.20701450468559721},null,null,null,null,null,null,null,2.9714550633295933]
[6.4865234210747566E-2,"2 + 1",{"$f":"IF(OR(E31<=0,E31>1000000000),\"\",1/(HYPGEOMDIST(2,7,5,50)*HYPGEOMDIST(1,5,2,12))/E17)","v":15.416578883396822},{"$f":"IF(OR(E31<=0,E31>1000000000),\"\",E31/C31/E18)","v":6.1791969696969637E-2},9.5262077519379851,{"$f":"IFERROR(IF(D31<D33,D33/D31,D31/D33),\"\")","v":1.483007272727271},{"$f":"IFERROR(D31/IF((C31*E18)<1500,1500,C31*E18)^0.25*62.2333,\"\")","v":0.61791971952015901},9.605103499645587E-2,"2 + 1",{"$f":"IF(OR(L31<=0,L31>1000000000),\"\",1/(HYPGEOMDIST(2,9,5,50)*HYPGEOMDIST(1,5,2,12))/L17)","v":10.411131957473424},{"$f":"IF(OR(L31<=0,L31>1000000000),\"\",L31/J31/L18)","v":5.3375123326286099E-2},10.002518139534883,{"$f":"IFERROR(IF(K31<K33,K33/K31,K31/K33),\"\")","v":1.2810029598308659},{"$f":"IFERROR(K31/IF((J31*L18)<1500,1500,J31*L18)^0.25*62.2333,\"\")","v":0.5337512527416659},0.11127863810565004,"2 + 1",{"$f":"IF(OR(S31<=0,S31>1000000000),\"\",1/(HYPGEOMDIST(2,10,5,50)*HYPGEOMDIST(1,5,2,12))/S17)","v":8.9864507422402227},{"$f":"IF(OR(S31<=0,S31>1000000000),\"\",S31/Q31/S18)","v":4.9469626497533468E-2},21.338705364341099,{"$f":"IFERROR(IF(R31<R33,R33/R31,R31/R33),\"\")","v":1.1872710359408027},{"$f":"IFERROR(R31/IF((Q31*S18)<1500,1500,Q31*S18)^0.25*62.2333,\"\")","v":0.49469628302886132},null,null,null,null,null,null,null,2.9656194993157574]
[{"$f":"IF(SUM(A20:A31)=0,\"\",SUM(A20:A31))","v":0.16081154814966092},"Gesamt",{"$f":"IFERROR(1/A32,\"\")","v":6.2184588825010234},{"$f":"IF(SUM(D20:D31)=0,\"\",SUM(D20:D31))","v":0.50000000000000011},{"$f":"IFERROR(E18*D32,\"\")","v":5.0000000000000009},{"$f":"IFERROR(AVERAGE(F20:F31),\"\")","v":4.0382350352995031},{"$f":"IF(SUM(G20:G31)=0,\"\",SUM(G20:G31))","v":2.3071521315290702},{"$f":"IF(SUM(H20:H31)=0,\"\",SUM(H20:H31))","v":0.22367894428816854},"Gesamt",{"$f":"IFERROR(1/H32,\"\")","v":4.470693489645976},{"$f":"IF(SUM(K20:K31)=0,\"\",SUM(K20:K31))","v":0.50000000000000022},{"$f":"IFERROR(L18*K32,\"\")","v":9.0000000000000036},{"$f":"IFERROR(AVERAGE(M20:M31),\"\")","v":3.5115528499522384},{"$f":"IF(SUM(N20:N31)=0,\"\",SUM(N20:N31))","v":2.42627367828171},{"$f":"IF(SUM(O20:O31)=0,\"\",SUM(O20:O31))","v":0.25668695869568064},"Gesamt",{"$f":"IFERROR(1/O32,\"\")","v":3.895795895051942},{"$f":"IF(SUM(R20:R31)=0,\"\",SUM(R20:R31))","v":0.50000000000000022},{"$f":"IFERROR(S18*R32,\"\")","v":24.000000000000011},{"$f":"IFERROR(AVERAGE(T20:T31),\"\")","v":3.3373423210053157},{"$f":"IF(SUM(U20:U31)=0,\"\",SUM(U20:U31))","v":2.2831120451659093},null,null,null,null,null,null,null,2.8862450990755475]
[null,null,null,{"$f":"AVERAGE(D20:D31)","v":4.1666666666666678E-2},null,null,null,null,null,null,{"$f":"AVERAGE(K20:K31)","v":4.1666666666666685E-2},null,null,null,null,null,null,{"$f":"AVERAGE(R20:R31)","v":4.1666666666666685E-2},null,null,null,null,null,null,null,null,null,null,2.8805053452406075]
[null,null,null,null,null,null,null,null,null,null,null,null,null,null,null,null,null,null,null,null,null,null,null,null,null,null,null,null,2.8552926866356656]
[null,"EuroMillions L (216 Tipps)",null,null,1,"vs.",null,null,"EuroMillions XL (1.176 Tipps)",null,null,1,"vs.",null,null,"EuroMillions XXL (2.520 Tipps)",null,null,1,null,null,null,null,null,null,null,null,null,2.8541884967451794]
[null,"Vollsystem 0609 / 72 Anteile",null,null,{"$f":"E35*9","v":9},null,null,null,"Vollsystem 0807 / 168 Anteile",null,null,{"$f":"L35*21","v":21},null,null,null,"Vollsystem 1005 / 180 Anteile",null,null,{"$f":"S35*42","v":42},null,null,null,null,null,null,null,null,null,2.8092184676242811]
[null,"Richtige",{"$f":"IF(E35=1,\"Chancen 1:\",\"Ø Gewinne 1:\")","v":"Chancen 1:"},"AQ","Ø Gewinn",null,null,null,"Richtige",{"$f":"IF(L35=1,\"Chancen 1:\",\"Ø Gewinne 1:\")","v":"Chancen 1:"},"AQ","Ø Gewinn",null,null,null,"Richtige",{"$f":"IF(S35=1,\"Chancen 1:\",\"Ø Gewinne 1:\")","v":"Chancen 1:"},"AQ","Ø Gewinn",null,null,null,null,null,null,null,null,null,2.7060105258439995]
[{"$f":"IFERROR(IF(OR(E38<=0,E38>1000000000),0,1/C38),\"\")","v":1.2872022915633352E-7},5,{"$f":"IF(OR(E38<=0,E38>1000000000),\"\",1/(HYPGEOMDIST(5,6,5,50)*HYPGEOMDIST(0,9,2,12))/E35)","v":7768786.666666653},{"$f":"IF(OR(E38<=0,E38>1000000000),\"\",E38/C38/E36)","v":1.5052345679012353E-4},10524.461617185172,{"$f":"IFERROR(IF(D38<D52,D52/D38,D38/D52),\"\")","v":187.38028481803286},{"$f":"IFERROR(D38/IF((C38*E36)<1500,1500,C38*E36)^0.25*62.2333,\"\")","v":1.0244200919710507E-4},{"$f":"IFERROR(IF(OR(L38<=0,L38>1000000000),0,1/J38),\"\")","v":4.0046293515303773E-6},5,{"$f":"IF(OR(L38<=0,L38>1000000000),\"\",1/(HYPGEOMDIST(5,8,5,50)*HYPGEOMDIST(0,7,2,12))/L35)","v":249710.99999999948},{"$f":"IF(OR(L38<=0,L38>1000000000),\"\",L38/J38/L36)","v":5.18779787539478E-4},2720.4454100516764,{"$f":"IFERROR(IF(K38<K52,K52/K38,K38/K52),\"\")","v":54.368209561329266},{"$f":"IFERROR(K38/IF((J38*L36)<1500,1500,J38*L36)^0.25*62.2333,\"\")","v":6.7467036702757331E-4},{"$f":"IFERROR(IF(OR(S38<=0,S38>1000000000),0,1/Q38),\"\")","v":1.8020832081886693E-5},"5 + 2",{"$f":"IF(OR(S38<=0,S38>1000000000),\"\",1/(HYPGEOMDIST(5,10,5,50)*HYPGEOMDIST(2,5,2,12))/S35)","v":55491.333333333234},{"$f":"IF(OR(S38<=0,S38>1000000000),\"\",S38/Q38/S36)","v":0.2231984434190559},520194.32737641386,{"$f":"IFERROR(IF(R38<R52,R52/R38,R38/R52),\"\")","v":7.9133993575847077},{"$f":"IFERROR(R38/IF((Q38*S36)<1500,1500,Q38*S36)^0.25*62.2333,\"\")","v":0.35550472681429279},null,null,null,null,null,null,null,2.6774454882281207]
[1.1584820624070016E-6,"5 + 1",{"$f":"IF(OR(E39<=0,E39>1000000000),\"\",1/(HYPGEOMDIST(5,6,5,50)*HYPGEOMDIST(1,9,2,12))/E35)","v":863198.51851851703},{"$f":"IF(OR(E39<=0,E39>1000000000),\"\",E39/C39/E36)","v":3.933219753086423E-3},30556.345174847709,{"$f":"IFERROR(IF(D39<D52,D52/D39,D39/D52),\"\")","v":7.1710023786480432},{"$f":"IFERROR(D39/IF((C39*E36)<1500,1500,C39*E36)^0.25*62.2333,\"\")","v":4.6364197083696105E-3},8.4097216382137937E-6,"5 + 2",{"$f":"IF(OR(L39<=0,L39>1000000000),\"\",1/(HYPGEOMDIST(5,8,5,50)*HYPGEOMDIST(2,7,2,12))/L35)","v":118909.99999999974},{"$f":"IF(OR(L39<=0,L39>1000000000),\"\",L39/J39/L36)","v":0.22540683534309525},562865.66260359529,{"$f":"IFERROR(IF(K39<K52,K52/K39,K39/K52),\"\")","v":7.9916968894370113},{"$f":"IFERROR(K39/IF((J39*L36)<1500,1500,J39*L36)^0.25*62.2333,\"\")","v":0.352882802482476},3.7843747371962051E-5,5,{"$f":"IF(OR(S39<=0,S39>1000000000),\"\",1/(HYPGEOMDIST(5,10,5,50)*HYPGEOMDIST(0,5,2,12))/S35)","v":26424.444444444402},{"$f":"IF(OR(S39<=0,S39>1000000000),\"\",S39/Q39/S36)","v":1.1598817111685335E-3},1287.267653233801,{"$f":"IFERROR(IF(R39<R52,R52/R39,R39/R52),\"\")","v":24.317245399716402},{"$f":"IFERROR(R39/IF((Q39*S36)<1500,1500,Q39*S36)^0.25*62.2333,\"\")","v":2.2239383414018343E-3},null,null,null,null,null,null,null,2.6266443462298454]
[1.5446427498760027E-6,"5 + 2",{"$f":"IF(OR(E40<=0,E40>1000000000),\"\",1/(HYPGEOMDIST(5,6,5,50)*HYPGEOMDIST(2,9,2,12))/E35)","v":647398.8888888876},{"$f":"IF(OR(E40<=0,E40>1000000000),\"\",E40/C40/E36)","v":0.22778810864197541},1327227.9159322449,{"$f":"IFERROR(IF(D40<D52,D52/D40,D40/D52),\"\")","v":8.0761238518518539},{"$f":"IFERROR(D40/IF((C40*E36)<1500,1500,C40*E36)^0.25*62.2333,\"\")","v":0.28853617113967467},1.4016202730356316E-5,"5 + 1",{"$f":"IF(OR(L40<=0,L40>1000000000),\"\",1/(HYPGEOMDIST(5,8,5,50)*HYPGEOMDIST(1,7,2,12))/L35)","v":71345.999999999884},{"$f":"IF(OR(L40<=0,L40>1000000000),\"\",L40/J40/L36)","v":6.1341135515360357E-3},9190.5337744056742,{"$f":"IFERROR(IF(K40<K52,K52/K40,K40/K52),\"\")","v":4.598077288293009},{"$f":"IFERROR(K40/IF((J40*L36)<1500,1500,J40*L36)^0.25*62.2333,\"\")","v":1.0911322965868315E-2},6.3072912286603379E-5,"5 + 1",{"$f":"IF(OR(S40<=0,S40>1000000000),\"\",1/(HYPGEOMDIST(5,10,5,50)*HYPGEOMDIST(1,5,2,12))/S35)","v":15854.66666666665},{"$f":"IF(OR(S40<=0,S40>1000000000),\"\",S40/Q40/S36)","v":8.014919609532014E-3},5337.1029083089243,{"$f":"IFERROR(IF(R40<R52,R52/R40,R40/R52),\"\")","v":3.519078116714272},{"$f":"IFERROR(R40/IF((Q40*S36)<1500,1500,Q40*S36)^0.25*62.2333,\"\")","v":1.7461051762103906E-2},null,null,null,null,null,null,null,2.5912993318705739]
[1.4159225207196637E-5,4,{"$f":"IF(OR(E41<=0,E41>1000000000),\"\",1/(HYPGEOMDIST(4,6,5,50)*HYPGEOMDIST(0,9,2,12))/E35)","v":70625.333333333459},{"$f":"IF(OR(E41<=0,E41>1000000000),\"\",E41/C41/E36)","v":9.1476543209876524E-5},58.145052207407502,{"$f":"IFERROR(IF(D41<D52,D52/D41,D41/D52),\"\")","v":308.33181070710771},{"$f":"IFERROR(D41/IF((C41*E36)<1500,1500,C41*E36)^0.25*62.2333,\"\")","v":2.0161916898548161E-4},2.10243040955344E-4,4,{"$f":"IF(OR(L41<=0,L41>1000000000),\"\",1/(HYPGEOMDIST(4,8,5,50)*HYPGEOMDIST(0,7,2,12))/L35)","v":4756.4000000000087},{"$f":"IF(OR(L41<=0,L41>1000000000),\"\",L41/J41/L36)","v":5.9775940281366568E-4},59.706839294401419,{"$f":"IFERROR(IF(K41<K52,K52/K41,K41/K52),\"\")","v":47.184750373421316},{"$f":"IFERROR(K41/IF((J41*L36)<1500,1500,J41*L36)^0.25*62.2333,\"\")","v":2.0925451176846328E-3},6.0069440272955557E-4,"4 + 2",{"$f":"IF(OR(S41<=0,S41>1000000000),\"\",1/(HYPGEOMDIST(4,10,5,50)*HYPGEOMDIST(2,5,2,12))/S35)","v":1664.7399999999993},{"$f":"IF(OR(S41<=0,S41>1000000000),\"\",S41/Q41/S36)","v":2.347855953406345E-3},164.15992823469443,{"$f":"IFERROR(IF(R41<R52,R52/R41,R41/R52),\"\")","v":12.013142528700408},{"$f":"IFERROR(R41/IF((Q41*S36)<1500,1500,Q41*S36)^0.25*62.2333,\"\")","v":8.9855642252887769E-3},null,null,null,null,null,null,null,2.538470248206012]
[1.2743302686476972E-4,"4 + 1",{"$f":"IF(OR(E42<=0,E42>1000000000),\"\",1/(HYPGEOMDIST(4,6,5,50)*HYPGEOMDIST(1,9,2,12))/E35)","v":7847.2592592592737},{"$f":"IF(OR(E42<=0,E42>1000000000),\"\",E42/C42/E36)","v":1.0876691358024694E-3},76.816995272428144,{"$f":"IFERROR(IF(D42<D52,D52/D42,D42/D52),\"\")","v":25.931716987003405},{"$f":"IFERROR(D42/IF((C42*E36)<1500,1500,C42*E36)^0.25*62.2333,\"\")","v":4.1522118919691403E-3},4.4151038600622242E-4,"4 + 2",{"$f":"IF(OR(L42<=0,L42>1000000000),\"\",1/(HYPGEOMDIST(4,8,5,50)*HYPGEOMDIST(2,7,2,12))/L35)","v":2264.9523809523848},{"$f":"IF(OR(L42<=0,L42>1000000000),\"\",L42/J42/L36)","v":2.5712503588860166E-3},122.29895207005471,{"$f":"IFERROR(IF(K42<K52,K52/K42,K42/K52),\"\")","v":10.969421203055452},{"$f":"IFERROR(K42/IF((J42*L36)<1500,1500,J42*L36)^0.25*62.2333,\"\")","v":1.0835466239480706E-2},1.2614582457320662E-3,4,{"$f":"IF(OR(S42<=0,S42>1000000000),\"\",1/(HYPGEOMDIST(4,10,5,50)*HYPGEOMDIST(0,5,2,12))/S35)","v":792.73333333333335},{"$f":"IF(OR(S42<=0,S42>1000000000),\"\",S42/Q42/S36)","v":2.1289968418030441E-3},70.884524048464002,{"$f":"IFERROR(IF(R42<R52,R52/R42,R42/R52),\"\")","v":13.248083628551242},{"$f":"IFERROR(R42/IF((Q42*S36)<1500,1500,Q42*S36)^0.25*62.2333,\"\")","v":9.8085259450962064E-3},null,null,null,null,null,null,null,2.4472166099189234]
[1.699107024863597E-4,"4 + 2",{"$f":"IF(OR(E43<=0,E43>1000000000),\"\",1/(HYPGEOMDIST(4,6,5,50)*HYPGEOMDIST(2,9,2,12))/E35)","v":5885.4444444444534},{"$f":"IF(OR(E43<=0,E43>1000000000),\"\",E43/C43/E36)","v":2.4255950617283967E-3},128.48134482469163,{"$f":"IFERROR(IF(D43<D52,D52/D43,D43/D52),\"\")","v":11.628127320242065},{"$f":"IFERROR(D43/IF((C43*E36)<1500,1500,C43*E36)^0.25*62.2333,\"\")","v":9.9502888200530704E-3},7.3585064334370364E-4,"4 + 1",{"$f":"IF(OR(L43<=0,L43>1000000000),\"\",1/(HYPGEOMDIST(4,8,5,50)*HYPGEOMDIST(1,7,2,12))/L35)","v":1358.9714285714317},{"$f":"IF(OR(L43<=0,L43>1000000000),\"\",L43/J43/L36)","v":2.5992951478610365E-3},74.179724647717578,{"$f":"IFERROR(IF(K43<K52,K52/K43,K43/K52),\"\")","v":10.851067924448},{"$f":"IFERROR(K43/IF((J43*L36)<1500,1500,J43*L36)^0.25*62.2333,\"\")","v":1.2445748524431734E-2},2.102430409553443E-3,"4 + 1",{"$f":"IF(OR(S43<=0,S43>1000000000),\"\",1/(HYPGEOMDIST(4,10,5,50)*HYPGEOMDIST(1,5,2,12))/S35)","v":475.64000000000016},{"$f":"IF(OR(S43<=0,S43>1000000000),\"\",S43/Q43/S36)","v":4.4245868504163097E-3},88.389440560344596,{"$f":"IFERROR(IF(R43<R52,R52/R43,R43/R52),\"\")","v":6.37463545381065},{"$f":"IFERROR(R43/IF((Q43*S36)<1500,1500,Q43*S36)^0.25*62.2333,\"\")","v":2.3161337749954131E-2},null,null,null,null,null,null,null,2.4367404468124034]
[4.058977892729711E-4,3,{"$f":"IF(OR(E44<=0,E44>1000000000),\"\",1/(HYPGEOMDIST(3,6,5,50)*HYPGEOMDIST(0,9,2,12))/E35)","v":2463.6744186046503},{"$f":"IF(OR(E44<=0,E44>1000000000),\"\",E44/C44/E36)","v":9.0102222222222242E-4},19.978428595348834,{"$f":"IFERROR(IF(D44<D52,D52/D44,D44/D52),\"\")","v":31.303476772820233},{"$f":"IFERROR(D44/IF((C44*E36)<1500,1500,C44*E36)^0.25*62.2333,\"\")","v":4.5951731118018691E-3},3.4479858716676506E-3,3,{"$f":"IF(OR(L44<=0,L44>1000000000),\"\",1/(HYPGEOMDIST(3,8,5,50)*HYPGEOMDIST(0,7,2,12))/L35)","v":290.02439024390219},{"$f":"IF(OR(L44<=0,L44>1000000000),\"\",L44/J44/L36)","v":4.3739689922480647E-3},26.639711488372086,{"$f":"IFERROR(IF(K44<K52,K52/K44,K44/K52),\"\")","v":6.4484060712629283},{"$f":"IFERROR(K44/IF((J44*L36)<1500,1500,J44*L36)^0.25*62.2333,\"\")","v":3.0813077499961608E-2},6.6934519161293326E-3,"3 + 2",{"$f":"IF(OR(S44<=0,S44>1000000000),\"\",1/(HYPGEOMDIST(3,10,5,50)*HYPGEOMDIST(2,5,2,12))/S35)","v":149.39974358974357},{"$f":"IF(OR(S44<=0,S44>1000000000),\"\",S44/Q44/S36)","v":9.0118456995201181E-3},56.547432344702841,{"$f":"IFERROR(IF(R44<R52,R52/R44,R44/R52),\"\")","v":3.129783747476961},{"$f":"IFERROR(R44/IF((Q44*S36)<1500,1500,Q44*S36)^0.25*62.2333,\"\")","v":6.3013962784624331E-2},null,null,null,null,null,null,null,2.3755910562045237]
[3.6530801034567405E-3,"3 + 1",{"$f":"IF(OR(E45<=0,E45>1000000000),\"\",1/(HYPGEOMDIST(3,6,5,50)*HYPGEOMDIST(1,9,2,12))/E35)","v":273.74160206718335},{"$f":"IF(OR(E45<=0,E45>1000000000),\"\",E45/C45/E36)","v":8.5866000000000033E-3},21.154586762790696,{"$f":"IFERROR(IF(D45<D52,D52/D45,D45/D52),\"\")","v":3.2847842225244217},{"$f":"IFERROR(D45/IF((C45*E36)<1500,1500,C45*E36)^0.25*62.2333,\"\")","v":7.5848716164279184E-2},7.2407703305020672E-3,"3 + 2",{"$f":"IF(OR(L45<=0,L45>1000000000),\"\",1/(HYPGEOMDIST(3,8,5,50)*HYPGEOMDIST(2,7,2,12))/L35)","v":138.10685249709627},{"$f":"IF(OR(L45<=0,L45>1000000000),\"\",L45/J45/L36)","v":1.2378662790697685E-2},35.901141279069762,{"$f":"IFERROR(IF(K45<K52,K52/K45,K45/K52),\"\")","v":2.2785278734891943},{"$f":"IFERROR(K45/IF((J45*L36)<1500,1500,J45*L36)^0.25*62.2333,\"\")","v":0.10497549530006914},1.4056249023871594E-2,3,{"$f":"IF(OR(S45<=0,S45>1000000000),\"\",1/(HYPGEOMDIST(3,10,5,50)*HYPGEOMDIST(0,5,2,12))/S35)","v":71.142735042735055},{"$f":"IF(OR(S45<=0,S45>1000000000),\"\",S45/Q45/S36)","v":1.1442015503875962E-2},34.188683648578795,{"$f":"IFERROR(IF(R45<R52,R52/R45,R45/R52),\"\")","v":2.4650489413839525},{"$f":"IFERROR(R45/IF((Q45*S36)<1500,1500,Q45*S36)^0.25*62.2333,\"\")","v":9.6311999804909315E-2},null,null,null,null,null,null,null,2.1392255073031876]
[4.261926787366194E-3,2,{"$f":"IF(OR(E46<=0,E46>1000000000),\"\",1/(HYPGEOMDIST(2,6,5,50)*HYPGEOMDIST(0,9,2,12))/E35)","v":234.63565891472877},{"$f":"IF(OR(E46<=0,E46>1000000000),\"\",E46/C46/E36)","v":3.7849777777777737E-3},7.9928167937984442,{"$f":"IFERROR(IF(D46<D52,D52/D46,D46/D52),\"\")","v":7.4518609780816023},{"$f":"IFERROR(D46/IF((C46*E36)<1500,1500,C46*E36)^0.25*62.2333,\"\")","v":3.474777762773465E-2},1.2067950550836771E-2,"3 + 1",{"$f":"IF(OR(L46<=0,L46>1000000000),\"\",1/(HYPGEOMDIST(3,8,5,50)*HYPGEOMDIST(1,7,2,12))/L35)","v":82.864111498257813},{"$f":"IF(OR(L46<=0,L46>1000000000),\"\",L46/J46/L36)","v":1.6684192506459951E-2},29.032936550387593,{"$f":"IFERROR(IF(K46<K52,K52/K46,K46/K52),\"\")","v":1.6905300148153692},{"$f":"IFERROR(K46/IF((J46*L36)<1500,1500,J46*L36)^0.25*62.2333,\"\")","v":0.16076132596926215},2.3427081706452645E-2,"3 + 1",{"$f":"IF(OR(S46<=0,S46>1000000000),\"\",1/(HYPGEOMDIST(3,10,5,50)*HYPGEOMDIST(1,5,2,12))/S35)","v":42.685641025641054},{"$f":"IF(OR(S46<=0,S46>1000000000),\"\",S46/Q46/S36)","v":2.164012919896639E-2},38.796357042894051,{"$f":"IFERROR(IF(R46<R52,R52/R46,R46/R52),\"\")","v":1.3033715254562985},{"$f":"IFERROR(R46/IF((Q46*S36)<1500,1500,Q46*S36)^0.25*62.2333,\"\")","v":0.20696642851880034},null,null,null,null,null,null,null,1.8311106491338149]
[4.8707734712756558E-3,"3 + 2",{"$f":"IF(OR(E47<=0,E47>1000000000),\"\",1/(HYPGEOMDIST(3,6,5,50)*HYPGEOMDIST(2,9,2,12))/E35)","v":205.30620155038744},{"$f":"IF(OR(E47<=0,E47>1000000000),\"\",E47/C47/E36)","v":1.3240007407407418E-2},24.464300663824289,{"$f":"IFERROR(IF(D47<D52,D52/D47,D47/D52),\"\")","v":2.1302955003898427},{"$f":"IFERROR(D47/IF((C47*E36)<1500,1500,C47*E36)^0.25*62.2333,\"\")","v":0.12567529528904164},2.2986572477784298E-2,2,{"$f":"IF(OR(L47<=0,L47>1000000000),\"\",1/(HYPGEOMDIST(2,8,5,50)*HYPGEOMDIST(0,7,2,12))/L35)","v":43.503658536585405},{"$f":"IF(OR(L47<=0,L47>1000000000),\"\",L47/J47/L36)","v":1.0936158484065445E-2},9.9910209922480568,{"$f":"IFERROR(IF(K47<K52,K52/K47,K47/K52),\"\")","v":2.5790709092433652},{"$f":"IFERROR(K47/IF((J47*L36)<1500,1500,J47*L36)^0.25*62.2333,\"\")","v":0.10936158883171405},3.1793896601614323E-2,"2 + 2",{"$f":"IF(OR(S47<=0,S47>1000000000),\"\",1/(HYPGEOMDIST(2,10,5,50)*HYPGEOMDIST(2,5,2,12))/S35)","v":31.452577597840754},{"$f":"IF(OR(S47<=0,S47>1000000000),\"\",S47/Q47/S36)","v":1.8006473237356959E-2},23.786699863979326,{"$f":"IFERROR(IF(R47<R52,R52/R47,R47/R52),\"\")","v":1.5663882556753372},{"$f":"IFERROR(R47/IF((Q47*S36)<1500,1500,Q47*S36)^0.25*62.2333,\"\")","v":0.18006473894488145},null,null,null,null,null,null,null,1.5614498372772545]
[3.8357341086295751E-2,"2 + 1",{"$f":"IF(OR(E48<=0,E48>1000000000),\"\",1/(HYPGEOMDIST(2,6,5,50)*HYPGEOMDIST(1,9,2,12))/E35)","v":26.070628768303191},{"$f":"IF(OR(E48<=0,E48>1000000000),\"\",E48/C48/E36)","v":3.7069511111111092E-2},8.6978291652024087,{"$f":"IFERROR(IF(D48<D52,D52/D48,D48/D52),\"\")","v":1.3142826666666658},{"$f":"IFERROR(D48/IF((C48*E36)<1500,1500,C48*E36)^0.25*62.2333,\"\")","v":0.37069512463931903},4.8271802203347029E-2,"2 + 2",{"$f":"IF(OR(L48<=0,L48>1000000000),\"\",1/(HYPGEOMDIST(2,8,5,50)*HYPGEOMDIST(2,7,2,12))/L35)","v":20.716027874564478},{"$f":"IF(OR(L48<=0,L48>1000000000),\"\",L48/J48/L36)","v":3.2840964685615814E-2},14.287021136950903,{"$f":"IFERROR(IF(K48<K52,K52/K48,K48/K52),\"\")","v":1.1643614752172877},{"$f":"IFERROR(K48/IF((J48*L36)<1500,1500,J48*L36)^0.25*62.2333,\"\")","v":0.32840965884119361},6.535412079220719E-2,"1 + 2",{"$f":"IF(OR(S48<=0,S48>1000000000),\"\",1/(HYPGEOMDIST(1,10,5,50)*HYPGEOMDIST(2,5,2,12))/S35)","v":15.301253966517132},{"$f":"IF(OR(S48<=0,S48>1000000000),\"\",S48/Q48/S36)","v":7.3543816906607613E-3},4.7263130046511659,{"$f":"IFERROR(IF(R48<R52,R52/R48,R48/R52),\"\")","v":3.8351460926954002},{"$f":"IFERROR(R48/IF((Q48*S36)<1500,1500,Q48*S36)^0.25*62.2333,\"\")","v":7.354381959052772E-2},null,null,null,null,null,null,null,1.4166379410929535]
[5.1143121448394349E-2,"2 + 2",{"$f":"IF(OR(E49<=0,E49>1000000000),\"\",1/(HYPGEOMDIST(2,6,5,50)*HYPGEOMDIST(2,9,2,12))/E35)","v":19.552971576227389},{"$f":"IF(OR(E49<=0,E49>1000000000),\"\",E49/C49/E36)","v":5.6683733333333319E-2},9.9750188403100744,{"$f":"IFERROR(IF(D49<D52,D52/D49,D49/D52),\"\")","v":2.009695999999999},{"$f":"IFERROR(D49/IF((C49*E36)<1500,1500,C49*E36)^0.25*62.2333,\"\")","v":0.56683735401958779},8.0453003672245005E-2,"2 + 1",{"$f":"IF(OR(L49<=0,L49>1000000000),\"\",1/(HYPGEOMDIST(2,8,5,50)*HYPGEOMDIST(1,7,2,12))/L35)","v":12.429616724738693},{"$f":"IF(OR(L49<=0,L49>1000000000),\"\",L49/J49/L36)","v":4.2617398794142905E-2},11.124076589147283,{"$f":"IFERROR(IF(K49<K52,K52/K49,K49/K52),\"\")","v":1.5109805027014298},{"$f":"IFERROR(K49/IF((J49*L36)<1500,1500,J49*L36)^0.25*62.2333,\"\")","v":0.42617400349429241},6.6767182863390062E-2,2,{"$f":"IF(OR(S49<=0,S49>1000000000),\"\",1/(HYPGEOMDIST(2,10,5,50)*HYPGEOMDIST(0,5,2,12))/S35)","v":14.977417903733697},{"$f":"IF(OR(S49<=0,S49>1000000000),\"\",S49/Q49/S36)","v":1.976510594315244E-2},12.433270568130915,{"$f":"IFERROR(IF(R49<R52,R52/R49,R49/R52),\"\")","v":1.4270162925638044},{"$f":"IFERROR(R49/IF((Q49*S36)<1500,1500,Q49*S36)^0.25*62.2333,\"\")","v":0.19765106664463455}]
[0.20968679793841694,"1 + 2",{"$f":"IF(OR(E50<=0,E50>1000000000),\"\",1/(HYPGEOMDIST(1,6,5,50)*HYPGEOMDIST(2,9,2,12))/E35)","v":4.7690174576164335},{"$f":"IF(OR(E50<=0,E50>1000000000),\"\",E50/C50/E36)","v":1.0924222222222234E-2},0.46888025839793307,{"$f":"IFERROR(IF(D50<D52,D52/D50,D50/D52),\"\")","v":2.5818889099264997},{"$f":"IFERROR(D50/IF((C50*E36)<1500,1500,C50*E36)^0.25*62.2333,\"\")","v":0.1092422262089259},0.13447144899503835,"1 + 2",{"$f":"IF(OR(L50<=0,L50>1000000000),\"\",1/(HYPGEOMDIST(1,8,5,50)*HYPGEOMDIST(2,7,2,12))/L35)","v":7.4365228267667245},{"$f":"IF(OR(L50<=0,L50>1000000000),\"\",L50/J50/L36)","v":9.0072868217054378E-3},1.4066407751937993,{"$f":"IFERROR(IF(K50<K52,K52/K50,K50/K52),\"\")","v":3.1313678317826521},{"$f":"IFERROR(K50/IF((J50*L36)<1500,1500,J50*L36)^0.25*62.2333,\"\")","v":9.0072871504188398E-2},0.11127863810565004,"2 + 1",{"$f":"IF(OR(S50<=0,S50>1000000000),\"\",1/(HYPGEOMDIST(2,10,5,50)*HYPGEOMDIST(1,5,2,12))/S35)","v":8.9864507422402227},{"$f":"IF(OR(S50<=0,S50>1000000000),\"\",S50/Q50/S36)","v":3.8172031007751898E-2},14.407305208062013,{"$f":"IFERROR(IF(R50<R52,R52/R50,R50/R52),\"\")","v":1.3533720084566581},{"$f":"IFERROR(R50/IF((Q50*S36)<1500,1500,Q50*S36)^0.25*62.2333,\"\")","v":0.38172032400808253},null,null,null,null,null,null,null,1.2523429355161086]
[{"$f":"IF(SUM(A38:A50)=0,\"\",SUM(A38:A50))","v":0.31269327342407838},"Gesamt",{"$f":"IFERROR(1/A51,\"\")","v":3.1980221034169416},{"$f":"IF(SUM(D38:D50)=0,\"\",SUM(D38:D50))","v":0.3666666666666667},{"$f":"IFERROR(E36*D51,\"\")","v":3.3000000000000003},{"$f":"IFERROR(AVERAGE(F38:F50),\"\")","v":46.04579623948424},{"$f":"IF(SUM(G38:G50)=0,\"\",SUM(G38:G50))","v":1.5952208197989393},{"$f":"IF(SUM(H38:H50)=0,\"\",SUM(H38:H50))","v":0.3103535687254465},"Gesamt",{"$f":"IFERROR(1/H51,\"\")","v":3.2221314680117228},{"$f":"IF(SUM(K38:K50)=0,\"\",SUM(K38:K50))","v":0.36666666666666675},{"$f":"IFERROR(L36*K51,\"\")","v":7.700000000000002},{"$f":"IFERROR(AVERAGE(M38:M50),\"\")","v":11.905112916807408},{"$f":"IF(SUM(N38:N50)=0,\"\",SUM(N38:N50))","v":1.6404105771376505},{"$f":"IF(SUM(O38:O50)=0,\"\",SUM(O38:O50))","v":0.32345414155907071},"Gesamt",{"$f":"IFERROR(1/O51,\"\")","v":3.0916283686458081},{"$f":"IFERROR(SUM(R38:R50),\"\")","v":0.3666666666666667},{"$f":"IFERROR(S36*R51,\"\")","v":15.400000000000002},{"$f":"IFERROR(AVERAGE(T38:T50),\"\")","v":6.3435162575989299},{"$f":"IF(SUM(U38:U50)=0,\"\",SUM(U38:U50))","v":1.616417485134598},null,null,null,null,null,null,null,1.1855196499571619]
[null,null,null,{"$f":"AVERAGE(D38:D50)","v":2.8205128205128209E-2},null,null,null,null,null,null,{"$f":"AVERAGE(K38:K50)","v":2.8205128205128212E-2},null,null,null,null,null,null,{"$f":"AVERAGE(R38:R50)","v":2.8205128205128209E-2},null,null,null,null,null,null,null,null,null,null,1.0704357531881667]
[null,null,null,null,null,null,null,null,null,null,null,null,null,null,null,null,null,null,null,null,null,null,null,null,null,null,null,null,0.63095328181149624]
[null,"LOTTO 6aus45 L (210 Tipps) ⁴",null,null,1,"vs.",null,null,"LOTTO 6aus45 XL (462 Tipps) ⁴",null,null,1,"vs.",null,null,"LOTTO 6aus45 XXL (924 Tipps) ⁴",null,null,1,null,null,null,null,null,null,null,null,null,0.62055602680774125]
[null,"Vollsystem 1000 / 42 Anteile",null,null,{"$f":"E54*8","v":8},null,null,null,"Vollsystem 1100 / 74 Anteile",null,null,{"$f":"L54*10","v":10},null,null,null,"Vollsystem 1200 / 82 Anteile",null,null,{"$f":"S54*18","v":18},null,null,null,null,null,null,null,null,null,0.50254094248398795]
[null,"Richtige",{"$f":"IF(E54=1,\"Chancen 1:\",\"Ø Gewinne 1:\")","v":"Chancen 1:"},"Ø AQ","(Ø) Gewinn",null,null,null,"Richtige",{"$f":"IF(L54=1,\"Chancen 1:\",\"Ø Gewinne 1:\")","v":"Chancen 1:"},"Ø AQ","(Ø) Gewinn",null,null,null,"Richtige",{"$f":"IF(S54=1,\"Chancen 1:\",\"Ø Gewinne 1:\")","v":"Chancen 1:"},"Ø AQ","(Ø) Gewinn"]
[{"$f":"IFERROR(IF(OR(E57<=0,E57>1000000000),0,1/C57),\"\")","v":2.6443588553628295E-6},"6 + ZZ",{"$f":"IF(OR(E57<=0,E57>1000000000),\"\",1/(HYPGEOMDIST(6,10,6,45)*HYPGEOMDIST(1,4,1,39))/E54)","v":378163.49999999948},{"$f":"IF(OR(E57<=0,E57>1000000000),\"\",E57/C57/E55)","v":1.7311100623030748E-2},52371.411203659838,{"$f":"IFERROR(IF(D57<D69,D69/D57,D57/D69),\"\")","v":1.9790643526803249},{"$f":"IFERROR(D57/IF((C57*E55)<1500,1500,C57*E55)^0.25*62.2333,\"\")","v":2.5831826343292646E-2},{"$f":"IFERROR(IF(OR(L57<=0,L57>1000000000),0,1/J57),\"\")","v":7.2719868522477785E-6},"6 + ZZ",{"$f":"IF(OR(L57<=0,L57>1000000000),\"\",1/(HYPGEOMDIST(6,11,6,45)*HYPGEOMDIST(1,5,1,39))/L54)","v":137513.99999999985},{"$f":"IF(OR(L57<=0,L57>1000000000),\"\",L57/J57/L55)","v":2.1750139002543783E-2},29909.486147958025,{"$f":"IFERROR(IF(K57<K69,K69/K57,K57/K69),\"\")","v":1.5734494635816758},{"$f":"IFERROR(K57/IF((J57*L55)<1500,1500,J57*L55)^0.25*62.2333,\"\")","v":3.9527389994095587E-2},{"$f":"IFERROR(IF(OR(S57<=0,S57>1000000000),0,1/Q57),\"\")","v":1.745276844539466E-5},"6 + ZZ",{"$f":"IF(OR(S57<=0,S57>1000000000),\"\",1/(HYPGEOMDIST(6,12,6,45)*HYPGEOMDIST(1,6,1,39))/S54)","v":57297.499999999971},{"$f":"IF(OR(S57<=0,S57>1000000000),\"\",S57/Q57/S55)","v":2.6349909747475052E-2},27176.11116760712,{"$f":"IFERROR(IF(R57<R69,R69/R57,R57/R69),\"\")","v":1.3023000625204784},{"$f":"IFERROR(R57/IF((Q57*S55)<1500,1500,Q57*S55)^0.25*62.2333,\"\")","v":5.1457646368009195E-2}]
[2.3138139984424766E-5,6,{"$f":"IF(OR(E58<=0,E58>1000000000),\"\",1/(HYPGEOMDIST(6,10,6,45)*HYPGEOMDIST(0,4,1,39))/E54)","v":43218.685714285639},{"$f":"IF(OR(E58<=0,E58>1000000000),\"\",E58/C58/E55)","v":0.13238987197593821},45773.730149460687,{"$f":"IFERROR(IF(D58<D69,D69/D58,D58/D69),\"\")","v":3.8642940402045971},{"$f":"IFERROR(D58/IF((C58*E55)<1500,1500,C58*E55)^0.25*62.2333,\"\")","v":0.33977170312047827},4.9449510595284912E-5,6,{"$f":"IF(OR(L58<=0,L58>1000000000),\"\",1/(HYPGEOMDIST(6,11,6,45)*HYPGEOMDIST(0,5,1,39))/L54)","v":20222.647058823502},{"$f":"IF(OR(L58<=0,L58>1000000000),\"\",L58/J58/L55)","v":0.1292278647052067},26133.294980987896,{"$f":"IFERROR(IF(K58<K69,K69/K58,K58/K69),\"\")","v":3.7760812704566789},{"$f":"IFERROR(K58/IF((J58*L55)<1500,1500,J58*L55)^0.25*62.2333,\"\")","v":0.37924468095935959},9.5990226449670641E-5,6,{"$f":"IF(OR(S58<=0,S58>1000000000),\"\",1/(HYPGEOMDIST(6,12,6,45)*HYPGEOMDIST(0,6,1,39))/S54)","v":10417.727272727267},{"$f":"IF(OR(S58<=0,S58>1000000000),\"\",S58/Q58/S55)","v":0.12658524025211715},23737.149174585858,{"$f":"IFERROR(IF(R58<R69,R69/R58,R58/R69),\"\")","v":3.6888659765460412},{"$f":"IFERROR(R58/IF((Q58*S55)<1500,1500,Q58*S55)^0.25*62.2333,\"\")","v":0.37856854735670414}]
[1.3882883990654844E-4,"5 + ZZ",{"$f":"IF(OR(E59<=0,E59>1000000000),\"\",1/(HYPGEOMDIST(5,10,6,45)*HYPGEOMDIST(1,5,1,39))/E54)","v":7203.1142857142813},{"$f":"IF(OR(E59<=0,E59>1000000000),\"\",E59/C59/E55)","v":2.3800340208629683E-2},1371.4925644931238,{"$f":"IFERROR(IF(D59<D69,D69/D59,D59/D69),\"\")","v":1.4394660684841885},{"$f":"IFERROR(D59/IF((C59*E55)<1500,1500,C59*E55)^0.25*62.2333,\"\")","v":9.5599016094345041E-2},2.966970635717091E-4,"5 + ZZ",{"$f":"IF(OR(L59<=0,L59>1000000000),\"\",1/(HYPGEOMDIST(5,11,6,45)*HYPGEOMDIST(1,6,1,39))/L54)","v":3370.4411764705878},{"$f":"IF(OR(L59<=0,L59>1000000000),\"\",L59/J59/L55)","v":2.4742997564581128E-2},833.94817820975697,{"$f":"IFERROR(IF(K59<K69,K69/K59,K59/K69),\"\")","v":1.3831284773421411},{"$f":"IFERROR(K59/IF((J59*L55)<1500,1500,J59*L55)^0.25*62.2333,\"\")","v":0.11364581697213708},5.759413586980236E-4,"5 + ZZ",{"$f":"IF(OR(S59<=0,S59>1000000000),\"\",1/(HYPGEOMDIST(5,12,6,45)*HYPGEOMDIST(1,7,1,39))/S54)","v":1736.2878787878783},{"$f":"IF(OR(S59<=0,S59>1000000000),\"\",S59/Q59/S55)","v":2.5937345300672564E-2},810.62456856288316,{"$f":"IFERROR(IF(R59<R69,R69/R59,R59/R69),\"\")","v":1.323014699991518},{"$f":"IFERROR(R59/IF((Q59*S55)<1500,1500,Q59*S55)^0.25*62.2333,\"\")","v":0.12140170741271983}]
[9.4403611136452978E-4,5,{"$f":"IF(OR(E60<=0,E60>1000000000),\"\",1/(HYPGEOMDIST(5,10,6,45)*HYPGEOMDIST(0,5,1,39))/E54)","v":1059.2815126050409},{"$f":"IF(OR(E60<=0,E60>1000000000),\"\",E60/C60/E55)","v":2.6614612375533388E-2},225.5389348364148,{"$f":"IFERROR(IF(D60<D69,D69/D60,D60/D69),\"\")","v":1.2872545977861798},{"$f":"IFERROR(D60/IF((C60*E55)<1500,1500,C60*E55)^0.25*62.2333,\"\")","v":0.17263054079003434},1.6318338496444E-3,5,{"$f":"IF(OR(L60<=0,L60>1000000000),\"\",1/(HYPGEOMDIST(5,11,6,45)*HYPGEOMDIST(0,6,1,39))/L54)","v":612.80748663101599},{"$f":"IF(OR(L60<=0,L60>1000000000),\"\",L60/J60/L55)","v":2.774647608780894E-2},170.03248274237782,{"$f":"IFERROR(IF(K60<K69,K69/K60,K60/K69),\"\")","v":1.2334086836135547},{"$f":"IFERROR(K60/IF((J60*L55)<1500,1500,J60*L55)^0.25*62.2333,\"\")","v":0.19516397223085202},2.6328747826195368E-3,5,{"$f":"IF(OR(S60<=0,S60>1000000000),\"\",1/(HYPGEOMDIST(5,12,6,45)*HYPGEOMDIST(0,7,1,39))/S54)","v":379.81297348484833},{"$f":"IF(OR(S60<=0,S60>1000000000),\"\",S60/Q60/S55)","v":2.8944848988654834E-2},197.88532490611618,{"$f":"IFERROR(IF(R60<R69,R69/R60,R60/R69),\"\")","v":1.1855473533476009},{"$f":"IFERROR(R60/IF((Q60*S55)<1500,1500,Q60*S55)^0.25*62.2333,\"\")","v":0.19809957493461333}]
[2.3600902784113231E-3,"4 + ZZ",{"$f":"IF(OR(E61<=0,E61>1000000000),\"\",1/(HYPGEOMDIST(4,10,6,45)*HYPGEOMDIST(1,6,1,39))/E54)","v":423.71260504201661},{"$f":"IF(OR(E61<=0,E61>1000000000),\"\",E61/C61/E55)","v":1.5557985023815587E-2},52.736914909164661,{"$f":"IFERROR(IF(D61<D69,D69/D61,D61/D69),\"\")","v":2.2020706470830711},{"$f":"IFERROR(D61/IF((C61*E55)<1500,1500,C61*E55)^0.25*62.2333,\"\")","v":0.12689246585634645},4.0795846241110023E-3,"4 + ZZ",{"$f":"IF(OR(L61<=0,L61>1000000000),\"\",1/(HYPGEOMDIST(4,11,6,45)*HYPGEOMDIST(1,7,1,39))/L54)","v":245.12299465240625},{"$f":"IF(OR(L61<=0,L61>1000000000),\"\",L61/J61/L55)","v":1.7610456386774498E-2},43.167278067217588,{"$f":"IFERROR(IF(K61<K69,K69/K61,K61/K69),\"\")","v":1.9433195707568816},{"$f":"IFERROR(K61/IF((J61*L55)<1500,1500,J61*L55)^0.25*62.2333,\"\")","v":0.15575694784587826},6.5821869565488404E-3,"4 + ZZ",{"$f":"IF(OR(S61<=0,S61>1000000000),\"\",1/(HYPGEOMDIST(4,12,6,45)*HYPGEOMDIST(1,8,1,39))/S54)","v":151.92518939393938},{"$f":"IF(OR(S61<=0,S61>1000000000),\"\",S61/Q61/S55)","v":1.9689823008873442E-2},53.844841615612374,{"$f":"IFERROR(IF(R61<R69,R69/R61,R61/R69),\"\")","v":1.7428033302321233},{"$f":"IFERROR(R61/IF((Q61*S55)<1500,1500,Q61*S55)^0.25*62.2333,\"\")","v":0.16944902334353745}]
[1.2980496531262275E-2,4,{"$f":"IF(OR(E62<=0,E62>1000000000),\"\",1/(HYPGEOMDIST(4,10,6,45)*HYPGEOMDIST(0,6,1,39))/E54)","v":77.038655462184849},{"$f":"IF(OR(E62<=0,E62>1000000000),\"\",E62/C62/E55)","v":4.6947728781412908E-2},28.934319218586946,{"$f":"IFERROR(IF(D62<D69,D69/D62,D62/D69),\"\")","v":1.3703452222095107},{"$f":"IFERROR(D62/IF((C62*E55)<1500,1500,C62*E55)^0.25*62.2333,\"\")","v":0.46947730494731016},1.8649529710221727E-2,4,{"$f":"IF(OR(L62<=0,L62>1000000000),\"\",1/(HYPGEOMDIST(4,11,6,45)*HYPGEOMDIST(0,7,1,39))/L54)","v":53.620655080213865},{"$f":"IF(OR(L62<=0,L62>1000000000),\"\",L62/J62/L55)","v":4.6788916935142755E-2},25.088523765560669,{"$f":"IFERROR(IF(K62<K69,K69/K62,K62/K69),\"\")","v":1.3671877447389822},{"$f":"IFERROR(K62/IF((J62*L55)<1500,1500,J62*L55)^0.25*62.2333,\"\")","v":0.46788918642665156},2.5505974456626754E-2,4,{"$f":"IF(OR(S62<=0,S62>1000000000),\"\",1/(HYPGEOMDIST(4,12,6,45)*HYPGEOMDIST(0,8,1,39))/S54)","v":39.20650048875855},{"$f":"IF(OR(S62<=0,S62>1000000000),\"\",S62/Q62/S55)","v":4.6352294172477909E-2},32.711602394310034,{"$f":"IFERROR(IF(R62<R69,R69/R62,R62/R69),\"\")","v":1.3507688618922324},{"$f":"IFERROR(R62/IF((Q62*S55)<1500,1500,Q62*S55)^0.25*62.2333,\"\")","v":0.46352295864066129}]
[1.7307328708349674E-2,"3 + ZZ",{"$f":"IF(OR(E63<=0,E63>1000000000),\"\",1/(HYPGEOMDIST(3,10,6,45)*HYPGEOMDIST(1,7,1,39))/E54)","v":57.778991596638726},{"$f":"IF(OR(E63<=0,E63>1000000000),\"\",E63/C63/E55)","v":1.8890600570567791E-2},8.7318388129783617,{"$f":"IFERROR(IF(D63<D69,D69/D63,D63/D69),\"\")","v":1.8135888279846561},{"$f":"IFERROR(D63/IF((C63*E55)<1500,1500,C63*E55)^0.25*62.2333,\"\")","v":0.18890601259964465},2.486603961362896E-2,"3 + ZZ",{"$f":"IF(OR(L63<=0,L63>1000000000),\"\",1/(HYPGEOMDIST(3,11,6,45)*HYPGEOMDIST(1,8,1,39))/L54)","v":40.215491310160409},{"$f":"IF(OR(L63<=0,L63>1000000000),\"\",L63/J63/L55)","v":1.9107041967489604E-2},7.6839908020644847,{"$f":"IFERROR(IF(K63<K69,K69/K63,K63/K69),\"\")","v":1.7911063682494117},{"$f":"IFERROR(K63/IF((J63*L55)<1500,1500,J63*L55)^0.25*62.2333,\"\")","v":0.19107042664785123},3.4007965942168997E-2,"3 + ZZ",{"$f":"IF(OR(S63<=0,S63>1000000000),\"\",1/(HYPGEOMDIST(3,12,6,45)*HYPGEOMDIST(1,9,1,39))/S54)","v":29.404875366568923},{"$f":"IF(OR(S63<=0,S63>1000000000),\"\",S63/Q63/S55)","v":1.9499083732681301E-2},10.320626284592134,{"$f":"IFERROR(IF(R63<R69,R69/R63,R63/R69),\"\")","v":1.7598513644018816},{"$f":"IFERROR(R63/IF((Q63*S55)<1500,1500,Q63*S55)^0.25*62.2333,\"\")","v":0.19499084444284057}]
[5.1097827615127669E-2,"0 + ZZ",{"$f":"IF(OR(E64<=0,E64>1000000000),\"\",1/(HYPGEOMDIST(0,10,6,45)*HYPGEOMDIST(1,10,1,39))/E54)","v":19.570303605313093},{"$f":"IF(OR(E64<=0,E64>1000000000),\"\",E64/C64/E55)","v":2.4910190962374741E-2},3.9000000000000004,{"$f":"IFERROR(IF(D64<D69,D69/D64,D64/D69),\"\")","v":1.3753319755938258},{"$f":"IFERROR(D64/IF((C64*E55)<1500,1500,C64*E55)^0.25*62.2333,\"\")","v":0.24910191871451332},4.6572020026359247E-2,"0 + ZZ",{"$f":"IF(OR(L64<=0,L64>1000000000),\"\",1/(HYPGEOMDIST(0,11,6,45)*HYPGEOMDIST(1,11,1,39))/L54)","v":21.472119943133475},{"$f":"IF(OR(L64<=0,L64>1000000000),\"\",L64/J64/L55)","v":2.0617559135993637E-2},4.4270270270270276,{"$f":"IFERROR(IF(K64<K69,K69/K64,K64/K69),\"\")","v":1.6598834188201337},{"$f":"IFERROR(K64/IF((J64*L55)<1500,1500,J64*L55)^0.25*62.2333,\"\")","v":0.20617559888414219},4.1840103553092776E-2,"0 + ZZ",{"$f":"IF(OR(S64<=0,S64>1000000000),\"\",1/(HYPGEOMDIST(0,12,6,45)*HYPGEOMDIST(1,12,1,39))/S54)","v":23.90051446051168},{"$f":"IF(OR(S64<=0,S64>1000000000),\"\",S64/Q64/S55)","v":1.7025180348230026E-2},7.324390243902438,{"$f":"IFERROR(IF(R64<R69,R69/R64,R64/R69),\"\")","v":2.0155727228530202},{"$f":"IFERROR(R64/IF((Q64*S55)<1500,1500,Q64*S55)^0.25*62.2333,\"\")","v":0.17025180969549747}]
[5.933941271434183E-2,"2 + ZZ",{"$f":"IF(OR(E65<=0,E65>1000000000),\"\",1/(HYPGEOMDIST(2,10,6,45)*HYPGEOMDIST(1,8,1,39))/E54)","v":16.852205882352937},{"$f":"IF(OR(E65<=0,E65>1000000000),\"\",E65/C65/E55)","v":4.8213272830402738E-3},0.65,{"$f":"IFERROR(IF(D65<D69,D69/D65,D65/D69),\"\")","v":7.1058818739014313},{"$f":"IFERROR(D65/IF((C65*E55)<1500,1500,C65*E55)^0.25*62.2333,\"\")","v":4.8213274589905819E-2},7.2266927627109123E-2,"2 + ZZ",{"$f":"IF(OR(L65<=0,L65>1000000000),\"\",1/(HYPGEOMDIST(2,11,6,45)*HYPGEOMDIST(1,9,1,39))/L54)","v":13.837588407797139},{"$f":"IF(OR(L65<=0,L65>1000000000),\"\",L65/J65/L55)","v":7.1095031503426278E-3},0.98378378378378373,{"$f":"IFERROR(IF(K65<K69,K69/K65,K65/K69),\"\")","v":4.8136619145783914},{"$f":"IFERROR(K65/IF((J65*L55)<1500,1500,J65*L55)^0.25*62.2333,\"\")","v":7.1095034097980014E-2},8.5019914855422485E-2,"2 + ZZ",{"$f":"IF(OR(S65<=0,S65>1000000000),\"\",1/(HYPGEOMDIST(2,12,6,45)*HYPGEOMDIST(1,10,1,39))/S54)","v":11.761950146627569},{"$f":"IF(OR(S65<=0,S65>1000000000),\"\",S65/Q65/S55)","v":9.4351368924920093E-3},1.9975609756097563,{"$f":"IFERROR(IF(R65<R69,R69/R65,R65/R69),\"\")","v":3.6369890021258939},{"$f":"IFERROR(R65/IF((Q65*S55)<1500,1500,Q65*S55)^0.25*62.2333,\"\")","v":9.4351372368194422E-2}]
[7.9119216952455662E-2,3,{"$f":"IF(OR(E66<=0,E66>1000000000),\"\",1/(HYPGEOMDIST(3,10,6,45)*HYPGEOMDIST(0,7,1,39))/E54)","v":12.63915441176472},{"$f":"IF(OR(E66<=0,E66>1000000000),\"\",E66/C66/E55)","v":4.568569306148236E-2},4.6194282321005087,{"$f":"IFERROR(IF(D66<D69,D69/D66,D66/D69),\"\")","v":1.3335079850533385},{"$f":"IFERROR(D66/IF((C66*E55)<1500,1500,C66*E55)^0.25*62.2333,\"\")","v":0.45685694728743531},9.6355903502812229E-2,3,{"$f":"IF(OR(L66<=0,L66>1000000000),\"\",1/(HYPGEOMDIST(3,11,6,45)*HYPGEOMDIST(0,8,1,39))/L54)","v":10.378191305847848},{"$f":"IF(OR(L66<=0,L66>1000000000),\"\",L66/J66/L55)","v":4.0420725623261863E-2},4.194940232393976,{"$f":"IFERROR(IF(K66<K69,K69/K66,K66/K69),\"\")","v":1.1811070724758157},{"$f":"IFERROR(K66/IF((J66*L55)<1500,1500,J66*L55)^0.25*62.2333,\"\")","v":0.40420727098382447},9.8623101232290164E-2,"1 + ZZ",{"$f":"IF(OR(S66<=0,S66>1000000000),\"\",1/(HYPGEOMDIST(1,12,6,45)*HYPGEOMDIST(1,11,1,39))/S54)","v":10.139612195368587},{"$f":"IF(OR(S66<=0,S66>1000000000),\"\",S66/Q66/S55)","v":2.1889517590581477E-2},3.9951219512195126,{"$f":"IFERROR(IF(R66<R69,R69/R66,R66/R69),\"\")","v":1.5676676733301256},{"$f":"IFERROR(R66/IF((Q66*S55)<1500,1500,Q66*S55)^0.25*62.2333,\"\")","v":0.21889518389421117}]
[9.1976089707229799E-2,"1 + ZZ",{"$f":"IF(OR(E67<=0,E67>1000000000),\"\",1/(HYPGEOMDIST(1,10,6,45)*HYPGEOMDIST(1,9,1,39))/E54)","v":10.872390891840608},{"$f":"IF(OR(E67<=0,E67>1000000000),\"\",E67/C67/E55)","v":1.9928152769899787E-2},1.7333333333333332,{"$f":"IFERROR(IF(D67<D69,D69/D67,D67/D69),\"\")","v":1.7191649694922826},{"$f":"IFERROR(D67/IF((C67*E55)<1500,1500,C67*E55)^0.25*62.2333,\"\")","v":0.19928153497161061},9.6355903502812174E-2,"1 + ZZ",{"$f":"IF(OR(L67<=0,L67>1000000000),\"\",1/(HYPGEOMDIST(1,11,6,45)*HYPGEOMDIST(1,10,1,39))/L54)","v":10.378191305847853},{"$f":"IF(OR(L67<=0,L67>1000000000),\"\",L67/J67/L55)","v":2.1328509451027884E-2},2.2135135135135138,{"$f":"IFERROR(IF(K67<K69,K69/K67,K67/K69),\"\")","v":1.6045539715261303},{"$f":"IFERROR(K67/IF((J67*L55)<1500,1500,J67*L55)^0.25*62.2333,\"\")","v":0.21328510229394002},0.11335988647389662,3,{"$f":"IF(OR(S67<=0,S67>1000000000),\"\",1/(HYPGEOMDIST(3,12,6,45)*HYPGEOMDIST(0,9,1,39))/S54)","v":8.8214626099706788},{"$f":"IF(OR(S67<=0,S67>1000000000),\"\",S67/Q67/S55)","v":3.5762000192747181E-2},5.6785166560455025,{"$f":"IFERROR(IF(R67<R69,R69/R67,R67/R69),\"\")","v":1.0421532992433662},{"$f":"IFERROR(R67/IF((Q67*S55)<1500,1500,Q67*S55)^0.25*62.2333,\"\")","v":0.35762001497851481}]
[{"$f":"IF(SUM(A57:A67)=0,\"\",SUM(A57:A67))","v":0.31528910995728909},"Gesamt",{"$f":"IFERROR(1/A68,\"\")","v":3.1716921657569013},{"$f":"IF(SUM(D57:D67)=0,\"\",SUM(D57:D67))","v":0.37685760363572551},{"$f":"IFERROR(E55*D68,\"\")","v":3.0148608290858041},{"$f":"IFERROR(AVERAGE(F57:F67),\"\")","v":2.3172700509521276},{"$f":"IF(SUM(G57:G67)=0,\"\",SUM(G57:G67))","v":2.3725625453149166},{"$f":"IF(SUM(H57:H67)=0,\"\",SUM(H57:H67))","v":0.36113116101771814},"Gesamt",{"$f":"IFERROR(1/H68,\"\")","v":2.7690770222704129},{"$f":"IF(SUM(K57:K67)=0,\"\",SUM(K57:K67))","v":0.37645019001017338},{"$f":"IFERROR(L55*K68,\"\")","v":3.7645019001017337},{"$f":"IFERROR(AVERAGE(M57:M67),\"\")","v":2.0297170869217998},{"$f":"IF(SUM(N57:N67)=0,\"\",SUM(N57:N67))","v":2.4370614273367122},{"$f":"IF(SUM(O57:O67)=0,\"\",SUM(O57:O67))","v":0.40826139260625927},"Gesamt",{"$f":"IFERROR(1/O68,\"\")","v":2.4494111324516861},{"$f":"IF(SUM(R57:R67)=0,\"\",SUM(R57:R67))","v":0.37747038022700297},{"$f":"IFERROR(S55*R68,\"\")","v":6.7944668440860534},{"$f":"IFERROR(AVERAGE(T57:T67),\"\")","v":1.8741394860440257},{"$f":"IF(SUM(U57:U67)=0,\"\",SUM(U57:U67))","v":2.4186086834355036}]
[null,null,null,{"$f":"AVERAGE(D57:D67)","v":3.4259782148702317E-2},null,null,null,null,null,null,{"$f":"AVERAGE(K57:K67)","v":3.4222744546379399E-2},null,null,null,null,null,null,{"$f":"AVERAGE(R57:R67)","v":3.4315489111545722E-2}]
[]
[null,"SuperLotto L (210 Tipps) ⁵",null,null,1,"vs.",null,null,"SuperLotto XL (924 Tipps) ⁵",null,null,1,"vs.",null,null,"SuperLotto XXL (1.716 Tipps) ⁵",null,null,1]
[null,"Vollsystem 1000 / 63 Anteile",null,null,{"$f":"E71*5","v":5},null,null,null,"Vollsystem 1200 / 126 Anteile",null,null,{"$f":"L71*11","v":11},null,null,null,"Vollsystem 1300 / 117 Anteile",null,null,{"$f":"S71*22","v":22}]
[null,"Richtige",{"$f":"IF(E71=1,\"Chancen 1:\",\"Ø Gewinne 1:\")","v":"Chancen 1:"},"Ø AQ","(Ø) Gewinn",null,null,null,"Richtige",{"$f":"IF(L71=1,\"Chancen 1:\",\"Ø Gewinne 1:\")","v":"Chancen 1:"},"Ø AQ","(Ø) Gewinn",null,null,null,"Richtige",{"$f":"IF(S71=1,\"Chancen 1:\",\"Ø Gewinne 1:\")","v":"Chancen 1:"},"Ø AQ","(Ø) Gewinn"]
[{"$f":"IFERROR(IF(OR(E74<=0,E74>1000000000),0,1/C74),\"\")","v":1.6061299426902349E-8},"6 + GZ",{"$f":"IF(OR(E74<=0,E74>1000000000),\"\",1/(HYPGEOMDIST(6,10,6,90)*HYPGEOMDIST(1,4,1,84))/E71)","v":62261462.999999888},{"$f":"IF(OR(E74<=0,E74>1000000000),\"\",E74/C74/E72)","v":2.7322213690179542E-3},850560.49837460194,{"$f":"IFERROR(IF(D74<D83,D83/D74,D74/D83),\"\")","v":16.418371279785145},{"$f":"IFERROR(D74/IF((C74*E72)<1500,1500,C74*E72)^0.25*62.2333,\"\")","v":1.2800925878015974E-3},{"$f":"IFERROR(IF(OR(L74<=0,L74>1000000000),0,1/J74),\"\")","v":1.0600457621755536E-7},"6 + GZ",{"$f":"IF(OR(L74<=0,L74>1000000000),\"\",1/(HYPGEOMDIST(6,12,6,90)*HYPGEOMDIST(1,6,1,84))/L71)","v":9433554.9999999963},{"$f":"IF(OR(L74<=0,L74>1000000000),\"\",L74/J74/L72)","v":4.1199231818641316E-3},427520.74125079304,{"$f":"IFERROR(IF(K74<K83,K83/K74,K74/K83),\"\")","v":10.888218754312442},{"$f":"IFERROR(K74/IF((J74*L72)<1500,1500,J74*L72)^0.25*62.2333,\"\")","v":2.5403580434757715E-3},{"$f":"IFERROR(IF(OR(S74<=0,S74>1000000000),0,1/Q74),\"\")","v":2.2967658180470365E-7},"6 + GZ",{"$f":"IF(OR(S74<=0,S74>1000000000),\"\",1/(HYPGEOMDIST(6,13,6,90)*HYPGEOMDIST(1,7,1,84))/S71)","v":4353948.4615384527},{"$f":"IF(OR(S74<=0,S74>1000000000),\"\",S74/Q74/S72)","v":4.8200344067654772E-3},461695.99057777709,{"$f":"IFERROR(IF(R74<R83,R83/R74,R74/R83),\"\")","v":9.3067022077965582},{"$f":"IFERROR(R74/IF((Q74*S72)<1500,1500,Q74*S72)^0.25*62.2333,\"\")","v":3.0321206474811452E-3}]
[3.212259885380469E-7,6,{"$f":"IF(OR(E75<=0,E75>1000000000),\"\",1/(HYPGEOMDIST(6,10,6,90)*HYPGEOMDIST(0,4,1,84))/E71)","v":3113073.1499999953},{"$f":"IF(OR(E75<=0,E75>1000000000),\"\",E75/C75/E72)","v":5.3543081133942905E-2},833417.64123174478,{"$f":"IFERROR(IF(D75<D83,D83/D75,D75/D83),\"\")","v":1.1935961324471143},{"$f":"IFERROR(D75/IF((C75*E72)<1500,1500,C75*E72)^0.25*62.2333,\"\")","v":5.3050118351781812E-2},1.3780594908282199E-6,6,{"$f":"IF(OR(L75<=0,L75>1000000000),\"\",1/(HYPGEOMDIST(6,12,6,90)*HYPGEOMDIST(0,6,1,84))/L71)","v":725658.07692307641},{"$f":"IF(OR(L75<=0,L75>1000000000),\"\",L75/J75/L72)","v":5.2485188773977981E-2},418949.31267936446,{"$f":"IFERROR(IF(K75<K83,K83/K75,K75/K83),\"\")","v":1.1700133239374444},{"$f":"IFERROR(K75/IF((J75*L72)<1500,1500,J75*L72)^0.25*62.2333,\"\")","v":6.1450923578481698E-2},2.5264423998517414E-6,6,{"$f":"IF(OR(S75<=0,S75>1000000000),\"\",1/(HYPGEOMDIST(6,13,6,90)*HYPGEOMDIST(0,7,1,84))/S71)","v":395813.49650349549},{"$f":"IF(OR(S75<=0,S75>1000000000),\"\",S75/Q75/S72)","v":5.1960332712244719E-2},452465.22134700784,{"$f":"IFERROR(IF(R75<R83,R83/R75,R75/R83),\"\")","v":1.1583130976503337},{"$f":"IFERROR(R75/IF((Q75*S72)<1500,1500,Q75*S72)^0.25*62.2333,\"\")","v":5.9527334190689861E-2}]
[1.9273559312282774E-6,"5 + GZ",{"$f":"IF(OR(E76<=0,E76>1000000000),\"\",1/(HYPGEOMDIST(5,10,6,90)*HYPGEOMDIST(1,5,1,84))/E71)","v":518845.52500000026},{"$f":"IF(OR(E76<=0,E76>1000000000),\"\",E76/C76/E72)","v":1.8057718945666268E-3},4684.583333333333,{"$f":"IFERROR(IF(D76<D83,D83/D76,D76/D83),\"\")","v":24.841800334845395},{"$f":"IFERROR(D76/IF((C76*E72)<1500,1500,C76*E72)^0.25*62.2333,\"\")","v":2.8001654967178265E-3},8.2683569449693072E-6,"5 + GZ",{"$f":"IF(OR(L76<=0,L76>1000000000),\"\",1/(HYPGEOMDIST(5,12,6,90)*HYPGEOMDIST(1,7,1,84))/L71)","v":120943.01282051293},{"$f":"IF(OR(L76<=0,L76>1000000000),\"\",L76/J76/L72)","v":2.1234867683263842E-3},2825.0297619047619,{"$f":"IFERROR(IF(K76<K83,K83/K76,K76/K83),\"\")","v":21.124984400281775},{"$f":"IFERROR(K76/IF((J76*L72)<1500,1500,J76*L72)^0.25*62.2333,\"\")","v":3.8911594075703364E-3},1.5158654399110448E-5,"5 + GZ",{"$f":"IF(OR(S76<=0,S76>1000000000),\"\",1/(HYPGEOMDIST(5,13,6,90)*HYPGEOMDIST(1,8,1,84))/S71)","v":65968.916083915916},{"$f":"IF(OR(S76<=0,S76>1000000000),\"\",S76/Q76/S72)","v":2.3024193954453071E-3},3341.5384615384614,{"$f":"IFERROR(IF(R76<R83,R83/R76,R76/R83),\"\")","v":19.483255285218622},{"$f":"IFERROR(R76/IF((Q76*S72)<1500,1500,Q76*S72)^0.25*62.2333,\"\")","v":4.1282573081529795E-3}]
[3.0452223713406784E-5,5,{"$f":"IF(OR(E77<=0,E77>1000000000),\"\",1/(HYPGEOMDIST(5,10,6,90)*HYPGEOMDIST(0,5,1,84))/E71)","v":32838.324367088622},{"$f":"IF(OR(E77<=0,E77>1000000000),\"\",E77/C77/E72)","v":1.11299252407774E-2},1827.4404761904761,{"$f":"IFERROR(IF(D77<D83,D83/D77,D77/D83),\"\")","v":4.0304515874687361},{"$f":"IFERROR(D77/IF((C77*E72)<1500,1500,C77*E72)^0.25*62.2333,\"\")","v":3.4409418206367844E-2},9.0951926394662415E-5,5,{"$f":"IF(OR(L77<=0,L77>1000000000),\"\",1/(HYPGEOMDIST(5,12,6,90)*HYPGEOMDIST(0,7,1,84))/L71)","v":10994.819347319353},{"$f":"IF(OR(L77<=0,L77>1000000000),\"\",L77/J77/L72)","v":1.1546415958776934E-2},1396.4583333333333,{"$f":"IFERROR(IF(K77<K83,K83/K77,K77/K83),\"\")","v":3.885069186425822},{"$f":"IFERROR(K77/IF((J77*L72)<1500,1500,J77*L72)^0.25*62.2333,\"\")","v":3.8532291198041031E-2},1.4400721679154929E-4,5,{"$f":"IF(OR(S77<=0,S77>1000000000),\"\",1/(HYPGEOMDIST(5,13,6,90)*HYPGEOMDIST(0,8,1,84))/S71)","v":6944.0964298858844},{"$f":"IF(OR(S77<=0,S77>1000000000),\"\",S77/Q77/S72)","v":1.180254951606264E-2},1803.0769230769231,{"$f":"IFERROR(IF(R77<R83,R83/R77,R77/R83),\"\")","v":3.8007571833568208},{"$f":"IFERROR(R77/IF((Q77*S72)<1500,1500,Q77*S72)^0.25*62.2333,\"\")","v":3.7152586651944625E-2}]
[1.0658278299692364E-3,4,{"$f":"IF(OR(E78<=0,E78>1000000000),\"\",1/HYPGEOMDIST(4,10,6,90)/E71)","v":938.23783905967582},{"$f":"IF(OR(E78<=0,E78>1000000000),\"\",E78/C78/E72)","v":2.0277797412716299E-2},95.126984126984127,{"$f":"IFERROR(IF(D78<D83,D83/D78,D78/D83),\"\")","v":2.2122040151643185},{"$f":"IFERROR(D78/IF((C78*E72)<1500,1500,C78*E72)^0.25*62.2333,\"\")","v":0.15248350754890391},2.387488067859891E-3,4,{"$f":"IF(OR(L78<=0,L78>1000000000),\"\",1/HYPGEOMDIST(4,12,6,90)/L71)","v":418.85026085026061},{"$f":"IF(OR(L78<=0,L78>1000000000),\"\",L78/J78/L72)","v":2.3802532555330432E-2},109.66666666666667,{"$f":"IFERROR(IF(K78<K83,K83/K78,K78/K83),\"\")","v":1.8846156286446845},{"$f":"IFERROR(K78/IF((J78*L72)<1500,1500,J78*L72)^0.25*62.2333,\"\")","v":0.17979728505552534},3.3601683918028087E-3,4,{"$f":"IF(OR(S78<=0,S78>1000000000),\"\",1/HYPGEOMDIST(4,13,6,90)/S71)","v":297.60413270939574},{"$f":"IF(OR(S78<=0,S78>1000000000),\"\",S78/Q78/S72)","v":2.5675132839929157E-2},168.10256410256412,{"$f":"IFERROR(IF(R78<R83,R83/R78,R78/R83),\"\")","v":1.7471623276408885},{"$f":"IFERROR(R78/IF((Q78*S72)<1500,1500,Q78*S72)^0.25*62.2333,\"\")","v":0.17763155604539441}]
[1.5835156330971534E-2,3,{"$f":"IF(OR(E79<=0,E79>1000000000),\"\",1/HYPGEOMDIST(3,10,6,90)/E71)","v":63.150623782862709},{"$f":"IF(OR(E79<=0,E79>1000000000),\"\",E79/C79/E72)","v":5.9557782422598501E-2},18.805555555555557,{"$f":"IFERROR(IF(D79<D83,D83/D79,D79/D83),\"\")","v":1.327677400165062},{"$f":"IFERROR(D79/IF((C79*E72)<1500,1500,C79*E72)^0.25*62.2333,\"\")","v":0.59557784596109975},2.688134713442247E-2,3,{"$f":"IF(OR(L79<=0,L79>1000000000),\"\",1/HYPGEOMDIST(3,12,6,90)/L71)","v":37.200516588674468},{"$f":"IF(OR(L79<=0,L79>1000000000),\"\",L79/J79/L72)","v":6.4555962436453951E-2},26.416666666666664,{"$f":"IFERROR(IF(K79<K83,K83/K79,K79/K83),\"\")","v":1.439098114241794},{"$f":"IFERROR(K79/IF((J79*L72)<1500,1500,J79*L72)^0.25*62.2333,\"\")","v":0.64555964792369824},3.3601683918028098E-2,3,{"$f":"IF(OR(S79<=0,S79>1000000000),\"\",1/HYPGEOMDIST(3,13,6,90)/S71)","v":29.760413270939566},{"$f":"IF(OR(S79<=0,S79>1000000000),\"\",S79/Q79/S72)","v":6.7125042232517668E-2},43.948717948717949,{"$f":"IFERROR(IF(R79<R83,R83/R79,R79/R83),\"\")","v":1.4963687016564156},{"$f":"IFERROR(R79/IF((Q79*S72)<1500,1500,Q79*S72)^0.25*62.2333,\"\")","v":0.6712504468218996}]
[0.11431003476420072,2,{"$f":"IF(OR(E80<=0,E80>1000000000),\"\",1/HYPGEOMDIST(2,10,6,90)/E71)","v":8.7481383595307687},{"$f":"IF(OR(E80<=0,E80>1000000000),\"\",E80/C80/E72)","v":9.3988250806120582E-2},4.1111111111111107,{"$f":"IFERROR(IF(D80<D83,D83/D80,D80/D83),\"\")","v":2.0952102546548703},{"$f":"IFERROR(D80/IF((C80*E72)<1500,1500,C80*E72)^0.25*62.2333,\"\")","v":0.93988254236143209},0.15120757763112627,2,{"$f":"IF(OR(L80<=0,L80>1000000000),\"\",1/HYPGEOMDIST(2,12,6,90)/L71)","v":6.6134251713199106},{"$f":"IF(OR(L80<=0,L80>1000000000),\"\",L80/J80/L72)","v":9.8514027850582275E-2},7.1666666666666661,{"$f":"IFERROR(IF(K80<K83,K83/K80,K80/K83),\"\")","v":2.196100040266459},{"$f":"IFERROR(K80/IF((J80*L72)<1500,1500,J80*L72)^0.25*62.2333,\"\")","v":0.98514031445769357},0.16953576885914154,2,{"$f":"IF(OR(S80<=0,S80>1000000000),\"\",1/HYPGEOMDIST(2,13,6,90)/S71)","v":5.8984602879339763},{"$f":"IF(OR(S80<=0,S80>1000000000),\"\",S80/Q80/S72)","v":9.9982632916929631E-2},12.974358974358974,{"$f":"IFERROR(IF(R80<R83,R83/R80,R80/R83),\"\")","v":2.2288385620354867},{"$f":"IFERROR(R80/IF((Q80*S72)<1500,1500,Q80*S72)^0.25*62.2333,\"\")","v":0.99982636565712224}]
[0.38611389520352246,1,{"$f":"IF(OR(E81<=0,E81>1000000000),\"\",1/HYPGEOMDIST(1,10,6,90)/E71)","v":2.5899093827558195},{"$f":"IF(OR(E81<=0,E81>1000000000),\"\",E81/C81/E72)","v":0.11583416856105673},1.5,{"$f":"IFERROR(IF(D81<D83,D83/D81,D81/D83),\"\")","v":2.5822050706016779},{"$f":"IFERROR(D81/IF((C81*E72)<1500,1500,C81*E72)^0.25*62.2333,\"\")","v":1.1583417278832786},0.40688584526193988,1,{"$f":"IF(OR(L81<=0,L81>1000000000),\"\",1/HYPGEOMDIST(1,12,6,90)/L71)","v":2.4576917866391557},{"$f":"IF(OR(L81<=0,L81>1000000000),\"\",L81/J81/L72)","v":0.10172146131548496},2.7499999999999996,{"$f":"IFERROR(IF(K81<K83,K83/K81,K81/K83),\"\")","v":2.2676009718100181},{"$f":"IFERROR(K81/IF((J81*L72)<1500,1500,J81*L72)^0.25*62.2333,\"\")","v":1.0172146502772466},0.41253703755724463,1,{"$f":"IF(OR(S81<=0,S81>1000000000),\"\",1/HYPGEOMDIST(1,13,6,90)/S71)","v":2.4240247758632765},{"$f":"IF(OR(S81<=0,S81>1000000000),\"\",S81/Q81/S72)","v":9.5200854820902597E-2},5.0769230769230766,{"$f":"IFERROR(IF(R81<R83,R83/R81,R81/R83),\"\")","v":2.1222419351555293},{"$f":"IFERROR(R81/IF((Q81*S72)<1500,1500,Q81*S72)^0.25*62.2333,\"\")","v":0.95200858295178192}]
[{"$f":"IF(SUM(A74:A81)=0,\"\",SUM(A74:A81))","v":0.51735763099559651},"Gesamt",{"$f":"IFERROR(1/A82,\"\")","v":1.9328989080060781},{"$f":"IF(SUM(D74:D81)=0,\"\",SUM(D74:D81))","v":0.35886899884079704},{"$f":"IFERROR(E72*D82,\"\")","v":1.7943449942039851},{"$f":"IFERROR(AVERAGE(F74:F81),\"\")","v":6.8376895093915415},{"$f":"IF(SUM(G74:G81)=0,\"\",SUM(G74:G81))","v":2.9378254183973835},{"$f":"IF(SUM(H74:H81)=0,\"\",SUM(H74:H81))","v":0.5874629624427552},"Gesamt",{"$f":"IFERROR(1/H82,\"\")","v":1.7022349729791588},{"$f":"IF(SUM(K74:K81)=0,\"\",SUM(K74:K81))","v":0.35886899884079704},{"$f":"IFERROR(L72*K82,\"\")","v":3.9475589872487675},{"$f":"IFERROR(AVERAGE(M74:M81),\"\")","v":5.6069625524900548},{"$f":"IF(SUM(N74:N81)=0,\"\",SUM(N74:N81))","v":2.9341266299417326},{"$f":"IF(SUM(O74:O81)=0,\"\",SUM(O74:O81))","v":0.61919658071638939},"Gesamt",{"$f":"IFERROR(1/O82,\"\")","v":1.614995998270911},{"$f":"IF(SUM(R74:R81)=0,\"\",SUM(R74:R81))","v":0.35886899884079715},{"$f":"IFERROR(S72*R82,\"\")","v":7.8951179744975377},{"$f":"IFERROR(AVERAGE(T74:T81),\"\")","v":5.1679549125638315},{"$f":"IF(SUM(U74:U81)=0,\"\",SUM(U74:U81))","v":2.9045572502744665}]
[null,null,null,{"$f":"AVERAGE(D74:D81)","v":4.485862485509963E-2},null,null,null,null,null,null,{"$f":"AVERAGE(K74:K81)","v":4.485862485509963E-2},null,null,null,null,null,null,{"$f":"AVERAGE(R74:R81)","v":4.4858624855099644E-2}]
[]
[null,"PowerBall L (462 Tipps) ⁶",null,null,1,"vs.",null,null,"PowerBall XL (792 Tipps) ⁶",null,null,1,"vs.",null,null,"PowerBall XXL (2.002 Tipps) ⁶",null,null,1]
[null,"System 11-1 / 154 Anteile",null,null,{"$f":"E85*9","v":9},null,null,null,"System 12-1 / 132 Anteile",null,null,{"$f":"L85*18","v":18},null,null,null,"System 14-1 / 182 Anteile",null,null,{"$f":"S85*33","v":33}]
[null,"Richtige",{"$f":"IF(E85=1,\"Chancen 1:\",\"Ø Gewinne 1:\")","v":"Chancen 1:"},"Ø AQ","(Ø) Gewinn",null,null,null,"Richtige",{"$f":"IF(L85=1,\"Chancen 1:\",\"Ø Gewinne 1:\")","v":"Chancen 1:"},"Ø AQ","(Ø) Gewinn",null,null,null,"Richtige",{"$f":"IF(S85=1,\"Chancen 1:\",\"Ø Gewinne 1:\")","v":"Chancen 1:"},"Ø AQ","(Ø) Gewinn"]
[{"$f":"IFERROR(IF(OR(E88<=0,E88>1000000000),0,1/C88),\"\")","v":1.5811015896169512E-6},"5 + PB",{"$f":"IF(OR(E88<=0,E88>1000000000),\"\",1/(HYPGEOMDIST(5,11,5,69)*HYPGEOMDIST(1,1,1,26))/E85)","v":632470.42857142852},{"$f":"IF(OR(E88<=0,E88>1000000000),\"\",E88/C88/E86)","v":6.4630567513110776E-2},367892.30460448639,{"$f":"IFERROR(IF(D88<D98,D98/D88,D88/D98),\"\")","v":3.8167575934917326},{"$f":"IFERROR(D88/IF((C88*E86)<1500,1500,C88*E86)^0.25*62.2333,\"\")","v":8.2345546565155428E-2},{"$f":"IFERROR(IF(OR(L88<=0,L88>1000000000),0,1/J88),\"\")","v":2.7104598679147693E-6},"5 + PB",{"$f":"IF(OR(L88<=0,L88>1000000000),\"\",1/(HYPGEOMDIST(5,12,5,69)*HYPGEOMDIST(1,1,1,26))/L85)","v":368941.0833333339},{"$f":"IF(OR(L88<=0,L88>1000000000),\"\",L88/J88/L86)","v":6.481595338564218E-2},430438.8250688705,{"$f":"IFERROR(IF(K88<K98,K98/K88,K88/K98),\"\")","v":3.8277055545562404},{"$f":"IFERROR(K88/IF((J88*L86)<1500,1500,J88*L86)^0.25*62.2333,\"\")","v":7.9459780893540916E-2},{"$f":"IFERROR(IF(OR(S88<=0,S88>1000000000),0,1/Q88),\"\")","v":6.8514402216734364E-6},"5 + PB",{"$f":"IF(OR(S88<=0,S88>1000000000),\"\",1/(HYPGEOMDIST(5,14,5,69)*HYPGEOMDIST(1,1,1,26))/S85)","v":145954.71428571467},{"$f":"IF(OR(S88<=0,S88>1000000000),\"\",S88/Q88/S86)","v":6.5193170458252944E-2},314003.2687312687,{"$f":"IFERROR(IF(R88<R98,R98/R88,R88/R98),\"\")","v":3.8499821054466521},{"$f":"IFERROR(R88/IF((Q88*S86)<1500,1500,Q88*S86)^0.25*62.2333,\"\")","v":8.6604790592190228E-2}]
[3.9527539740423785E-5,5,{"$f":"IF(OR(E89<=0,E89>1000000000),\"\",1/(HYPGEOMDIST(5,11,5,69)*HYPGEOMDIST(0,1,1,26))/E85)","v":25298.817142857137},{"$f":"IF(OR(E89<=0,E89>1000000000),\"\",E89/C89/E86)","v":1.7797374585145367E-2},4052.2727272727302,{"$f":"IFERROR(IF(D89<D98,D98/D89,D89/D98),\"\")","v":1.0510237988903721},{"$f":"IFERROR(D89/IF((C89*E86)<1500,1500,C89*E86)^0.25*62.2333,\"\")","v":5.0704101412522289E-2},6.776149669786924E-5,5,{"$f":"IF(OR(L89<=0,L89>1000000000),\"\",1/(HYPGEOMDIST(5,12,5,69)*HYPGEOMDIST(0,1,1,26))/L85)","v":14757.643333333353},{"$f":"IF(OR(L89<=0,L89>1000000000),\"\",L89/J89/L86)","v":1.7823612201711837E-2},4734.6212121212102,{"$f":"IFERROR(IF(K89<K98,K98/K89,K89/K98),\"\")","v":1.0525732611049032},{"$f":"IFERROR(K89/IF((J89*L86)<1500,1500,J89*L86)^0.25*62.2333,\"\")","v":4.8859180256723936E-2},1.7128600554183594E-4,5,{"$f":"IF(OR(S89<=0,S89>1000000000),\"\",1/(HYPGEOMDIST(5,14,5,69)*HYPGEOMDIST(0,1,1,26))/S85)","v":5838.1885714285863},{"$f":"IF(OR(S89<=0,S89>1000000000),\"\",S89/Q89/S86)","v":1.7882076456017668E-2},3445.16483516484,{"$f":"IFERROR(IF(R89<R98,R98/R89,R89/R98),\"\")","v":1.0560258671264176},{"$f":"IFERROR(R89/IF((Q89*S86)<1500,1500,Q89*S86)^0.25*62.2333,\"\")","v":5.3118128281768429E-2}]
[6.5502780141273736E-5,"4 + PB",{"$f":"IF(OR(E90<=0,E90>1000000000),\"\",1/(HYPGEOMDIST(4,11,5,69)*HYPGEOMDIST(1,1,1,26))/E85)","v":15266.527586206885},{"$f":"IF(OR(E90<=0,E90>1000000000),\"\",E90/C90/E86)","v":1.0752380606826687E-2},1477.3636363636399,{"$f":"IFERROR(IF(D90<D98,D98/D90,D90/D98),\"\")","v":1.5748484314798488},{"$f":"IFERROR(D90/IF((C90*E86)<1500,1500,C90*E86)^0.25*62.2333,\"\")","v":3.4756158208793513E-2},9.6560132794463723E-5,"4 + PB",{"$f":"IF(OR(L90<=0,L90>1000000000),\"\",1/(HYPGEOMDIST(4,12,5,69)*HYPGEOMDIST(1,1,1,26))/L85)","v":10356.240935672522},{"$f":"IF(OR(L90<=0,L90>1000000000),\"\",L90/J90/L86)","v":1.0684037319500543E-2},1991.6363636363601,{"$f":"IFERROR(IF(K90<K98,K98/K90,K90/K98),\"\")","v":1.5849223684784859},{"$f":"IFERROR(K90/IF((J90*L86)<1500,1500,J90*L86)^0.25*62.2333,\"\")","v":3.199923267399965E-2},1.8841460609601984E-4,"4 + PB",{"$f":"IF(OR(S90<=0,S90>1000000000),\"\",1/(HYPGEOMDIST(4,14,5,69)*HYPGEOMDIST(1,1,1,26))/S85)","v":5307.4441558441604},{"$f":"IF(OR(S90<=0,S90>1000000000),\"\",S90/Q90/S86)","v":1.0584847721219757E-2},1853.8901098901099,{"$f":"IFERROR(IF(R90<R98,R98/R90,R90/R98),\"\")","v":1.599774524803838},{"$f":"IFERROR(R90/IF((Q90*S86)<1500,1500,Q90*S86)^0.25*62.2333,\"\")","v":3.2200128272239989E-2}]
[9.334146170131497E-4,"3 + PB",{"$f":"IF(OR(E91<=0,E91>1000000000),\"\",1/(HYPGEOMDIST(3,11,5,69)*HYPGEOMDIST(1,1,1,26))/E85)","v":1071.3352692075018},{"$f":"IF(OR(E91<=0,E91>1000000000),\"\",E91/C91/E86)","v":3.394234970956905E-3},32.727272727272698,{"$f":"IFERROR(IF(D91<D98,D98/D91,D91/D98),\"\")","v":4.9888619610095777},{"$f":"IFERROR(D91/IF((C91*E86)<1500,1500,C91*E86)^0.25*62.2333,\"\")","v":2.1316836606206847E-2},1.2016372081088817E-3,"3 + PB",{"$f":"IF(OR(L91<=0,L91>1000000000),\"\",1/(HYPGEOMDIST(3,12,5,69)*HYPGEOMDIST(1,1,1,26))/L85)","v":832.19793233082783},{"$f":"IF(OR(L91<=0,L91>1000000000),\"\",L91/J91/L86)","v":3.7323579948836472E-3},55.909090909090899,{"$f":"IFERROR(IF(K91<K98,K98/K91,K91/K98),\"\")","v":4.5369093094895403},{"$f":"IFERROR(K91/IF((J91*L86)<1500,1500,J91*L86)^0.25*62.2333,\"\")","v":2.0995747409900695E-2},1.8498888598518332E-3,"3 + PB",{"$f":"IF(OR(S91<=0,S91>1000000000),\"\",1/(HYPGEOMDIST(3,14,5,69)*HYPGEOMDIST(1,1,1,26))/S85)","v":540.57301587301572},{"$f":"IF(OR(S91<=0,S91>1000000000),\"\",S91/Q91/S86)","v":4.5501845032619292E-3},81.170329670329707,{"$f":"IFERROR(IF(R91<R98,R98/R91,R91/R98),\"\")","v":3.7214688154285076},{"$f":"IFERROR(R91/IF((Q91*S86)<1500,1500,Q91*S86)^0.25*62.2333,\"\")","v":2.4502464120478271E-2}]
[1.6375695035318436E-3,4,{"$f":"IF(OR(E92<=0,E92>1000000000),\"\",1/(HYPGEOMDIST(4,11,5,69)*HYPGEOMDIST(0,1,1,26))/E85)","v":610.6611034482753},{"$f":"IF(OR(E92<=0,E92>1000000000),\"\",E92/C92/E86)","v":1.5217817608578741E-3},8.3636363636363598,{"$f":"IFERROR(IF(D92<D98,D98/D92,D92/D98),\"\")","v":11.12733124346917},{"$f":"IFERROR(D92/IF((C92*E86)<1500,1500,C92*E86)^0.25*62.2333,\"\")","v":1.0999286474720243E-2},2.4140033198615934E-3,4,{"$f":"IF(OR(L92<=0,L92>1000000000),\"\",1/(HYPGEOMDIST(4,12,5,69)*HYPGEOMDIST(0,1,1,26))/L85)","v":414.24963742690085},{"$f":"IF(OR(L92<=0,L92>1000000000),\"\",L92/J92/L86)","v":1.6093355465743957E-3},12,{"$f":"IFERROR(IF(K92<K98,K98/K92,K92/K98),\"\")","v":10.521963408674727},{"$f":"IFERROR(K92/IF((J92*L86)<1500,1500,J92*L86)^0.25*62.2333,\"\")","v":1.0777940309784361E-2},4.7103651524004969E-3,4,{"$f":"IF(OR(S92<=0,S92>1000000000),\"\",1/(HYPGEOMDIST(4,14,5,69)*HYPGEOMDIST(0,1,1,26))/S85)","v":212.29776623376637},{"$f":"IF(OR(S92<=0,S92>1000000000),\"\",S92/Q92/S86)","v":1.7724650756618561E-3},12.4175824175824,{"$f":"IFERROR(IF(R92<R98,R98/R92,R92/R98),\"\")","v":9.5535703161949375},{"$f":"IFERROR(R92/IF((Q92*S86)<1500,1500,Q92*S86)^0.25*62.2333,\"\")","v":1.2056900479843952E-2}]
[5.807913172526262E-3,"2 + PB",{"$f":"IF(OR(E93<=0,E93>1000000000),\"\",1/(HYPGEOMDIST(2,11,5,69)*HYPGEOMDIST(1,1,1,26))/E85)","v":172.17888255120573},{"$f":"IF(OR(E93<=0,E93>1000000000),\"\",E93/C93/E86)","v":8.7998684432215851E-3},13.636363636363599,{"$f":"IFERROR(IF(D93<D98,D98/D93,D93/D98),\"\")","v":1.9242753278179843},{"$f":"IFERROR(D93/IF((C93*E86)<1500,1500,C93*E86)^0.25*62.2333,\"\")","v":8.7285762794556271E-2},6.609004644598849E-3,"2 + PB",{"$f":"IF(OR(L93<=0,L93>1000000000),\"\",1/(HYPGEOMDIST(2,12,5,69)*HYPGEOMDIST(1,1,1,26))/L85)","v":151.30871496924144},{"$f":"IF(OR(L93<=0,L93>1000000000),\"\",L93/J93/L86)","v":9.8133705328891895E-3},26.727272727272702,{"$f":"IFERROR(IF(K93<K98,K98/K93,K93/K98),\"\")","v":1.725540646466339},{"$f":"IFERROR(K93/IF((J93*L86)<1500,1500,J93*L86)^0.25*62.2333,\"\")","v":8.4538962921867244E-2},8.1703424643455869E-3,"2 + PB",{"$f":"IF(OR(S93<=0,S93>1000000000),\"\",1/(HYPGEOMDIST(2,14,5,69)*HYPGEOMDIST(1,1,1,26))/S85)","v":122.39389038634333},{"$f":"IF(OR(S93<=0,S93>1000000000),\"\",S93/Q93/S86)","v":1.1791629783707543E-2},47.626373626373599,{"$f":"IFERROR(IF(R93<R98,R98/R93,R93/R98),\"\")","v":1.4360499815498029},{"$f":"IFERROR(R93/IF((Q93*S86)<1500,1500,Q93*S86)^0.25*62.2333,\"\")","v":9.2050943903947247E-2}]
[1.5681365565820907E-2,"0 + PB",{"$f":"IF(OR(E94<=0,E94>1000000000),\"\",1/(HYPGEOMDIST(0,11,5,69)*HYPGEOMDIST(1,1,1,26))/E85)","v":63.769956500446575},{"$f":"IF(OR(E94<=0,E94>1000000000),\"\",E94/C94/E86)","v":2.0908487421094541E-2},12,{"$f":"IFERROR(IF(D94<D98,D98/D94,D94/D98),\"\")","v":1.2347505399314407},{"$f":"IFERROR(D94/IF((C94*E86)<1500,1500,C94*E86)^0.25*62.2333,\"\")","v":0.20908488184132307},1.4329523706698422E-2,"0 + PB",{"$f":"IF(OR(L94<=0,L94>1000000000),\"\",1/(HYPGEOMDIST(0,12,5,69)*HYPGEOMDIST(1,1,1,26))/L85)","v":69.785990132564137},{"$f":"IF(OR(L94<=0,L94>1000000000),\"\",L94/J94/L86)","v":1.9106031608931231E-2},24,{"$f":"IFERROR(IF(K94<K98,K98/K94,K94/K98),\"\")","v":1.1283065278683875},{"$f":"IFERROR(K94/IF((J94*L86)<1500,1500,J94*L86)^0.25*62.2333,\"\")","v":0.1910603230618988},1.1905356162332152E-2,"0 + PB",{"$f":"IF(OR(S94<=0,S94>1000000000),\"\",1/(HYPGEOMDIST(0,14,5,69)*HYPGEOMDIST(1,1,1,26))/S85)","v":83.9958071278826},{"$f":"IF(OR(S94<=0,S94>1000000000),\"\",S94/Q94/S86)","v":1.5873808216442867E-2},44,{"$f":"IFERROR(IF(R94<R98,R98/R94,R94/R98),\"\")","v":1.0667490436097691},{"$f":"IFERROR(R94/IF((Q94*S86)<1500,1500,Q94*S86)^0.25*62.2333,\"\")","v":0.1361479394046417}]
[1.5971761224447219E-2,"1 + PB",{"$f":"IF(OR(E95<=0,E95>1000000000),\"\",1/(HYPGEOMDIST(1,11,5,69)*HYPGEOMDIST(1,1,1,26))/E85)","v":62.610502745893001},{"$f":"IF(OR(E95<=0,E95>1000000000),\"\",E95/C95/E86)","v":2.1295681632596292E-2},12,{"$f":"IFERROR(IF(D95<D98,D98/D95,D95/D98),\"\")","v":1.2576162906709119},{"$f":"IFERROR(D95/IF((C95*E86)<1500,1500,C95*E86)^0.25*62.2333,\"\")","v":0.21295682409764388},1.6222102309469914E-2,"1 + PB",{"$f":"IF(OR(L95<=0,L95>1000000000),\"\",1/(HYPGEOMDIST(1,12,5,69)*HYPGEOMDIST(1,1,1,26))/L85)","v":61.644291283764986},{"$f":"IF(OR(L95<=0,L95>1000000000),\"\",L95/J95/L86)","v":2.1629469745959883E-2},24,{"$f":"IFERROR(IF(K95<K98,K98/K95,K95/K98),\"\")","v":1.2773281447566649},{"$f":"IFERROR(K95/IF((J95*L86)<1500,1500,J95*L86)^0.25*62.2333,\"\")","v":0.21629470535309298},1.634068492869117E-2,"1 + PB",{"$f":"IF(OR(S95<=0,S95>1000000000),\"\",1/(HYPGEOMDIST(1,14,5,69)*HYPGEOMDIST(1,1,1,26))/S85)","v":61.196945193171679},{"$f":"IF(OR(S95<=0,S95>1000000000),\"\",S95/Q95/S86)","v":2.1787579904921563E-2},44,{"$f":"IFERROR(IF(R95<R98,R98/R95,R95/R98),\"\")","v":1.2866653387972837},{"$f":"IFERROR(R95/IF((Q95*S86)<1500,1500,Q95*S86)^0.25*62.2333,\"\")","v":0.20226507627267884}]
[2.3335365425328748E-2,3,{"$f":"IF(OR(E96<=0,E96>1000000000),\"\",1/(HYPGEOMDIST(3,11,5,69)*HYPGEOMDIST(0,1,1,26))/E85)","v":42.853410768300066},{"$f":"IF(OR(E96<=0,E96>1000000000),\"\",E96/C96/E86)","v":3.2999506662080989E-3},1.27272727272727,{"$f":"IFERROR(IF(D96<D98,D98/D96,D96/D98),\"\")","v":5.1314008741812849},{"$f":"IFERROR(D96/IF((C96*E86)<1500,1500,C96*E86)^0.25*62.2333,\"\")","v":3.2999507866370389E-2},3.0040930202722048E-2,3,{"$f":"IF(OR(L96<=0,L96>1000000000),\"\",1/(HYPGEOMDIST(3,12,5,69)*HYPGEOMDIST(0,1,1,26))/L85)","v":33.287917293233107},{"$f":"IF(OR(L96<=0,L96>1000000000),\"\",L96/J96/L86)","v":3.1861592639250672E-3},1.9090909090909101,{"$f":"IFERROR(IF(K96<K98,K98/K96,K96/K98),\"\")","v":5.3146651911163145},{"$f":"IFERROR(K96/IF((J96*L86)<1500,1500,J96*L86)^0.25*62.2333,\"\")","v":3.1861593802012853E-2},4.624722149629585E-2,3,{"$f":"IF(OR(S96<=0,S96>1000000000),\"\",1/(HYPGEOMDIST(3,14,5,69)*HYPGEOMDIST(0,1,1,26))/S85)","v":21.622920634920622},{"$f":"IF(OR(S96<=0,S96>1000000000),\"\",S96/Q96/S86)","v":2.9645654805317912E-3},2.1153846153846199,{"$f":"IFERROR(IF(R96<R98,R98/R96,R96/R98),\"\")","v":5.7119229932805444},{"$f":"IFERROR(R96/IF((Q96*S86)<1500,1500,Q96*S86)^0.25*62.2333,\"\")","v":2.9645655887211297E-2}]
[{"$f":"IF(SUM(A88:A96)=0,\"\",SUM(A88:A96))","v":6.347400093013944E-2},"Gesamt",{"$f":"IFERROR(1/A97,\"\")","v":15.75448191930767},{"$f":"IF(SUM(D88:D96)=0,\"\",SUM(D88:D96))","v":0.15240032760001815},{"$f":"IFERROR(E86*D97,\"\")","v":1.3716029484001633},{"$f":"IFERROR(AVERAGE(F88:F96),\"\")","v":3.5674295623269248},{"$f":"IF(SUM(G88:G96)=0,\"\",SUM(G88:G96))","v":0.74244890586729195},{"$f":"IF(SUM(H88:H96)=0,\"\",SUM(H88:H96))","v":7.0984233480819947E-2},"Gesamt",{"$f":"IFERROR(1/H97,\"\")","v":14.087635393994944},{"$f":"IF(SUM(K88:K96)=0,\"\",SUM(K88:K96))","v":0.15240032760001801},{"$f":"IFERROR(L86*K97,\"\")","v":2.7432058968003243},{"$f":"IFERROR(AVERAGE(M88:M96),\"\")","v":3.4411016013901783},{"$f":"IF(SUM(N88:N96)=0,\"\",SUM(N88:N96))","v":0.7158474666828214},{"$f":"IF(SUM(O88:O96)=0,\"\",SUM(O88:O96))","v":8.9590411115776619E-2},"Gesamt",{"$f":"IFERROR(1/O97,\"\")","v":11.161908819769918},{"$f":"IF(SUM(R88:R96)=0,\"\",SUM(R88:R96))","v":0.1524003276000179},{"$f":"IFERROR(S86*R97,\"\")","v":5.0292108108005911},{"$f":"IFERROR(AVERAGE(T88:T96),\"\")","v":3.2535787762486392},{"$f":"IF(SUM(U88:U96)=0,\"\",SUM(U88:U96))","v":0.66859202721499988}]
[null,null,null,{"$f":"AVERAGE(D88:D96)","v":1.6933369733335351E-2},null,null,null,null,null,null,{"$f":"AVERAGE(K88:K96)","v":1.6933369733335334E-2},null,null,null,null,null,null,{"$f":"AVERAGE(R88:R96)","v":1.6933369733335323E-2}]
[]
[null,"MegaMillions L (462 Tipps) ⁶",null,null,1,"vs.",null,null,"MegaMillions XL (792 Tipps) ⁶",null,null,1,"vs.",null,null,"MegaMillions XXL (2.002 Tipps) ⁶",null,null,1]
[null,"System 11-1 / 154 Anteile",null,null,{"$f":"E100*9","v":9},null,null,null,"System 12-1 / 132 Anteile",null,null,{"$f":"L100*18","v":18},null,null,null,"System 14-1 / 182 Anteile",null,null,{"$f":"S100*33","v":33}]
[null,"Richtige",{"$f":"IF(E100=1,\"Chancen 1:\",\"Ø Gewinne 1:\")","v":"Chancen 1:"},"Ø AQ","(Ø) Gewinn",null,null,null,"Richtige",{"$f":"IF(L100=1,\"Chancen 1:\",\"Ø Gewinne 1:\")","v":"Chancen 1:"},"Ø AQ","(Ø) Gewinn",null,null,null,"Richtige",{"$f":"IF(S100=1,\"Chancen 1:\",\"Ø Gewinne 1:\")","v":"Chancen 1:"},"Ø AQ","(Ø) Gewinn"]
[{"$f":"IFERROR(IF(OR(E103<=0,E103>1000000000),0,1/C103),\"\")","v":1.5268923922586558E-6},"5 + MB",{"$f":"IF(OR(E103<=0,E103>1000000000),\"\",1/(HYPGEOMDIST(5,11,5,70)*HYPGEOMDIST(1,1,1,25))/E100)","v":654924.99999999988},{"$f":"IF(OR(E103<=0,E103>1000000000),\"\",E103/C103/E101)","v":6.417634403323258E-2},378276.22904368356,{"$f":"IFERROR(IF(D103<D113,D113/D103,D103/D113),\"\")","v":4.2830089863675331},{"$f":"IFERROR(D103/IF((C103*E101)<1500,1500,C103*E101)^0.25*62.2333,\"\")","v":8.1056768158122017E-2},{"$f":"IFERROR(IF(OR(L103<=0,L103>1000000000),0,1/J103),\"\")","v":2.6175298153005533E-6},"5 + MB",{"$f":"IF(OR(L103<=0,L103>1000000000),\"\",1/(HYPGEOMDIST(5,12,5,70)*HYPGEOMDIST(1,1,1,25))/L100)","v":382039.5833333332},{"$f":"IF(OR(L103<=0,L103>1000000000),\"\",L103/J103/L101)","v":6.4225841345775289E-2},441662.6460055096,{"$f":"IFERROR(IF(K103<K113,K113/K103,K103/K113),\"\")","v":4.2863123442888202},{"$f":"IFERROR(K103/IF((J103*L101)<1500,1500,J103*L101)^0.25*62.2333,\"\")","v":7.8052607446683686E-2},{"$f":"IFERROR(IF(OR(S103<=0,S103>1000000000),0,1/Q103),\"\")","v":6.6165336997874972E-6},"5 + MB",{"$f":"IF(OR(S103<=0,S103>1000000000),\"\",1/(HYPGEOMDIST(5,14,5,70)*HYPGEOMDIST(1,1,1,25))/S100)","v":151136.5384615387},{"$f":"IF(OR(S103<=0,S103>1000000000),\"\",S103/Q103/S101)","v":6.4334827972301972E-2},320870.32567432564,{"$f":"IFERROR(IF(R103<R113,R113/R103,R103/R113),\"\")","v":4.2935859075906864},{"$f":"IFERROR(R103/IF((Q103*S101)<1500,1500,Q103*S101)^0.25*62.2333,\"\")","v":8.472237502592167E-2}]
[3.664541741420773E-5,5,{"$f":"IF(OR(E104<=0,E104>1000000000),\"\",1/(HYPGEOMDIST(5,11,5,70)*HYPGEOMDIST(0,1,1,25))/E100)","v":27288.541666666668},{"$f":"IF(OR(E104<=0,E104>1000000000),\"\",E104/C104/E101)","v":1.6828865933725252E-2},4133.1168831168798,{"$f":"IFERROR(IF(D104<D113,D113/D104,D104/D113),\"\")","v":1.1231269887732354},{"$f":"IFERROR(D104/IF((C104*E101)<1500,1500,C104*E101)^0.25*62.2333,\"\")","v":4.70459206942032E-2},6.2820715567213256E-5,5,{"$f":"IF(OR(L104<=0,L104>1000000000),\"\",1/(HYPGEOMDIST(5,12,5,70)*HYPGEOMDIST(0,1,1,25))/L100)","v":15918.315972222223},{"$f":"IF(OR(L104<=0,L104>1000000000),\"\",L104/J104/L101)","v":1.6910828988547826E-2},4845.4545454545496,{"$f":"IFERROR(IF(K104<K113,K113/K104,K104/K113),\"\")","v":1.1285970495198154},{"$f":"IFERROR(K104/IF((J104*L101)<1500,1500,J104*L101)^0.25*62.2333,\"\")","v":4.5487840740639128E-2},1.587968087948999E-4,5,{"$f":"IF(OR(S104<=0,S104>1000000000),\"\",1/(HYPGEOMDIST(5,14,5,70)*HYPGEOMDIST(0,1,1,25))/S100)","v":6297.3557692307804},{"$f":"IF(OR(S104<=0,S104>1000000000),\"\",S104/Q104/S101)","v":1.7082687006724079E-2},3550,{"$f":"IFERROR(IF(R104<R113,R113/R104,R104/R113),\"\")","v":1.1400665317303813},{"$f":"IFERROR(R104/IF((Q104*S101)<1500,1500,Q104*S101)^0.25*62.2333,\"\")","v":4.9792160626482847E-2}]
[6.4347607959472017E-5,"4 + MB",{"$f":"IF(OR(E105<=0,E105>1000000000),\"\",1/(HYPGEOMDIST(4,11,5,70)*HYPGEOMDIST(1,1,1,25))/E100)","v":15540.593220338958},{"$f":"IF(OR(E105<=0,E105>1000000000),\"\",E105/C105/E101)","v":2.920341440019267E-3},408.45454545454498,{"$f":"IFERROR(IF(D105<D113,D113/D105,D105/D113),\"\")","v":5.1308858883111839},{"$f":"IFERROR(D105/IF((C105*E101)<1500,1500,C105*E101)^0.25*62.2333,\"\")","v":9.3978592468676458E-3},9.4885455804645042E-5,"4 + MB",{"$f":"IF(OR(L105<=0,L105>1000000000),\"\",1/(HYPGEOMDIST(4,12,5,70)*HYPGEOMDIST(1,1,1,25))/L100)","v":10539.022988505745},{"$f":"IF(OR(L105<=0,L105>1000000000),\"\",L105/J105/L101)","v":3.0586981611908123E-3},580.24242424242402,{"$f":"IFERROR(IF(K105<K113,K113/K105,K105/K113),\"\")","v":4.8987961197883205},{"$f":"IFERROR(K105/IF((J105*L101)<1500,1500,J105*L101)^0.25*62.2333,\"\")","v":9.1209744334775373E-3},1.8526294359405001E-4,"4 + MB",{"$f":"IF(OR(S105<=0,S105>1000000000),\"\",1/(HYPGEOMDIST(4,14,5,70)*HYPGEOMDIST(1,1,1,25))/S100)","v":5397.7335164835222},{"$f":"IF(OR(S105<=0,S105>1000000000),\"\",S105/Q105/S101)","v":3.3642220579656115E-3},599.25274725274699,{"$f":"IFERROR(IF(R105<R113,R113/R105,R105/R113),\"\")","v":4.4539089351034642},{"$f":"IFERROR(R105/IF((Q105*S101)<1500,1500,Q105*S101)^0.25*62.2333,\"\")","v":1.019121912676705E-2}]
[9.3304031541234349E-4,"3 + MB",{"$f":"IF(OR(E106<=0,E106>1000000000),\"\",1/(HYPGEOMDIST(3,11,5,70)*HYPGEOMDIST(1,1,1,25))/E100)","v":1071.7650496785498},{"$f":"IF(OR(E106<=0,E106>1000000000),\"\",E106/C106/E101)","v":5.5416939945702876E-3},53.454545454545503,{"$f":"IFERROR(IF(D106<D113,D113/D106,D106/D113),\"\")","v":2.7038553009831245},{"$f":"IFERROR(D106/IF((C106*E101)<1500,1500,C106*E101)^0.25*62.2333,\"\")","v":3.4800048284184544E-2},1.2018824401921688E-3,"3 + MB",{"$f":"IF(OR(L106<=0,L106>1000000000),\"\",1/(HYPGEOMDIST(3,12,5,70)*HYPGEOMDIST(1,1,1,25))/L100)","v":832.02813067150737},{"$f":"IF(OR(L106<=0,L106>1000000000),\"\",L106/J106/L101)","v":5.8090984609288163E-3},87,{"$f":"IFERROR(IF(K106<K113,K113/K106,K106/K113),\"\")","v":2.5793914123551351},{"$f":"IFERROR(K106/IF((J106*L101)<1500,1500,J106*L101)^0.25*62.2333,\"\")","v":3.2679766096821682E-2},1.8526294359405024E-3,"3 + MB",{"$f":"IF(OR(S106<=0,S106>1000000000),\"\",1/(HYPGEOMDIST(3,14,5,70)*HYPGEOMDIST(1,1,1,25))/S100)","v":539.77335164835154},{"$f":"IF(OR(S106<=0,S106>1000000000),\"\",S106/Q106/S101)","v":6.4265204243064049E-3},114.47252747252701,{"$f":"IFERROR(IF(R106<R113,R113/R106,R106/R113),\"\")","v":2.3315787851498775},{"$f":"IFERROR(R106/IF((Q106*S101)<1500,1500,Q106*S101)^0.25*62.2333,\"\")","v":3.4619227905650619E-2}]
[1.5443425910273282E-3,4,{"$f":"IF(OR(E107<=0,E107>1000000000),\"\",1/(HYPGEOMDIST(4,11,5,70)*HYPGEOMDIST(0,1,1,25))/E100)","v":647.52471751412338},{"$f":"IF(OR(E107<=0,E107>1000000000),\"\",E107/C107/E101)","v":4.8358202345300206E-3},28.181818181818201,{"$f":"IFERROR(IF(D107<D113,D113/D107,D107/D113),\"\")","v":3.0985309537879182},{"$f":"IFERROR(D107/IF((C107*E101)<1500,1500,C107*E101)^0.25*62.2333,\"\")","v":3.4444371416974449E-2},2.2772509393114804E-3,4,{"$f":"IF(OR(L107<=0,L107>1000000000),\"\",1/(HYPGEOMDIST(4,12,5,70)*HYPGEOMDIST(0,1,1,25))/L100)","v":439.12595785440618},{"$f":"IF(OR(L107<=0,L107>1000000000),\"\",L107/J107/L101)","v":4.9072074113109361E-3},38.787878787878803,{"$f":"IFERROR(IF(K107<K113,K113/K107,K107/K113),\"\")","v":3.0534553418524322},{"$f":"IFERROR(K107/IF((J107*L101)<1500,1500,J107*L101)^0.25*62.2333,\"\")","v":3.2388575043259968E-2},4.446310646257199E-3,4,{"$f":"IF(OR(S107<=0,S107>1000000000),\"\",1/(HYPGEOMDIST(4,14,5,70)*HYPGEOMDIST(0,1,1,25))/S100)","v":224.90556318681348},{"$f":"IF(OR(S107<=0,S107>1000000000),\"\",S107/Q107/S101)","v":5.0341179478103539E-3},37.3626373626374,{"$f":"IFERROR(IF(R107<R113,R113/R107,R107/R113),\"\")","v":2.9764774760914441},{"$f":"IFERROR(R107/IF((Q107*S101)<1500,1500,Q107*S101)^0.25*62.2333,\"\")","v":3.3753412179984302E-2}]
[5.9092553309448336E-3,"2 + MB",{"$f":"IF(OR(E108<=0,E108>1000000000),\"\",1/(HYPGEOMDIST(2,11,5,70)*HYPGEOMDIST(1,1,1,25))/E100)","v":169.22606047556073},{"$f":"IF(OR(E108<=0,E108>1000000000),\"\",E108/C108/E101)","v":8.9534171680982089E-3},13.636363636363599,{"$f":"IFERROR(IF(D108<D113,D113/D108,D108/D113),\"\")","v":1.6735441231348265},{"$f":"IFERROR(D108/IF((C108*E101)<1500,1500,C108*E101)^0.25*62.2333,\"\")","v":8.919370662598243E-2},6.7305416650761517E-3,"2 + MB",{"$f":"IF(OR(L108<=0,L108>1000000000),\"\",1/(HYPGEOMDIST(2,12,5,70)*HYPGEOMDIST(1,1,1,25))/L100)","v":148.57645190562619},{"$f":"IF(OR(L108<=0,L108>1000000000),\"\",L108/J108/L101)","v":9.5859229775326869E-3},25.636363636363601,{"$f":"IFERROR(IF(K108<K113,K113/K108,K108/K113),\"\")","v":1.5631190359826912},{"$f":"IFERROR(K108/IF((J108*L101)<1500,1500,J108*L101)^0.25*62.2333,\"\")","v":8.2956638141202452E-2},8.3368324617322589E-3,"2 + MB",{"$f":"IF(OR(S108<=0,S108>1000000000),\"\",1/(HYPGEOMDIST(2,14,5,70)*HYPGEOMDIST(1,1,1,25))/S100)","v":119.94963369963371},{"$f":"IF(OR(S108<=0,S108>1000000000),\"\",S108/Q108/S101)","v":1.0749322441500923E-2},42.549450549450498,{"$f":"IFERROR(IF(R108<R113,R113/R108,R108/R113),\"\")","v":1.3939426196571512},{"$f":"IFERROR(R108/IF((Q108*S101)<1500,1500,Q108*S101)^0.25*62.2333,\"\")","v":8.4338467352786176E-2}]
[1.654591492664555E-2,"0 + MB",{"$f":"IF(OR(E109<=0,E109>1000000000),\"\",1/(HYPGEOMDIST(0,11,5,70)*HYPGEOMDIST(1,1,1,25))/E100)","v":60.437878741271625},{"$f":"IF(OR(E109<=0,E109>1000000000),\"\",E109/C109/E101)","v":1.1030609951097035E-2},6,{"$f":"IFERROR(IF(D109<D113,D113/D109,D109/D113),\"\")","v":1.3583962038431983},{"$f":"IFERROR(D109/IF((C109*E101)<1500,1500,C109*E101)^0.25*62.2333,\"\")","v":0.11030610353649922},1.5143718746421347E-2,"0 + MB",{"$f":"IF(OR(L109<=0,L109>1000000000),\"\",1/(HYPGEOMDIST(0,12,5,70)*HYPGEOMDIST(1,1,1,25))/L100)","v":66.033978624722721},{"$f":"IF(OR(L109<=0,L109>1000000000),\"\",L109/J109/L101)","v":1.009581249761423E-2},12,{"$f":"IFERROR(IF(K109<K113,K113/K109,K109/K113),\"\")","v":1.4841736301249771},{"$f":"IFERROR(K109/IF((J109*L101)<1500,1500,J109*L101)^0.25*62.2333,\"\")","v":0.10095812866052466},1.262434629919457E-2,"0 + MB",{"$f":"IF(OR(S109<=0,S109>1000000000),\"\",1/(HYPGEOMDIST(0,14,5,70)*HYPGEOMDIST(1,1,1,25))/S100)","v":79.212022254475045},{"$f":"IF(OR(S109<=0,S109>1000000000),\"\",S109/Q109/S101)","v":8.4162308661297151E-3},22,{"$f":"IFERROR(IF(R109<R113,R113/R109,R109/R113),\"\")","v":1.7803621267028895},{"$f":"IFERROR(R109/IF((Q109*S101)<1500,1500,Q109*S101)^0.25*62.2333,\"\")","v":7.3251110080471138E-2}]
[1.6545914926645543E-2,"1 + MB",{"$f":"IF(OR(E110<=0,E110>1000000000),\"\",1/(HYPGEOMDIST(1,11,5,70)*HYPGEOMDIST(1,1,1,25))/E100)","v":60.437878741271653},{"$f":"IF(OR(E110<=0,E110>1000000000),\"\",E110/C110/E101)","v":1.6044523565232047E-2},8.7272727272727302,{"$f":"IFERROR(IF(D110<D113,D113/D110,D110/D113),\"\")","v":1.0707814483213578},{"$f":"IFERROR(D110/IF((C110*E101)<1500,1500,C110*E101)^0.25*62.2333,\"\")","v":0.1604452415076352},1.6826354162690384E-2,"1 + MB",{"$f":"IF(OR(L110<=0,L110>1000000000),\"\",1/(HYPGEOMDIST(1,12,5,70)*HYPGEOMDIST(1,1,1,25))/L100)","v":59.430580762250457},{"$f":"IF(OR(L110<=0,L110>1000000000),\"\",L110/J110/L101)","v":1.5891556709207586E-2},17,{"$f":"IFERROR(IF(K110<K113,K113/K110,K110/K113),\"\")","v":1.0605727268860903},{"$f":"IFERROR(K110/IF((J110*L101)<1500,1500,J110*L101)^0.25*62.2333,\"\")","v":0.1589155728915666},1.699431232583884E-2,"1 + MB",{"$f":"IF(OR(S110<=0,S110>1000000000),\"\",1/(HYPGEOMDIST(1,14,5,70)*HYPGEOMDIST(1,1,1,25))/S100)","v":58.84321653189577},{"$f":"IF(OR(S110<=0,S110>1000000000),\"\",S110/Q110/S101)","v":1.5375806390044685E-2},29.8571428571429,{"$f":"IFERROR(IF(R110<R113,R113/R110,R110/R113),\"\")","v":1.0261525166828933},{"$f":"IFERROR(R110/IF((Q110*S101)<1500,1500,Q110*S101)^0.25*62.2333,\"\")","v":0.14414784241732437}]
[2.2392967569896238E-2,3,{"$f":"IF(OR(E111<=0,E111>1000000000),\"\",1/(HYPGEOMDIST(3,11,5,70)*HYPGEOMDIST(0,1,1,25))/E100)","v":44.656877069939583},{"$f":"IF(OR(E111<=0,E111>1000000000),\"\",E111/C111/E101)","v":4.5238318323022747E-3},1.8181818181818199,{"$f":"IFERROR(IF(D111<D113,D113/D111,D111/D113),\"\")","v":3.3122227437043281},{"$f":"IFERROR(D111/IF((C111*E101)<1500,1500,C111*E101)^0.25*62.2333,\"\")","v":4.5238319973957351E-2},2.8845178564612044E-2,3,{"$f":"IF(OR(L111<=0,L111>1000000000),\"\",1/(HYPGEOMDIST(3,12,5,70)*HYPGEOMDIST(0,1,1,25))/L100)","v":34.667838777979483},{"$f":"IF(OR(L111<=0,L111>1000000000),\"\",L111/J111/L101)","v":4.3704816006987996E-3},2.7272727272727302,{"$f":"IFERROR(IF(K111<K113,K113/K111,K111/K113),\"\")","v":3.4284410855886978},{"$f":"IFERROR(K111/IF((J111*L101)<1500,1500,J111*L101)^0.25*62.2333,\"\")","v":4.3704817601958712E-2},4.4463106462572052E-2,3,{"$f":"IF(OR(S111<=0,S111>1000000000),\"\",1/(HYPGEOMDIST(3,14,5,70)*HYPGEOMDIST(0,1,1,25))/S100)","v":22.490556318681318},{"$f":"IF(OR(S111<=0,S111>1000000000),\"\",S111/Q111/S101)","v":4.0717130460230788E-3},3.0219780219780201,{"$f":"IFERROR(IF(R111<R113,R113/R111,R111/R113),\"\")","v":3.6800085158948774},{"$f":"IFERROR(R111/IF((Q111*S101)<1500,1500,Q111*S101)^0.25*62.2333,\"\")","v":4.0717131946168425E-2}]
[{"$f":"IF(SUM(A103:A111)=0,\"\",SUM(A103:A111))","v":6.3973955578337779E-2},"Gesamt",{"$f":"IFERROR(1/A112,\"\")","v":15.631361089990346},{"$f":"IF(SUM(D103:D111)=0,\"\",SUM(D103:D111))","v":0.13485544815280698},{"$f":"IFERROR(E101*D112,\"\")","v":1.2136990333752629},{"$f":"IFERROR(AVERAGE(F103:F111),\"\")","v":2.6393725152474121},{"$f":"IF(SUM(G103:G111)=0,\"\",SUM(G103:G111))","v":0.61192833944442604},{"$f":"IF(SUM(H103:H111)=0,\"\",SUM(H103:H111))","v":7.1185250219490737E-2},"Gesamt",{"$f":"IFERROR(1/H112,\"\")","v":14.047853971386294},{"$f":"IF(SUM(K103:K111)=0,\"\",SUM(K103:K111))","v":0.13485544815280701},{"$f":"IFERROR(L101*K112,\"\")","v":2.4273980667505262},{"$f":"IFERROR(AVERAGE(M103:M111),\"\")","v":2.6092065273763314},{"$f":"IF(SUM(N103:N111)=0,\"\",SUM(N103:N111))","v":0.58426492105613459},{"$f":"IF(SUM(O103:O111)=0,\"\",SUM(O103:O111))","v":8.9068213917624151E-2},"Gesamt",{"$f":"IFERROR(1/O112,\"\")","v":11.22734987057069},{"$f":"IF(SUM(R103:R111)=0,\"\",SUM(R103:R111))","v":0.13485544815280681},{"$f":"IFERROR(S101*R112,\"\")","v":4.4502297890426252},{"$f":"IFERROR(AVERAGE(T103:T111),\"\")","v":2.5640092682892957},{"$f":"IF(SUM(U103:U111)=0,\"\",SUM(U103:U111))","v":0.5555329466615565}]
[null,null,null,{"$f":"AVERAGE(D103:D111)","v":1.4983938683645219E-2},null,null,null,null,null,null,{"$f":"AVERAGE(K103:K111)","v":1.4983938683645222E-2},null,null,null,null,null,null,{"$f":"AVERAGE(R103:R111)","v":1.4983938683645202E-2}]
[]
[null,"Rechtliche Hinweise: Dieser Rechner darf nur für private Zwecke verwendet werden. Eine Weitergabe dieser Excel-Datei an andere Personen darf nur unverändert und kostenlos erfolgen! "]
[]
[null,"© Copyright 2023 by Lottoexperte (www.lotteriecheck.de) - Alle Rechte vorbehalten!"]
[]
[null,"¹ Die Ø AQs wurden in den Gewinnklassen, die in den AGB in Abschnitt 11.1 als Typ A oder Typ B gekennzeichnet sind oder für die gemäß Abschnitt 10.12 maximale Auszahlungsbeträge\n¹ festgelegt sind, ohne Berücksichtigung dieser Gewinnbeschränkungen berechnet. Die Ø Gesamt-AQs sind daher bei diesen Lotterien als Höchstwerte zu betrachten, deren tatsächlicher\n¹ Wert umso geringer ausfällt, je mehr Tipps bei ELBL (Lottoland und Lottohelden) bei dieser Lotterie abgegeben werden. Die Bewertungsübersicht kann mit Strg+[1-6] sortiert werden.\n¹ Hinweis: Alle angegebenen Gewinnbeträge in den oben aufgelisteten Gewinntabellen (und somit auch alle Angaben zur Ø AQ) beinhalten bereits sämtliche Mehrfachgewinne.\n² Je geringer der Wert, desto höher ist das Verlustpotenzial in Relation zum Spieleinsatz. Berechnung: Summe aller berechneten Werte (X) in den einzelnen Gewinnklassen. Berechnung\n² von X je Gewinnklasse: [Ø AQ dieser Gewinnklasse]/([1:Wahrscheinlichkeit dieser Gewinnklasse]*[Preis je Tipp in Euro])^0,25*62,2333\n² Für den in den runden Klammern berechneten Wert gilt jedoch eine Untergrenze von 1.500. Die Lotteriebewertungen wurden daher speziell für Gelegenheitsspieler kalkuliert und tref-\n² fen somit am genauesten auf diejenigen Spieler zu, die in ihrem gesamten Leben lediglich 1.500 € für diese Lotterie ausgeben.\n² Beispiel: Die 1:Wahrscheinlichkeit einer Gewinnklasse liegt bei 250 und der Spielpreis bei 5 €. Der Wert in den runden Klammern beläuft sich dadurch auf 1.500 (anstelle von 1.250).\n³ Je höher der Wert, desto ungleichmäßiger ist die Ø Gesamt-AQ auf die Gewinnklassen verteilt. Berechnung: Mittelwert (Ø) aller berechneten Werte (X) in den einzelnen Gewinnklassen. \n³ Berechnung von X je Gewinnklasse: Wenn der Ø der Ø AQs aller Gewinnklassen (Y) größer ist als die Ø Gewinnklassen-AQ (Z), dann wird Y durch Z geteilt, ansonsten wird Z durch Y geteilt.\n⁴ Der Ø Gewinn in der ersten Gewinnklasse wurde auf Grundlage der Jackpothöhe und Anzahl der Jackpotgewinner bei 200 Ziehungen im Zeitraum vom 01.01.2017 bis 28.11.2018 bei der\n⁴ Originallotterie berechnet und entspricht somit der Ø Gewinnauszahlung von Lottohelden, sofern es jeweils nur einen Gewinner bei ELBL (Lottoland und Lottohelden) gegeben hätte.\n⁵ Entsprechend den AGB von Lottohelden (Abschnitt 11.9) wurden die Gewinnbeträge bereits nach Abzug der Einbehaltung von 20 % der Gewinne in den Gewinnklassen 1 bis 3 kalkuliert.\n⁶ Der Ø Gewinn in der ersten Gewinnklasse wurde bei Auszahlung des Jackpots in einem Betrag zu einem Wechselkurs von 1,10 $ je Euro und auf Grundlage der Jackpothöhe und Anzahl \n⁶ der Jackpotgewinner bei 200 Ziehungen im Zeitraum vom 29.10.2017 bis 26.09.2019 bei PowerBall bzw. vom 01.11.2017 bis 28.09.2019 bei MegaMillions berechnet und entspricht somit \n⁶ der Ø Gewinnauszahlung von Lottohelden, sofern es jeweils nur einen Gewinner bei ELBL (Lottoland und Lottohelden) gegeben hätte. Entsprechend den AGB von Lottohelden (Abschnitt\n⁶ 11.7 und 11.8) wurden die Gewinnbeträge bereits nach Abzug der Einbehaltung von 38 % der Gewinne in den Gewinnklassen 1 bis 3 sowie weiteren 40 % in Gewinnklasse 1 kalkuliert."]

{"sheet":"Spielgemeinschaften+XXL-Chancen","index":2,"n_rows":115,"n_cols":29,"rows_kept":115,"cut":false,"hidden":false,"merged":[[104,19,104,20],[105,19,105,20],[106,19,106,20],[107,19,107,20],[108,19,108,20],[109,19,109,20],[110,19,110,20],[111,19,111,20],[105,15,105,16],[106,15,106,16],[107,15,107,16],[108,15,108,16],[109,15,109,16],[110,15,110,16],[111,15,111,16],[104,17,104,18],[105,17,105,18],[106,17,106,18],[107,17,107,18],[108,17,108,18],[109,17,109,18],[110,17,110,18],[111,17,111,18],[32,19,33,19],[24,1,24,2],[16,19,17,19],[1,24,2,24],[1,25,2,25],[1,26,2,26],[1,27,2,27],[8,10,9,10],[8,11,9,11],[8,12,9,12],[1,22,2,22],[1,23,2,23],[8,15,8,16],[8,17,9,17],[8,18,9,18],[8,19,9,19],[13,3,13,4],[13,10,13,11],[11,15,11,16],[12,1,12,2],[12,15,12,16],[18,1,18,2],[18,8,18,9],[18,15,18,16],[12,8,12,9],[19,15,19,16],[20,15,20,16],[19,1,19,2],[19,8,19,9],[20,1,20,2],[20,8,20,9],[29,3,29,4],[29,10,29,11],[27,15,27,16],[28,15,28,16],[27,1,27,2],[27,8,27,9],[28,1,28,2],[28,8,28,9],[70,18,71,18],[44,1,44,2],[44,8,44,9],[40,1,40,2],[40,3,41,3],[40,4,41,4],[40,5,41,5],[70,8,70,9],[70,10,71,10],[60,8,60,9],[60,10,61,10],[60,11,61,11],[47,17,47,18],[50,8,50,9],[50,10,51,10],[50,11,51,11],[64,8,64,9],[50,17,51,17],[50,18,51,18],[60,17,61,17],[42,1,42,2],[42,8,42,9],[42,15,42,16],[40,8,40,9],[95,17,95,18],[96,5,97,5],[96,8,96,9],[96,10,97,10],[98,15,101,20],[104,15,104,16],[46,1,46,2],[46,8,46,9],[46,15,46,16],[50,12,51,12],[50,15,50,16],[89,19,90,19],[90,1,90,2],[90,8,90,9],[88,8,88,9],[75,1,75,2],[75,8,75,9],[75,15,75,16],[76,1,76,2],[76,8,76,9],[76,15,76,16],[80,11,81,11],[80,12,81,12],[100,8,100,9],[101,10,101,11],[99,1,99,2],[99,8,99,9],[94,15,94,16],[92,8,92,9],[92,15,92,16],[93,15,93,16],[92,1,92,2],[96,11,97,11],[100,3,100,4],[96,1,96,2],[96,3,97,3],[96,4,97,4],[98,1,98,2],[98,8,98,9],[96,12,97,12],[96,6,97,6],[96,13,97,13],[10,1,10,2],[10,8,10,9],[10,15,10,16],[11,8,11,9],[8,1,8,2],[8,3,9,3],[8,4,9,4],[8,5,9,5],[8,8,8,9],[11,1,11,2],[13,17,13,18],[16,1,16,2],[16,3,17,3],[16,4,17,4],[16,5,17,5],[16,8,16,9],[16,10,17,10],[16,11,17,11],[16,12,17,12],[16,15,16,16],[16,17,17,17],[16,18,17,18],[24,19,25,19],[26,1,26,2],[26,8,26,9],[26,15,26,16],[21,17,21,18],[24,3,25,3],[24,4,25,4],[24,5,25,5],[24,8,24,9],[24,10,25,10],[24,11,25,11],[24,12,25,12],[24,15,24,16],[24,17,25,17],[24,18,25,18],[21,10,21,11],[21,3,21,4],[29,17,29,18],[32,1,32,2],[32,3,33,3],[32,4,33,4],[32,5,33,5],[32,8,32,9],[32,10,33,10],[32,11,33,11],[32,12,33,12],[32,15,32,16],[32,17,33,17],[32,18,33,18],[43,1,43,2],[43,8,43,9],[45,1,45,2],[34,1,34,2],[34,8,34,9],[34,15,34,16],[37,3,37,4],[37,10,37,11],[37,17,37,18],[35,15,35,16],[36,15,36,16],[35,1,35,2],[35,8,35,9],[36,1,36,2],[36,8,36,9],[52,1,52,2],[52,8,52,9],[52,15,52,16],[50,4,51,4],[50,5,51,5],[47,3,47,4],[47,10,47,11],[55,1,55,2],[55,8,55,9],[55,15,55,16],[50,1,50,2],[50,3,51,3],[56,1,56,2],[60,15,60,16],[57,3,57,4],[57,10,57,11],[57,17,57,18],[53,15,53,16],[54,15,54,16],[53,1,53,2],[53,8,53,9],[54,1,54,2],[54,8,54,9],[63,15,63,16],[64,15,64,16],[63,1,63,2],[63,8,63,9],[64,1,64,2],[60,1,60,2],[60,3,61,3],[60,4,61,4],[60,5,61,5],[1,4,2,4],[74,1,74,2],[74,8,74,9],[77,17,77,18],[80,1,80,2],[80,3,81,3],[80,4,81,4],[80,5,81,5],[80,8,80,9],[80,10,81,10],[77,3,77,4],[77,10,77,11],[80,15,80,16],[80,17,81,17],[80,18,81,18],[62,1,62,2],[62,8,62,9],[62,15,62,16],[67,3,67,4],[67,10,67,11],[67,17,67,18],[70,1,70,2],[70,3,71,3],[70,4,71,4],[1,5,2,5],[3,1,3,2],[4,1,4,2],[5,3,5,4],[1,8,1,9],[3,8,3,9],[4,8,4,9],[1,6,2,6],[88,12,89,12],[5,10,5,11],[82,1,82,2],[82,8,82,9],[85,3,85,4],[83,1,83,2],[83,8,83,9],[84,1,84,2],[84,8,84,9],[72,1,72,2],[72,8,72,9],[70,11,71,11],[70,12,71,12],[73,1,73,2],[1,1,1,2],[1,3,2,3],[91,15,91,16],[93,3,93,4],[93,10,93,11],[88,1,88,2],[88,3,89,3],[88,4,89,4],[88,5,89,5],[89,15,89,16],[40,6,41,6],[40,13,41,13],[82,15,82,16],[83,15,83,16],[84,15,84,16],[72,15,72,16],[70,15,70,16],[73,15,73,16],[74,15,74,16],[70,5,71,5],[65,1,65,2],[65,8,65,9],[65,15,65,16],[66,1,66,2],[66,8,66,9],[66,15,66,16],[40,20,41,20],[50,20,51,20],[50,13,51,13],[50,6,51,6],[60,6,61,6],[60,13,61,13],[60,20,61,20],[60,19,61,19],[50,19,51,19],[45,8,45,9],[45,15,45,16],[60,18,61,18],[56,8,56,9],[56,15,56,16],[60,12,61,12],[40,18,41,18],[40,19,41,19],[40,10,41,10],[40,11,41,11],[40,12,41,12],[40,15,40,16],[40,17,41,17],[43,15,43,16],[44,15,44,16],[1,13,2,13],[1,20,2,20],[8,6,9,6],[8,13,9,13],[8,20,9,20],[16,20,17,20],[24,20,25,20],[32,20,33,20],[32,13,33,13],[24,13,25,13],[16,13,17,13],[16,6,17,6],[24,6,25,6],[32,6,33,6],[1,17,2,17],[1,18,2,18],[1,19,2,19],[3,15,3,16],[4,15,4,16],[5,17,5,18],[1,10,2,10],[1,11,2,11],[1,12,2,12],[1,15,1,16],[114,1,114,20],[104,1,111,13],[70,20,71,20],[70,13,71,13],[70,6,71,6],[80,6,81,6],[80,13,81,13],[80,20,81,20],[89,20,90,20],[88,13,89,13],[88,6,89,6],[80,19,81,19],[70,19,71,19],[73,8,73,9],[85,10,85,11],[86,17,86,18],[85,15,85,16],[70,17,71,17],[89,17,90,17],[89,18,90,18],[91,1,91,2],[91,8,91,9],[88,10,89,10],[88,11,89,11]]}
[]
[null,"LOTTO 6/45 XXL-Chance",null,"Tipp-\nfelder","An-\nteile","Fairer\nPreis","Gewinn-\nChance",null,"LOTTO 6/45 XXL-Chance",null,"Tipp-\nfelder","An-\nteile","Fairer\nPreis","Gewinn-\nChance",null,"LOTTO 6/45 XXL-Chance",null,"Tipp-\nfelder","An-\nteile","Fairer\nPreis","Gewinn-\nChance",null,"Bewertungsübersicht der Spielge-\nmeinschaften und XXL-Chancen *","Preis\nje Spiel","Tipp-\nfelder","Ø AQ\nGesamt","Chancen\nje Spiel","Aufpreis\nje Spiel"]
[null,{"$f":"IF(SUM(D4:D5)=0,\"\",SUM(D4:D5))","v":210.99999999999997},6,null,null,null,null,null,{"$f":"IF(SUM(K4:K5)=0,\"\",SUM(K4:K5))","v":462.99999999999994},10,null,null,null,null,null,{"$f":"IF(SUM(R4:R5)=0,\"\",SUM(R4:R5))","v":924.99999999999977},18]
[null,1,null,{"$f":"IFERROR(IF(B4<=0,\"\",B4*COMBIN(10,6)),\"\")","v":209.99999999999997},78,{"$f":"IFERROR(IF(D4=\"\",\"\",D4*R106/E4),\"\")","v":3.5},{"$f":"IFERROR(IF(D4=\"\",\"\",1-(1-0.315289109957289)^B4),\"\")","v":0.31528910995728898},{"$f":"IFERROR(F4*T106,\"\")","v":1.6233866002769728},1,null,{"$f":"IFERROR(IF(I4<=0,\"\",I4*COMBIN(11,6)),\"\")","v":461.99999999999994},78,{"$f":"IFERROR(IF(K4=\"\",\"\",K4*R106/L4),\"\")","v":7.6999999999999984},{"$f":"IFERROR(IF(K4=\"\",\"\",1-(1-0.361131161017718)^I4),\"\")","v":0.36113116101771803},{"$f":"IFERROR(M4*T106,\"\")","v":3.5714505206093397},1,null,{"$f":"IFERROR(IF(P4<=0,\"\",P4*COMBIN(12,6)),\"\")","v":923.99999999999977},78,{"$f":"IFERROR(IF(R4=\"\",\"\",R4*R106/S4),\"\")","v":15.399999999999997},{"$f":"IFERROR(IF(R4=\"\",\"\",1-(1-0.408261392606259)^P4),\"\")","v":0.40826139260625904},{"$f":"IFERROR(T4*T106,\"\")","v":7.1429010412186793},{"$f":"$P$41","v":"LOTTO 6/49 Super-Chance"},{"$f":"$Q$42","v":20},{"$f":"$P$42","v":2499.9999999999995},{"$f":"IFERROR(ROUND($R$48,10),\"\")","v":0.6411},{"$f":"$U$48","v":0.84257495032504137},{"$f":"IFERROR(ROUND($Q$48,10),\"\")","v":-0.2200904695},0.6411]
[null,1,null,{"$f":"IFERROR(IF(B5<=0,\"\",B5),\"\")","v":1},1,{"$f":"IFERROR(IF(D5=\"\",\"\",D5*R106/E5),\"\")","v":1.3},{"$f":"IFERROR(IF(D5=\"\",\"\",1-(1-0.0854594072971839)^B5),\"\")","v":8.5459407297183931E-2},{"$f":"IFERROR(F5*T106,\"\")","v":0.6029721658171614},1,null,{"$f":"IFERROR(IF(I5<=0,\"\",I5),\"\")","v":1},1,{"$f":"IFERROR(IF(K5=\"\",\"\",K5*R106/L5),\"\")","v":1.3},{"$f":"IFERROR(IF(K5=\"\",\"\",1-(1-0.0854594072971839)^I5),\"\")","v":8.5459407297183931E-2},{"$f":"IFERROR(M5*T106,\"\")","v":0.6029721658171614},1,null,{"$f":"IFERROR(IF(P5<=0,\"\",P5),\"\")","v":1},1,{"$f":"IFERROR(IF(R5=\"\",\"\",R5*R106/S5),\"\")","v":1.3},{"$f":"IFERROR(IF(R5=\"\",\"\",1-(1-0.0854594072971839)^P5),\"\")","v":8.5459407297183931E-2},{"$f":"IFERROR(T5*T106,\"\")","v":0.6029721658171614},{"$f":"$P$9","v":"LOTTO 6/49 XXL-Chance"},{"$f":"$Q$10","v":20.2},{"$f":"$P$10","v":2053},{"$f":"IFERROR(ROUND($R$14,10),\"\")","v":0.6392079208},{"$f":"$U$14","v":0.47915584736812999},{"$f":"IFERROR(ROUND($Q$14,10),\"\")","v":-0.21778190829999999},0.6392079208]
[null,"Aufpreis:",{"$f":"IFERROR(C3/F6-1,\"\")","v":0.25},{"$f":"IFERROR(H6/C3,\"\")","v":0.37105979434902236},null,{"$f":"IF(SUM(F4:F5)=0,\"\",SUM(F4:F5))","v":4.8},{"$f":"IF(SUM(G4:G5)=0,\"\",1-(1-IF(G4=\"\",0,G4))*(1-IF(G5=\"\",0,G5)))","v":0.37380409679026638},{"$f":"IF(SUM(H4:H5)=0,\"\",SUM(H4:H5))","v":2.2263587660941342},"Aufpreis:",{"$f":"IFERROR(J3/M6-1,\"\")","v":0.11111111111111138},{"$f":"IFERROR(O6/J3,\"\")","v":0.41744226864265011},null,{"$f":"IF(SUM(M4:M5)=0,\"\",SUM(M4:M5))","v":8.9999999999999982},{"$f":"IF(SUM(N4:N5)=0,\"\",1-(1-IF(N4=\"\",0,N4))*(1-IF(N5=\"\",0,N5)))","v":0.41572851333778393},{"$f":"IF(SUM(O4:O5)=0,\"\",SUM(O4:O5))","v":4.1744226864265013},"Aufpreis:",{"$f":"IFERROR(Q3/T6-1,\"\")","v":7.784431137724579E-2},{"$f":"IFERROR(V6/Q3,\"\")","v":0.4303262892797689},null,{"$f":"IF(SUM(T4:T5)=0,\"\",SUM(T4:T5))","v":16.699999999999996},{"$f":"IF(SUM(U4:U5)=0,\"\",1-(1-IF(U4=\"\",0,U4))*(1-IF(U5=\"\",0,U5)))","v":0.45883102326898917},{"$f":"IF(SUM(V4:V5)=0,\"\",SUM(V4:V5))","v":7.7458732070358405},{"$f":"$I$9","v":"LOTTO 6/49 XXL-Chance"},{"$f":"$J$10","v":13.2},{"$f":"$I$10","v":1260.9999999999998},{"$f":"IFERROR(ROUND($K$14,10),\"\")","v":0.61818181819999996},{"$f":"$N$14","v":0.45569272143619766},{"$f":"IFERROR(ROUND($J$14,10),\"\")","v":-0.19117647060000001},0.61818181819999996]
[null,null,null,null,null,null,null,null,null,null,null,null,null,null,null,null,null,null,null,null,null,null,{"$f":"$P$17","v":"SuperLotto XXL-Chance"},{"$f":"$Q$18","v":19.5},{"$f":"$P$18","v":2053},{"$f":"IFERROR(ROUND($R$22,10),\"\")","v":0.59406621959999995},{"$f":"$U$22","v":0.98164648937929266},{"$f":"IFERROR(ROUND($Q$22,10),\"\")","v":-0.39591078070000002},0.59406621959999995]
[null,null,null,null,null,null,null,null,null,null,null,null,null,null,null,null,null,null,null,null,null,null,{"$f":"$P$51","v":"SuperLotto Super-Chance"},{"$f":"$Q$52","v":20},{"$f":"$P$52","v":2499.9999999999995},{"$f":"IFERROR(ROUND($R$58,10),\"\")","v":0.5751772879},{"$f":"$U$58","v":0.99999988061418721},{"$f":"IFERROR(ROUND($Q$58,10),\"\")","v":-0.37607237560000001},0.5751772879]
[null,"LOTTO 6/49 XXL-Chance",null,"Tipp-\nfelder","An-\nteile","Fairer\nPreis","Gewinn-\nChance",null,"LOTTO 6/49 XXL-Chance",null,"Tipp-\nfelder","An-\nteile","Fairer\nPreis","Gewinn-\nChance",null,"LOTTO 6/49 XXL-Chance",null,"Tipp-\nfelder","An-\nteile","Fairer\nPreis","Gewinn-\nChance",null,{"$f":"$P$25","v":"EuroJackpot XXL-Chance"},{"$f":"$Q$26","v":27},{"$f":"$P$26","v":2665},{"$f":"IFERROR(ROUND($R$30,10),\"\")","v":0.53037037040000001},{"$f":"$U$30","v":0.52379327607958959},{"$f":"IFERROR(ROUND($Q$30,10),\"\")","v":-5.7262569800000003E-2},0.53037037040000001]
[null,{"$f":"IF(SUM(D11:D13)=0,\"\",SUM(D11:D13))","v":546.99999999999989},8.1999999999999993,null,null,null,null,null,{"$f":"IF(SUM(K11:K13)=0,\"\",SUM(K11:K13))","v":1260.9999999999998},13.2,null,null,null,null,null,{"$f":"IF(SUM(R11:R13)=0,\"\",SUM(R11:R13))","v":2053},20.2,null,null,null,null,null,{"$f":"$P$61","v":"EuroJackpot Super-Chance"},{"$f":"$Q$62","v":20},{"$f":"$P$62","v":2500},{"$f":"IFERROR(ROUND($R$68,10),\"\")","v":0.52583333330000004},{"$f":"$U$68","v":0.86715443796459635},{"$f":"IFERROR(ROUND($Q$68,10),\"\")","v":-4.9128367700000002E-2},0.52583333330000004]
[null,4,null,{"$f":"IFERROR(IF(B11<=0,\"\",B11*COMBIN(9,6)),\"\")","v":335.99999999999994},100,{"$f":"IFERROR(IF(D11=\"\",\"\",D11*R107/E11),\"\")","v":4.0319999999999991},{"$f":"IFERROR(IF(D11=\"\",\"\",1-(1-0.0902706385724755)^B11),\"\")","v":0.31506580766466208},{"$f":"IFERROR(F11*T107,\"\")","v":2.0159999999999996},4,null,{"$f":"IFERROR(IF(I11<=0,\"\",I11*COMBIN(9,6)),\"\")","v":335.99999999999994},100,{"$f":"IFERROR(IF(K11=\"\",\"\",K11*R107/L11),\"\")","v":4.0319999999999991},{"$f":"IFERROR(IF(K11=\"\",\"\",1-(1-0.0902706385724755)^I11),\"\")","v":0.31506580766466208},{"$f":"IFERROR(M11*T107,\"\")","v":2.0159999999999996},4,null,{"$f":"IFERROR(IF(P11<=0,\"\",P11*COMBIN(9,6)),\"\")","v":335.99999999999994},100,{"$f":"IFERROR(IF(R11=\"\",\"\",R11*R107/S11),\"\")","v":4.0319999999999991},{"$f":"IFERROR(IF(R11=\"\",\"\",1-(1-0.0902706385724755)^P11),\"\")","v":0.31506580766466208},{"$f":"IFERROR(T11*T107,\"\")","v":2.0159999999999996},{"$f":"$I$17","v":"SuperLotto XXL-Chance"},{"$f":"$J$18","v":14.5},{"$f":"$I$18","v":1260.9999999999998},{"$f":"IFERROR(ROUND($K$22,10),\"\")","v":0.50489155699999999},{"$f":"$N$22","v":0.98011703016090046},{"$f":"IFERROR(ROUND($J$22,10),\"\")","v":-0.2892156863},0.50489155699999999]
[null,1,null,{"$f":"IFERROR(IF(B12<=0,\"\",B12*COMBIN(10,6)),\"\")","v":209.99999999999997},100,{"$f":"IFERROR(IF(D12=\"\",\"\",D12*R107/E12),\"\")","v":2.5199999999999996},{"$f":"IFERROR(IF(D12=\"\",\"\",1-(1-0.116739057493319)^B12),\"\")","v":0.11673905749331903},{"$f":"IFERROR(F12*T107,\"\")","v":1.2599999999999998},1,null,{"$f":"IFERROR(IF(I12<=0,\"\",I12*COMBIN(12,6)),\"\")","v":923.99999999999977},100,{"$f":"IFERROR(IF(K12=\"\",\"\",K12*R107/L12),\"\")","v":11.087999999999997},{"$f":"IFERROR(IF(K12=\"\",\"\",1-(1-0.179149596934056)^I12),\"\")","v":0.17914959693405597},{"$f":"IFERROR(M12*T107,\"\")","v":5.5439999999999987},1,null,{"$f":"IFERROR(IF(P12<=0,\"\",P12*COMBIN(13,6)),\"\")","v":1716},100,{"$f":"IFERROR(IF(R12=\"\",\"\",R12*R107/S12),\"\")","v":20.591999999999999},{"$f":"IFERROR(IF(R12=\"\",\"\",1-(1-0.21453350072684)^P12),\"\")","v":0.21453350072683997},{"$f":"IFERROR(T12*T107,\"\")","v":10.295999999999999},{"$f":"$B$41","v":"LOTTO 6/49 Super-Chance"},{"$f":"$C$42","v":5},{"$f":"$B$42","v":500},{"$f":"IFERROR(ROUND($D$48,10),\"\")","v":0.498},{"$f":"$G$48","v":0.70467759362838611},{"$f":"IFERROR(ROUND($C$48,10),\"\")","v":4.0160643000000003E-3},0.498]
[null,1,null,{"$f":"IFERROR(IF(B13<=0,\"\",B13),\"\")","v":1},1,{"$f":"IFERROR(IF(D13=\"\",\"\",D13*R107/E13),\"\")","v":1.2},{"$f":"IFERROR(IF(D13=\"\",\"\",1-(1-0.0318753479021749)^B13),\"\")","v":3.1875347902174944E-2},{"$f":"IFERROR(F13*T107,\"\")","v":0.6},1,null,{"$f":"IFERROR(IF(I13<=0,\"\",I13),\"\")","v":1},1,{"$f":"IFERROR(IF(K13=\"\",\"\",K13*R107/L13),\"\")","v":1.2},{"$f":"IFERROR(IF(K13=\"\",\"\",1-(1-0.0318753479021749)^I13),\"\")","v":3.1875347902174944E-2},{"$f":"IFERROR(M13*T107,\"\")","v":0.6},1,null,{"$f":"IFERROR(IF(P13<=0,\"\",P13),\"\")","v":1},1,{"$f":"IFERROR(IF(R13=\"\",\"\",R13*R107/S13),\"\")","v":1.2},{"$f":"IFERROR(IF(R13=\"\",\"\",1-(1-0.0318753479021749)^P13),\"\")","v":3.1875347902174944E-2},{"$f":"IFERROR(T13*T107,\"\")","v":0.6},{"$f":"$B$97","v":"LOTTO 05"},{"$f":"$C$98","v":5},{"$f":"$B$98","v":199.99999999999997},{"$f":"IFERROR(ROUND($D$101,10),\"\")","v":0.48},{"$f":"$G$101","v":0.70648834403615535},{"$f":"IFERROR(ROUND($C$101,10),\"\")","v":4.16666667E-2},0.48]
[null,"Aufpreis:",{"$f":"IFERROR(C10/F14-1,\"\")","v":5.7791537667698734E-2},{"$f":"IFERROR(H14/C10,\"\")","v":0.47268292682926827},null,{"$f":"IF(SUM(F11:F13)=0,\"\",SUM(F11:F13))","v":7.7519999999999989},{"$f":"IF(SUM(G11:G13)=0,\"\",1-(1-IF(G11=\"\",0,G11))*(1-IF(G12=\"\",0,G12))*(1-IF(G13=\"\",0,G13)))","v":0.41430818809150571},{"$f":"IF(SUM(H11:H13)=0,\"\",SUM(H11:H13))","v":3.8759999999999994},"Aufpreis:",{"$f":"IFERROR(J10/M14-1,\"\")","v":-0.19117647058823517},{"$f":"IFERROR(O14/J10,\"\")","v":0.61818181818181805},null,{"$f":"IF(SUM(M11:M13)=0,\"\",SUM(M11:M13))","v":16.319999999999997},{"$f":"IF(SUM(N11:N13)=0,\"\",1-(1-IF(N11=\"\",0,N11))*(1-IF(N12=\"\",0,N12))*(1-IF(N13=\"\",0,N13)))","v":0.45569272143619766},{"$f":"IF(SUM(O11:O13)=0,\"\",SUM(O11:O13))","v":8.1599999999999984},"Aufpreis:",{"$f":"IFERROR(Q10/T14-1,\"\")","v":-0.21778190830235433},{"$f":"IFERROR(V14/Q10,\"\")","v":0.63920792079207922},null,{"$f":"IF(SUM(T11:T13)=0,\"\",SUM(T11:T13))","v":25.823999999999998},{"$f":"IF(SUM(U11:U13)=0,\"\",1-(1-IF(U11=\"\",0,U11))*(1-IF(U12=\"\",0,U12))*(1-IF(U13=\"\",0,U13)))","v":0.47915584736812999},{"$f":"IF(SUM(V11:V13)=0,\"\",SUM(V11:V13))","v":12.911999999999999},{"$f":"$B$89","v":"LOTTO 10"},{"$f":"$C$90","v":10},{"$f":"$B$90","v":399.99999999999994},{"$f":"IFERROR(ROUND($D$94,10),\"\")","v":0.48},{"$f":"$G$94","v":0.64157228069341454},{"$f":"IFERROR(ROUND($C$94,10),\"\")","v":4.16666667E-2},0.48]
[null,null,null,null,null,null,null,null,null,null,null,null,null,null,null,null,null,null,null,null,null,null,{"$f":"$B$81","v":"LOTTO 15"},{"$f":"$C$82","v":15},{"$f":"$B$82","v":599.99999999999989},{"$f":"IFERROR(ROUND($D$86,10),\"\")","v":0.48},{"$f":"$G$86","v":0.5622987116288638},{"$f":"IFERROR(ROUND($C$86,10),\"\")","v":4.16666667E-2},0.48]
[null,null,null,null,null,null,null,null,null,null,null,null,null,null,null,null,null,null,null,null,null,null,{"$f":"$I$41","v":"LOTTO 6/49 Super-Chance"},{"$f":"$J$42","v":10},{"$f":"$I$42","v":999.99999999999977},{"$f":"IFERROR(ROUND($K$48,10),\"\")","v":0.48},{"$f":"$N$48","v":0.74164187149547756},{"$f":"IFERROR(ROUND($J$48,10),\"\")","v":4.16666667E-2},0.48]
[null,"SuperLotto XXL-Chance",null,"Tipp-\nfelder","An-\nteile","Fairer\nPreis","Gewinn-\nChance",null,"SuperLotto XXL-Chance",null,"Tipp-\nfelder","An-\nteile","Fairer\nPreis","Gewinn-\nChance",null,"SuperLotto XXL-Chance",null,"Tipp-\nfelder","An-\nteile","Fairer\nPreis","Gewinn-\nChance",null,{"$f":"$B$9","v":"LOTTO 6/49 XXL-Chance"},{"$f":"$C$10","v":8.1999999999999993},{"$f":"$B$10","v":546.99999999999989},{"$f":"IFERROR(ROUND($D$14,10),\"\")","v":0.47268292680000001},{"$f":"$G$14","v":0.41430818809150571},{"$f":"IFERROR(ROUND($C$14,10),\"\")","v":5.7791537699999999E-2},0.47268292680000001]
[null,{"$f":"IF(SUM(D19:D21)=0,\"\",SUM(D19:D21))","v":546.99999999999989},7.5,null,null,null,null,null,{"$f":"IF(SUM(K19:K21)=0,\"\",SUM(K19:K21))","v":1260.9999999999998},14.5,null,null,null,null,null,{"$f":"IF(SUM(R19:R21)=0,\"\",SUM(R19:R21))","v":2053},19.5,null,null,null,null,null,{"$f":"$I$25","v":"EuroJackpot XXL-Chance"},{"$f":"$J$26","v":17},{"$f":"$I$26","v":1405},{"$f":"IFERROR(ROUND($K$30,10),\"\")","v":0.47176470590000003},{"$f":"$N$30","v":0.50264654848210677},{"$f":"IFERROR(ROUND($J$30,10),\"\")","v":5.9850374099999999E-2},0.47176470590000003]
[null,4,null,{"$f":"IFERROR(IF(B19<=0,\"\",B19*COMBIN(9,6)),\"\")","v":335.99999999999994},100,{"$f":"IFERROR(IF(D19=\"\",\"\",D19*R108/E19),\"\")","v":5.0399999999999991},{"$f":"IFERROR(IF(D19=\"\",\"\",1-(1-0.478746241475245)^B19),\"\")","v":0.92617613171618296},{"$f":"IFERROR(F19*T108,\"\")","v":1.8086997541576171},4,null,{"$f":"IFERROR(IF(I19<=0,\"\",I19*COMBIN(9,6)),\"\")","v":335.99999999999994},100,{"$f":"IFERROR(IF(K19=\"\",\"\",K19*R108/L19),\"\")","v":5.0399999999999991},{"$f":"IFERROR(IF(K19=\"\",\"\",1-(1-0.478746241475245)^I19),\"\")","v":0.92617613171618296},{"$f":"IFERROR(M19*T108,\"\")","v":1.8086997541576171},4,null,{"$f":"IFERROR(IF(P19<=0,\"\",P19*COMBIN(9,6)),\"\")","v":335.99999999999994},100,{"$f":"IFERROR(IF(R19=\"\",\"\",R19*R108/S19),\"\")","v":5.0399999999999991},{"$f":"IFERROR(IF(R19=\"\",\"\",1-(1-0.478746241475245)^P19),\"\")","v":0.92617613171618296},{"$f":"IFERROR(T19*T108,\"\")","v":1.8086997541576171},{"$f":"$B$17","v":"SuperLotto XXL-Chance"},{"$f":"$C$18","v":7.5},{"$f":"$B$18","v":546.99999999999989},{"$f":"IFERROR(ROUND($D$22,10),\"\")","v":0.4636587465},{"$f":"$G$22","v":0.97673817671545549},{"$f":"IFERROR(ROUND($C$22,10),\"\")","v":-0.22600619199999999},0.4636587465]
[null,1,null,{"$f":"IFERROR(IF(B20<=0,\"\",B20*COMBIN(10,6)),\"\")","v":209.99999999999997},100,{"$f":"IFERROR(IF(D20=\"\",\"\",D20*R108/E20),\"\")","v":3.1499999999999995},{"$f":"IFERROR(IF(D20=\"\",\"\",1-(1-0.517357630995597)^B20),\"\")","v":0.51735763099559695},{"$f":"IFERROR(F20*T108,\"\")","v":1.1304373463485107},1,null,{"$f":"IFERROR(IF(I20<=0,\"\",I20*COMBIN(12,6)),\"\")","v":923.99999999999977},100,{"$f":"IFERROR(IF(K20=\"\",\"\",K20*R108/L20),\"\")","v":13.859999999999996},{"$f":"IFERROR(IF(K20=\"\",\"\",1-(1-0.587462962442755)^I20),\"\")","v":0.58746296244275498},{"$f":"IFERROR(M20*T108,\"\")","v":4.9739243239334465},1,null,{"$f":"IFERROR(IF(P20<=0,\"\",P20*COMBIN(13,6)),\"\")","v":1716},100,{"$f":"IFERROR(IF(R20=\"\",\"\",R20*R108/S20),\"\")","v":25.74},{"$f":"IFERROR(IF(R20=\"\",\"\",1-(1-0.619196580716389)^P20),\"\")","v":0.61919658071638894},{"$f":"IFERROR(T20*T108,\"\")","v":9.2372880301621159},{"$f":"$P$33","v":"EuroMillions XXL-Chance"},{"$f":"$Q$34","v":28},{"$f":"$P$34","v":2665},{"$f":"IFERROR(ROUND($R$38,10),\"\")","v":0.45791428569999998},{"$f":"$U$38","v":0.65518780078181926},{"$f":"IFERROR(ROUND($Q$38,10),\"\")","v":-0.19926790210000001},0.45791428569999998]
[null,1,null,{"$f":"IFERROR(IF(B21<=0,\"\",B21),\"\")","v":1},1,{"$f":"IFERROR(IF(D21=\"\",\"\",D21*R108/E21),\"\")","v":1.5},{"$f":"IFERROR(IF(D21=\"\",\"\",1-(1-0.347137821030643)^B21),\"\")","v":0.34713782103064306},{"$f":"IFERROR(F21*T108,\"\")","v":0.53830349826119561},1,null,{"$f":"IFERROR(IF(I21<=0,\"\",I21),\"\")","v":1},1,{"$f":"IFERROR(IF(K21=\"\",\"\",K21*R108/L21),\"\")","v":1.5},{"$f":"IFERROR(IF(K21=\"\",\"\",1-(1-0.347137821030643)^I21),\"\")","v":0.34713782103064306},{"$f":"IFERROR(M21*T108,\"\")","v":0.53830349826119561},1,null,{"$f":"IFERROR(IF(P21<=0,\"\",P21),\"\")","v":1},1,{"$f":"IFERROR(IF(R21=\"\",\"\",R21*R108/S21),\"\")","v":1.5},{"$f":"IFERROR(IF(R21=\"\",\"\",1-(1-0.347137821030643)^P21),\"\")","v":0.34713782103064306},{"$f":"IFERROR(T21*T108,\"\")","v":0.53830349826119561},{"$f":"$B$51","v":"SuperLotto Super-Chance"},{"$f":"$C$52","v":5},{"$f":"$B$52","v":500},{"$f":"IFERROR(ROUND($D$58,10),\"\")","v":0.44679190359999998},{"$f":"$G$58","v":0.99999630386032068},{"$f":"IFERROR(ROUND($C$58,10),\"\")","v":-0.19678714859999999},0.44679190359999998]
[null,"Aufpreis:",{"$f":"IFERROR(C18/F22-1,\"\")","v":-0.22600619195046423},{"$f":"IFERROR(H22/C18,\"\")","v":0.46365874650230976},null,{"$f":"IF(SUM(F19:F21)=0,\"\",SUM(F19:F21))","v":9.6899999999999977},{"$f":"IF(SUM(G19:G21)=0,\"\",1-(1-IF(G19=\"\",0,G19))*(1-IF(G20=\"\",0,G20))*(1-IF(G21=\"\",0,G21)))","v":0.97673817671545549},{"$f":"IF(SUM(H19:H21)=0,\"\",SUM(H19:H21))","v":3.4774405987673234},"Aufpreis:",{"$f":"IFERROR(J18/M22-1,\"\")","v":-0.28921568627450966},{"$f":"IFERROR(O22/J18,\"\")","v":0.50489155698981103},null,{"$f":"IF(SUM(M19:M21)=0,\"\",SUM(M19:M21))","v":20.399999999999995},{"$f":"IF(SUM(N19:N21)=0,\"\",1-(1-IF(N19=\"\",0,N19))*(1-IF(N20=\"\",0,N20))*(1-IF(N21=\"\",0,N21)))","v":0.98011703016090046},{"$f":"IF(SUM(O19:O21)=0,\"\",SUM(O19:O21))","v":7.3209275763522594},"Aufpreis:",{"$f":"IFERROR(Q18/T22-1,\"\")","v":-0.39591078066914498},{"$f":"IFERROR(V22/Q18,\"\")","v":0.59406621961953476},null,{"$f":"IF(SUM(T19:T21)=0,\"\",SUM(T19:T21))","v":32.28},{"$f":"IF(SUM(U19:U21)=0,\"\",1-(1-IF(U19=\"\",0,U19))*(1-IF(U20=\"\",0,U20))*(1-IF(U21=\"\",0,U21)))","v":0.98164648937929266},{"$f":"IF(SUM(V19:V21)=0,\"\",SUM(V19:V21))","v":11.584291282580928},{"$f":"$I$51","v":"SuperLotto Super-Chance"},{"$f":"$J$52","v":10},{"$f":"$I$52","v":999.99999999999977},{"$f":"IFERROR(ROUND($K$58,10),\"\")","v":0.43064279859999999},{"$f":"$N$58","v":0.99999808984177929},{"$f":"IFERROR(ROUND($J$58,10),\"\")","v":-0.16666666669999999},0.43064279859999999]
[null,null,null,null,null,null,null,null,null,null,null,null,null,null,null,null,null,null,null,null,null,null,{"$f":"$P$2","v":"LOTTO 6/45 XXL-Chance"},{"$f":"$Q$3","v":18},{"$f":"$P$3","v":924.99999999999977},{"$f":"IFERROR(ROUND($R$6,10),\"\")","v":0.4303262893},{"$f":"$U$6","v":0.45883102326898917},{"$f":"IFERROR(ROUND($Q$6,10),\"\")","v":7.7844311400000005E-2},0.4303262893]
[null,null,null,null,null,null,null,null,null,null,null,null,null,null,null,null,null,null,null,null,null,null,{"$f":"$I$2","v":"LOTTO 6/45 XXL-Chance"},{"$f":"$J$3","v":10},{"$f":"$I$3","v":462.99999999999994},{"$f":"IFERROR(ROUND($K$6,10),\"\")","v":0.4174422686},{"$f":"$N$6","v":0.41572851333778393},{"$f":"IFERROR(ROUND($J$6,10),\"\")","v":0.11111111110000001},0.4174422686]
[null,"EuroJackpot XXL-Chance",null,"Tipp-\nfelder","An-\nteile","Fairer\nPreis","Gewinn-\nChance",null,"EuroJackpot XXL-Chance",null,"Tipp-\nfelder","An-\nteile","Fairer\nPreis","Gewinn-\nChance",null,"EuroJackpot XXL-Chance",null,"Tipp-\nfelder","An-\nteile","Fairer\nPreis","Gewinn-\nChance",null,{"$f":"$I$33","v":"EuroMillions XXL-Chance"},{"$f":"$J$34","v":18},{"$f":"$I$34","v":1405},{"$f":"IFERROR(ROUND($K$38,10),\"\")","v":0.40431111110000001},{"$f":"$N$38","v":0.63370815701707905},{"$f":"IFERROR(ROUND($J$38,10),\"\")","v":-9.3107617899999995E-2},0.40431111110000001]
[null,{"$f":"IF(SUM(D27:D29)=0,\"\",SUM(D27:D29))","v":705},12,null,null,null,null,null,{"$f":"IF(SUM(K27:K29)=0,\"\",SUM(K27:K29))","v":1405},17,null,null,null,null,null,{"$f":"IF(SUM(R27:R29)=0,\"\",SUM(R27:R29))","v":2665},27,null,null,null,null,null,{"$f":"$I$97","v":"EuroJackpot 05"},{"$f":"$J$98","v":5},{"$f":"$I$98","v":100},{"$f":"IFERROR(ROUND($K$102,10),\"\")","v":0.4},{"$f":"$N$102","v":0.53809732584865921},{"$f":"IFERROR(ROUND($J$102,10),\"\")","v":0.25},0.4]
[null,4,null,{"$f":"IFERROR(IF(B27<=0,\"\",B27*COMBIN(6,5)*COMBIN(4,2)),\"\")","v":144},200,{"$f":"IFERROR(IF(D27=\"\",\"\",D27*R109/E27),\"\")","v":1.44},{"$f":"IFERROR(IF(D27=\"\",\"\",1-(1-0.0981762917933131)^B27),\"\")","v":0.3385658810919786},{"$f":"IFERROR(F27*T109,\"\")","v":0.72},4,null,{"$f":"IFERROR(IF(I27<=0,\"\",I27*COMBIN(6,5)*COMBIN(4,2)),\"\")","v":144},200,{"$f":"IFERROR(IF(K27=\"\",\"\",K27*R109/L27),\"\")","v":1.44},{"$f":"IFERROR(IF(K27=\"\",\"\",1-(1-0.0981762917933131)^I27),\"\")","v":0.3385658810919786},{"$f":"IFERROR(M27*T109,\"\")","v":0.72},4,null,{"$f":"IFERROR(IF(P27<=0,\"\",P27*COMBIN(6,5)*COMBIN(4,2)),\"\")","v":144},200,{"$f":"IFERROR(IF(R27=\"\",\"\",R27*R109/S27),\"\")","v":1.44},{"$f":"IFERROR(IF(R27=\"\",\"\",1-(1-0.0981762917933131)^P27),\"\")","v":0.3385658810919786},{"$f":"IFERROR(T27*T109,\"\")","v":0.72},{"$f":"$I$89","v":"EuroJackpot 10"},{"$f":"$J$90","v":10},{"$f":"$I$90","v":200},{"$f":"IFERROR(ROUND($K$94,10),\"\")","v":0.4},{"$f":"$N$94","v":0.43818030077662007},{"$f":"IFERROR(ROUND($J$94,10),\"\")","v":0.25},0.4]
[null,1,null,{"$f":"IFERROR(IF(B28<=0,\"\",B28*COMBIN(8,5)*COMBIN(5,2)),\"\")","v":560},200,{"$f":"IFERROR(IF(D28=\"\",\"\",D28*R109/E28),\"\")","v":5.6},{"$f":"IFERROR(IF(D28=\"\",\"\",1-(1-0.191644340858032)^B28),\"\")","v":0.19164434085803195},{"$f":"IFERROR(F28*T109,\"\")","v":2.8},1,null,{"$f":"IFERROR(IF(I28<=0,\"\",I28*COMBIN(9,5)*COMBIN(5,2)),\"\")","v":1260},200,{"$f":"IFERROR(IF(K28=\"\",\"\",K28*R109/L28),\"\")","v":12.6},{"$f":"IFERROR(IF(K28=\"\",\"\",1-(1-0.223678944288169)^I28),\"\")","v":0.22367894428816903},{"$f":"IFERROR(M28*T109,\"\")","v":6.3},1,null,{"$f":"IFERROR(IF(P28<=0,\"\",P28*COMBIN(10,5)*COMBIN(5,2)),\"\")","v":2520},200,{"$f":"IFERROR(IF(R28=\"\",\"\",R28*R109/S28),\"\")","v":25.2},{"$f":"IFERROR(IF(R28=\"\",\"\",1-(1-0.256686958695681)^P28),\"\")","v":0.25668695869568103},{"$f":"IFERROR(T28*T109,\"\")","v":12.6},{"$f":"$I$81","v":"EuroJackpot 15"},{"$f":"$J$82","v":15},{"$f":"$I$82","v":300},{"$f":"IFERROR(ROUND($K$86,10),\"\")","v":0.4},{"$f":"$N$86","v":0.35730396260210484},{"$f":"IFERROR(ROUND($J$86,10),\"\")","v":0.25},0.4]
[null,1,null,{"$f":"IFERROR(IF(B29<=0,\"\",B29),\"\")","v":1},1,{"$f":"IFERROR(IF(D29=\"\",\"\",D29*R109/E29),\"\")","v":2},{"$f":"IFERROR(IF(D29=\"\",\"\",1-(1-0.0314162529026412)^B29),\"\")","v":3.1416252902641162E-2},{"$f":"IFERROR(F29*T109,\"\")","v":1},1,null,{"$f":"IFERROR(IF(I29<=0,\"\",I29),\"\")","v":1},1,{"$f":"IFERROR(IF(K29=\"\",\"\",K29*R109/L29),\"\")","v":2},{"$f":"IFERROR(IF(K29=\"\",\"\",1-(1-0.0314162529026412)^I29),\"\")","v":3.1416252902641162E-2},{"$f":"IFERROR(M29*T109,\"\")","v":1},1,null,{"$f":"IFERROR(IF(P29<=0,\"\",P29),\"\")","v":1},1,{"$f":"IFERROR(IF(R29=\"\",\"\",R29*R109/S29),\"\")","v":2},{"$f":"IFERROR(IF(R29=\"\",\"\",1-(1-0.0314162529026412)^P29),\"\")","v":3.1416252902641162E-2},{"$f":"IFERROR(T29*T109,\"\")","v":1},{"$f":"$B$61","v":"EuroJackpot Super-Chance"},{"$f":"$C$62","v":6},{"$f":"$B$62","v":500},{"$f":"IFERROR(ROUND($D$68,10),\"\")","v":0.38666666669999999},{"$f":"$G$68","v":0.6121756001434433},{"$f":"IFERROR(ROUND($C$68,10),\"\")","v":0.29310344830000001},0.38666666669999999]
[null,"Aufpreis:",{"$f":"IFERROR(C26/F30-1,\"\")","v":0.32743362831858414},{"$f":"IFERROR(H30/C26,\"\")","v":0.37666666666666665},null,{"$f":"IF(SUM(F27:F29)=0,\"\",SUM(F27:F29))","v":9.0399999999999991},{"$f":"IF(SUM(G27:G29)=0,\"\",1-(1-IF(G27=\"\",0,G27))*(1-IF(G28=\"\",0,G28))*(1-IF(G29=\"\",0,G29)))","v":0.48212344084930314},{"$f":"IF(SUM(H27:H29)=0,\"\",SUM(H27:H29))","v":4.5199999999999996},"Aufpreis:",{"$f":"IFERROR(J26/M30-1,\"\")","v":5.9850374064837952E-2},{"$f":"IFERROR(O30/J26,\"\")","v":0.47176470588235292},null,{"$f":"IF(SUM(M27:M29)=0,\"\",SUM(M27:M29))","v":16.04},{"$f":"IF(SUM(N27:N29)=0,\"\",1-(1-IF(N27=\"\",0,N27))*(1-IF(N28=\"\",0,N28))*(1-IF(N29=\"\",0,N29)))","v":0.50264654848210677},{"$f":"IF(SUM(O27:O29)=0,\"\",SUM(O27:O29))","v":8.02},"Aufpreis:",{"$f":"IFERROR(Q26/T30-1,\"\")","v":-5.7262569832402299E-2},{"$f":"IFERROR(V30/Q26,\"\")","v":0.53037037037037038},null,{"$f":"IF(SUM(T27:T29)=0,\"\",SUM(T27:T29))","v":28.64},{"$f":"IF(SUM(U27:U29)=0,\"\",1-(1-IF(U27=\"\",0,U27))*(1-IF(U28=\"\",0,U28))*(1-IF(U29=\"\",0,U29)))","v":0.52379327607958959},{"$f":"IF(SUM(V27:V29)=0,\"\",SUM(V27:V29))","v":14.32},{"$f":"$B$25","v":"EuroJackpot XXL-Chance"},{"$f":"$C$26","v":12},{"$f":"$B$26","v":705},{"$f":"IFERROR(ROUND($D$30,10),\"\")","v":0.37666666669999999},{"$f":"$G$30","v":0.48212344084930314},{"$f":"IFERROR(ROUND($C$30,10),\"\")","v":0.3274336283},0.37666666669999999]
[null,null,null,null,null,null,null,null,null,null,null,null,null,null,null,null,null,null,null,null,null,null,{"$f":"$B$2","v":"LOTTO 6/45 XXL-Chance"},{"$f":"$C$3","v":6},{"$f":"$B$3","v":210.99999999999997},{"$f":"IFERROR(ROUND($D$6,10),\"\")","v":0.37105979430000002},{"$f":"$G$6","v":0.37380409679026638},{"$f":"IFERROR(ROUND($C$6,10),\"\")","v":0.25},0.37105979430000002]
[null,null,null,null,null,null,null,null,null,null,null,null,null,null,null,null,null,null,null,null,null,null,{"$f":"$I$61","v":"EuroJackpot Super-Chance"},{"$f":"$J$62","v":10},{"$f":"$I$62","v":1000},{"$f":"IFERROR(ROUND($K$68,10),\"\")","v":0.35849999999999999},{"$f":"$N$68","v":0.64785493141329664},{"$f":"IFERROR(ROUND($J$68,10),\"\")","v":0.39470013949999999},0.35849999999999999]
[null,"EuroMillions XXL-Chance",null,"Tipp-\nfelder","An-\nteile","Fairer\nPreis","Gewinn-\nChance",null,"EuroMillions XXL-Chance",null,"Tipp-\nfelder","An-\nteile","Fairer\nPreis","Gewinn-\nChance",null,"EuroMillions XXL-Chance",null,"Tipp-\nfelder","An-\nteile","Fairer\nPreis","Gewinn-\nChance",null,{"$f":"$P$71","v":"EuroMillions Super-Chance"},{"$f":"$Q$72","v":24},{"$f":"$P$72","v":2500},{"$f":"IFERROR(ROUND($R$78,10),\"\")","v":0.34466666670000001},{"$f":"$U$78","v":0.96519164679076375},{"$f":"IFERROR(ROUND($Q$78,10),\"\")","v":6.3829787200000002E-2},0.34466666670000001]
[null,{"$f":"IF(SUM(D35:D37)=0,\"\",SUM(D35:D37))","v":705},13,null,null,null,null,null,{"$f":"IF(SUM(K35:K37)=0,\"\",SUM(K35:K37))","v":1405},18,null,null,null,null,null,{"$f":"IF(SUM(R35:R37)=0,\"\",SUM(R35:R37))","v":2665},28,null,null,null,null,null,{"$f":"$B$33","v":"EuroMillions XXL-Chance"},{"$f":"$C$34","v":13},{"$f":"$B$34","v":705},{"$f":"IFERROR(ROUND($D$38,10),\"\")","v":0.32289230769999999},{"$f":"$G$38","v":0.6126113506847719},{"$f":"IFERROR(ROUND($C$38,10),\"\")","v":0.1355695318},0.32289230769999999]
[null,4,null,{"$f":"IFERROR(IF(B35<=0,\"\",B35*COMBIN(6,5)*COMBIN(4,2)),\"\")","v":144},250,{"$f":"IFERROR(IF(D35=\"\",\"\",D35*R110/E35),\"\")","v":1.728},{"$f":"IFERROR(IF(D35=\"\",\"\",1-(1-0.137954275142064)^B35),\"\")","v":0.44776845693803746},{"$f":"IFERROR(F35*T110,\"\")","v":0.6336000000000005},4,null,{"$f":"IFERROR(IF(I35<=0,\"\",I35*COMBIN(6,5)*COMBIN(4,2)),\"\")","v":144},250,{"$f":"IFERROR(IF(K35=\"\",\"\",K35*R110/L35),\"\")","v":1.728},{"$f":"IFERROR(IF(K35=\"\",\"\",1-(1-0.137954275142064)^I35),\"\")","v":0.44776845693803746},{"$f":"IFERROR(M35*T110,\"\")","v":0.6336000000000005},4,null,{"$f":"IFERROR(IF(P35<=0,\"\",P35*COMBIN(6,5)*COMBIN(4,2)),\"\")","v":144},250,{"$f":"IFERROR(IF(R35=\"\",\"\",R35*R110/S35),\"\")","v":1.728},{"$f":"IFERROR(IF(R35=\"\",\"\",1-(1-0.137954275142064)^P35),\"\")","v":0.44776845693803746},{"$f":"IFERROR(T35*T110,\"\")","v":0.6336000000000005},{"$f":"$B$71","v":"EuroMillions Super-Chance"},{"$f":"$C$72","v":8},{"$f":"$B$72","v":500},{"$f":"IFERROR(ROUND($D$78,10),\"\")","v":0.31900000000000001},{"$f":"$G$78","v":0.78924137174792186},{"$f":"IFERROR(ROUND($C$78,10),\"\")","v":0.1494252874},0.31900000000000001]
[null,1,null,{"$f":"IFERROR(IF(B36<=0,\"\",B36*COMBIN(8,5)*COMBIN(5,2)),\"\")","v":560},250,{"$f":"IFERROR(IF(D36=\"\",\"\",D36*R110/E36),\"\")","v":6.72},{"$f":"IFERROR(IF(D36=\"\",\"\",1-(1-0.239916143061379)^B36),\"\")","v":0.23991614306137898},{"$f":"IFERROR(F36*T110,\"\")","v":2.4640000000000022},1,null,{"$f":"IFERROR(IF(I36<=0,\"\",I36*COMBIN(9,5)*COMBIN(5,2)),\"\")","v":1260},250,{"$f":"IFERROR(IF(K36=\"\",\"\",K36*R110/L36),\"\")","v":15.12},{"$f":"IFERROR(IF(K36=\"\",\"\",1-(1-0.281309565286042)^I36),\"\")","v":0.28130956528604201},{"$f":"IFERROR(M36*T110,\"\")","v":5.544000000000004},1,null,{"$f":"IFERROR(IF(P36<=0,\"\",P36*COMBIN(10,5)*COMBIN(5,2)),\"\")","v":2520},250,{"$f":"IFERROR(IF(R36=\"\",\"\",R36*R110/S36),\"\")","v":30.24},{"$f":"IFERROR(IF(R36=\"\",\"\",1-(1-0.323454141559071)^P36),\"\")","v":0.32345414155907104},{"$f":"IFERROR(T36*T110,\"\")","v":11.088000000000008},{"$f":"$I$71","v":"EuroMillions Super-Chance"},{"$f":"$J$72","v":12},{"$f":"$I$72","v":1000},{"$f":"IFERROR(ROUND($K$78,10),\"\")","v":0.25529166669999998},{"$f":"$N$78","v":0.766504194519113},{"$f":"IFERROR(ROUND($J$78,10),\"\")","v":0.43626570920000002},0.25529166669999998]
[null,1,null,{"$f":"IFERROR(IF(B37<=0,\"\",B37),\"\")","v":1},1,{"$f":"IFERROR(IF(D37=\"\",\"\",D37*R110/E37),\"\")","v":3},{"$f":"IFERROR(IF(D37=\"\",\"\",1-(1-0.0770797541958504)^B37),\"\")","v":7.7079754195850447E-2},{"$f":"IFERROR(F37*T110,\"\")","v":1.100000000000001},1,null,{"$f":"IFERROR(IF(I37<=0,\"\",I37),\"\")","v":1},1,{"$f":"IFERROR(IF(K37=\"\",\"\",K37*R110/L37),\"\")","v":3},{"$f":"IFERROR(IF(K37=\"\",\"\",1-(1-0.0770797541958504)^I37),\"\")","v":7.7079754195850447E-2},{"$f":"IFERROR(M37*T110,\"\")","v":1.100000000000001},1,null,{"$f":"IFERROR(IF(P37<=0,\"\",P37),\"\")","v":1},1,{"$f":"IFERROR(IF(R37=\"\",\"\",R37*R110/S37),\"\")","v":3},{"$f":"IFERROR(IF(R37=\"\",\"\",1-(1-0.0770797541958504)^P37),\"\")","v":7.7079754195850447E-2},{"$f":"IFERROR(T37*T110,\"\")","v":1.100000000000001},{"$f":"$P$81","v":"PowerBall Super-Chance"},{"$f":"$Q$82","v":15},{"$f":"$P$82","v":1000},{"$f":"IFERROR(ROUND($R$87,10),\"\")","v":0.1219202621},{"$f":"$U$87","v":0.53331197309075906},{"$f":"IFERROR(ROUND($Q$87,10),\"\")","v":0.25},0.1219202621]
[null,"Aufpreis:",{"$f":"IFERROR(C34/F38-1,\"\")","v":0.13556953179594688},{"$f":"IFERROR(H38/C34,\"\")","v":0.32289230769230792},null,{"$f":"IF(SUM(F35:F37)=0,\"\",SUM(F35:F37))","v":11.448},{"$f":"IF(SUM(G35:G37)=0,\"\",1-(1-IF(G35=\"\",0,G35))*(1-IF(G36=\"\",0,G36))*(1-IF(G37=\"\",0,G37)))","v":0.6126113506847719},{"$f":"IF(SUM(H35:H37)=0,\"\",SUM(H35:H37))","v":4.1976000000000031},"Aufpreis:",{"$f":"IFERROR(J34/M38-1,\"\")","v":-9.3107617896009631E-2},{"$f":"IFERROR(O38/J34,\"\")","v":0.4043111111111114},null,{"$f":"IF(SUM(M35:M37)=0,\"\",SUM(M35:M37))","v":19.847999999999999},{"$f":"IF(SUM(N35:N37)=0,\"\",1-(1-IF(N35=\"\",0,N35))*(1-IF(N36=\"\",0,N36))*(1-IF(N37=\"\",0,N37)))","v":0.63370815701707905},{"$f":"IF(SUM(O35:O37)=0,\"\",SUM(O35:O37))","v":7.277600000000005},"Aufpreis:",{"$f":"IFERROR(Q34/T38-1,\"\")","v":-0.19926790208190348},{"$f":"IFERROR(V38/Q34,\"\")","v":0.45791428571428611},null,{"$f":"IF(SUM(T35:T37)=0,\"\",SUM(T35:T37))","v":34.968000000000004},{"$f":"IF(SUM(U35:U37)=0,\"\",1-(1-IF(U35=\"\",0,U35))*(1-IF(U36=\"\",0,U36))*(1-IF(U37=\"\",0,U37)))","v":0.65518780078181926},{"$f":"IF(SUM(V35:V37)=0,\"\",SUM(V35:V37))","v":12.821600000000011},{"$f":"$P$90","v":"MegaMillions Super-Chance "},{"$f":"$Q$91","v":15},{"$f":"$P$91","v":1000},{"$f":"IFERROR(ROUND($R$96,10),\"\")","v":0.1078843585},{"$f":"$U$96","v":0.54406151475499431},{"$f":"IFERROR(ROUND($Q$96,10),\"\")","v":0.25},0.1078843585]
[null,null,null,null,null,null,null,null,null,null,null,null,null,null,null,null,null,null,null,null,null,null,null,null,null,null,null,null,2.6266443462298454]
[null,null,null,null,null,null,null,null,null,null,null,null,null,null,null,null,null,null,null,null,null,null,null,null,null,null,null,null,2.5912993318705739]
[null,"LOTTO 6/49 Super-Chance",null,"Tipp-\nfelder","An-\nteile","Fairer\nPreis","Gewinn-\nChance",null,"LOTTO 6/49 Super-Chance",null,"Tipp-\nfelder","An-\nteile","Fairer\nPreis","Gewinn-\nChance",null,"LOTTO 6/49 Super-Chance",null,"Tipp-\nfelder","An-\nteile","Fairer\nPreis","Gewinn-\nChance",null,null,null,null,null,null,null,2.538470248206012]
[null,{"$f":"IF(SUM(D43:D47)=0,\"\",SUM(D43:D47))","v":500},5,null,null,null,null,null,{"$f":"IF(SUM(K43:K47)=0,\"\",SUM(K43:K47))","v":999.99999999999977},10,null,null,null,null,null,{"$f":"IF(SUM(R43:R47)=0,\"\",SUM(R43:R47))","v":2499.9999999999995},20,null,null,null,null,null,null,null,null,null,null,null,2.4472166099189234]
[null,3,null,{"$f":"IFERROR(IF(B43<=0,\"\",B43*COMBIN(7,6)),\"\")","v":21},50,{"$f":"IFERROR(IF(D43=\"\",\"\",D43*R107/E43),\"\")","v":0.504},{"$f":"IFERROR(IF(D43=\"\",\"\",1-(1-0.047760711382358)^B43),\"\")","v":0.13654782376050301},{"$f":"IFERROR(F43*T107,\"\")","v":0.252},2,null,{"$f":"IFERROR(IF(I43<=0,\"\",I43*COMBIN(8,6)),\"\")","v":56},50,{"$f":"IFERROR(IF(K43=\"\",\"\",K43*R107/L43),\"\")","v":1.3440000000000001},{"$f":"IFERROR(IF(K43=\"\",\"\",1-(1-0.067237726812195)^I43),\"\")","v":0.12995454171751863},{"$f":"IFERROR(M43*T107,\"\")","v":0.67200000000000004},3,null,{"$f":"IFERROR(IF(P43<=0,\"\",P43*COMBIN(9,6)),\"\")","v":251.99999999999994},50,{"$f":"IFERROR(IF(R43=\"\",\"\",R43*R107/S43),\"\")","v":6.0479999999999983},{"$f":"IFERROR(IF(R43=\"\",\"\",1-(1-0.0902706385724755)^P43),\"\")","v":0.24710114746592715},{"$f":"IFERROR(T43*T107,\"\")","v":3.0239999999999991},null,null,null,null,null,null,2.4367404468124034]
[null,3,null,{"$f":"IFERROR(IF(B44<=0,\"\",B44*COMBIN(8,6)),\"\")","v":84},100,{"$f":"IFERROR(IF(D44=\"\",\"\",D44*R107/E44),\"\")","v":1.008},{"$f":"IFERROR(IF(D44=\"\",\"\",1-(1-0.067237726812195)^B44),\"\")","v":0.18845442055570705},{"$f":"IFERROR(F44*T107,\"\")","v":0.504},3,null,{"$f":"IFERROR(IF(I44<=0,\"\",I44*COMBIN(9,6)),\"\")","v":251.99999999999994},100,{"$f":"IFERROR(IF(K44=\"\",\"\",K44*R107/L44),\"\")","v":3.0239999999999991},{"$f":"IFERROR(IF(K44=\"\",\"\",1-(1-0.0902706385724755)^I44),\"\")","v":0.24710114746592715},{"$f":"IFERROR(M44*T107,\"\")","v":1.5119999999999996},4,null,{"$f":"IFERROR(IF(P44<=0,\"\",P44*COMBIN(10,6)),\"\")","v":839.99999999999989},100,{"$f":"IFERROR(IF(R44=\"\",\"\",R44*R107/S44),\"\")","v":10.079999999999998},{"$f":"IFERROR(IF(R44=\"\",\"\",1-(1-0.116739057493319)^P44),\"\")","v":0.39136614514206802},{"$f":"IFERROR(T44*T107,\"\")","v":5.0399999999999991},null,null,null,null,null,null,2.3755910562045237]
[null,2,null,{"$f":"IFERROR(IF(B45<=0,\"\",B45*COMBIN(9,6)),\"\")","v":167.99999999999997},200,{"$f":"IFERROR(IF(D45=\"\",\"\",D45*R107/E45),\"\")","v":1.0079999999999998},{"$f":"IFERROR(IF(D45=\"\",\"\",1-(1-0.0902706385724755)^B45),\"\")","v":0.17239248895666859},{"$f":"IFERROR(F45*T107,\"\")","v":0.50399999999999989},1,null,{"$f":"IFERROR(IF(I45<=0,\"\",I45*COMBIN(10,6)),\"\")","v":209.99999999999997},200,{"$f":"IFERROR(IF(K45=\"\",\"\",K45*R107/L45),\"\")","v":1.2599999999999998},{"$f":"IFERROR(IF(K45=\"\",\"\",1-(1-0.116739057493319)^I45),\"\")","v":0.11673905749331903},{"$f":"IFERROR(M45*T107,\"\")","v":0.62999999999999989},1,null,{"$f":"IFERROR(IF(P45<=0,\"\",P45*COMBIN(11,6)),\"\")","v":461.99999999999994},200,{"$f":"IFERROR(IF(R45=\"\",\"\",R45*R107/S45),\"\")","v":2.7719999999999994},{"$f":"IFERROR(IF(R45=\"\",\"\",1-(1-0.146450046253469)^P45),\"\")","v":0.14645004625346902},{"$f":"IFERROR(T45*T107,\"\")","v":1.3859999999999997},null,null,null,null,null,null,2.1392255073031876]
[null,1,null,{"$f":"IFERROR(IF(B46<=0,\"\",B46*COMBIN(10,6)),\"\")","v":209.99999999999997},200,{"$f":"IFERROR(IF(D46=\"\",\"\",D46*R107/E46),\"\")","v":1.2599999999999998},{"$f":"IFERROR(IF(D46=\"\",\"\",1-(1-0.116739057493319)^B46),\"\")","v":0.11673905749331903},{"$f":"IFERROR(F46*T107,\"\")","v":0.62999999999999989},1,null,{"$f":"IFERROR(IF(I46<=0,\"\",I46*COMBIN(11,6)),\"\")","v":461.99999999999994},200,{"$f":"IFERROR(IF(K46=\"\",\"\",K46*R107/L46),\"\")","v":2.7719999999999994},{"$f":"IFERROR(IF(K46=\"\",\"\",1-(1-0.146450046253469)^I46),\"\")","v":0.14645004625346902},{"$f":"IFERROR(M46*T107,\"\")","v":1.3859999999999997},1,null,{"$f":"IFERROR(IF(P46<=0,\"\",P46*COMBIN(12,6)),\"\")","v":923.99999999999977},200,{"$f":"IFERROR(IF(R46=\"\",\"\",R46*R107/S46),\"\")","v":5.5439999999999987},{"$f":"IFERROR(IF(R46=\"\",\"\",1-(1-0.179149596934056)^P46),\"\")","v":0.17914959693405597},{"$f":"IFERROR(T46*T107,\"\")","v":2.7719999999999994},null,null,null,null,null,null,1.8311106491338149]
[null,17,null,{"$f":"IFERROR(IF(B47<=0,\"\",B47),\"\")","v":17},17,{"$f":"IFERROR(IF(D47=\"\",\"\",D47*R107/E47),\"\")","v":1.2},{"$f":"IFERROR(IF(D47=\"\",\"\",1-(1-0.0318753479021749)^B47),\"\")","v":0.4234569468589825},{"$f":"IFERROR(F47*T107,\"\")","v":0.6},20,null,{"$f":"IFERROR(IF(I47<=0,\"\",I47),\"\")","v":20},20,{"$f":"IFERROR(IF(K47=\"\",\"\",K47*R107/L47),\"\")","v":1.2},{"$f":"IFERROR(IF(K47=\"\",\"\",1-(1-0.0318753479021749)^I47),\"\")","v":0.47685078168997064},{"$f":"IFERROR(M47*T107,\"\")","v":0.6},22,null,{"$f":"IFERROR(IF(P47<=0,\"\",P47),\"\")","v":22},22,{"$f":"IFERROR(IF(R47=\"\",\"\",R47*R107/S47),\"\")","v":1.2},{"$f":"IFERROR(IF(R47=\"\",\"\",1-(1-0.0318753479021749)^P47),\"\")","v":0.50967036898386109},{"$f":"IFERROR(T47*T107,\"\")","v":0.6},null,null,null,null,null,null,1.5614498372772545]
[null,"Aufpreis:",{"$f":"IFERROR(C42/F48-1,\"\")","v":4.0160642570281624E-3},{"$f":"IFERROR(H48/C42,\"\")","v":0.49799999999999994},null,{"$f":"IF(SUM(F43:F47)=0,\"\",SUM(F43:F47))","v":4.9799999999999995},{"$f":"IF(SUM(G43:G47)=0,\"\",1-(1-IF(G43=\"\",0,G43))*(1-IF(G44=\"\",0,G44))*(1-IF(G45=\"\",0,G45))*(1-IF(G46=\"\",0,G46))*(1-IF(G47=\"\",0,G47)))","v":0.70467759362838611},{"$f":"IF(SUM(H43:H47)=0,\"\",SUM(H43:H47))","v":2.4899999999999998},"Aufpreis:",{"$f":"IFERROR(J42/M48-1,\"\")","v":4.1666666666666963E-2},{"$f":"IFERROR(O48/J42,\"\")","v":0.47999999999999987},null,{"$f":"IF(SUM(M43:M47)=0,\"\",SUM(M43:M47))","v":9.5999999999999979},{"$f":"IF(SUM(N43:N47)=0,\"\",1-(1-IF(N43=\"\",0,N43))*(1-IF(N44=\"\",0,N44))*(1-IF(N45=\"\",0,N45))*(1-IF(N46=\"\",0,N46))*(1-IF(N47=\"\",0,N47)))","v":0.74164187149547756},{"$f":"IF(SUM(O43:O47)=0,\"\",SUM(O43:O47))","v":4.7999999999999989},"Aufpreis:",{"$f":"IFERROR(Q42/T48-1,\"\")","v":-0.22009046950553723},{"$f":"IFERROR(V48/Q42,\"\")","v":0.64109999999999989},null,{"$f":"IF(SUM(T43:T47)=0,\"\",SUM(T43:T47))","v":25.643999999999995},{"$f":"IF(SUM(U43:U47)=0,\"\",1-(1-IF(U43=\"\",0,U43))*(1-IF(U44=\"\",0,U44))*(1-IF(U45=\"\",0,U45))*(1-IF(U46=\"\",0,U46))*(1-IF(U47=\"\",0,U47)))","v":0.84257495032504137},{"$f":"IF(SUM(V43:V47)=0,\"\",SUM(V43:V47))","v":12.821999999999997},null,null,null,null,null,null,1.4166379410929544]
[null,null,null,null,null,null,null,null,null,null,null,null,null,null,null,null,null,null,null,null,null,null,null,null,null,null,null,null,1.2515790139871501]
[null,null,null,null,null,null,null,null,null,null,null,null,null,null,null,null,null,null,null,null,null,null,null,null,null,null,null,null,1.1855196499571619]
[null,"SuperLotto Super-Chance",null,"Tipp-\nfelder","An-\nteile","Fairer\nPreis","Gewinn-\nChance",null,"SuperLotto Super-Chance",null,"Tipp-\nfelder","An-\nteile","Fairer\nPreis","Gewinn-\nChance",null,"SuperLotto Super-Chance",null,"Tipp-\nfelder","An-\nteile","Fairer\nPreis","Gewinn-\nChance",null,null,null,null,null,null,null,1.0696738745636267]
[null,{"$f":"IF(SUM(D53:D57)=0,\"\",SUM(D53:D57))","v":500},5,null,null,null,null,null,{"$f":"IF(SUM(K53:K57)=0,\"\",SUM(K53:K57))","v":999.99999999999977},10,null,null,null,null,null,{"$f":"IF(SUM(R53:R57)=0,\"\",SUM(R53:R57))","v":2499.9999999999995},20,null,null,null,null,null,null,null,null,null,null,null,1.0323977839811544]
[null,3,null,{"$f":"IFERROR(IF(B53<=0,\"\",B53*COMBIN(7,6)),\"\")","v":21},50,{"$f":"IFERROR(IF(D53=\"\",\"\",D53*R108/E53),\"\")","v":0.63},{"$f":"IFERROR(IF(D53=\"\",\"\",1-(1-0.393770833814168)^B53),\"\")","v":0.77720241429154235},{"$f":"IFERROR(F53*T108,\"\")","v":0.22608746926970216},2,null,{"$f":"IFERROR(IF(I53<=0,\"\",I53*COMBIN(8,6)),\"\")","v":56},50,{"$f":"IFERROR(IF(K53=\"\",\"\",K53*R108/L53),\"\")","v":1.68},{"$f":"IFERROR(IF(K53=\"\",\"\",1-(1-0.437594628960132)^I53),\"\")","v":0.68370019862550846},{"$f":"IFERROR(M53*T108,\"\")","v":0.60289991805253906},3,null,{"$f":"IFERROR(IF(P53<=0,\"\",P53*COMBIN(9,6)),\"\")","v":251.99999999999994},50,{"$f":"IFERROR(IF(R53=\"\",\"\",R53*R108/S53),\"\")","v":7.5599999999999978},{"$f":"IFERROR(IF(R53=\"\",\"\",1-(1-0.478746241475245)^P53),\"\")","v":0.85837249693363882},{"$f":"IFERROR(T53*T108,\"\")","v":2.7130496312364252},null,null,null,null,null,null,0.62985876567110721]
[4,3,null,{"$f":"IFERROR(IF(B54<=0,\"\",B54*COMBIN(8,6)),\"\")","v":84},100,{"$f":"IFERROR(IF(D54=\"\",\"\",D54*R108/E54),\"\")","v":1.26},{"$f":"IFERROR(IF(D54=\"\",\"\",1-(1-0.437594628960132)^B54),\"\")","v":0.82211129284814255},{"$f":"IFERROR(F54*T108,\"\")","v":0.45217493853940433},3,null,{"$f":"IFERROR(IF(I54<=0,\"\",I54*COMBIN(9,6)),\"\")","v":251.99999999999994},100,{"$f":"IFERROR(IF(K54=\"\",\"\",K54*R108/L54),\"\")","v":3.7799999999999989},{"$f":"IFERROR(IF(K54=\"\",\"\",1-(1-0.478746241475245)^I54),\"\")","v":0.85837249693363882},{"$f":"IFERROR(M54*T108,\"\")","v":1.3565248156182126},4,null,{"$f":"IFERROR(IF(P54<=0,\"\",P54*COMBIN(10,6)),\"\")","v":839.99999999999989},100,{"$f":"IFERROR(IF(R54=\"\",\"\",R54*R108/S54),\"\")","v":12.599999999999998},{"$f":"IFERROR(IF(R54=\"\",\"\",1-(1-0.517357630995597)^P54),\"\")","v":0.94573725296248101},{"$f":"IFERROR(T54*T108,\"\")","v":4.5217493853940427},null,null,null,null,null,null,0.62055602680774125]
[5,2,null,{"$f":"IFERROR(IF(B55<=0,\"\",B55*COMBIN(9,6)),\"\")","v":167.99999999999997},200,{"$f":"IFERROR(IF(D55=\"\",\"\",D55*R108/E55),\"\")","v":1.2599999999999998},{"$f":"IFERROR(IF(D55=\"\",\"\",1-(1-0.478746241475245)^B55),\"\")","v":0.72829451922381638},{"$f":"IFERROR(F55*T108,\"\")","v":0.45217493853940427},1,null,{"$f":"IFERROR(IF(I55<=0,\"\",I55*COMBIN(10,6)),\"\")","v":209.99999999999997},200,{"$f":"IFERROR(IF(K55=\"\",\"\",K55*R108/L55),\"\")","v":1.5749999999999997},{"$f":"IFERROR(IF(K55=\"\",\"\",1-(1-0.517357630995597)^I55),\"\")","v":0.51735763099559695},{"$f":"IFERROR(M55*T108,\"\")","v":0.56521867317425534},1,null,{"$f":"IFERROR(IF(P55<=0,\"\",P55*COMBIN(11,6)),\"\")","v":461.99999999999994},200,{"$f":"IFERROR(IF(R55=\"\",\"\",R55*R108/S55),\"\")","v":3.4649999999999994},{"$f":"IFERROR(IF(R55=\"\",\"\",1-(1-0.553555808670927)^P55),\"\")","v":0.55355580867092702},{"$f":"IFERROR(T55*T108,\"\")","v":1.2434810809833616},null,null,null,null,null,null,0.50144935333514851]
[1000,1,null,{"$f":"IFERROR(IF(B56<=0,\"\",B56*COMBIN(10,6)),\"\")","v":209.99999999999997},200,{"$f":"IFERROR(IF(D56=\"\",\"\",D56*R108/E56),\"\")","v":1.5749999999999997},{"$f":"IFERROR(IF(D56=\"\",\"\",1-(1-0.517357630995597)^B56),\"\")","v":0.51735763099559695},{"$f":"IFERROR(F56*T108,\"\")","v":0.56521867317425534},1,null,{"$f":"IFERROR(IF(I56<=0,\"\",I56*COMBIN(11,6)),\"\")","v":461.99999999999994},200,{"$f":"IFERROR(IF(K56=\"\",\"\",K56*R108/L56),\"\")","v":3.4649999999999994},{"$f":"IFERROR(IF(K56=\"\",\"\",1-(1-0.553555808670927)^I56),\"\")","v":0.55355580867092702},{"$f":"IFERROR(M56*T108,\"\")","v":1.2434810809833616},1,null,{"$f":"IFERROR(IF(P56<=0,\"\",P56*COMBIN(12,6)),\"\")","v":923.99999999999977},200,{"$f":"IFERROR(IF(R56=\"\",\"\",R56*R108/S56),\"\")","v":6.9299999999999979},{"$f":"IFERROR(IF(R56=\"\",\"\",1-(1-0.587462962442755)^P56),\"\")","v":0.58746296244275498},{"$f":"IFERROR(T56*T108,\"\")","v":2.4869621619667233}]
[50000,17,null,{"$f":"IFERROR(IF(B57<=0,\"\",B57),\"\")","v":17},17,{"$f":"IFERROR(IF(D57=\"\",\"\",D57*R108/E57),\"\")","v":1.5},{"$f":"IFERROR(IF(D57=\"\",\"\",1-(1-0.347137821030643)^B57),\"\")","v":0.99928884269916696},{"$f":"IFERROR(F57*T108,\"\")","v":0.53830349826119561},20,null,{"$f":"IFERROR(IF(I57<=0,\"\",I57),\"\")","v":20},20,{"$f":"IFERROR(IF(K57=\"\",\"\",K57*R108/L57),\"\")","v":1.5},{"$f":"IFERROR(IF(K57=\"\",\"\",1-(1-0.347137821030643)^I57),\"\")","v":0.99980210710429929},{"$f":"IFERROR(M57*T108,\"\")","v":0.53830349826119561},22,null,{"$f":"IFERROR(IF(P57<=0,\"\",P57),\"\")","v":22},22,{"$f":"IFERROR(IF(R57=\"\",\"\",R57*R108/S57),\"\")","v":1.5},{"$f":"IFERROR(IF(R57=\"\",\"\",1-(1-0.347137821030643)^P57),\"\")","v":0.99991565230406476},{"$f":"IFERROR(T57*T108,\"\")","v":0.53830349826119561}]
[{"$f":"SUM(A54:A57)","v":51009},"Aufpreis:",{"$f":"IFERROR(C52/F58-1,\"\")","v":-0.19678714859437751},{"$f":"IFERROR(H58/C52,\"\")","v":0.44679190355679238},null,{"$f":"IF(SUM(F53:F57)=0,\"\",SUM(F53:F57))","v":6.2249999999999996},{"$f":"IF(SUM(G53:G57)=0,\"\",1-(1-IF(G53=\"\",0,G53))*(1-IF(G54=\"\",0,G54))*(1-IF(G55=\"\",0,G55))*(1-IF(G56=\"\",0,G56))*(1-IF(G57=\"\",0,G57)))","v":0.99999630386032068},{"$f":"IF(SUM(H53:H57)=0,\"\",SUM(H53:H57))","v":2.233959517783962},"Aufpreis:",{"$f":"IFERROR(J52/M58-1,\"\")","v":-0.16666666666666652},{"$f":"IFERROR(O58/J52,\"\")","v":0.43064279860895638},null,{"$f":"IF(SUM(M53:M57)=0,\"\",SUM(M53:M57))","v":11.999999999999998},{"$f":"IF(SUM(N53:N57)=0,\"\",1-(1-IF(N53=\"\",0,N53))*(1-IF(N54=\"\",0,N54))*(1-IF(N55=\"\",0,N55))*(1-IF(N56=\"\",0,N56))*(1-IF(N57=\"\",0,N57)))","v":0.99999808984177929},{"$f":"IF(SUM(O53:O57)=0,\"\",SUM(O53:O57))","v":4.306427986089564},"Aufpreis:",{"$f":"IFERROR(Q52/T58-1,\"\")","v":-0.37607237560442974},{"$f":"IFERROR(V58/Q52,\"\")","v":0.57517728789208733},null,{"$f":"IF(SUM(T53:T57)=0,\"\",SUM(T53:T57))","v":32.054999999999993},{"$f":"IF(SUM(U53:U57)=0,\"\",1-(1-IF(U53=\"\",0,U53))*(1-IF(U54=\"\",0,U54))*(1-IF(U55=\"\",0,U55))*(1-IF(U56=\"\",0,U56))*(1-IF(U57=\"\",0,U57)))","v":0.99999988061418721},{"$f":"IF(SUM(V53:V57)=0,\"\",SUM(V53:V57))","v":11.503545757841747}]
[]
[]
[null,"EuroJackpot Super-Chance",null,"Tipp-\nfelder","An-\nteile","Fairer\nPreis","Gewinn-\nChance",null,"EuroJackpot Super-Chance",null,"Tipp-\nfelder","An-\nteile","Fairer\nPreis","Gewinn-\nChance",null,"EuroJackpot Super-Chance",null,"Tipp-\nfelder","An-\nteile","Fairer\nPreis","Gewinn-\nChance"]
[null,{"$f":"IF(SUM(D63:D67)=0,\"\",SUM(D63:D67))","v":500},6,null,null,null,null,null,{"$f":"IF(SUM(K63:K67)=0,\"\",SUM(K63:K67))","v":1000},10,null,null,null,null,null,{"$f":"IF(SUM(R63:R67)=0,\"\",SUM(R63:R67))","v":2500},20]
[null,1,null,{"$f":"IFERROR(IF(B63<=0,\"\",B63*COMBIN(6,5)*COMBIN(4,2)),\"\")","v":36},200,{"$f":"IFERROR(IF(D63=\"\",\"\",D63*R109/E63),\"\")","v":0.36},{"$f":"IFERROR(IF(D63=\"\",\"\",1-(1-0.0981762917933131)^B63),\"\")","v":9.8176291793313109E-2},{"$f":"IFERROR(F63*T109,\"\")","v":0.18},3,null,{"$f":"IFERROR(IF(I63<=0,\"\",I63*COMBIN(6,5)*COMBIN(4,2)),\"\")","v":108},200,{"$f":"IFERROR(IF(K63=\"\",\"\",K63*R109/L63),\"\")","v":1.08},{"$f":"IFERROR(IF(K63=\"\",\"\",1-(1-0.0981762917933131)^I63),\"\")","v":0.26655940303087611},{"$f":"IFERROR(M63*T109,\"\")","v":0.54},4,null,{"$f":"IFERROR(IF(P63<=0,\"\",P63*COMBIN(6,5)*COMBIN(5,2)),\"\")","v":240},100,{"$f":"IFERROR(IF(R63=\"\",\"\",R63*R109/S63),\"\")","v":4.8},{"$f":"IFERROR(IF(R63=\"\",\"\",1-(1-0.131419320734769)^P63),\"\")","v":0.43083175927294171},{"$f":"IFERROR(T63*T109,\"\")","v":2.4}]
[null,1,null,{"$f":"IFERROR(IF(B64<=0,\"\",B64*COMBIN(7,5)*COMBIN(4,2)),\"\")","v":126},300,{"$f":"IFERROR(IF(D64=\"\",\"\",D64*R109/E64),\"\")","v":0.84},{"$f":"IFERROR(IF(D64=\"\",\"\",1-(1-0.123127935893893)^B64),\"\")","v":0.12312793589389304},{"$f":"IFERROR(F64*T109,\"\")","v":0.42},2,null,{"$f":"IFERROR(IF(I64<=0,\"\",I64*COMBIN(6,5)*COMBIN(5,2)),\"\")","v":120},300,{"$f":"IFERROR(IF(K64=\"\",\"\",K64*R109/L64),\"\")","v":0.8},{"$f":"IFERROR(IF(K64=\"\",\"\",1-(1-0.131419320734769)^I64),\"\")","v":0.24556760360715002},{"$f":"IFERROR(M64*T109,\"\")","v":0.4},2,null,{"$f":"IFERROR(IF(P64<=0,\"\",P64*COMBIN(7,5)*COMBIN(5,2)),\"\")","v":420},200,{"$f":"IFERROR(IF(R64=\"\",\"\",R64*R109/S64),\"\")","v":4.2},{"$f":"IFERROR(IF(R64=\"\",\"\",1-(1-0.160811548149661)^P64),\"\")","v":0.29576274228103128},{"$f":"IFERROR(T64*T109,\"\")","v":2.1}]
[null,2,null,{"$f":"IFERROR(IF(B65<=0,\"\",B65*COMBIN(6,5)*COMBIN(5,2)),\"\")","v":120},400,{"$f":"IFERROR(IF(D65=\"\",\"\",D65*R109/E65),\"\")","v":0.6},{"$f":"IFERROR(IF(D65=\"\",\"\",1-(1-0.131419320734769)^B65),\"\")","v":0.24556760360715002},{"$f":"IFERROR(F65*T109,\"\")","v":0.3},1,null,{"$f":"IFERROR(IF(I65<=0,\"\",I65*COMBIN(7,5)*COMBIN(5,2)),\"\")","v":210},400,{"$f":"IFERROR(IF(K65=\"\",\"\",K65*R109/L65),\"\")","v":1.05},{"$f":"IFERROR(IF(K65=\"\",\"\",1-(1-0.160811548149661)^I65),\"\")","v":0.16081154814966103},{"$f":"IFERROR(M65*T109,\"\")","v":0.52500000000000002},1,null,{"$f":"IFERROR(IF(P65<=0,\"\",P65*COMBIN(8,5)*COMBIN(5,2)),\"\")","v":560},300,{"$f":"IFERROR(IF(R65=\"\",\"\",R65*R109/S65),\"\")","v":3.7333333333333334},{"$f":"IFERROR(IF(R65=\"\",\"\",1-(1-0.191644340858032)^P65),\"\")","v":0.19164434085803195},{"$f":"IFERROR(T65*T109,\"\")","v":1.8666666666666667}]
[null,1,null,{"$f":"IFERROR(IF(B66<=0,\"\",B66*COMBIN(7,5)*COMBIN(5,2)),\"\")","v":210},500,{"$f":"IFERROR(IF(D66=\"\",\"\",D66*R109/E66),\"\")","v":0.84},{"$f":"IFERROR(IF(D66=\"\",\"\",1-(1-0.160811548149661)^B66),\"\")","v":0.16081154814966103},{"$f":"IFERROR(F66*T109,\"\")","v":0.42},1,null,{"$f":"IFERROR(IF(I66<=0,\"\",I66*COMBIN(8,5)*COMBIN(5,2)),\"\")","v":560},500,{"$f":"IFERROR(IF(K66=\"\",\"\",K66*R109/L66),\"\")","v":2.2400000000000002},{"$f":"IFERROR(IF(K66=\"\",\"\",1-(1-0.191644340858032)^I66),\"\")","v":0.19164434085803195},{"$f":"IFERROR(M66*T109,\"\")","v":1.1200000000000001},1,null,{"$f":"IFERROR(IF(P66<=0,\"\",P66*COMBIN(9,5)*COMBIN(5,2)),\"\")","v":1260},400,{"$f":"IFERROR(IF(R66=\"\",\"\",R66*R109/S66),\"\")","v":6.3},{"$f":"IFERROR(IF(R66=\"\",\"\",1-(1-0.223678944288169)^P66),\"\")","v":0.22367894428816903},{"$f":"IFERROR(T66*T109,\"\")","v":3.15}]
[null,8,null,{"$f":"IFERROR(IF(B67<=0,\"\",B67),\"\")","v":8},8,{"$f":"IFERROR(IF(D67=\"\",\"\",D67*R109/E67),\"\")","v":2},{"$f":"IFERROR(IF(D67=\"\",\"\",1-(1-0.0314162529026412)^B67),\"\")","v":0.2253644602522149},{"$f":"IFERROR(F67*T109,\"\")","v":1},2,null,{"$f":"IFERROR(IF(I67<=0,\"\",I67),\"\")","v":2},2,{"$f":"IFERROR(IF(K67=\"\",\"\",K67*R109/L67),\"\")","v":2},{"$f":"IFERROR(IF(K67=\"\",\"\",1-(1-0.0314162529026412)^I67),\"\")","v":6.1845524858839651E-2},{"$f":"IFERROR(M67*T109,\"\")","v":1},20,null,{"$f":"IFERROR(IF(P67<=0,\"\",P67),\"\")","v":20},20,{"$f":"IFERROR(IF(R67=\"\",\"\",R67*R109/S67),\"\")","v":2},{"$f":"IFERROR(IF(R67=\"\",\"\",1-(1-0.0314162529026412)^P67),\"\")","v":0.47186670729754809},{"$f":"IFERROR(T67*T109,\"\")","v":1}]
[null,"Aufpreis:",{"$f":"IFERROR(C62/F68-1,\"\")","v":0.2931034482758621},{"$f":"IFERROR(H68/C62,\"\")","v":0.38666666666666666},null,{"$f":"IF(SUM(F63:F67)=0,\"\",SUM(F63:F67))","v":4.6399999999999997},{"$f":"IF(SUM(G63:G67)=0,\"\",1-(1-IF(G63=\"\",0,G63))*(1-IF(G64=\"\",0,G64))*(1-IF(G65=\"\",0,G65))*(1-IF(G66=\"\",0,G66))*(1-IF(G67=\"\",0,G67)))","v":0.6121756001434433},{"$f":"IF(SUM(H63:H67)=0,\"\",SUM(H63:H67))","v":2.3199999999999998},"Aufpreis:",{"$f":"IFERROR(J62/M68-1,\"\")","v":0.39470013947001403},{"$f":"IFERROR(O68/J62,\"\")","v":0.35849999999999999},null,{"$f":"IF(SUM(M63:M67)=0,\"\",SUM(M63:M67))","v":7.17},{"$f":"IF(SUM(N63:N67)=0,\"\",1-(1-IF(N63=\"\",0,N63))*(1-IF(N64=\"\",0,N64))*(1-IF(N65=\"\",0,N65))*(1-IF(N66=\"\",0,N66))*(1-IF(N67=\"\",0,N67)))","v":0.64785493141329664},{"$f":"IF(SUM(O63:O67)=0,\"\",SUM(O63:O67))","v":3.585},"Aufpreis:",{"$f":"IFERROR(Q62/T68-1,\"\")","v":-4.9128367670364548E-2},{"$f":"IFERROR(V68/Q62,\"\")","v":0.52583333333333337},null,{"$f":"IF(SUM(T63:T67)=0,\"\",SUM(T63:T67))","v":21.033333333333335},{"$f":"IF(SUM(U63:U67)=0,\"\",1-(1-IF(U63=\"\",0,U63))*(1-IF(U64=\"\",0,U64))*(1-IF(U65=\"\",0,U65))*(1-IF(U66=\"\",0,U66))*(1-IF(U67=\"\",0,U67)))","v":0.86715443796459635},{"$f":"IF(SUM(V63:V67)=0,\"\",SUM(V63:V67))","v":10.516666666666667}]
[]
[]
[null,"EuroMillions Super-Chance",null,"Tipp-\nfelder","An-\nteile","Fairer\nPreis","Gewinn-\nChance",null,"EuroMillions Super-Chance",null,"Tipp-\nfelder","An-\nteile","Fairer\nPreis","Gewinn-\nChance",null,"EuroMillions Super-Chance",null,"Tipp-\nfelder","An-\nteile","Fairer\nPreis","Gewinn-\nChance"]
[null,{"$f":"IF(SUM(D73:D77)=0,\"\",SUM(D73:D77))","v":500},8,null,null,null,null,null,{"$f":"IF(SUM(K73:K77)=0,\"\",SUM(K73:K77))","v":1000},12,null,null,null,null,null,{"$f":"IF(SUM(R73:R77)=0,\"\",SUM(R73:R77))","v":2500},24]
[null,1,null,{"$f":"IFERROR(IF(B73<=0,\"\",B73*COMBIN(6,5)*COMBIN(4,2)),\"\")","v":36},200,{"$f":"IFERROR(IF(D73=\"\",\"\",D73*R110/E73),\"\")","v":0.54},{"$f":"IFERROR(IF(D73=\"\",\"\",1-(1-0.137954275142064)^B73),\"\")","v":0.13795427514206393},{"$f":"IFERROR(F73*T110,\"\")","v":0.19800000000000018},3,null,{"$f":"IFERROR(IF(I73<=0,\"\",I73*COMBIN(6,5)*COMBIN(4,2)),\"\")","v":108},200,{"$f":"IFERROR(IF(K73=\"\",\"\",K73*R110/L73),\"\")","v":1.62},{"$f":"IFERROR(IF(K73=\"\",\"\",1-(1-0.137954275142064)^I73),\"\")","v":0.35939413984917157},{"$f":"IFERROR(M73*T110,\"\")","v":0.59400000000000053},4,null,{"$f":"IFERROR(IF(P73<=0,\"\",P73*COMBIN(6,5)*COMBIN(5,2)),\"\")","v":240},200,{"$f":"IFERROR(IF(R73=\"\",\"\",R73*R110/S73),\"\")","v":3.6},{"$f":"IFERROR(IF(R73=\"\",\"\",1-(1-0.161252808246333)^P73),\"\")","v":0.50509217968383779},{"$f":"IFERROR(T73*T110,\"\")","v":1.3200000000000012}]
[null,1,null,{"$f":"IFERROR(IF(B74<=0,\"\",B74*COMBIN(7,5)*COMBIN(4,2)),\"\")","v":126},300,{"$f":"IFERROR(IF(D74=\"\",\"\",D74*R110/E74),\"\")","v":1.26},{"$f":"IFERROR(IF(D74=\"\",\"\",1-(1-0.175020123262491)^B74),\"\")","v":0.17502012326249106},{"$f":"IFERROR(F74*T110,\"\")","v":0.46200000000000041},2,null,{"$f":"IFERROR(IF(I74<=0,\"\",I74*COMBIN(6,5)*COMBIN(5,2)),\"\")","v":120},300,{"$f":"IFERROR(IF(K74=\"\",\"\",K74*R110/L74),\"\")","v":1.2},{"$f":"IFERROR(IF(K74=\"\",\"\",1-(1-0.161252808246333)^I74),\"\")","v":0.29650314832533742},{"$f":"IFERROR(M74*T110,\"\")","v":0.44000000000000034},2,null,{"$f":"IFERROR(IF(P74<=0,\"\",P74*COMBIN(7,5)*COMBIN(5,2)),\"\")","v":420},300,{"$f":"IFERROR(IF(R74=\"\",\"\",R74*R110/S74),\"\")","v":4.2},{"$f":"IFERROR(IF(R74=\"\",\"\",1-(1-0.199730688676109)^P74),\"\")","v":0.35956902935318524},{"$f":"IFERROR(T74*T110,\"\")","v":1.5400000000000014}]
[null,2,null,{"$f":"IFERROR(IF(B75<=0,\"\",B75*COMBIN(6,5)*COMBIN(5,2)),\"\")","v":120},400,{"$f":"IFERROR(IF(D75=\"\",\"\",D75*R110/E75),\"\")","v":0.9},{"$f":"IFERROR(IF(D75=\"\",\"\",1-(1-0.161252808246333)^B75),\"\")","v":0.29650314832533742},{"$f":"IFERROR(F75*T110,\"\")","v":0.33000000000000029},1,null,{"$f":"IFERROR(IF(I75<=0,\"\",I75*COMBIN(7,5)*COMBIN(5,2)),\"\")","v":210},400,{"$f":"IFERROR(IF(K75=\"\",\"\",K75*R110/L75),\"\")","v":1.575},{"$f":"IFERROR(IF(K75=\"\",\"\",1-(1-0.199730688676109)^I75),\"\")","v":0.19973068867610899},{"$f":"IFERROR(M75*T110,\"\")","v":0.57750000000000046},1,null,{"$f":"IFERROR(IF(P75<=0,\"\",P75*COMBIN(8,5)*COMBIN(5,2)),\"\")","v":560},400,{"$f":"IFERROR(IF(R75=\"\",\"\",R75*R110/S75),\"\")","v":4.2},{"$f":"IFERROR(IF(R75=\"\",\"\",1-(1-0.239916143061379)^P75),\"\")","v":0.23991614306137898},{"$f":"IFERROR(T75*T110,\"\")","v":1.5400000000000014}]
[null,1,null,{"$f":"IFERROR(IF(B76<=0,\"\",B76*COMBIN(7,5)*COMBIN(5,2)),\"\")","v":210},500,{"$f":"IFERROR(IF(D76=\"\",\"\",D76*R110/E76),\"\")","v":1.26},{"$f":"IFERROR(IF(D76=\"\",\"\",1-(1-0.199730688676109)^B76),\"\")","v":0.19973068867610899},{"$f":"IFERROR(F76*T110,\"\")","v":0.46200000000000041},1,null,{"$f":"IFERROR(IF(I76<=0,\"\",I76*COMBIN(8,5)*COMBIN(5,2)),\"\")","v":560},500,{"$f":"IFERROR(IF(K76=\"\",\"\",K76*R110/L76),\"\")","v":3.36},{"$f":"IFERROR(IF(K76=\"\",\"\",1-(1-0.239916143061379)^I76),\"\")","v":0.23991614306137898},{"$f":"IFERROR(M76*T110,\"\")","v":1.2320000000000011},1,null,{"$f":"IFERROR(IF(P76<=0,\"\",P76*COMBIN(9,5)*COMBIN(5,2)),\"\")","v":1260},500,{"$f":"IFERROR(IF(R76=\"\",\"\",R76*R110/S76),\"\")","v":7.56},{"$f":"IFERROR(IF(R76=\"\",\"\",1-(1-0.281309565286042)^P76),\"\")","v":0.28130956528604201},{"$f":"IFERROR(T76*T110,\"\")","v":2.772000000000002}]
[null,8,null,{"$f":"IFERROR(IF(B77<=0,\"\",B77),\"\")","v":8},8,{"$f":"IFERROR(IF(D77=\"\",\"\",D77*R110/E77),\"\")","v":3},{"$f":"IFERROR(IF(D77=\"\",\"\",1-(1-0.0770797541958504)^B77),\"\")","v":0.47360302540466626},{"$f":"IFERROR(F77*T110,\"\")","v":1.100000000000001},2,null,{"$f":"IFERROR(IF(I77<=0,\"\",I77),\"\")","v":2},10,{"$f":"IFERROR(IF(K77=\"\",\"\",K77*R110/L77),\"\")","v":0.6},{"$f":"IFERROR(IF(K77=\"\",\"\",1-(1-0.0770797541958504)^I77),\"\")","v":0.14821821988480821},{"$f":"IFERROR(M77*T110,\"\")","v":0.22000000000000017},20,null,{"$f":"IFERROR(IF(P77<=0,\"\",P77),\"\")","v":20},20,{"$f":"IFERROR(IF(R77=\"\",\"\",R77*R110/S77),\"\")","v":3},{"$f":"IFERROR(IF(R77=\"\",\"\",1-(1-0.0770797541958504)^P77),\"\")","v":0.79895954365783894},{"$f":"IFERROR(T77*T110,\"\")","v":1.100000000000001}]
[null,"Aufpreis:",{"$f":"IFERROR(C72/F78-1,\"\")","v":0.14942528735632177},{"$f":"IFERROR(H78/C72,\"\")","v":0.31900000000000028},null,{"$f":"IF(SUM(F73:F77)=0,\"\",SUM(F73:F77))","v":6.96},{"$f":"IF(SUM(G73:G77)=0,\"\",1-(1-IF(G73=\"\",0,G73))*(1-IF(G74=\"\",0,G74))*(1-IF(G75=\"\",0,G75))*(1-IF(G76=\"\",0,G76))*(1-IF(G77=\"\",0,G77)))","v":0.78924137174792186},{"$f":"IF(SUM(H73:H77)=0,\"\",SUM(H73:H77))","v":2.5520000000000023},"Aufpreis:",{"$f":"IFERROR(J72/M78-1,\"\")","v":0.43626570915619389},{"$f":"IFERROR(O78/J72,\"\")","v":0.25529166666666686},null,{"$f":"IF(SUM(M73:M77)=0,\"\",SUM(M73:M77))","v":8.3550000000000004},{"$f":"IF(SUM(N73:N77)=0,\"\",1-(1-IF(N73=\"\",0,N73))*(1-IF(N74=\"\",0,N74))*(1-IF(N75=\"\",0,N75))*(1-IF(N76=\"\",0,N76))*(1-IF(N77=\"\",0,N77)))","v":0.766504194519113},{"$f":"IF(SUM(O73:O77)=0,\"\",SUM(O73:O77))","v":3.0635000000000026},"Aufpreis:",{"$f":"IFERROR(Q72/T78-1,\"\")","v":6.3829787234042534E-2},{"$f":"IFERROR(V78/Q72,\"\")","v":0.34466666666666695},null,{"$f":"IF(SUM(T73:T77)=0,\"\",SUM(T73:T77))","v":22.56},{"$f":"IF(SUM(U73:U77)=0,\"\",1-(1-IF(U73=\"\",0,U73))*(1-IF(U74=\"\",0,U74))*(1-IF(U75=\"\",0,U75))*(1-IF(U76=\"\",0,U76))*(1-IF(U77=\"\",0,U77)))","v":0.96519164679076375},{"$f":"IF(SUM(V73:V77)=0,\"\",SUM(V73:V77))","v":8.2720000000000073}]
[]
[]
[null,"LOTTO 15",null,"Tipp-\nfelder","An-\nteile","Fairer\nPreis","Gewinn-\nChance",null,"EuroJackpot 15",null,"Tipp-\nfelder","An-\nteile","Fairer\nPreis","Gewinn-\nChance",null,"PowerBall Super-Chance",null,"Tipp-\nfelder","An-\nteile","Fairer\nPreis","Gewinn-\nChance"]
[null,{"$f":"IF(SUM(D83:D85)=0,\"\",SUM(D83:D85))","v":599.99999999999989},15,null,null,null,null,null,{"$f":"IF(SUM(K83:K85)=0,\"\",SUM(K83:K85))","v":300},15,null,null,null,null,null,{"$f":"IF(SUM(R83:R86)=0,\"\",SUM(R83:R86))","v":1000},15]
[null,2,null,{"$f":"IFERROR(IF(B83<=0,\"\",B83*COMBIN(9,6)),\"\")","v":167.99999999999997},50,{"$f":"IFERROR(IF(D83=\"\",\"\",D83*R107/E83),\"\")","v":4.0319999999999991},{"$f":"IFERROR(IF(D83=\"\",\"\",1-(1-0.0902706385724755)^B83),\"\")","v":0.17239248895666859},{"$f":"IFERROR(F83*T107,\"\")","v":2.0159999999999996},1,null,{"$f":"IFERROR(IF(I83<=0,\"\",I83*COMBIN(7,5)*COMBIN(4,2)),\"\")","v":126},50,{"$f":"IFERROR(IF(K83=\"\",\"\",K83*R109/L83),\"\")","v":5.04},{"$f":"IFERROR(IF(K83=\"\",\"\",1-(1-0.123127935893893)^I83),\"\")","v":0.12312793589389304},{"$f":"IFERROR(M83*T109,\"\")","v":2.52},1,null,{"$f":"IFERROR(IF(P83<=0,\"\",P83*COMBIN(7,5)*COMBIN(1,1)),\"\")","v":21},250,{"$f":"IFERROR(IF(R83=\"\",\"\",R83*R111/S83),\"\")","v":0.252},{"$f":"IFERROR(IF(R83=\"\",\"\",1-(1-0.0443116143431212)^P83),\"\")","v":4.4311614343121253E-2},{"$f":"IFERROR(T83*T111,\"\")","v":3.8404882555204529E-2}]
[null,2,null,{"$f":"IFERROR(IF(B84<=0,\"\",B84*COMBIN(10,6)),\"\")","v":419.99999999999994},50,{"$f":"IFERROR(IF(D84=\"\",\"\",D84*R107/E84),\"\")","v":10.079999999999998},{"$f":"IFERROR(IF(D84=\"\",\"\",1-(1-0.116739057493319)^B84),\"\")","v":0.21985010744220956},{"$f":"IFERROR(F84*T107,\"\")","v":5.0399999999999991},1,null,{"$f":"IFERROR(IF(I84<=0,\"\",I84*COMBIN(8,5)*COMBIN(3,2)),\"\")","v":168},50,{"$f":"IFERROR(IF(K84=\"\",\"\",K84*R109/L84),\"\")","v":6.72},{"$f":"IFERROR(IF(K84=\"\",\"\",1-(1-0.112340665809676)^I84),\"\")","v":0.11234066580967594},{"$f":"IFERROR(M84*T109,\"\")","v":3.36},2,null,{"$f":"IFERROR(IF(P84<=0,\"\",P84*COMBIN(10,5)*COMBIN(1,1)),\"\")","v":504},250,{"$f":"IFERROR(IF(R84=\"\",\"\",R84*R111/S84),\"\")","v":6.048},{"$f":"IFERROR(IF(R84=\"\",\"\",1-(1-0.0571098103595952)^P84),\"\")","v":0.11095809027988146},{"$f":"IFERROR(T84*T111,\"\")","v":0.92171718132490876}]
[null,12,null,{"$f":"IFERROR(IF(B85<=0,\"\",B85),\"\")","v":12},50,{"$f":"IFERROR(IF(D85=\"\",\"\",D85*R107/E85),\"\")","v":0.28799999999999998},{"$f":"IFERROR(IF(D85=\"\",\"\",1-(1-0.0318753479021749)^B85),\"\")","v":0.32208483620231121},{"$f":"IFERROR(F85*T107,\"\")","v":0.14399999999999999},6,null,{"$f":"IFERROR(IF(I85<=0,\"\",I85),\"\")","v":6},50,{"$f":"IFERROR(IF(K85=\"\",\"\",K85*R109/L85),\"\")","v":0.24},{"$f":"IFERROR(IF(K85=\"\",\"\",1-(1-0.0314162529026412)^I85),\"\")","v":0.17429851876874669},{"$f":"IFERROR(M85*T109,\"\")","v":0.12},1,null,{"$f":"IFERROR(IF(P85<=0,\"\",P85*COMBIN(11,5)*COMBIN(1,1)),\"\")","v":461.99999999999994},250,{"$f":"IFERROR(IF(R85=\"\",\"\",R85*R111/S85),\"\")","v":5.5439999999999987},{"$f":"IFERROR(IF(R85=\"\",\"\",1-(1-0.0634740009301394)^P85),\"\")","v":6.347400093013944E-2},{"$f":"IFERROR(T85*T111,\"\")","v":0.8449074162144995}]
[null,"Aufpreis:",{"$f":"IFERROR(C82/F86-1,\"\")","v":4.1666666666666741E-2},{"$f":"IFERROR(H86/C82,\"\")","v":0.47999999999999993},null,{"$f":"IF(SUM(F83:F85)=0,\"\",SUM(F83:F85))","v":14.399999999999999},{"$f":"IF(SUM(G83:G85)=0,\"\",1-(1-IF(G83=\"\",0,G83))*(1-IF(G84=\"\",0,G84))*(1-IF(G85=\"\",0,G85)))","v":0.5622987116288638},{"$f":"IF(SUM(H83:H85)=0,\"\",SUM(H83:H85))","v":7.1999999999999993},"Aufpreis:",{"$f":"IFERROR(J82/M86-1,\"\")","v":0.25},{"$f":"IFERROR(O86/J82,\"\")","v":0.4},null,{"$f":"IF(SUM(M83:M85)=0,\"\",SUM(M83:M85))","v":12},{"$f":"IF(SUM(N83:N85)=0,\"\",1-(1-IF(N83=\"\",0,N83))*(1-IF(N84=\"\",0,N84))*(1-IF(N85=\"\",0,N85)))","v":0.35730396260210484},{"$f":"IF(SUM(O83:O85)=0,\"\",SUM(O83:O85))","v":6},13,null,{"$f":"IFERROR(IF(P86<=0,\"\",P86),\"\")","v":13},250,{"$f":"IFERROR(IF(R86=\"\",\"\",R86*R111/S86),\"\")","v":0.156},{"$f":"IFERROR(IF(R86=\"\",\"\",1-(1-0.0402138404992519)^P86),\"\")","v":0.41349964645709325},{"$f":"IFERROR(T86*T111,\"\")","v":2.3774451105602806E-2}]
[null,null,null,null,null,null,null,null,null,null,null,null,null,null,null,"Aufpreis:",{"$f":"IFERROR(Q82/T87-1,\"\")","v":0.25000000000000022},{"$f":"IFERROR(V87/Q82,\"\")","v":0.12192026208001437},null,{"$f":"IF(SUM(T83:T86)=0,\"\",SUM(T83:T86))","v":11.999999999999998},{"$f":"IF(SUM(U83:U86)=0,\"\",1-(1-IF(U83=\"\",0,U83))*(1-IF(U84=\"\",0,U84))*(1-IF(U85=\"\",0,U85))*(1-IF(U86=\"\",0,U86)))","v":0.53331197309075906},{"$f":"IF(SUM(V83:V86)=0,\"\",SUM(V83:V86))","v":1.8288039312002156}]
[]
[null,"LOTTO 10",null,"Tipp-\nfelder","An-\nteile","Fairer\nPreis","Gewinn-\nChance",null,"EuroJackpot 10",null,"Tipp-\nfelder","An-\nteile","Fairer\nPreis","Gewinn-\nChance"]
[null,{"$f":"IF(SUM(D91:D93)=0,\"\",SUM(D91:D93))","v":399.99999999999994},10,null,null,null,null,null,{"$f":"IF(SUM(K91:K93)=0,\"\",SUM(K91:K93))","v":200},10,null,null,null,null,null,"MegaMillions Super-Chance ",null,"Tipp-\nfelder","An-\nteile","Fairer\nPreis","Gewinn-\nChance"]
[null,2,null,{"$f":"IFERROR(IF(B91<=0,\"\",B91*COMBIN(9,6)),\"\")","v":167.99999999999997},50,{"$f":"IFERROR(IF(D91=\"\",\"\",D91*R107/E91),\"\")","v":4.0319999999999991},{"$f":"IFERROR(IF(D91=\"\",\"\",1-(1-0.0902706385724755)^B91),\"\")","v":0.17239248895666859},{"$f":"IFERROR(F91*T107,\"\")","v":2.0159999999999996},1,null,{"$f":"IFERROR(IF(I91<=0,\"\",I91*COMBIN(7,5)*COMBIN(3,2)),\"\")","v":63},50,{"$f":"IFERROR(IF(K91=\"\",\"\",K91*R109/L91),\"\")","v":2.52},{"$f":"IFERROR(IF(K91=\"\",\"\",1-(1-0.0897686725855088)^I91),\"\")","v":8.9768672585508802E-2},{"$f":"IFERROR(M91*T109,\"\")","v":1.26},{"$f":"IF(SUM(R92:R95)=0,\"\",SUM(R92:R95))","v":1000},15]
[null,1,null,{"$f":"IFERROR(IF(B92<=0,\"\",B92*COMBIN(10,6)),\"\")","v":209.99999999999997},50,{"$f":"IFERROR(IF(D92=\"\",\"\",D92*R107/E92),\"\")","v":5.0399999999999991},{"$f":"IFERROR(IF(D92=\"\",\"\",1-(1-0.116739057493319)^B92),\"\")","v":0.11673905749331903},{"$f":"IFERROR(F92*T107,\"\")","v":2.5199999999999996},1,null,{"$f":"IFERROR(IF(I92<=0,\"\",I92*COMBIN(7,5)*COMBIN(4,2)),\"\")","v":126},50,{"$f":"IFERROR(IF(K92=\"\",\"\",K92*R109/L92),\"\")","v":5.04},{"$f":"IFERROR(IF(K92=\"\",\"\",1-(1-0.123127935893893)^I92),\"\")","v":0.12312793589389304},{"$f":"IFERROR(M92*T109,\"\")","v":2.52},1,null,{"$f":"IFERROR(IF(P92<=0,\"\",P92*COMBIN(7,5)*COMBIN(1,1)),\"\")","v":21},250,{"$f":"IFERROR(IF(R92=\"\",\"\",R92*R112/S92),\"\")","v":0.252},{"$f":"IFERROR(IF(R92=\"\",\"\",1-(1-0.045598420360416)^P92),\"\")","v":4.5598420360416059E-2},{"$f":"IFERROR(T92*T112,\"\")","v":3.3983572934507364E-2}]
[null,22,null,{"$f":"IFERROR(IF(B93<=0,\"\",B93),\"\")","v":22},50,{"$f":"IFERROR(IF(D93=\"\",\"\",D93*R107/E93),\"\")","v":0.52800000000000002},{"$f":"IFERROR(IF(D93=\"\",\"\",1-(1-0.0318753479021749)^B93),\"\")","v":0.50967036898386109},{"$f":"IFERROR(F93*T107,\"\")","v":0.26400000000000001},11,null,{"$f":"IFERROR(IF(I93<=0,\"\",I93),\"\")","v":11},50,{"$f":"IFERROR(IF(K93=\"\",\"\",K93*R109/L93),\"\")","v":0.44},{"$f":"IFERROR(IF(K93=\"\",\"\",1-(1-0.0314162529026412)^I93),\"\")","v":0.29610326608241633},{"$f":"IFERROR(M93*T109,\"\")","v":0.22},2,null,{"$f":"IFERROR(IF(P93<=0,\"\",P93*COMBIN(10,5)*COMBIN(1,1)),\"\")","v":504},250,{"$f":"IFERROR(IF(R93=\"\",\"\",R93*R112/S93),\"\")","v":6.048},{"$f":"IFERROR(IF(R93=\"\",\"\",1-(1-0.0578667826047297)^P93),\"\")","v":0.11238500068043633},{"$f":"IFERROR(T93*T112,\"\")","v":0.81560575042817673}]
[null,"Aufpreis:",{"$f":"IFERROR(C90/F94-1,\"\")","v":4.1666666666666741E-2},{"$f":"IFERROR(H94/C90,\"\")","v":0.48},null,{"$f":"IF(SUM(F91:F93)=0,\"\",SUM(F91:F93))","v":9.6},{"$f":"IF(SUM(G91:G93)=0,\"\",1-(1-IF(G91=\"\",0,G91))*(1-IF(G92=\"\",0,G92))*(1-IF(G93=\"\",0,G93)))","v":0.64157228069341454},{"$f":"IF(SUM(H91:H93)=0,\"\",SUM(H91:H93))","v":4.8},"Aufpreis:",{"$f":"IFERROR(J90/M94-1,\"\")","v":0.25},{"$f":"IFERROR(O94/J90,\"\")","v":0.4},null,{"$f":"IF(SUM(M91:M93)=0,\"\",SUM(M91:M93))","v":8},{"$f":"IF(SUM(N91:N93)=0,\"\",1-(1-IF(N91=\"\",0,N91))*(1-IF(N92=\"\",0,N92))*(1-IF(N93=\"\",0,N93)))","v":0.43818030077662007},{"$f":"IF(SUM(O91:O93)=0,\"\",SUM(O91:O93))","v":4},1,null,{"$f":"IFERROR(IF(P94<=0,\"\",P94*COMBIN(11,5)*COMBIN(1,1)),\"\")","v":461.99999999999994},250,{"$f":"IFERROR(IF(R94=\"\",\"\",R94*R112/S94),\"\")","v":5.5439999999999987},{"$f":"IFERROR(IF(R94=\"\",\"\",1-(1-0.0639739555783378)^P94),\"\")","v":6.3973955578337849E-2},{"$f":"IFERROR(T94*T112,\"\")","v":0.74763860455916187}]
[null,null,null,null,null,null,null,null,null,null,null,null,null,null,null,13,null,{"$f":"IFERROR(IF(P95<=0,\"\",P95),\"\")","v":13},250,{"$f":"IFERROR(IF(R95=\"\",\"\",R95*R112/S95),\"\")","v":0.156},{"$f":"IFERROR(IF(R95=\"\",\"\",1-(1-0.0416756949963042)^P95),\"\")","v":0.42500702708419602},{"$f":"IFERROR(T95*T112,\"\")","v":2.1037449911837893E-2}]
[null,null,null,null,null,null,null,null,null,null,null,null,null,null,null,"Aufpreis:",{"$f":"IFERROR(Q91/T96-1,\"\")","v":0.25000000000000022},{"$f":"IFERROR(V96/Q91,\"\")","v":0.10788435852224559},null,{"$f":"IF(SUM(T92:T95)=0,\"\",SUM(T92:T95))","v":11.999999999999998},{"$f":"IF(SUM(U92:U95)=0,\"\",1-(1-IF(U92=\"\",0,U92))*(1-IF(U93=\"\",0,U93))*(1-IF(U94=\"\",0,U94))*(1-IF(U95=\"\",0,U95)))","v":0.54406151475499431},{"$f":"IF(SUM(V92:V95)=0,\"\",SUM(V92:V95))","v":1.618265377833684}]
[null,"LOTTO 05",null,"Tipp-\nfelder","An-\nteile","Fairer\nPreis","Gewinn-\nChance",null,"EuroJackpot 05",null,"Tipp-\nfelder","An-\nteile","Fairer\nPreis","Gewinn-\nChance"]
[null,{"$f":"IF(SUM(D99:D100)=0,\"\",SUM(D99:D100))","v":199.99999999999997},5,null,null,null,null,null,{"$f":"IF(SUM(K99:K101)=0,\"\",SUM(K99:K101))","v":100},5]
[null,2,null,{"$f":"IFERROR(IF(B99<=0,\"\",B99*COMBIN(9,6)),\"\")","v":167.99999999999997},50,{"$f":"IFERROR(IF(D99=\"\",\"\",D99*R107/E99),\"\")","v":4.0319999999999991},{"$f":"IFERROR(IF(D99=\"\",\"\",1-(1-0.0902706385724755)^B99),\"\")","v":0.17239248895666859},{"$f":"IFERROR(F99*T107,\"\")","v":2.0159999999999996},1,null,{"$f":"IFERROR(IF(I99<=0,\"\",I99*COMBIN(6,5)*COMBIN(3,2)),\"\")","v":18},50,{"$f":"IFERROR(IF(K99=\"\",\"\",K99*R109/L99),\"\")","v":0.72},{"$f":"IFERROR(IF(K99=\"\",\"\",1-(1-0.0693372538654684)^I99),\"\")","v":6.9337253865468407E-2},{"$f":"IFERROR(M99*T109,\"\")","v":0.36},"Rechtliche Hinweise:\nDieser Rechner darf nur für private Zwecke verwendet werden. Eine Weitergabe dieser Excel-Datei an andere Personen darf nur unverändert und kostenlos erfolgen! "]
[null,32,null,{"$f":"IFERROR(IF(B100<=0,\"\",B100),\"\")","v":32},50,{"$f":"IFERROR(IF(D100=\"\",\"\",D100*R107/E100),\"\")","v":0.76800000000000002},{"$f":"IFERROR(IF(D100=\"\",\"\",1-(1-0.0318753479021749)^B100),\"\")","v":0.64534921197872364},{"$f":"IFERROR(F100*T107,\"\")","v":0.38400000000000001},1,null,{"$f":"IFERROR(IF(I100<=0,\"\",I100*COMBIN(7,5)*COMBIN(3,2)),\"\")","v":63},50,{"$f":"IFERROR(IF(K100=\"\",\"\",K100*R109/L100),\"\")","v":2.52},{"$f":"IFERROR(IF(K100=\"\",\"\",1-(1-0.0897686725855088)^I100),\"\")","v":8.9768672585508802E-2},{"$f":"IFERROR(M100*T109,\"\")","v":1.26}]
[null,"Aufpreis:",{"$f":"IFERROR(C98/F101-1,\"\")","v":4.1666666666666963E-2},{"$f":"IFERROR(H101/C98,\"\")","v":0.47999999999999987},null,{"$f":"IF(SUM(F99:F100)=0,\"\",SUM(F99:F100))","v":4.7999999999999989},{"$f":"IF(SUM(G99:G100)=0,\"\",1-(1-IF(G99=\"\",0,G99))*(1-IF(G100=\"\",0,G100)))","v":0.70648834403615535},{"$f":"IF(SUM(H99:H100)=0,\"\",SUM(H99:H100))","v":2.3999999999999995},19,null,{"$f":"IFERROR(IF(I101<=0,\"\",I101),\"\")","v":19},50,{"$f":"IFERROR(IF(K101=\"\",\"\",K101*R109/L101),\"\")","v":0.76},{"$f":"IFERROR(IF(K101=\"\",\"\",1-(1-0.0314162529026412)^I101),\"\")","v":0.45473657359504949},{"$f":"IFERROR(M101*T109,\"\")","v":0.38}]
[null,null,null,null,null,null,null,null,"Aufpreis:",{"$f":"IFERROR(J98/M102-1,\"\")","v":0.25},{"$f":"IFERROR(O102/J98,\"\")","v":0.4},null,{"$f":"IF(SUM(M99:M101)=0,\"\",SUM(M99:M101))","v":4},{"$f":"IF(SUM(N99:N101)=0,\"\",1-(1-IF(N99=\"\",0,N99))*(1-IF(N100=\"\",0,N100))*(1-IF(N101=\"\",0,N101)))","v":0.53809732584865921},{"$f":"IF(SUM(O99:O101)=0,\"\",SUM(O99:O101))","v":2}]
[]
[]
[null,"* Die Bewertungsübersicht kann mit Strg+[1-6] sortiert werden. Nicht berücksichtigt wurden alle Spielgemeinschaften, die nur für kurze Zeit von Lottohelden angeboten werden. Die Berechnungen der wichtigsten Vergleichswerte für diese Spielgemeinschaften können mit Hilfe meines Berechnungstools (www.lotteriecheck.de/tool6) in Kapitel 9 oder mit den nachfolgenden Formeln berechnet werden:\n\nFairer Preis: Einzeltipppreis * Anzahl der Tipps in dieser Spielgemeinschaft / Anzahl der Anteile in dieser Spielgemeinschaft\nAufpreis: tatsächlicher Preis dieser Spielgemeinschaft / fairer Preis dieser Spielgemeinschaft - 1\nØ AQ: Einzeltippausschüttungsquote * fairer Preis dieser Spielgemeinschaft / tatsächlicher Preis dieser Spielgemeinschaft\n\nAls Berechnungsgrundlage für die fairen Preise, Aufpreise und Ø AQs in den oben aufgelisteten Tabellen, werden die Preise und Ø AQs ver-wendet, die für einen Einzeltipp bei der entsprechenden Lotterie gelten. Diese werden in der Tabelle rechts angegeben und können von Ihnen ebenso geändert werden, wie die Preise, Anzahl der Vollsysteme bzw. Einzeltipps und Anteile in den obenstehenden Tabellen.",null,null,null,null,null,null,null,null,null,null,null,null,null,"Lotterie",null,"Preis",null,"Ø AQ"]
[null,null,null,null,null,null,null,null,null,null,null,null,null,null,null,"LOTTO 6aus45",null,1.3,null,{"$f":"46.3824742936278%*1.3/R106","v":0.46382474293627796}]
[null,null,null,null,null,null,null,null,null,null,null,null,null,null,null,"LOTTO 6aus49",null,1.2,null,{"$f":"50%*1.2/R107","v":0.5}]
[null,null,null,null,null,null,null,null,null,null,null,null,null,null,null,"SuperLotto",null,1.5,null,{"$f":"35.8868998840797%*1.5/R108","v":0.35886899884079709}]
[null,null,null,null,null,null,null,null,null,null,null,null,null,null,null,"EuroJackpot",null,2,null,{"$f":"50%*2/R109","v":0.5}]
[null,null,null,null,null,null,null,null,null,null,null,null,null,null,null,"EuroMillions",null,3,null,{"$f":"36.6666666666667%*3/R110","v":0.36666666666666697}]
[null,null,null,null,null,null,null,null,null,null,null,null,null,null,null,"PowerBall",null,3,null,{"$f":"15.2400327600018%*3/R111","v":0.15240032760001798}]
[null,null,null,null,null,null,null,null,null,null,null,null,null,null,null,"MegaMillions",null,3,null,{"$f":"13.4855448152807%*3/R112","v":0.13485544815280701}]
[]
[]
[null,"© Copyright 2023 by Lottoexperte (www.lotteriecheck.de) - Alle Rechte vorbehalten!"]

{"sheet":"Rubbellose","index":3,"n_rows":542,"n_cols":29,"rows_kept":542,"cut":false,"hidden":false,"merged":[[520,8,523,11],[519,15,523,18],[100,1,100,3],[101,1,101,3],[164,8,164,10],[165,8,165,10],[164,1,164,3],[165,1,165,3],[463,1,463,3],[464,1,464,3],[495,8,495,10],[116,1,116,3],[215,8,215,10],[320,1,320,3],[321,1,321,3],[343,8,343,10],[344,8,344,10],[343,1,343,3],[344,1,344,3],[383,1,383,3],[384,1,384,3],[283,1,283,3],[216,1,216,3],[258,1,258,3],[259,1,259,3],[463,8,463,10],[235,15,235,17],[216,15,216,17],[197,15,197,17],[198,15,198,17],[215,1,215,3],[215,15,215,17],[234,15,234,17],[283,15,283,17],[282,1,282,3],[234,8,234,10],[235,8,235,10],[234,1,234,3],[235,1,235,3],[216,8,216,10],[320,8,320,10],[321,8,321,10],[383,15,383,17],[384,15,384,17],[357,15,357,17],[358,15,358,17],[383,8,383,10],[384,8,384,10],[197,1,197,3],[198,1,198,3],[1,1,2,3],[57,8,57,10],[56,1,56,3],[57,1,57,3],[1,8,2,10],[43,1,43,3],[133,8,133,10],[132,1,132,3],[133,1,133,3],[149,1,149,3],[85,8,85,10],[86,8,86,10],[85,1,85,3],[86,1,86,3],[117,1,117,3],[132,8,132,10],[148,1,148,3],[509,1,509,3],[1,15,2,17],[15,15,15,17],[42,8,42,10],[43,8,43,10],[42,1,42,3],[16,8,16,10],[15,1,15,3],[16,1,16,3],[42,15,42,17],[43,15,43,17],[70,15,70,17],[71,15,71,17],[70,8,70,10],[71,8,71,10],[70,1,70,3],[71,1,71,3],[56,15,56,17],[57,15,57,17],[56,8,56,10],[180,1,180,3],[181,1,181,3],[197,8,197,10],[198,8,198,10],[16,15,16,17],[528,1,541,18],[494,1,494,3],[495,1,495,3],[426,15,426,17],[427,15,427,17],[508,8,508,10],[509,8,509,10],[497,15,497,17],[418,8,418,10],[419,8,419,10],[418,1,418,3],[419,1,419,3],[467,15,467,17],[468,15,468,17],[442,1,442,3],[443,1,443,3],[496,15,496,17],[479,1,479,3],[480,1,480,3],[479,8,479,10],[480,8,480,10],[442,8,442,10],[443,8,443,10],[132,15,132,17],[464,8,464,10],[526,1,526,18],[1,23,2,23],[28,15,28,17],[29,15,29,17],[28,8,28,10],[29,8,29,10],[28,1,28,3],[29,1,29,3],[494,8,494,10],[282,8,282,10],[283,8,283,10],[315,15,315,17],[316,15,316,17],[282,15,282,17],[180,15,180,17],[181,15,181,17],[180,8,180,10],[181,8,181,10],[258,15,258,17],[259,15,259,17],[258,8,258,10],[259,8,259,10],[133,15,133,17],[508,1,508,3],[1,27,2,27],[1,22,2,22],[1,24,2,24],[1,25,2,25],[164,15,164,17],[165,15,165,17],[85,15,85,17],[86,15,86,17],[15,8,15,10],[148,15,148,17],[149,15,149,17],[148,8,148,10],[149,8,149,10],[116,15,116,17],[117,15,117,17],[116,8,116,10],[117,8,117,10],[1,26,2,26],[100,15,100,17],[101,15,101,17],[100,8,100,10],[101,8,101,10]]}
[]
[null,"Bingo Pink ⁴",null,null,1,{"$f":"IFERROR(SUMIF(E5:E12,\"<>Freilos\",D5:D12),\"\")","v":0.57092507018874528},null,null,"Bingo Blue ⁴",null,null,1,{"$f":"IFERROR(SUMIF(L5:L12,\"<>Freilos\",K5:K12),\"\")","v":0.5913787004800477},null,null,"Bingo Purple ⁴",null,null,1,{"$f":"IFERROR(SUMIF(S5:S12,\"<>Freilos\",R5:R12),\"\")","v":0.5913787004800477},null,null,"Bewertungsübersicht der\nRubbellose von Lottohelden ¹","Preis\nje Spiel","Wer-\ntung ²","Ø AQ\nGesamt","Chancen\nje Spiel","Vertei-\nlung ³"]
[null,null,null,null,{"$f":"E2*1","v":1},{"$f":"IFERROR(COUNTIF(E5:E12,\"Freilos\"),\"\")","v":0},null,null,null,null,null,{"$f":"L2*0.5","v":0.5},{"$f":"IFERROR(COUNTIF(L5:L12,\"Freilos\"),\"\")","v":0},null,null,null,null,null,{"$f":"S2*0.25","v":0.25},{"$f":"IFERROR(COUNTIF(S5:S12,\"Freilos\"),\"\")","v":0}]
[null,"Richtige","Ø Gewinne 1:","Ø AQ","(Ø) Gewinn",null,null,null,"Richtige","Ø Gewinne 1:","Ø AQ","(Ø) Gewinn",null,null,null,"Richtige","Ø Gewinne 1:","Ø AQ","(Ø) Gewinn",null,null,null,{"$f":"$B$57","v":"Viel Glück"},{"$f":"$E$58/$E$57","v":1},{"$f":"$G$68","v":6.0919954424165947},{"$f":"$D$68","v":0.66},{"$f":"IFERROR(1/$C$68/$E$57,\"\")","v":0.51409199999999999},{"$f":"$F$68","v":4.3173768939393939},6.0919954424165947]
[{"$f":"IF(C5=\"\",0,IF(C5>=1000000,7,IF(C5>=100000,6,IF(C5>=10000,5,IF(C5>=1000,4,IF(C5>=100,3,IF(C5>=10,2,1)))))))","v":7},"16 (1x)",{"$f":"IF(OR(E5<=0,E5>1000000000),\"\",0.25/HYPGEOMDIST(16,16,30,75)/E2)","v":14698614.87416818},{"$f":"IF(OR(C5=\"\",E5<=0,F3>1),\"\",IF(E5=\"Freilos\",F2/(1-(1/C5))/C5,IF(E5>1000000000,\"\",E5/C5/E3)))","v":3.4016810718587921E-3},50000,{"$f":"IFERROR(IF(D5<D14,D14/D5,D5/D14),\"\")","v":20.97951932177951},{"$f":"IFERROR(D5/IF((C5*E3)<150,150,C5*E3)^0.25*34.9964,\"\")","v":1.9226395088195133E-3},{"$f":"IF(J5=\"\",0,IF(J5>=1000000,7,IF(J5>=100000,6,IF(J5>=10000,5,IF(J5>=1000,4,IF(J5>=100,3,IF(J5>=10,2,1)))))))","v":7},"16 (1x)",{"$f":"IF(OR(L5<=0,L5>1000000000),\"\",0.25/HYPGEOMDIST(16,16,30,75)/L2)","v":14698614.87416818},{"$f":"IF(OR(J5=\"\",L5<=0,M3>1),\"\",IF(L5=\"Freilos\",M2/(1-(1/J5))/J5,IF(L5>1000000000,\"\",L5/J5/L3)))","v":3.2656138289844407E-3},24000,{"$f":"IFERROR(IF(K5<K14,K14/K5,K5/K14),\"\")","v":22.636582716516347},{"$f":"IFERROR(K5/IF((J5*L3)<150,150,J5*L3)^0.25*34.9964,\"\")","v":2.1949599201345625E-3},{"$f":"IF(Q5=\"\",0,IF(Q5>=1000000,7,IF(Q5>=100000,6,IF(Q5>=10000,5,IF(Q5>=1000,4,IF(Q5>=100,3,IF(Q5>=10,2,1)))))))","v":7},"16 (1x)",{"$f":"IF(OR(S5<=0,S5>1000000000),\"\",0.25/HYPGEOMDIST(16,16,30,75)/S2)","v":14698614.87416818},{"$f":"IF(OR(Q5=\"\",S5<=0,T3>1),\"\",IF(S5=\"Freilos\",T2/(1-(1/Q5))/Q5,IF(S5>1000000000,\"\",S5/Q5/S3)))","v":3.2656138289844407E-3},12000,{"$f":"IFERROR(IF(R5<R14,R14/R5,R5/R14),\"\")","v":22.636582716516347},{"$f":"IFERROR(R5/IF((Q5*S3)<150,150,Q5*S3)^0.25*34.9964,\"\")","v":2.6102619541698252E-3},null,{"$f":"$P$43","v":"Miami Cash"},{"$f":"$S$44/$S$43","v":1},{"$f":"$U$54","v":5.9795840366198201},{"$f":"$R$54","v":0.60986989383159351},{"$f":"IFERROR(1/$Q$54/$S$43,\"\")","v":0.21961213974978186},{"$f":"$T$54","v":14.967278623605829},5.9795840366198201]
[{"$f":"IF(C6=\"\",0,IF(C6>=1000000,7,IF(C6>=100000,6,IF(C6>=10000,5,IF(C6>=1000,4,IF(C6>=100,3,IF(C6>=10,2,1)))))))","v":5},"12 (1x)",{"$f":"IF(OR(E6<=0,E6>1000000000),\"\",0.25/HYPGEOMDIST(12,12,30,75)/E2)","v":75508.484659925613},{"$f":"IF(OR(C6=\"\",E6<=0,F3>1),\"\",IF(E6=\"Freilos\",F2/(1-(1/C6))/C6,IF(E6>1000000000,\"\",E6/C6/E3)))","v":6.6217724041463047E-3},500,{"$f":"IFERROR(IF(D6<D14,D14/D6,D6/D14),\"\")","v":10.777421726078456},{"$f":"IFERROR(D6/IF((C6*E3)<150,150,C6*E3)^0.25*34.9964,\"\")","v":1.3979726749579733E-2},{"$f":"IF(J6=\"\",0,IF(J6>=1000000,7,IF(J6>=100000,6,IF(J6>=10000,5,IF(J6>=1000,4,IF(J6>=100,3,IF(J6>=10,2,1)))))))","v":5},"12 (1x)",{"$f":"IF(OR(L6<=0,L6>1000000000),\"\",0.25/HYPGEOMDIST(12,12,30,75)/L2)","v":75508.484659925613},{"$f":"IF(OR(J6=\"\",L6<=0,M3>1),\"\",IF(L6=\"Freilos\",M2/(1-(1/J6))/J6,IF(L6>1000000000,\"\",L6/J6/L3)))","v":6.3569015079804527E-3},240,{"$f":"IFERROR(IF(K6<K14,K14/K6,K6/K14),\"\")","v":11.628674357657403},{"$f":"IFERROR(K6/IF((J6*L3)<150,150,J6*L3)^0.25*34.9964,\"\")","v":1.5959798895738318E-2},{"$f":"IF(Q6=\"\",0,IF(Q6>=1000000,7,IF(Q6>=100000,6,IF(Q6>=10000,5,IF(Q6>=1000,4,IF(Q6>=100,3,IF(Q6>=10,2,1)))))))","v":5},"12 (1x)",{"$f":"IF(OR(S6<=0,S6>1000000000),\"\",0.25/HYPGEOMDIST(12,12,30,75)/S2)","v":75508.484659925613},{"$f":"IF(OR(Q6=\"\",S6<=0,T3>1),\"\",IF(S6=\"Freilos\",T2/(1-(1/Q6))/Q6,IF(S6>1000000000,\"\",S6/Q6/S3)))","v":6.3569015079804527E-3},120,{"$f":"IFERROR(IF(R6<R14,R14/R6,R6/R14),\"\")","v":11.628674357657403},{"$f":"IFERROR(R6/IF((Q6*S3)<150,150,Q6*S3)^0.25*34.9964,\"\")","v":1.8979506400824572E-2},null,{"$f":"$I$480","v":"GlüXsterne"},{"$f":"$L$481/$L$480","v":0.5},{"$f":"$N$492","v":5.9605036479669327},{"$f":"$K$492","v":0.61108695652173917},{"$f":"IFERROR(1/$J$492/$L$480,\"\")","v":0.43742434782608697},{"$f":"$M$492","v":6.2288144258437219},5.9605036479669327]
[3,"8 (1x)",{"$f":"IF(OR(E7<=0,E7>1000000000),\"\",0.25/HYPGEOMDIST(8,8,30,75)/E2)","v":720.62488947833833},{"$f":"IF(OR(C7=\"\",E7<=0,F3>1),\"\",IF(E7=\"Freilos\",F2/(1-(1/C7))/C7,IF(E7>1000000000,\"\",E7/C7/E3)))","v":3.4692112866234116E-2},25,{"$f":"IFERROR(IF(D7<D14,D14/D7,D7/D14),\"\")","v":2.0571140780258856},{"$f":"IFERROR(D7/IF((C7*E3)<150,150,C7*E3)^0.25*34.9964,\"\")","v":0.23432941477297914},3,"8 (1x)",{"$f":"IF(OR(L7<=0,L7>1000000000),\"\",0.25/HYPGEOMDIST(8,8,30,75)/L2)","v":720.62488947833833},{"$f":"IF(OR(J7=\"\",L7<=0,M3>1),\"\",IF(L7=\"Freilos\",M2/(1-(1/J7))/J7,IF(L7>1000000000,\"\",L7/J7/L3)))","v":3.3304428351584751E-2},12,{"$f":"IFERROR(IF(K7<K14,K14/K7,K7/K14),\"\")","v":2.2195948472566549},{"$f":"IFERROR(K7/IF((J7*L3)<150,150,J7*L3)^0.25*34.9964,\"\")","v":0.26751955901035257},3,"8 (1x)",{"$f":"IF(OR(S7<=0,S7>1000000000),\"\",0.25/HYPGEOMDIST(8,8,30,75)/S2)","v":720.62488947833833},{"$f":"IF(OR(Q7=\"\",S7<=0,T3>1),\"\",IF(S7=\"Freilos\",T2/(1-(1/Q7))/Q7,IF(S7>1000000000,\"\",S7/Q7/S3)))","v":3.3304428351584751E-2},6,{"$f":"IFERROR(IF(R7<R14,R14/R7,R7/R14),\"\")","v":2.2195948472566549},{"$f":"IFERROR(R7/IF((Q7*S3)<150,150,Q7*S3)^0.25*34.9964,\"\")","v":0.31813616297750158},null,{"$f":"$P$216","v":"Elfmeter"},{"$f":"$S$217/$S$216","v":1},{"$f":"$U$232","v":5.9387894890167523},{"$f":"$R$232","v":0.64024999999999999},{"$f":"IFERROR(1/$Q$232/$S$216,\"\")","v":0.46363275000000004},{"$f":"$T$232","v":5.5772883784420468},5.9387894890167523]
[3,"8 (1x)",{"$f":"IF(OR(E8<=0,E8>1000000000),\"\",0.25/HYPGEOMDIST(8,8,30,75)/E2)","v":720.62488947833833},{"$f":"IF(OR(C8=\"\",E8<=0,F3>1),\"\",IF(E8=\"Freilos\",F2/(1-(1/C8))/C8,IF(E8>1000000000,\"\",E8/C8/E3)))","v":1.7346056433117058E-2},12.5,{"$f":"IFERROR(IF(D8<D14,D14/D8,D8/D14),\"\")","v":4.1142281560517713},{"$f":"IFERROR(D8/IF((C8*E3)<150,150,C8*E3)^0.25*34.9964,\"\")","v":0.11716470738648957},3,"8 (1x)",{"$f":"IF(OR(L8<=0,L8>1000000000),\"\",0.25/HYPGEOMDIST(8,8,30,75)/L2)","v":720.62488947833833},{"$f":"IF(OR(J8=\"\",L8<=0,M3>1),\"\",IF(L8=\"Freilos\",M2/(1-(1/J8))/J8,IF(L8>1000000000,\"\",L8/J8/L3)))","v":1.6652214175792376E-2},6,{"$f":"IFERROR(IF(K8<K14,K14/K8,K8/K14),\"\")","v":4.4391896945133098},{"$f":"IFERROR(K8/IF((J8*L3)<150,150,J8*L3)^0.25*34.9964,\"\")","v":0.13375977950517629},3,"8 (1x)",{"$f":"IF(OR(S8<=0,S8>1000000000),\"\",0.25/HYPGEOMDIST(8,8,30,75)/S2)","v":720.62488947833833},{"$f":"IF(OR(Q8=\"\",S8<=0,T3>1),\"\",IF(S8=\"Freilos\",T2/(1-(1/Q8))/Q8,IF(S8>1000000000,\"\",S8/Q8/S3)))","v":1.6652214175792376E-2},3,{"$f":"IFERROR(IF(R8<R14,R14/R8,R8/R14),\"\")","v":4.4391896945133098},{"$f":"IFERROR(R8/IF((Q8*S3)<150,150,Q8*S3)^0.25*34.9964,\"\")","v":0.15906808148875079},null,{"$f":"$P$181","v":"Catch 3 Multiple"},{"$f":"$S$182/$S$181","v":1},{"$f":"$U$195","v":5.928642439433756},{"$f":"$R$195","v":0.61380274906450294},{"$f":"IFERROR(1/$Q$195/$S$181,\"\")","v":0.21350755807491387},{"$f":"$T$195","v":112.02825478004956},5.928642439433756]
[2,"7 (4x)",{"$f":"IF(OR(E9<=0,E9>1000000000),\"\",0.25/HYPGEOMDIST(7,7,30,75)/4/E2)","v":60.935192860300589},{"$f":"IF(OR(C9=\"\",E9<=0,F3>1),\"\",IF(E9=\"Freilos\",F2/(1-(1/C9))/C9,IF(E9>1000000000,\"\",E9/C9/E3)))","v":8.2054388692310368E-2},5,{"$f":"IFERROR(IF(D9<D14,D14/D9,D9/D14),\"\")","v":1.1497745392779273},{"$f":"IFERROR(D9/IF((C9*E3)<150,150,C9*E3)^0.25*34.9964,\"\")","v":0.82054493930273076},2,"7 (4x)",{"$f":"IF(OR(L9<=0,L9>1000000000),\"\",0.25/HYPGEOMDIST(7,7,30,75)/4/L2)","v":60.935192860300589},{"$f":"IF(OR(J9=\"\",L9<=0,M3>1),\"\",IF(L9=\"Freilos\",M2/(1-(1/J9))/J9,IF(L9>1000000000,\"\",L9/J9/L3)))","v":7.877221314461795E-2},2.4,{"$f":"IFERROR(IF(K9<K14,K14/K9,K9/K14),\"\")","v":1.0656077140509137},{"$f":"IFERROR(K9/IF((J9*L3)<150,150,J9*L3)^0.25*34.9964,\"\")","v":0.78772314173062152},2,"7 (4x)",{"$f":"IF(OR(S9<=0,S9>1000000000),\"\",0.25/HYPGEOMDIST(7,7,30,75)/4/S2)","v":60.935192860300589},{"$f":"IF(OR(Q9=\"\",S9<=0,T3>1),\"\",IF(S9=\"Freilos\",T2/(1-(1/Q9))/Q9,IF(S9>1000000000,\"\",S9/Q9/S3)))","v":7.877221314461795E-2},1.2,{"$f":"IFERROR(IF(R9<R14,R14/R9,R9/R14),\"\")","v":1.0656077140509137},{"$f":"IFERROR(R9/IF((Q9*S3)<150,150,Q9*S3)^0.25*34.9964,\"\")","v":0.78772314173062152},null,{"$f":"$I$16","v":"Rubbel Blasen"},{"$f":"$L$17/$L$16","v":0.5},{"$f":"$N$26","v":5.9107530838996052},{"$f":"$K$26","v":0.61749999999999994},{"$f":"IFERROR(1/$J$26/$L$16,\"\")","v":0.35325250000000002},{"$f":"$M$26","v":3.8762131978297387},5.9107530838996052]
[2,"4 (1x)",{"$f":"IF(OR(E10<=0,E10>1000000000),\"\",0.25/HYPGEOMDIST(4,4,30,75)/E2)","v":11.087848932676524},{"$f":"IF(OR(C10=\"\",E10<=0,F3>1),\"\",IF(E10=\"Freilos\",F2/(1-(1/C10))/C10,IF(E10>1000000000,\"\",E10/C10/E3)))","v":0.18037763791188441},2,{"$f":"IFERROR(IF(D10<D14,D14/D10,D10/D14),\"\")","v":2.5275139920165337},{"$f":"IFERROR(D10/IF((C10*E3)<150,150,C10*E3)^0.25*34.9964,\"\")","v":1.8037786925325976},2,"4 (1x)",{"$f":"IF(OR(L10<=0,L10>1000000000),\"\",0.25/HYPGEOMDIST(4,4,30,75)/L2)","v":11.087848932676524},{"$f":"IF(OR(J10=\"\",L10<=0,M3>1),\"\",IF(L10=\"Freilos\",M2/(1-(1/J10))/J10,IF(L10>1000000000,\"\",L10/J10/L3)))","v":0.21645316549426127},1.2,{"$f":"IFERROR(IF(K10<K14,K14/K10,K10/K14),\"\")","v":2.9281158123355726},{"$f":"IFERROR(K10/IF((J10*L3)<150,150,J10*L3)^0.25*34.9964,\"\")","v":2.1645344310391166},2,"4 (1x)",{"$f":"IF(OR(S10<=0,S10>1000000000),\"\",0.25/HYPGEOMDIST(4,4,30,75)/S2)","v":11.087848932676524},{"$f":"IF(OR(Q10=\"\",S10<=0,T3>1),\"\",IF(S10=\"Freilos\",T2/(1-(1/Q10))/Q10,IF(S10>1000000000,\"\",S10/Q10/S3)))","v":0.21645316549426127},0.6,{"$f":"IFERROR(IF(R10<R14,R14/R10,R10/R14),\"\")","v":2.9281158123355726},{"$f":"IFERROR(R10/IF((Q10*S3)<150,150,Q10*S3)^0.25*34.9964,\"\")","v":2.1645344310391166},null,{"$f":"$I$259","v":"Krötenwanderung"},{"$f":"$L$260/$L$259","v":0.75},{"$f":"$N$280","v":5.8881845039693346},{"$f":"$K$280","v":0.62644444444444447},{"$f":"IFERROR(1/$J$280/$L$259,\"\")","v":0.46233016666666671},{"$f":"$M$280","v":10.576036979387661},5.8881845039693346]
[1,"5 (8x)",{"$f":"IF(OR(E11<=0,E11>1000000000),\"\",0.25/HYPGEOMDIST(5,5,30,75)/8/E2)","v":3.7847945875963114},{"$f":"IF(OR(C11=\"\",E11<=0,F3>1),\"\",IF(E11=\"Freilos\",F2/(1-(1/C11))/C11,IF(E11>1000000000,\"\",E11/C11/E3)))","v":6.6053782897309815E-2},0.25,{"$f":"IFERROR(IF(D11<D14,D14/D11,D11/D14),\"\")","v":1.0804170577867036},{"$f":"IFERROR(D11/IF((C11*E3)<150,150,C11*E3)^0.25*34.9964,\"\")","v":0.66053867613869799},1,"5 (8x)",{"$f":"IF(OR(L11<=0,L11>1000000000),\"\",0.25/HYPGEOMDIST(5,5,30,75)/8/L2)","v":3.7847945875963114},{"$f":"IF(OR(J11=\"\",L11<=0,M3>1),\"\",IF(L11=\"Freilos\",M2/(1-(1/J11))/J11,IF(L11>1000000000,\"\",L11/J11/L3)))","v":6.3411631581417424E-2},0.12,{"$f":"IFERROR(IF(K11<K14,K14/K11,K11/K14),\"\")","v":1.1657535962482422},{"$f":"IFERROR(K11/IF((J11*L3)<150,150,J11*L3)^0.25*34.9964,\"\")","v":0.6341171290931501},1,"5 (8x)",{"$f":"IF(OR(S11<=0,S11>1000000000),\"\",0.25/HYPGEOMDIST(5,5,30,75)/8/S2)","v":3.7847945875963114},{"$f":"IF(OR(Q11=\"\",S11<=0,T3>1),\"\",IF(S11=\"Freilos\",T2/(1-(1/Q11))/Q11,IF(S11>1000000000,\"\",S11/Q11/S3)))","v":6.3411631581417424E-2},0.06,{"$f":"IFERROR(IF(R11<R14,R14/R11,R11/R14),\"\")","v":1.1657535962482422},{"$f":"IFERROR(R11/IF((Q11*S3)<150,150,Q11*S3)^0.25*34.9964,\"\")","v":0.6341171290931501},null,{"$f":"$B$43","v":"Las Vegas"},{"$f":"$E$44/$E$43","v":2},{"$f":"$G$54","v":5.869116287647449},{"$f":"$D$54","v":0.65571428571428569},{"$f":"IFERROR(1/$C$54/$E$43,\"\")","v":0.47160028571428575},{"$f":"$F$54","v":2.922038884998444},5.869116287647449]
[1,"4 (4x)",{"$f":"IF(OR(E12<=0,E12>1000000000),\"\",0.25/HYPGEOMDIST(4,4,30,75)/4/E2)","v":2.7719622331691309},{"$f":"IF(OR(C12=\"\",E12<=0,F3>1),\"\",IF(E12=\"Freilos\",F2/(1-(1/C12))/C12,IF(E12>1000000000,\"\",E12/C12/E3)))","v":0.18037763791188441},0.5,{"$f":"IFERROR(IF(D12<D14,D14/D12,D12/D14),\"\")","v":2.5275139920165337},{"$f":"IFERROR(D12/IF((C12*E3)<150,150,C12*E3)^0.25*34.9964,\"\")","v":1.8037786925325976},1,"4 (4x)",{"$f":"IF(OR(L12<=0,L12>1000000000),\"\",0.25/HYPGEOMDIST(4,4,30,75)/4/L2)","v":2.7719622331691309},{"$f":"IF(OR(J12=\"\",L12<=0,M3>1),\"\",IF(L12=\"Freilos\",M2/(1-(1/J12))/J12,IF(L12>1000000000,\"\",L12/J12/L3)))","v":0.17316253239540902},0.24,{"$f":"IFERROR(IF(K12<K14,K14/K12,K12/K14),\"\")","v":2.3424926498684582},{"$f":"IFERROR(K12/IF((J12*L3)<150,150,J12*L3)^0.25*34.9964,\"\")","v":1.7316275448312934},1,"4 (4x)",{"$f":"IF(OR(S12<=0,S12>1000000000),\"\",0.25/HYPGEOMDIST(4,4,30,75)/4/S2)","v":2.7719622331691309},{"$f":"IF(OR(Q12=\"\",S12<=0,T3>1),\"\",IF(S12=\"Freilos\",T2/(1-(1/Q12))/Q12,IF(S12>1000000000,\"\",S12/Q12/S3)))","v":0.17316253239540902},0.12,{"$f":"IFERROR(IF(R12<R14,R14/R12,R12/R14),\"\")","v":2.3424926498684582},{"$f":"IFERROR(R12/IF((Q12*S3)<150,150,Q12*S3)^0.25*34.9964,\"\")","v":1.7316275448312934},null,{"$f":"$I$181","v":"Feuer & Eis"},{"$f":"$L$182/$L$181","v":1.5},{"$f":"$N$195","v":5.8528177794911294},{"$f":"$K$195","v":0.63200000000000001},{"$f":"IFERROR(1/$J$195/$L$181,\"\")","v":0.34161800000000003},{"$f":"$M$195","v":18.663775864091274},5.8528177794911294]
[null,"Gesamt",{"$f":"IF(SUM(C5:C12)=0,\"\",1/(IF(C5=\"\",0,1/C5)+IF(C6=\"\",0,1/C6)+IF(C7=\"\",0,1/C7)+IF(C8=\"\",0,1/C8)+IF(C9=\"\",0,1/C9)+IF(C10=\"\",0,1/C10)+IF(C11=\"\",0,1/C11)+IF(C12=\"\",0,1/C12)))","v":1.3617321952346522},{"$f":"IF(SUM(D5:D12)=0,\"\",SUM(D5:D12))","v":0.57092507018874528},{"$f":"IFERROR(E3*D13,\"\")","v":0.57092507018874528},{"$f":"IFERROR(AVERAGE(F5:F12),\"\")","v":5.6516878578791658},{"$f":"IF(SUM(G5:G12)=0,\"\",SUM(G5:G12))","v":5.4560374889244923},null,"Gesamt",{"$f":"IF(SUM(J5:J12)=0,\"\",1/(IF(J5=\"\",0,1/J5)+IF(J6=\"\",0,1/J6)+IF(J7=\"\",0,1/J7)+IF(J8=\"\",0,1/J8)+IF(J9=\"\",0,1/J9)+IF(J10=\"\",0,1/J10)+IF(J11=\"\",0,1/J11)+IF(J12=\"\",0,1/J12)))","v":1.3617321952346522},{"$f":"IF(SUM(K5:K12)=0,\"\",SUM(K5:K12))","v":0.5913787004800477},{"$f":"IFERROR(L3*K13,\"\")","v":0.29568935024002385},{"$f":"IFERROR(AVERAGE(M5:M12),\"\")","v":6.0532514235558628},{"$f":"IF(SUM(N5:N12)=0,\"\",SUM(N5:N12))","v":5.7374363440255829},null,"Gesamt",{"$f":"IF(SUM(Q5:Q12)=0,\"\",1/(IF(Q5=\"\",0,1/Q5)+IF(Q6=\"\",0,1/Q6)+IF(Q7=\"\",0,1/Q7)+IF(Q8=\"\",0,1/Q8)+IF(Q9=\"\",0,1/Q9)+IF(Q10=\"\",0,1/Q10)+IF(Q11=\"\",0,1/Q11)+IF(Q12=\"\",0,1/Q12)))","v":1.3617321952346522},{"$f":"IF(SUM(R5:R12)=0,\"\",SUM(R5:R12))","v":0.5913787004800477},{"$f":"IFERROR(S3*R13,\"\")","v":0.14784467512001193},{"$f":"IFERROR(AVERAGE(T5:T12),\"\")","v":6.0532514235558628},{"$f":"IF(SUM(U5:U12)=0,\"\",SUM(U5:U12))","v":5.8167962595154288},null,{"$f":"$B$259","v":"Bananarama"},{"$f":"$E$260/$E$259","v":1.5},{"$f":"$G$280","v":5.8317275397827517},{"$f":"$D$280","v":0.62644444444444447},{"$f":"IFERROR(1/$C$280/$E$259,\"\")","v":0.46233016666666671},{"$f":"$F$280","v":10.576036979387661},5.8317275397827517]
[null,null,null,{"$f":"AVERAGE(D5:D12)","v":7.136563377359316E-2},null,null,null,null,null,null,{"$f":"AVERAGE(K5:K12)","v":7.3922337560005963E-2},null,null,null,null,null,null,{"$f":"AVERAGE(R5:R12)","v":7.3922337560005963E-2},null,null,null,null,{"$f":"$P$16","v":"Tic Tac Toe"},{"$f":"$S$17/$S$16","v":0.5},{"$f":"$U$26","v":5.8196474365720317},{"$f":"$R$26","v":0.61729787029006444},{"$f":"IFERROR(1/$Q$26/$S$16,\"\")","v":0.23783174327840417},{"$f":"$T$26","v":2.7771848049644952},5.8196474365720317]
[null,null,null,null,null,null,null,null,null,null,null,null,null,null,null,null,null,null,null,null,null,null,{"$f":"$I$149","v":"Catch 3 Bonus"},{"$f":"$L$150/$L$149","v":1},{"$f":"$N$162","v":5.8178426179029969},{"$f":"$K$162","v":0.61990615937250226},{"$f":"IFERROR(1/$J$162/$L$149,\"\")","v":0.21831995576974839},{"$f":"$M$162","v":15.674344359232972},5.8178426179029969]
[null,"Gewonnen?",null,null,1,{"$f":"IFERROR(SUMIF(E19:E25,\"<>Freilos\",D19:D25),\"\")","v":0.60317460317460325},null,null,"Rubbel Blasen",null,null,1,{"$f":"IFERROR(SUMIF(L19:L25,\"<>Freilos\",K19:K25),\"\")","v":0.61749999999999994},null,null,"Tic Tac Toe",null,null,1,{"$f":"IFERROR(SUMIF(S19:S25,\"<>Freilos\",R19:R25),\"\")","v":0.61729787029006444},null,null,{"$f":"$P$2","v":"Bingo Purple ⁴"},{"$f":"$S$3/$S$2","v":0.25},{"$f":"$U$13","v":5.8167962595154288},{"$f":"$R$13","v":0.5913787004800477},{"$f":"IFERROR(1/$Q$13/$S$2,\"\")","v":0.73435878471514082},{"$f":"$T$13","v":6.0532514235558628},5.8167962595154288]
[null,504000,null,null,{"$f":"E16*5","v":5},{"$f":"IFERROR(COUNTIF(S5:S12,\"Freilos\"),\"\")","v":0},null,null,4000000,null,null,{"$f":"L16*0.5","v":0.5},{"$f":"IFERROR(COUNTIF(L19:L25,\"Freilos\"),\"\")","v":0},null,null,5188500,null,null,{"$f":"S16*0.5","v":0.5},{"$f":"IFERROR(COUNTIF(S19:S25,\"Freilos\"),\"\")","v":0},null,null,{"$f":"$P$358","v":"Rubbel MiniLotto"},{"$f":"$S$359/$S$358","v":0.5},{"$f":"$U$381","v":5.7966032456113954},{"$f":"$R$381","v":0.63539183126423915},{"$f":"IFERROR(1/$Q$381/$S$358,\"\")","v":0.4838276237623762},{"$f":"$T$381","v":2.9991459937709766},5.7966032456113954]
[null,"Losanzahl",{"$f":"IF(E16=1,\"Chancen 1:\",\"Ø Gewinne 1:\")","v":"Chancen 1:"},"Ø AQ","(Ø) Gewinn",null,null,null,"Losanzahl",{"$f":"IF(L16=1,\"Chancen 1:\",\"Ø Gewinne 1:\")","v":"Chancen 1:"},"Ø AQ","(Ø) Gewinn",null,null,null,"Losanzahl",{"$f":"IF(S16=1,\"Chancen 1:\",\"Ø Gewinne 1:\")","v":"Chancen 1:"},"Ø AQ","(Ø) Gewinn",null,null,null,{"$f":"$I$2","v":"Bingo Blue ⁴"},{"$f":"$L$3/$L$2","v":0.5},{"$f":"$N$13","v":5.7374363440255829},{"$f":"$K$13","v":0.5913787004800477},{"$f":"IFERROR(1/$J$13/$L$2,\"\")","v":0.73435878471514082},{"$f":"$M$13","v":6.0532514235558628},5.7374363440255829]
[4,500,{"$f":"IF(OR(B19<=0,B19>1000000000),\"\",B17/B19/E16)","v":1008},{"$f":"IF(OR(C19=\"\",E19<=0,F17>1),\"\",IF(E19=\"Freilos\",F16/(1-(1/C19))/C19,IF(E19>1000000000,\"\",E19/C19/E17)))","v":9.9206349206349215E-2},500,{"$f":"IFERROR(IF(D19<D27,D27/D19,D19/D27),\"\")","v":1.1513157894736841},{"$f":"IFERROR(D19/IF((C19*E17)<150,150,C19*E17)^0.25*34.9964,\"\")","v":0.41205501629409125},6,10,{"$f":"IF(OR(I19<=0,I19>1000000000),\"\",I17/I19/L16)","v":400000},{"$f":"IF(OR(J19=\"\",L19<=0,M17>1),\"\",IF(L19=\"Freilos\",M16/(1-(1/J19))/J19,IF(L19>1000000000,\"\",L19/J19/L17)))","v":0.02},4000,{"$f":"IFERROR(IF(K19<K27,K27/K19,K19/K27),\"\")","v":4.4107142857142847},{"$f":"IFERROR(K19/IF((J19*L17)<150,150,J19*L17)^0.25*34.9964,\"\")","v":3.3097551645318746E-2},6,50,{"$f":"IF(OR(P19<=0,P19>1000000000),\"\",P17/P19/S16)","v":103770},{"$f":"IF(OR(Q19=\"\",S19<=0,T17>1),\"\",IF(S19=\"Freilos\",T16/(1-(1/Q19))/Q19,IF(S19>1000000000,\"\",S19/Q19/S17)))","v":1.9273393080851884E-2},1000,{"$f":"IFERROR(IF(R19<R27,R27/R19,R19/R27),\"\")","v":4.575499999999999},{"$f":"IFERROR(R19/IF((Q19*S17)<150,150,Q19*S17)^0.25*34.9964,\"\")","v":4.4691105265568278E-2},null,{"$f":"$I$216","v":"Cool Cash"},{"$f":"$L$217/$L$216","v":3},{"$f":"$N$232","v":5.7326651323545956},{"$f":"$K$232","v":0.624},{"$f":"IFERROR(1/$J$232/$L$216,\"\")","v":0.57135566666666671},{"$f":"$M$232","v":7.0793803418803414},5.7326651323545956]
[3,750,{"$f":"IF(OR(B20<=0,B20>1000000000),\"\",B17/B20/E16)","v":672},{"$f":"IF(OR(C20=\"\",E20<=0,F17>1),\"\",IF(E20=\"Freilos\",F16/(1-(1/C20))/C20,IF(E20>1000000000,\"\",E20/C20/E17)))","v":2.976190476190476E-2},100,{"$f":"IFERROR(IF(D20<D27,D27/D20,D20/D27),\"\")","v":2.8952380952380961},{"$f":"IFERROR(D20/IF((C20*E17)<150,150,C20*E17)^0.25*34.9964,\"\")","v":0.13680415093634765},4,1000,{"$f":"IF(OR(I20<=0,I20>1000000000),\"\",I17/I20/L16)","v":4000},{"$f":"IF(OR(J20=\"\",L20<=0,M17>1),\"\",IF(L20=\"Freilos\",M16/(1-(1/J20))/J20,IF(L20>1000000000,\"\",L20/J20/L17)))","v":1.2500000000000001E-2},25,{"$f":"IFERROR(IF(K20<K27,K27/K20,K20/K27),\"\")","v":7.0571428571428561},{"$f":"IFERROR(K20/IF((J20*L17)<150,150,J20*L17)^0.25*34.9964,\"\")","v":6.5414780108912912E-2},4,701,{"$f":"IF(OR(P20<=0,P20>1000000000),\"\",P17/P20/S16)","v":7401.5691868758913},{"$f":"IF(OR(Q20=\"\",S20<=0,T17>1),\"\",IF(S20=\"Freilos\",T16/(1-(1/Q20))/Q20,IF(S20>1000000000,\"\",S20/Q20/S17)))","v":1.3510648549677172E-2},50,{"$f":"IFERROR(IF(R20<R27,R27/R20,R20/R27),\"\")","v":6.5271041369472158},{"$f":"IFERROR(R20/IF((Q20*S17)<150,150,Q20*S17)^0.25*34.9964,\"\")","v":6.0621421634224293E-2},null,{"$f":"$I$86","v":"Happy Birthday"},{"$f":"$L$87/$L$86","v":1},{"$f":"$N$98","v":5.71080838040033},{"$f":"$K$98","v":0.59875},{"$f":"IFERROR(1/$J$98/$L$86,\"\")","v":0.343059},{"$f":"$M$98","v":10.359431944122273},5.71080838040033]
[3,1500,{"$f":"IF(OR(B21<=0,B21>1000000000),\"\",B17/B21/E16)","v":336},{"$f":"IF(OR(C21=\"\",E21<=0,F17>1),\"\",IF(E21=\"Freilos\",F16/(1-(1/C21))/C21,IF(E21>1000000000,\"\",E21/C21/E17)))","v":2.976190476190476E-2},50,{"$f":"IFERROR(IF(D21<D27,D27/D21,D21/D27),\"\")","v":2.8952380952380961},{"$f":"IFERROR(D21/IF((C21*E17)<150,150,C21*E17)^0.25*34.9964,\"\")","v":0.16268846965541078},4,2000,{"$f":"IF(OR(I21<=0,I21>1000000000),\"\",I17/I21/L16)","v":2000},{"$f":"IF(OR(J21=\"\",L21<=0,M17>1),\"\",IF(L21=\"Freilos\",M16/(1-(1/J21))/J21,IF(L21>1000000000,\"\",L21/J21/L17)))","v":0.01},10,{"$f":"IFERROR(IF(K21<K27,K27/K21,K21/K27),\"\")","v":8.8214285714285694},{"$f":"IFERROR(K21/IF((J21*L17)<150,150,J21*L17)^0.25*34.9964,\"\")","v":6.2233377545486163E-2},3,5311,{"$f":"IF(OR(P21<=0,P21>1000000000),\"\",P17/P21/S16)","v":976.93466390510264},{"$f":"IF(OR(Q21=\"\",S21<=0,T17>1),\"\",IF(S21=\"Freilos\",T16/(1-(1/Q21))/Q21,IF(S21>1000000000,\"\",S21/Q21/S17)))","v":5.1180495326202176E-2},25,{"$f":"IFERROR(IF(R21<R27,R27/R21,R21/R27),\"\")","v":1.7230276784033136},{"$f":"IFERROR(R21/IF((Q21*S17)<150,150,Q21*S17)^0.25*34.9964,\"\")","v":0.38099473613031509},null,{"$f":"$I$509","v":"Black Jack"},{"$f":"$L$510/$L$509","v":1},{"$f":"$N$518","v":5.7077043538722982},{"$f":"$K$518","v":0.65100000000000002},{"$f":"IFERROR(1/$J$518/$L$509,\"\")","v":0.35170600000000002},{"$f":"$M$518","v":3.5533175456562556},5.7077043538722982]
[3,5000,{"$f":"IF(OR(B22<=0,B22>1000000000),\"\",B17/B22/E16)","v":100.8},{"$f":"IF(OR(C22=\"\",E22<=0,F17>1),\"\",IF(E22=\"Freilos\",F16/(1-(1/C22))/C22,IF(E22>1000000000,\"\",E22/C22/E17)))","v":3.9682539682539687E-2},20,{"$f":"IFERROR(IF(D22<D27,D27/D22,D22/D27),\"\")","v":2.1714285714285717},{"$f":"IFERROR(D22/IF((C22*E17)<150,150,C22*E17)^0.25*34.9964,\"\")","v":0.29309958051161411},3,30000,{"$f":"IF(OR(I22<=0,I22>1000000000),\"\",I17/I22/L16)","v":133.33333333333334},{"$f":"IF(OR(J22=\"\",L22<=0,M17>1),\"\",IF(L22=\"Freilos\",M16/(1-(1/J22))/J22,IF(L22>1000000000,\"\",L22/J22/L17)))","v":7.4999999999999997E-2},5,{"$f":"IFERROR(IF(K22<K27,K27/K22,K22/K27),\"\")","v":1.176190476190476},{"$f":"IFERROR(K22/IF((J22*L17)<150,150,J22*L17)^0.25*34.9964,\"\")","v":0.75000096190433307},3,17295,{"$f":"IF(OR(P22<=0,P22>1000000000),\"\",P17/P22/S16)","v":300},{"$f":"IF(OR(Q22=\"\",S22<=0,T17>1),\"\",IF(S22=\"Freilos\",T16/(1-(1/Q22))/Q22,IF(S22>1000000000,\"\",S22/Q22/S17)))","v":6.6666666666666666E-2},10,{"$f":"IFERROR(IF(R22<R27,R27/R22,R22/R27),\"\")","v":1.3227811506215668},{"$f":"IFERROR(R22/IF((Q22*S17)<150,150,Q22*S17)^0.25*34.9964,\"\")","v":0.66666752169274057},null,{"$f":"$B$443","v":"AstroLos"},{"$f":"$E$444/$E$443","v":2},{"$f":"$G$461","v":5.5649983390784987},{"$f":"$D$461","v":0.62266666666666659},{"$f":"IFERROR(1/$C$461/$E$443,\"\")","v":0.41985300000000003},{"$f":"$F$461","v":4.7463265445316836},5.5649983390784987]
[2,10000,{"$f":"IF(OR(B23<=0,B23>1000000000),\"\",B17/B23/E16)","v":50.4},{"$f":"IF(OR(C23=\"\",E23<=0,F17>1),\"\",IF(E23=\"Freilos\",F16/(1-(1/C23))/C23,IF(E23>1000000000,\"\",E23/C23/E17)))","v":5.9523809523809521E-2},15,{"$f":"IFERROR(IF(D23<D27,D27/D23,D23/D27),\"\")","v":1.447619047619048},{"$f":"IFERROR(D23/IF((C23*E17)<150,150,C23*E17)^0.25*34.9964,\"\")","v":0.52283415982308656},2,80000,{"$f":"IF(OR(I23<=0,I23>1000000000),\"\",I17/I23/L16)","v":50},{"$f":"IF(OR(J23=\"\",L23<=0,M17>1),\"\",IF(L23=\"Freilos\",M16/(1-(1/J23))/J23,IF(L23>1000000000,\"\",L23/J23/L17)))","v":0.1},2.5,{"$f":"IFERROR(IF(K23<K27,K27/K23,K23/K27),\"\")","v":1.133603238866397},{"$f":"IFERROR(K23/IF((J23*L17)<150,150,J23*L17)^0.25*34.9964,\"\")","v":1.0000012825391109},2,172966,{"$f":"IF(OR(P23<=0,P23>1000000000),\"\",P17/P23/S16)","v":29.997224888128304},{"$f":"IF(OR(Q23=\"\",S23<=0,T17>1),\"\",IF(S23=\"Freilos\",T16/(1-(1/Q23))/Q23,IF(S23>1000000000,\"\",S23/Q23/S17)))","v":0.16668208538113133},2.5,{"$f":"IFERROR(IF(R23<R27,R27/R23,R23/R27),\"\")","v":1.8901322259862312},{"$f":"IFERROR(R23/IF((Q23*S17)<150,150,Q23*S17)^0.25*34.9964,\"\")","v":1.666822991574249},null,{"$f":"$P$468","v":"Bälle Bingo"},{"$f":"$S$469/$S$468","v":2},{"$f":"$U$494","v":5.5048828883685852},{"$f":"$R$494","v":0.61441176470588232},{"$f":"IFERROR(1/$Q$494/$S$468,\"\")","v":0.41815609999999998},{"$f":"$T$494","v":9.370774999174488},5.5048828883685852]
[2,37000,{"$f":"IF(OR(B24<=0,B24>1000000000),\"\",B17/B24/E16)","v":13.621621621621621},{"$f":"IF(OR(C24=\"\",E24<=0,F17>1),\"\",IF(E24=\"Freilos\",F16/(1-(1/C24))/C24,IF(E24>1000000000,\"\",E24/C24/E17)))","v":0.14682539682539683},10,{"$f":"IFERROR(IF(D24<D27,D27/D24,D24/D27),\"\")","v":1.7039473684210524},{"$f":"IFERROR(D24/IF((C24*E17)<150,150,C24*E17)^0.25*34.9964,\"\")","v":1.4682558513471071},2,300000,{"$f":"IF(OR(I24<=0,I24>1000000000),\"\",I17/I24/L16)","v":13.333333333333334},{"$f":"IF(OR(J24=\"\",L24<=0,M17>1),\"\",IF(L24=\"Freilos\",M16/(1-(1/J24))/J24,IF(L24>1000000000,\"\",L24/J24/L17)))","v":0.15},1,{"$f":"IFERROR(IF(K24<K27,K27/K24,K24/K27),\"\")","v":1.7004048582995952},{"$f":"IFERROR(K24/IF((J24*L17)<150,150,J24*L17)^0.25*34.9964,\"\")","v":1.5000019238086661},2,518803,{"$f":"IF(OR(P24<=0,P24>1000000000),\"\",P17/P24/S16)","v":10.000905931538561},{"$f":"IF(OR(Q24=\"\",S24<=0,T17>1),\"\",IF(S24=\"Freilos\",T16/(1-(1/Q24))/Q24,IF(S24>1000000000,\"\",S24/Q24/S17)))","v":0.19998188301050399},1,{"$f":"IFERROR(IF(R24<R27,R27/R24,R24/R27),\"\")","v":2.2677434160201075},{"$f":"IFERROR(R24/IF((Q24*S17)<150,150,Q24*S17)^0.25*34.9964,\"\")","v":1.9998213949509041},null,{"$f":"$I$419","v":"Goldenes Ass"},{"$f":"$L$420/$L$419","v":5},{"$f":"$N$440","v":5.473533692643243},{"$f":"$K$440","v":0.59996228571428578},{"$f":"IFERROR(1/$J$440/$L$419,\"\")","v":0.48112571428571432},{"$f":"$M$440","v":4.7355055770224768},5.473533692643243]
[1,100000,{"$f":"IF(OR(B25<=0,B25>1000000000),\"\",B17/B25/E16)","v":5.04},{"$f":"IF(OR(C25=\"\",E25<=0,F17>1),\"\",IF(E25=\"Freilos\",F16/(1-(1/C25))/C25,IF(E25>1000000000,\"\",E25/C25/E17)))","v":0.19841269841269843},5,{"$f":"IFERROR(IF(D25<D27,D27/D25,D25/D27),\"\")","v":2.3026315789473681},{"$f":"IFERROR(D25/IF((C25*E17)<150,150,C25*E17)^0.25*34.9964,\"\")","v":1.9841295288474423},1,1000000,{"$f":"IF(OR(I25<=0,I25>1000000000),\"\",I17/I25/L16)","v":4},{"$f":"IF(OR(J25=\"\",L25<=0,M17>1),\"\",IF(L25=\"Freilos\",M16/(1-(1/J25))/J25,IF(L25>1000000000,\"\",L25/J25/L17)))","v":0.25},0.5,{"$f":"IFERROR(IF(K25<K27,K27/K25,K25/K27),\"\")","v":2.8340080971659924},{"$f":"IFERROR(K25/IF((J25*L17)<150,150,J25*L17)^0.25*34.9964,\"\")","v":2.5000032063477771},1,518864,{"$f":"IF(OR(P25<=0,P25>1000000000),\"\",P17/P25/S16)","v":9.9997301797773606},{"$f":"IF(OR(Q25=\"\",S25<=0,T17>1),\"\",IF(S25=\"Freilos\",T16/(1-(1/Q25))/Q25,IF(S25>1000000000,\"\",S25/Q25/S17)))","v":0.10000269827503132},0.5,{"$f":"IFERROR(IF(R25<R27,R27/R25,R25/R27),\"\")","v":1.1340050267730306},{"$f":"IFERROR(R25/IF((Q25*S17)<150,150,Q25*S17)^0.25*34.9964,\"\")","v":1.0000282653240304},null,{"$f":"$B$2","v":"Bingo Pink ⁴"},{"$f":"$E$3/$E$2","v":1},{"$f":"$G$13","v":5.4560374889244923},{"$f":"$D$13","v":0.57092507018874528},{"$f":"IFERROR(1/$C$13/$E$2,\"\")","v":0.73435878471514082},{"$f":"$F$13","v":5.6516878578791658},5.4560374889244923]
[null,{"$f":"IF(SUM(B19:B25)=0,\"\",SUM(B19:B25))","v":154750},{"$f":"IF(OR(B26<=0,B26>1000000000),\"\",B17/B26/E16)","v":3.2568659127625201},{"$f":"IF(SUM(D19:D25)=0,\"\",SUM(D19:D25))","v":0.60317460317460325},{"$f":"IFERROR(E17*D26,\"\")","v":3.0158730158730163},{"$f":"IFERROR(AVERAGE(F19:F25),\"\")","v":2.0810597923379879},{"$f":"IF(SUM(G19:G25)=0,\"\",SUM(G19:G25))","v":4.9798667574150999},null,{"$f":"IF(SUM(I19:I25)=0,\"\",SUM(I19:I25))","v":1413010},{"$f":"IF(OR(I26<=0,I26>1000000000),\"\",I17/I26/L16)","v":2.8308362998138725},{"$f":"IF(SUM(K19:K25)=0,\"\",SUM(K19:K25))","v":0.61749999999999994},{"$f":"IFERROR(L17*K26,\"\")","v":0.30874999999999997},{"$f":"IFERROR(AVERAGE(M19:M25),\"\")","v":3.8762131978297387},{"$f":"IF(SUM(N19:N25)=0,\"\",SUM(N19:N25))","v":5.9107530838996052},null,{"$f":"IF(SUM(P19:P25)=0,\"\",SUM(P19:P25))","v":1233990},{"$f":"IF(OR(P26<=0,P26>1000000000),\"\",P17/P26/S16)","v":4.2046531981620596},{"$f":"IF(SUM(R19:R25)=0,\"\",SUM(R19:R25))","v":0.61729787029006444},{"$f":"IFERROR(S17*R26,\"\")","v":0.30864893514503222},{"$f":"IFERROR(AVERAGE(T19:T25),\"\")","v":2.7771848049644952},{"$f":"IF(SUM(U19:U25)=0,\"\",SUM(U19:U25))","v":5.8196474365720317},null,{"$f":"$P$497","v":"Schachmatt"},{"$f":"$S$498/$S$497","v":0.5},{"$f":"$U$517","v":5.4441497582105107},{"$f":"$R$517","v":0.59650000000000003},{"$f":"IFERROR(1/$Q$517/$S$497,\"\")","v":0.42907200000000001},{"$f":"$T$517","v":4.0027287541415655},5.4441497582105107]
[null,null,null,{"$f":"AVERAGE(D19:D25)","v":8.6167800453514756E-2},null,null,null,null,null,null,{"$f":"AVERAGE(K19:K25)","v":8.8214285714285703E-2},null,null,null,null,null,null,{"$f":"AVERAGE(R19:R25)","v":8.8185410041437776E-2},null,null,null,null,{"$f":"$P$71","v":"5 Card Cash"},{"$f":"$S$72/$S$71","v":1.5},{"$f":"$U$83","v":5.4309786715412924},{"$f":"$R$83","v":0.60888888888888881},{"$f":"IFERROR(1/$Q$83/$S$71,\"\")","v":0.32213700000000001},{"$f":"$T$83","v":3.5906350708256625},5.4309786715412924]
[null,null,null,null,null,null,null,null,null,null,null,null,null,null,null,null,null,null,null,null,null,null,{"$f":"$B$71","v":"25 fette Jahre ⁵"},{"$f":"$E$72/$E$71","v":3},{"$f":"$G$83","v":5.3596145688012644},{"$f":"$D$83","v":0.58540079604876416},{"$f":"IFERROR(1/$C$83/$E$71,\"\")","v":0.36164202000000001},{"$f":"$F$83","v":4.8434117072091132},5.3596145688012644]
[null,"Ferrari 488 GTB + \nLamborghini Huracán",null,null,1,{"$f":"IFERROR(SUMIF(E32:E39,\"<>Freilos\",D32:D39),\"\")","v":0.57981481481481478},null,null,"Nissan GT-R + \nPorsche 911",null,null,1,{"$f":"IFERROR(SUMIF(L32:L39,\"<>Freilos\",K32:K39),\"\")","v":0.58000000000000007},null,null,"Audi TT RS + \nBMW M2 Coupé",null,null,1,{"$f":"IFERROR(SUMIF(S32:S39,\"<>Freilos\",R32:R39),\"\")","v":0.58000000000000007},null,null,{"$f":"$I$43","v":"Bling Bling"},{"$f":"$L$44/$L$43","v":2},{"$f":"$N$54","v":5.3561786210479116},{"$f":"$K$54","v":0.57499999999999996},{"$f":"IFERROR(1/$J$54/$L$43,\"\")","v":0.3326925},{"$f":"$M$54","v":4.5615000941087889},5.3561786210479116]
[null,900000,null,null,{"$f":"E29*6","v":6},{"$f":"IFERROR(COUNTIF(E32:E39,\"Freilos\"),\"\")","v":0},null,null,750000,null,null,{"$f":"L29*4","v":4},{"$f":"IFERROR(COUNTIF(L32:L39,\"Freilos\"),\"\")","v":0},null,null,600000,null,null,{"$f":"S29*3","v":3},{"$f":"IFERROR(COUNTIF(S32:S39,\"Freilos\"),\"\")","v":0},null,null,{"$f":"$B$198","v":"Lottohelden GOLD 1 MIO"},{"$f":"$E$199/$E$198","v":4},{"$f":"$G$213","v":5.3300767410382512},{"$f":"$D$213","v":0.63666666666666671},{"$f":"IFERROR(1/$C$213/$E$198,\"\")","v":0.52135416666666667},{"$f":"$F$213","v":4.8706180919139035},5.3300767410382512]
[null,"Losanzahl",{"$f":"IF(E29=1,\"Chancen 1:\",\"Ø Gewinne 1:\")","v":"Chancen 1:"},"Ø AQ","(Ø) Gewinn",null,null,null,"Losanzahl",{"$f":"IF(L29=1,\"Chancen 1:\",\"Ø Gewinne 1:\")","v":"Chancen 1:"},"Ø AQ","(Ø) Gewinn",null,null,null,"Losanzahl",{"$f":"IF(S29=1,\"Chancen 1:\",\"Ø Gewinne 1:\")","v":"Chancen 1:"},"Ø AQ","(Ø) Gewinn",null,null,null,{"$f":"$I$384","v":"Kiss & Cash"},{"$f":"$L$385/$L$384","v":1},{"$f":"$N$416","v":5.3012040237457256},{"$f":"$K$416","v":0.65033333333333321},{"$f":"IFERROR(1/$J$416/$L$384,\"\")","v":0.34774100000000002},{"$f":"$M$416","v":5.0129216106792018},5.3012040237457256]
[6,1,{"$f":"IF(OR(B32<=0,B32>1000000000),\"\",B30/B32/E29)","v":900000},{"$f":"IF(OR(C32=\"\",E32<=0,F30>1),\"\",IF(E32=\"Freilos\",F29/(1-(1/C32))/C32,IF(E32>1000000000,\"\",E32/C32/E30)))","v":5.3703703703703705E-2},290000,{"$f":"IFERROR(IF(D32<D41,D41/D32,D32/D41),\"\")","v":1.3495689655172414},{"$f":"IFERROR(D32/IF((C32*E30)<150,150,C32*E30)^0.25*34.9964,\"\")","v":3.8987839529936827E-2},6,1,{"$f":"IF(OR(I32<=0,I32>1000000000),\"\",I30/I32/L29)","v":750000},{"$f":"IF(OR(J32=\"\",L32<=0,M30>1),\"\",IF(L32=\"Freilos\",M29/(1-(1/J32))/J32,IF(L32>1000000000,\"\",L32/J32/L30)))","v":4.3333333333333335E-2},130000,{"$f":"IFERROR(IF(K32<K41,K41/K32,K32/K41),\"\")","v":1.6730769230769231},{"$f":"IFERROR(K32/IF((J32*L30)<150,150,J32*L30)^0.25*34.9964,\"\")","v":3.6438891395237719E-2},6,1,{"$f":"IF(OR(P32<=0,P32>1000000000),\"\",P30/P32/S29)","v":600000},{"$f":"IF(OR(Q32=\"\",S32<=0,T30>1),\"\",IF(S32=\"Freilos\",T29/(1-(1/Q32))/Q32,IF(S32>1000000000,\"\",S32/Q32/S30)))","v":4.9999999999999996E-2},90000,{"$f":"IFERROR(IF(R32<R41,R41/R32,R32/R41),\"\")","v":1.4500000000000004},{"$f":"IFERROR(R32/IF((Q32*S30)<150,150,Q32*S30)^0.25*34.9964,\"\")","v":4.7772200879855793E-2},null,{"$f":"$B$181","v":"Schatztruhe"},{"$f":"$E$182/$E$181","v":2},{"$f":"$G$195","v":5.2636551839406707},{"$f":"$D$195","v":0.57650000000000001},{"$f":"IFERROR(1/$C$195/$E$181,\"\")","v":0.51051400000000002},{"$f":"$F$195","v":6.3208659965578677},5.2636551839406707]
[6,2,{"$f":"IF(OR(B33<=0,B33>1000000000),\"\",B30/B33/E29)","v":450000},{"$f":"IF(OR(C33=\"\",E33<=0,F30>1),\"\",IF(E33=\"Freilos\",F29/(1-(1/C33))/C33,IF(E33>1000000000,\"\",E33/C33/E30)))","v":1.6666666666666666E-2},45000,{"$f":"IFERROR(IF(D33<D41,D41/D33,D33/D41),\"\")","v":4.3486111111111105},{"$f":"IFERROR(D33/IF((C33*E30)<150,150,C33*E30)^0.25*34.9964,\"\")","v":1.4389018810629895E-2},6,2,{"$f":"IF(OR(I33<=0,I33>1000000000),\"\",I30/I33/L29)","v":375000},{"$f":"IF(OR(J33=\"\",L33<=0,M30>1),\"\",IF(L33=\"Freilos\",M29/(1-(1/J33))/J33,IF(L33>1000000000,\"\",L33/J33/L30)))","v":0.02},30000,{"$f":"IFERROR(IF(K33<K41,K41/K33,K33/K41),\"\")","v":3.6250000000000004},{"$f":"IFERROR(K33/IF((J33*L30)<150,150,J33*L30)^0.25*34.9964,\"\")","v":2.0000025650782207E-2},6,2,{"$f":"IF(OR(P33<=0,P33>1000000000),\"\",P30/P33/S29)","v":300000},{"$f":"IF(OR(Q33=\"\",S33<=0,T30>1),\"\",IF(S33=\"Freilos\",T29/(1-(1/Q33))/Q33,IF(S33>1000000000,\"\",S33/Q33/S30)))","v":2.4999999999999998E-2},22500,{"$f":"IFERROR(IF(R33<R41,R41/R33,R33/R41),\"\")","v":2.9000000000000008},{"$f":"IFERROR(R33/IF((Q33*S30)<150,150,Q33*S30)^0.25*34.9964,\"\")","v":2.840552059283187E-2},null,{"$f":"$P$101","v":"25 super fette Jahre ⁵"},{"$f":"$S$102/$S$101","v":5},{"$f":"$U$114","v":5.2223430984067374},{"$f":"$R$114","v":0.63625497530477559},{"$f":"IFERROR(1/$Q$114/$S$101,\"\")","v":0.59177012500000004},{"$f":"$T$114","v":3.5446146807914323},5.2223430984067374]
[6,7,{"$f":"IF(OR(B34<=0,B34>1000000000),\"\",B30/B34/E29)","v":128571.42857142857},{"$f":"IF(OR(C34=\"\",E34<=0,F30>1),\"\",IF(E34=\"Freilos\",F29/(1-(1/C34))/C34,IF(E34>1000000000,\"\",E34/C34/E30)))","v":1.9444444444444445E-2},15000,{"$f":"IFERROR(IF(D34<D41,D41/D34,D34/D41),\"\")","v":3.727380952380952},{"$f":"IFERROR(D34/IF((C34*E30)<150,150,C34*E30)^0.25*34.9964,\"\")","v":2.2961221127296944E-2},6,5,{"$f":"IF(OR(I34<=0,I34>1000000000),\"\",I30/I34/L29)","v":150000},{"$f":"IF(OR(J34=\"\",L34<=0,M30>1),\"\",IF(L34=\"Freilos\",M29/(1-(1/J34))/J34,IF(L34>1000000000,\"\",L34/J34/L30)))","v":1.6666666666666666E-2},10000,{"$f":"IFERROR(IF(K34<K41,K41/K34,K34/K41),\"\")","v":4.3500000000000005},{"$f":"IFERROR(K34/IF((J34*L30)<150,150,J34*L30)^0.25*34.9964,\"\")","v":2.0957250706508137E-2},6,4,{"$f":"IF(OR(P34<=0,P34>1000000000),\"\",P30/P34/S29)","v":150000},{"$f":"IF(OR(Q34=\"\",S34<=0,T30>1),\"\",IF(S34=\"Freilos\",T29/(1-(1/Q34))/Q34,IF(S34>1000000000,\"\",S34/Q34/S30)))","v":1.6666666666666666E-2},7500,{"$f":"IFERROR(IF(R34<R41,R41/R34,R34/R41),\"\")","v":4.3500000000000005},{"$f":"IFERROR(R34/IF((Q34*S30)<150,150,Q34*S30)^0.25*34.9964,\"\")","v":2.2520031462901321E-2},null,{"$f":"$I$344","v":"Diamant 7"},{"$f":"$L$345/$L$344","v":5},{"$f":"$N$381","v":5.2049281300324477},{"$f":"$K$381","v":0.6374907428571428},{"$f":"IFERROR(1/$J$381/$L$344,\"\")","v":0.4355222857142857},{"$f":"$M$381","v":46.06797719661985},5.2049281300324477]
[4,120,{"$f":"IF(OR(B35<=0,B35>1000000000),\"\",B30/B35/E29)","v":7500},{"$f":"IF(OR(C35=\"\",E35<=0,F30>1),\"\",IF(E35=\"Freilos\",F29/(1-(1/C35))/C35,IF(E35>1000000000,\"\",E35/C35/E30)))","v":3.3333333333333333E-2},1500,{"$f":"IFERROR(IF(D35<D41,D41/D35,D35/D41),\"\")","v":2.1743055555555553},{"$f":"IFERROR(D35/IF((C35*E30)<150,150,C35*E30)^0.25*34.9964,\"\")","v":8.0093816527812306E-2},4,100,{"$f":"IF(OR(I35<=0,I35>1000000000),\"\",I30/I35/L29)","v":7500},{"$f":"IF(OR(J35=\"\",L35<=0,M30>1),\"\",IF(L35=\"Freilos\",M29/(1-(1/J35))/J35,IF(L35>1000000000,\"\",L35/J35/L30)))","v":3.3333333333333333E-2},1000,{"$f":"IFERROR(IF(K35<K41,K41/K35,K35/K41),\"\")","v":2.1750000000000003},{"$f":"IFERROR(K35/IF((J35*L30)<150,150,J35*L30)^0.25*34.9964,\"\")","v":8.8638378631124629E-2},4,75,{"$f":"IF(OR(P35<=0,P35>1000000000),\"\",P30/P35/S29)","v":8000},{"$f":"IF(OR(Q35=\"\",S35<=0,T30>1),\"\",IF(S35=\"Freilos\",T29/(1-(1/Q35))/Q35,IF(S35>1000000000,\"\",S35/Q35/S30)))","v":3.125E-2},750,{"$f":"IFERROR(IF(R35<R41,R41/R35,R35/R41),\"\")","v":2.3200000000000003},{"$f":"IFERROR(R35/IF((Q35*S30)<150,150,Q35*S30)^0.25*34.9964,\"\")","v":8.7865944752358163E-2},null,{"$f":"$B$216","v":"Schatz des Pharao"},{"$f":"$E$217/$E$216","v":5},{"$f":"$G$232","v":5.2018305590480445},{"$f":"$D$232","v":0.63133333333333341},{"$f":"IFERROR(1/$C$232/$E$216,\"\")","v":0.42030983333333333},{"$f":"$F$232","v":4.1980129298548796},5.2018305590480445]
[3,1200,{"$f":"IF(OR(B36<=0,B36>1000000000),\"\",B30/B36/E29)","v":750},{"$f":"IF(OR(C36=\"\",E36<=0,F30>1),\"\",IF(E36=\"Freilos\",F29/(1-(1/C36))/C36,IF(E36>1000000000,\"\",E36/C36/E30)))","v":3.3333333333333333E-2},150,{"$f":"IFERROR(IF(D36<D41,D41/D36,D36/D41),\"\")","v":2.1743055555555553},{"$f":"IFERROR(D36/IF((C36*E30)<150,150,C36*E30)^0.25*34.9964,\"\")","v":0.14242918480284375},3,1000,{"$f":"IF(OR(I36<=0,I36>1000000000),\"\",I30/I36/L29)","v":750},{"$f":"IF(OR(J36=\"\",L36<=0,M30>1),\"\",IF(L36=\"Freilos\",M29/(1-(1/J36))/J36,IF(L36>1000000000,\"\",L36/J36/L30)))","v":3.3333333333333333E-2},100,{"$f":"IFERROR(IF(K36<K41,K41/K36,K36/K41),\"\")","v":2.1750000000000003},{"$f":"IFERROR(K36/IF((J36*L30)<150,150,J36*L30)^0.25*34.9964,\"\")","v":0.15762380365896303},3,750,{"$f":"IF(OR(P36<=0,P36>1000000000),\"\",P30/P36/S29)","v":800},{"$f":"IF(OR(Q36=\"\",S36<=0,T30>1),\"\",IF(S36=\"Freilos\",T29/(1-(1/Q36))/Q36,IF(S36>1000000000,\"\",S36/Q36/S30)))","v":3.125E-2},75,{"$f":"IFERROR(IF(R36<R41,R41/R36,R36/R41),\"\")","v":2.3200000000000003},{"$f":"IFERROR(R36/IF((Q36*S30)<150,150,Q36*S30)^0.25*34.9964,\"\")","v":0.15625020039673604},null,{"$f":"$I$464","v":"Oktobeerfest"},{"$f":"$L$465/$L$464","v":2},{"$f":"$N$477","v":5.1905356330205663},{"$f":"$K$477","v":0.55483333333333329},{"$f":"IFERROR(1/$J$477/$L$464,\"\")","v":0.42619170000000006},{"$f":"$M$477","v":10.15537242623744},5.1905356330205663]
[2,36000,{"$f":"IF(OR(B37<=0,B37>1000000000),\"\",B30/B37/E29)","v":25},{"$f":"IF(OR(C37=\"\",E37<=0,F30>1),\"\",IF(E37=\"Freilos\",F29/(1-(1/C37))/C37,IF(E37>1000000000,\"\",E37/C37/E30)))","v":9.9999999999999992E-2},15,{"$f":"IFERROR(IF(D37<D41,D41/D37,D37/D41),\"\")","v":1.3797508783136379},{"$f":"IFERROR(D37/IF((C37*E30)<150,150,C37*E30)^0.25*34.9964,\"\")","v":1.0000012825391109},2,30000,{"$f":"IF(OR(I37<=0,I37>1000000000),\"\",I30/I37/L29)","v":25},{"$f":"IF(OR(J37=\"\",L37<=0,M30>1),\"\",IF(L37=\"Freilos\",M29/(1-(1/J37))/J37,IF(L37>1000000000,\"\",L37/J37/L30)))","v":0.1},10,{"$f":"IFERROR(IF(K37<K41,K41/K37,K37/K41),\"\")","v":1.3793103448275861},{"$f":"IFERROR(K37/IF((J37*L30)<150,150,J37*L30)^0.25*34.9964,\"\")","v":1.0000012825391109},2,26000,{"$f":"IF(OR(P37<=0,P37>1000000000),\"\",P30/P37/S29)","v":23.076923076923077},{"$f":"IF(OR(Q37=\"\",S37<=0,T30>1),\"\",IF(S37=\"Freilos\",T29/(1-(1/Q37))/Q37,IF(S37>1000000000,\"\",S37/Q37/S30)))","v":0.10833333333333334},7.5,{"$f":"IFERROR(IF(R37<R41,R41/R37,R37/R41),\"\")","v":1.4942528735632183},{"$f":"IFERROR(R37/IF((Q37*S30)<150,150,Q37*S30)^0.25*34.9964,\"\")","v":1.0833347227507035},null,{"$f":"$B$344","v":"Royal 7"},{"$f":"$E$345/$E$344","v":10},{"$f":"$G$381","v":5.1897954272995701},{"$f":"$D$381","v":0.67219714285714294},{"$f":"IFERROR(1/$C$381/$E$344,\"\")","v":0.44623657142857148},{"$f":"$F$381","v":48.785677561468383},5.1897954272995701]
[1,111000,{"$f":"IF(OR(B38<=0,B38>1000000000),\"\",B30/B38/E29)","v":8.1081081081081088},{"$f":"IF(OR(C38=\"\",E38<=0,F30>1),\"\",IF(E38=\"Freilos\",F29/(1-(1/C38))/C38,IF(E38>1000000000,\"\",E38/C38/E30)))","v":0.12333333333333334},6,{"$f":"IFERROR(IF(D38<D41,D41/D38,D38/D41),\"\")","v":1.7016927499201535},{"$f":"IFERROR(D38/IF((C38*E30)<150,150,C38*E30)^0.25*34.9964,\"\")","v":1.23333491513157},1,100000,{"$f":"IF(OR(I38<=0,I38>1000000000),\"\",I30/I38/L29)","v":7.5},{"$f":"IF(OR(J38=\"\",L38<=0,M30>1),\"\",IF(L38=\"Freilos\",M29/(1-(1/J38))/J38,IF(L38>1000000000,\"\",L38/J38/L30)))","v":0.13333333333333333},4,{"$f":"IFERROR(IF(K38<K41,K41/K38,K38/K41),\"\")","v":1.8390804597701147},{"$f":"IFERROR(K38/IF((J38*L30)<150,150,J38*L30)^0.25*34.9964,\"\")","v":1.3333350433854811},1,80500,{"$f":"IF(OR(P38<=0,P38>1000000000),\"\",P30/P38/S29)","v":7.4534161490683228},{"$f":"IF(OR(Q38=\"\",S38<=0,T30>1),\"\",IF(S38=\"Freilos\",T29/(1-(1/Q38))/Q38,IF(S38>1000000000,\"\",S38/Q38/S30)))","v":0.13416666666666668},3,{"$f":"IFERROR(IF(R38<R41,R41/R38,R38/R41),\"\")","v":1.8505747126436782},{"$f":"IFERROR(R38/IF((Q38*S30)<150,150,Q38*S30)^0.25*34.9964,\"\")","v":1.3416683874066406},null,{"$f":"$P$283","v":"Rubbel EuroMillions"},{"$f":"$S$284/$S$283","v":3},{"$f":"$U$313","v":5.1763133928334923},{"$f":"$R$313","v":0.5805914017556677},{"$f":"IFERROR(1/$Q$313/$S$283,\"\")","v":0.45620837688367755},{"$f":"$T$313","v":6.1892353534891393},5.1763133928334923]
[1,360000,{"$f":"IF(OR(B39<=0,B39>1000000000),\"\",B30/B39/E29)","v":2.5},{"$f":"IF(OR(C39=\"\",E39<=0,F30>1),\"\",IF(E39=\"Freilos\",F29/(1-(1/C39))/C39,IF(E39>1000000000,\"\",E39/C39/E30)))","v":0.19999999999999998},3,{"$f":"IFERROR(IF(D39<D41,D41/D39,D39/D41),\"\")","v":2.7595017566272757},{"$f":"IFERROR(D39/IF((C39*E30)<150,150,C39*E30)^0.25*34.9964,\"\")","v":2.0000025650782218},1,300000,{"$f":"IF(OR(I39<=0,I39>1000000000),\"\",I30/I39/L29)","v":2.5},{"$f":"IF(OR(J39=\"\",L39<=0,M30>1),\"\",IF(L39=\"Freilos\",M29/(1-(1/J39))/J39,IF(L39>1000000000,\"\",L39/J39/L30)))","v":0.2},2,{"$f":"IFERROR(IF(K39<K41,K41/K39,K39/K41),\"\")","v":2.7586206896551722},{"$f":"IFERROR(K39/IF((J39*L30)<150,150,J39*L30)^0.25*34.9964,\"\")","v":2.0000025650782218},1,220000,{"$f":"IF(OR(P39<=0,P39>1000000000),\"\",P30/P39/S29)","v":2.7272727272727271},{"$f":"IF(OR(Q39=\"\",S39<=0,T30>1),\"\",IF(S39=\"Freilos\",T29/(1-(1/Q39))/Q39,IF(S39>1000000000,\"\",S39/Q39/S30)))","v":0.18333333333333335},1.5,{"$f":"IFERROR(IF(R39<R41,R41/R39,R39/R41),\"\")","v":2.5287356321839081},{"$f":"IFERROR(R39/IF((Q39*S30)<150,150,Q39*S30)^0.25*34.9964,\"\")","v":1.8333356846550366},null,{"$f":"$I$443","v":"Schnelle 100 €"},{"$f":"$L$444/$L$443","v":1},{"$f":"$N$461","v":5.1457503354733927},{"$f":"$K$461","v":0.60000000000000009},{"$f":"IFERROR(1/$J$461/$L$443,\"\")","v":0.43219999999999997},{"$f":"$M$461","v":3.0413419525516305},5.1457503354733927]
[null,{"$f":"IF(SUM(B32:B39)=0,\"\",SUM(B32:B39))","v":508330},{"$f":"IF(OR(B40<=0,B40>1000000000),\"\",B30/B40/E29)","v":1.7705034131371353},{"$f":"IF(SUM(D32:D39)=0,\"\",SUM(D32:D39))","v":0.57981481481481478},{"$f":"IFERROR(E30*D40,\"\")","v":3.4788888888888887},{"$f":"IFERROR(AVERAGE(F32:F39),\"\")","v":2.4518896906226857},{"$f":"IF(SUM(G32:G39)=0,\"\",SUM(G32:G39))","v":4.5321998435474224},null,{"$f":"IF(SUM(I32:I39)=0,\"\",SUM(I32:I39))","v":431108},{"$f":"IF(OR(I40<=0,I40>1000000000),\"\",I30/I40/L29)","v":1.7397032762092097},{"$f":"IF(SUM(K32:K39)=0,\"\",SUM(K32:K39))","v":0.58000000000000007},{"$f":"IFERROR(L30*K40,\"\")","v":2.3200000000000003},{"$f":"IFERROR(AVERAGE(M32:M39),\"\")","v":2.4968860521662246},{"$f":"IF(SUM(N32:N39)=0,\"\",SUM(N32:N39))","v":4.6569972410454294},null,{"$f":"IF(SUM(P32:P39)=0,\"\",SUM(P32:P39))","v":327332},{"$f":"IF(OR(P40<=0,P40>1000000000),\"\",P30/P40/S29)","v":1.8330013564210037},{"$f":"IF(SUM(R32:R39)=0,\"\",SUM(R32:R39))","v":0.58000000000000007},{"$f":"IFERROR(S30*R40,\"\")","v":1.7400000000000002},{"$f":"IFERROR(AVERAGE(T32:T39),\"\")","v":2.4016954022988513},{"$f":"IF(SUM(U32:U39)=0,\"\",SUM(U32:U39))","v":4.6011526928970641},null,{"$f":"$P$86","v":"Glückskatze"},{"$f":"$S$87/$S$86","v":0.5},{"$f":"$U$98","v":5.1341141336394758},{"$f":"$R$98","v":0.55597014925373134},{"$f":"IFERROR(1/$Q$98/$S$86,\"\")","v":0.54265671641791047},{"$f":"$T$98","v":4.064773386361753},5.1341141336394758]
[null,null,null,{"$f":"AVERAGE(D32:D39)","v":7.2476851851851848E-2},null,null,null,null,null,null,{"$f":"AVERAGE(K32:K39)","v":7.2500000000000009E-2},null,null,null,null,null,null,{"$f":"AVERAGE(R32:R39)","v":7.2500000000000009E-2},null,null,null,null,{"$f":"$B$101","v":"Black Pearl"},{"$f":"$E$102/$E$101","v":10},{"$f":"$G$114","v":5.1300389268958861},{"$f":"$D$114","v":0.63280000000000003},{"$f":"IFERROR(1/$C$114/$E$101,\"\")","v":0.4025718333333333},{"$f":"$F$114","v":3.1980588403435197},5.1300389268958861]
[null,null,null,null,null,null,null,null,null,null,null,null,null,null,null,null,null,null,null,null,null,null,{"$f":"$P$133","v":"Hitzefrei + Herbstlich ⁶"},{"$f":"$S$134/$S$133","v":1},{"$f":"$U$146","v":5.0540375335535135},{"$f":"$R$146","v":0.58900000000000008},{"$f":"IFERROR(1/$Q$146/$S$133,\"\")","v":0.53547800000000001},{"$f":"$T$146","v":7.4438791787160241},5.0540375335535135]
[null,"Las Vegas",null,null,1,{"$f":"IFERROR(SUMIF(E46:E53,\"<>Freilos\",D46:D53),\"\")","v":0.65571428571428569},null,null,"Bling Bling",null,null,1,{"$f":"IFERROR(SUMIF(L46:L53,\"<>Freilos\",K46:K53),\"\")","v":0.57499999999999996},null,null,"Miami Cash",null,null,1,{"$f":"IFERROR(SUMIF(S46:S53,\"<>Freilos\",R46:R53),\"\")","v":0.60986989383159351},null,null,{"$f":"$P$117","v":"Glücksrad"},{"$f":"$S$118/$S$117","v":2},{"$f":"$U$130","v":5.0169513421968652},{"$f":"$R$130","v":0.54027777777777775},{"$f":"IFERROR(1/$Q$130/$S$117,\"\")","v":0.38401444444444444},{"$f":"$T$130","v":5.4961998714652953},5.0169513421968652]
[null,3500000,null,null,{"$f":"E43*2","v":2},{"$f":"IFERROR(COUNTIF(E46:E53,\"Freilos\"),\"\")","v":0},null,null,800000,null,null,{"$f":"L43*2","v":2},{"$f":"IFERROR(COUNTIF(L46:L53,\"Freilos\"),\"\")","v":0},null,null,9925740,null,null,{"$f":"S43*1","v":1},{"$f":"IFERROR(COUNTIF(S46:S53,\"Freilos\"),\"\")","v":0},null,null,{"$f":"$B$16","v":"Gewonnen?"},{"$f":"$E$17/$E$16","v":5},{"$f":"$G$26","v":4.9798667574150999},{"$f":"$D$26","v":0.60317460317460325},{"$f":"IFERROR(1/$C$26/$E$16,\"\")","v":0.30704365079365081},{"$f":"$F$26","v":2.0810597923379879},4.9798667574150999]
[null,"Losanzahl",{"$f":"IF(E43=1,\"Chancen 1:\",\"Ø Gewinne 1:\")","v":"Chancen 1:"},"Ø AQ","(Ø) Gewinn",null,null,null,"Losanzahl",{"$f":"IF(L43=1,\"Chancen 1:\",\"Ø Gewinne 1:\")","v":"Chancen 1:"},"Ø AQ","(Ø) Gewinn",null,null,null,"Losanzahl",{"$f":"IF(S43=1,\"Chancen 1:\",\"Ø Gewinne 1:\")","v":"Chancen 1:"},"Ø AQ","(Ø) Gewinn",null,null,null,{"$f":"$I$101","v":"25 mega fette Jahre ⁵"},{"$f":"$L$102/$L$101","v":10},{"$f":"$N$114","v":4.9489167380806514},{"$f":"$K$114","v":0.63875497530477565},{"$f":"IFERROR(1/$J$114/$L$101,\"\")","v":0.59177012500000004},{"$f":"$M$114","v":2.8721188088746428},4.9489167380806514]
[7,1,{"$f":"IF(OR(B46<=0,B46>1000000000),\"\",B44/B46/E43)","v":3500000},{"$f":"IF(OR(C46=\"\",E46<=0,F44>1),\"\",IF(E46=\"Freilos\",F43/(1-(1/C46))/C46,IF(E46>1000000000,\"\",E46/C46/E44)))","v":1.0714285714285714E-2},75000,{"$f":"IFERROR(IF(D46<D55,D55/D46,D46/D55),\"\")","v":7.6499999999999995},{"$f":"IFERROR(D46/IF((C46*E44)<150,150,C46*E44)^0.25*34.9964,\"\")","v":7.2897407777633809E-3},6,1,{"$f":"IF(OR(I46<=0,I46>1000000000),\"\",I44/I46/L43)","v":800000},{"$f":"IF(OR(J46=\"\",L46<=0,M44>1),\"\",IF(L46=\"Freilos\",M43/(1-(1/J46))/J46,IF(L46>1000000000,\"\",L46/J46/L44)))","v":1.5625E-2},25000,{"$f":"IFERROR(IF(K46<K55,K55/K46,K46/K55),\"\")","v":4.5999999999999996},{"$f":"IFERROR(K46/IF((J46*L44)<150,150,J46*L44)^0.25*34.9964,\"\")","v":1.5374939025696508E-2},{"$f":"IF(Q46=\"\",0,IF(Q46>=1000000,7,IF(Q46>=100000,6,IF(Q46>=10000,5,IF(Q46>=1000,4,IF(Q46>=100,3,IF(Q46>=10,2,1)))))))","v":7},5,{"$f":"IF(OR(P46<=0,P46>1000000000),\"\",P44/P46/S43)","v":1985148},{"$f":"IF(OR(Q46=\"\",S46<=0,T44>1),\"\",IF(S46=\"Freilos\",T43/(1-(1/Q46))/Q46,IF(S46>1000000000,\"\",S46/Q46/S44)))","v":2.5187038951251998E-3},5000,{"$f":"IFERROR(IF(R46<R55,R55/R46,R46/R55),\"\")","v":30.267050000000005},{"$f":"IFERROR(R46/IF((Q46*S44)<150,150,Q46*S44)^0.25*34.9964,\"\")","v":2.3482928886295962E-3},null,{"$f":"$P$316","v":"Rubbel Lotto"},{"$f":"$S$317/$S$316","v":1},{"$f":"$U$355","v":4.9405547580990996},{"$f":"$R$355","v":0.57583645265355332},{"$f":"IFERROR(1/$Q$355/$S$316,\"\")","v":0.41237971094585341},{"$f":"$T$355","v":81.384991176534001},4.9405547580990996]
[5,350,{"$f":"IF(OR(B47<=0,B47>1000000000),\"\",B44/B47/E43)","v":10000},{"$f":"IF(OR(C47=\"\",E47<=0,F44>1),\"\",IF(E47=\"Freilos\",F43/(1-(1/C47))/C47,IF(E47>1000000000,\"\",E47/C47/E44)))","v":0.05},1000,{"$f":"IFERROR(IF(D47<D55,D55/D47,D47/D55),\"\")","v":1.6392857142857142},{"$f":"IFERROR(D47/IF((C47*E44)<150,150,C47*E44)^0.25*34.9964,\"\")","v":0.14714173653392551},6,3,{"$f":"IF(OR(I47<=0,I47>1000000000),\"\",I44/I47/L43)","v":266666.66666666669},{"$f":"IF(OR(J47=\"\",L47<=0,M44>1),\"\",IF(L47=\"Freilos\",M43/(1-(1/J47))/J47,IF(L47>1000000000,\"\",L47/J47/L44)))","v":4.6874999999999998E-3},2500,{"$f":"IFERROR(IF(K47<K55,K55/K47,K47/K55),\"\")","v":15.333333333333332},{"$f":"IFERROR(K47/IF((J47*L44)<150,150,J47*L44)^0.25*34.9964,\"\")","v":6.0703673107344877E-3},5,109,{"$f":"IF(OR(P47<=0,P47>1000000000),\"\",P44/P47/S43)","v":91061.834862385324},{"$f":"IF(OR(Q47=\"\",S47<=0,T44>1),\"\",IF(S47=\"Freilos\",T43/(1-(1/Q47))/Q47,IF(S47>1000000000,\"\",S47/Q47/S44)))","v":1.0981548982745871E-3},100,{"$f":"IFERROR(IF(R47<R55,R55/R47,R47/R55),\"\")","v":69.419839449541286},{"$f":"IFERROR(R47/IF((Q47*S44)<150,150,Q47*S44)^0.25*34.9964,\"\")","v":2.2123451143212704E-3},null,{"$f":"$I$198","v":"Lottohelden GOLD 500K"},{"$f":"$L$199/$L$198","v":2},{"$f":"$N$213","v":4.9305418985824589},{"$f":"$K$213","v":0.6316666666666666},{"$f":"IFERROR(1/$J$213/$L$198,\"\")","v":0.50468833333333329},{"$f":"$M$213","v":4.1342577323365575},4.9305418985824589]
[4,1750,{"$f":"IF(OR(B48<=0,B48>1000000000),\"\",B44/B48/E43)","v":2000},{"$f":"IF(OR(C48=\"\",E48<=0,F44>1),\"\",IF(E48=\"Freilos\",F43/(1-(1/C48))/C48,IF(E48>1000000000,\"\",E48/C48/E44)))","v":2.5000000000000001E-2},100,{"$f":"IFERROR(IF(D48<D55,D55/D48,D48/D55),\"\")","v":3.2785714285714285},{"$f":"IFERROR(D48/IF((C48*E44)<150,150,C48*E44)^0.25*34.9964,\"\")","v":0.11001410819638972},4,200,{"$f":"IF(OR(I48<=0,I48>1000000000),\"\",I44/I48/L43)","v":4000},{"$f":"IF(OR(J48=\"\",L48<=0,M44>1),\"\",IF(L48=\"Freilos\",M43/(1-(1/J48))/J48,IF(L48>1000000000,\"\",L48/J48/L44)))","v":1.2500000000000001E-2},100,{"$f":"IFERROR(IF(K48<K55,K55/K48,K48/K55),\"\")","v":5.7499999999999991},{"$f":"IFERROR(K48/IF((J48*L44)<150,150,J48*L44)^0.25*34.9964,\"\")","v":4.6255234604839199E-2},4,1553,{"$f":"IF(OR(P48<=0,P48>1000000000),\"\",P44/P48/S43)","v":6391.3329040566641},{"$f":"IF(OR(Q48=\"\",S48<=0,T44>1),\"\",IF(S48=\"Freilos\",T43/(1-(1/Q48))/Q48,IF(S48>1000000000,\"\",S48/Q48/S44)))","v":6.2584754386070963E-3},40,{"$f":"IFERROR(IF(R48<R55,R55/R48,R48/R55),\"\")","v":12.180879748873151},{"$f":"IFERROR(R48/IF((Q48*S44)<150,150,Q48*S44)^0.25*34.9964,\"\")","v":2.4495937436876933E-2},null,{"$f":"$I$283","v":"Rubbel EuroJackpot"},{"$f":"$L$284/$L$283","v":2},{"$f":"$N$318","v":4.9120097161565868},{"$f":"$K$318","v":0.58850286645648098},{"$f":"IFERROR(1/$J$318/$L$283,\"\")","v":0.43580878543215007},{"$f":"$M$318","v":4.1866163343714629},4.9120097161565868]
[4,3500,{"$f":"IF(OR(B49<=0,B49>1000000000),\"\",B44/B49/E43)","v":1000},{"$f":"IF(OR(C49=\"\",E49<=0,F44>1),\"\",IF(E49=\"Freilos\",F43/(1-(1/C49))/C49,IF(E49>1000000000,\"\",E49/C49/E44)))","v":0.02},40,{"$f":"IFERROR(IF(D49<D55,D55/D49,D49/D55),\"\")","v":4.0982142857142856},{"$f":"IFERROR(D49/IF((C49*E44)<150,150,C49*E44)^0.25*34.9964,\"\")","v":0.10466364817426066},3,2200,{"$f":"IF(OR(I49<=0,I49>1000000000),\"\",I44/I49/L43)","v":363.63636363636363},{"$f":"IF(OR(J49=\"\",L49<=0,M44>1),\"\",IF(L49=\"Freilos\",M43/(1-(1/J49))/J49,IF(L49>1000000000,\"\",L49/J49/L44)))","v":2.75E-2},20,{"$f":"IFERROR(IF(K49<K55,K55/K49,K49/K55),\"\")","v":2.6136363636363633},{"$f":"IFERROR(K49/IF((J49*L44)<150,150,J49*L44)^0.25*34.9964,\"\")","v":0.18532403190554442},3,55164,{"$f":"IF(OR(P49<=0,P49>1000000000),\"\",P44/P49/S43)","v":179.93147705025015},{"$f":"IF(OR(Q49=\"\",S49<=0,T44>1),\"\",IF(S49=\"Freilos\",T43/(1-(1/Q49))/Q49,IF(S49>1000000000,\"\",S49/Q49/S44)))","v":0.11115342533654922},20,{"$f":"IFERROR(IF(R49<R55,R55/R49,R49/R55),\"\")","v":1.4580608285247487},{"$f":"IFERROR(R49/IF((Q49*S44)<150,150,Q49*S44)^0.25*34.9964,\"\")","v":1.062109848970882},null,{"$f":"$B$419","v":"Roter Rubin"},{"$f":"$E$420/$E$419","v":10},{"$f":"$G$440","v":4.8974444438846811},{"$f":"$D$440","v":0.60004193548387108},{"$f":"IFERROR(1/$C$440/$E$419,\"\")","v":0.46607677419354843},{"$f":"$F$440","v":3.3446742200116319},4.8974444438846811]
[2,70000,{"$f":"IF(OR(B50<=0,B50>1000000000),\"\",B44/B50/E43)","v":50},{"$f":"IF(OR(C50=\"\",E50<=0,F44>1),\"\",IF(E50=\"Freilos\",F43/(1-(1/C50))/C50,IF(E50>1000000000,\"\",E50/C50/E44)))","v":0.1},10,{"$f":"IFERROR(IF(D50<D55,D55/D50,D50/D55),\"\")","v":1.2200435729847496},{"$f":"IFERROR(D50/IF((C50*E44)<150,150,C50*E44)^0.25*34.9964,\"\")","v":1.0000012825391109},3,7000,{"$f":"IF(OR(I50<=0,I50>1000000000),\"\",I44/I50/L43)","v":114.28571428571429},{"$f":"IF(OR(J50=\"\",L50<=0,M44>1),\"\",IF(L50=\"Freilos\",M43/(1-(1/J50))/J50,IF(L50>1000000000,\"\",L50/J50/L44)))","v":4.3749999999999997E-2},10,{"$f":"IFERROR(IF(K50<K55,K55/K50,K50/K55),\"\")","v":1.6428571428571428},{"$f":"IFERROR(K50/IF((J50*L44)<150,150,J50*L44)^0.25*34.9964,\"\")","v":0.39377300824347294},3,82667,{"$f":"IF(OR(P50<=0,P50>1000000000),\"\",P44/P50/S43)","v":120.06895133487365},{"$f":"IF(OR(Q50=\"\",S50<=0,T44>1),\"\",IF(S50=\"Freilos\",T43/(1-(1/Q50))/Q50,IF(S50>1000000000,\"\",S50/Q50/S44)))","v":8.3285477959325963E-2},10,{"$f":"IFERROR(IF(R50<R55,R55/R50,R50/R55),\"\")","v":1.0925015817530945},{"$f":"IFERROR(R50/IF((Q50*S44)<150,150,Q50*S44)^0.25*34.9964,\"\")","v":0.8328558477620881},null,{"$f":"$P$165","v":"Lucky Day Rubbellose (5x) ⁷"},{"$f":"$S$166/$S$165","v":0.5},{"$f":"$U$178","v":4.7481862783584807},{"$f":"$R$178","v":0.5},{"$f":"IFERROR(1/$Q$178/$S$165,\"\")","v":0.35145257142857145},{"$f":"$T$178","v":8.3114880952380936},4.7481862783584807]
[2,350000,{"$f":"IF(OR(B51<=0,B51>1000000000),\"\",B44/B51/E43)","v":10},{"$f":"IF(OR(C51=\"\",E51<=0,F44>1),\"\",IF(E51=\"Freilos\",F43/(1-(1/C51))/C51,IF(E51>1000000000,\"\",E51/C51/E44)))","v":0.2},4,{"$f":"IFERROR(IF(D51<D55,D55/D51,D51/D55),\"\")","v":2.4400871459694993},{"$f":"IFERROR(D51/IF((C51*E44)<150,150,C51*E44)^0.25*34.9964,\"\")","v":2.0000025650782218},2,22000,{"$f":"IF(OR(I51<=0,I51>1000000000),\"\",I44/I51/L43)","v":36.363636363636367},{"$f":"IF(OR(J51=\"\",L51<=0,M44>1),\"\",IF(L51=\"Freilos\",M43/(1-(1/J51))/J51,IF(L51>1000000000,\"\",L51/J51/L44)))","v":8.249999999999999E-2},6,{"$f":"IFERROR(IF(K51<K55,K55/K51,K51/K55),\"\")","v":1.1478260869565218},{"$f":"IFERROR(K51/IF((J51*L44)<150,150,J51*L44)^0.25*34.9964,\"\")","v":0.82500105809476632},2,275705,{"$f":"IF(OR(P51<=0,P51>1000000000),\"\",P44/P51/S43)","v":36.001305743457678},{"$f":"IF(OR(Q51=\"\",S51<=0,T44>1),\"\",IF(S51=\"Freilos\",T43/(1-(1/Q51))/Q51,IF(S51>1000000000,\"\",S51/Q51/S44)))","v":0.13888385148109866},5,{"$f":"IFERROR(IF(R51<R55,R55/R51,R51/R55),\"\")","v":1.8218161333859759},{"$f":"IFERROR(R51/IF((Q51*S44)<150,150,Q51*S44)^0.25*34.9964,\"\")","v":1.3888402960507005},null,{"$f":"$P$259","v":"Super Cash \"S\""},{"$f":"$S$260/$S$259","v":0.5},{"$f":"$U$280","v":4.7314550498109629},{"$f":"$R$280","v":0.50070000000000003},{"$f":"IFERROR(1/$Q$280/$S$259,\"\")","v":0.2946706},{"$f":"$T$280","v":3.3964349050638862},4.7314550498109629]
[1,525000,{"$f":"IF(OR(B52<=0,B52>1000000000),\"\",B44/B52/E43)","v":6.666666666666667},{"$f":"IF(OR(C52=\"\",E52<=0,F44>1),\"\",IF(E52=\"Freilos\",F43/(1-(1/C52))/C52,IF(E52>1000000000,\"\",E52/C52/E44)))","v":0.15},2,{"$f":"IFERROR(IF(D52<D55,D55/D52,D52/D55),\"\")","v":1.8300653594771241},{"$f":"IFERROR(D52/IF((C52*E44)<150,150,C52*E44)^0.25*34.9964,\"\")","v":1.5000019238086661},2,76000,{"$f":"IF(OR(I52<=0,I52>1000000000),\"\",I44/I52/L43)","v":10.526315789473685},{"$f":"IF(OR(J52=\"\",L52<=0,M44>1),\"\",IF(L52=\"Freilos\",M43/(1-(1/J52))/J52,IF(L52>1000000000,\"\",L52/J52/L44)))","v":0.18999999999999997},4,{"$f":"IFERROR(IF(K52<K55,K55/K52,K52/K55),\"\")","v":2.6434782608695651},{"$f":"IFERROR(K52/IF((J52*L44)<150,150,J52*L44)^0.25*34.9964,\"\")","v":1.9000024368243102},2,882305,{"$f":"IF(OR(P52<=0,P52>1000000000),\"\",P44/P52/S43)","v":11.24978323822261},{"$f":"IF(OR(Q52=\"\",S52<=0,T44>1),\"\",IF(S52=\"Freilos\",T43/(1-(1/Q52))/Q52,IF(S52>1000000000,\"\",S52/Q52/S44)))","v":0.17778120321507515},2,{"$f":"IFERROR(IF(R52<R55,R55/R52,R52/R55),\"\")","v":2.3320541645122335},{"$f":"IFERROR(R52/IF((Q52*S44)<150,150,Q52*S44)^0.25*34.9964,\"\")","v":1.7778143122642145},null,{"$f":"$I$133","v":"Halloween"},{"$f":"$L$134/$L$133","v":1.5},{"$f":"$N$146","v":4.7301411889467166},{"$f":"$K$146","v":0.50427777777777782},{"$f":"IFERROR(1/$J$146/$L$133,\"\")","v":0.44619173333333334},{"$f":"$M$146","v":8.6770512996319553},4.7301411889467166]
[1,700000,{"$f":"IF(OR(B53<=0,B53>1000000000),\"\",B44/B53/E43)","v":5},{"$f":"IF(OR(C53=\"\",E53<=0,F44>1),\"\",IF(E53=\"Freilos\",F43/(1-(1/C53))/C53,IF(E53>1000000000,\"\",E53/C53/E44)))","v":0.1},1,{"$f":"IFERROR(IF(D53<D55,D55/D53,D53/D55),\"\")","v":1.2200435729847496},{"$f":"IFERROR(D53/IF((C53*E44)<150,150,C53*E44)^0.25*34.9964,\"\")","v":1.0000012825391109},1,158750,{"$f":"IF(OR(I53<=0,I53>1000000000),\"\",I44/I53/L43)","v":5.0393700787401574},{"$f":"IF(OR(J53=\"\",L53<=0,M44>1),\"\",IF(L53=\"Freilos\",M43/(1-(1/J53))/J53,IF(L53>1000000000,\"\",L53/J53/L44)))","v":0.19843749999999999},2,{"$f":"IFERROR(IF(K53<K55,K55/K53,K53/K55),\"\")","v":2.7608695652173916},{"$f":"IFERROR(K53/IF((J53*L44)<150,150,J53*L44)^0.25*34.9964,\"\")","v":1.9843775450385479},2,882305,{"$f":"IF(OR(P53<=0,P53>1000000000),\"\",P44/P53/S43)","v":11.24978323822261},{"$f":"IF(OR(Q53=\"\",S53<=0,T44>1),\"\",IF(S53=\"Freilos\",T43/(1-(1/Q53))/Q53,IF(S53>1000000000,\"\",S53/Q53/S44)))","v":8.8890601607537575E-2},1,{"$f":"IFERROR(IF(R53<R55,R55/R53,R53/R55),\"\")","v":1.1660270822561167},{"$f":"IFERROR(R53/IF((Q53*S44)<150,150,Q53*S44)^0.25*34.9964,\"\")","v":0.88890715613210725},null,{"$f":"$I$165","v":"Moorhuhn"},{"$f":"$L$166/$L$165","v":0.7},{"$f":"$N$178","v":4.699370905561711},{"$f":"$K$178","v":0.50842857142857145},{"$f":"IFERROR(1/$J$178/$L$165,\"\")","v":0.36944460000000001},{"$f":"$M$178","v":5.0529229016979098},4.699370905561711]
[null,{"$f":"IF(SUM(B46:B53)=0,\"\",SUM(B46:B53))","v":1650601},{"$f":"IF(OR(B54<=0,B54>1000000000),\"\",B44/B54/E43)","v":2.1204397670908959},{"$f":"IF(SUM(D46:D53)=0,\"\",SUM(D46:D53))","v":0.65571428571428569},{"$f":"IFERROR(E44*D54,\"\")","v":1.3114285714285714},{"$f":"IFERROR(AVERAGE(F46:F53),\"\")","v":2.922038884998444},{"$f":"IF(SUM(G46:G53)=0,\"\",SUM(G46:G53))","v":5.869116287647449},null,{"$f":"IF(SUM(I46:I53)=0,\"\",SUM(I46:I53))","v":266154},{"$f":"IF(OR(I54<=0,I54>1000000000),\"\",I44/I54/L43)","v":3.0057786093765264},{"$f":"IF(SUM(K46:K53)=0,\"\",SUM(K46:K53))","v":0.57499999999999996},{"$f":"IFERROR(L44*K54,\"\")","v":1.1499999999999999},{"$f":"IFERROR(AVERAGE(M46:M53),\"\")","v":4.5615000941087889},{"$f":"IF(SUM(N46:N53)=0,\"\",SUM(N46:N53))","v":5.3561786210479116},null,{"$f":"IF(SUM(P46:P53)=0,\"\",SUM(P46:P53))","v":2179813},{"$f":"IF(OR(P54<=0,P54>1000000000),\"\",P44/P54/S43)","v":4.5534823399988902},{"$f":"IF(SUM(R46:R53)=0,\"\",SUM(R46:R53))","v":0.60986989383159351},{"$f":"IFERROR(S44*R54,\"\")","v":0.60986989383159351},{"$f":"IFERROR(AVERAGE(T46:T53),\"\")","v":14.967278623605829},{"$f":"IF(SUM(U46:U53)=0,\"\",SUM(U46:U53))","v":5.9795840366198201},null,{"$f":"$B$165","v":"Calavera"},{"$f":"$E$166/$E$165","v":0.9},{"$f":"$G$178","v":4.6991653215312823},{"$f":"$D$178","v":0.5},{"$f":"IFERROR(1/$C$178/$E$165,\"\")","v":0.31813906666666669},{"$f":"$F$178","v":6.8532975412387174},4.6991653215312823]
[null,null,null,{"$f":"AVERAGE(D46:D53)","v":8.1964285714285712E-2},null,null,null,null,null,null,{"$f":"AVERAGE(K46:K53)","v":7.1874999999999994E-2},null,null,null,null,null,null,{"$f":"AVERAGE(R46:R53)","v":7.6233736728949189E-2},null,null,null,null,{"$f":"$I$29","v":"Nissan GT-R + \nPorsche 911"},{"$f":"$L$30/$L$29","v":4},{"$f":"$N$40","v":4.6569972410454294},{"$f":"$K$40","v":0.58000000000000007},{"$f":"IFERROR(1/$J$40/$L$29,\"\")","v":0.57481066666666669},{"$f":"$M$40","v":2.4968860521662246},4.6569972410454294]
[null,null,null,null,null,null,null,null,null,null,null,null,null,null,null,null,null,null,null,null,null,null,{"$f":"$P$57","v":"Glücksklee"},{"$f":"$S$58/$S$57","v":0.5},{"$f":"$U$68","v":4.6117254039548659},{"$f":"$R$68","v":0.50373134328358204},{"$f":"IFERROR(1/$Q$68/$S$57,\"\")","v":0.3262388059701492},{"$f":"$T$68","v":4.5210358796296299},4.6117254039548659]
[null,"Viel Glück",null,null,1,{"$f":"IFERROR(SUMIF(E60:E67,\"<>Freilos\",D60:D67),\"\")","v":0.66},null,null,"Rubbel das Schaf",null,null,1,{"$f":"IFERROR(SUMIF(L60:L67,\"<>Freilos\",K60:K67),\"\")","v":0.51},null,null,"Glücksklee",null,null,1,{"$f":"IFERROR(SUMIF(S60:S67,\"<>Freilos\",R60:R67),\"\")","v":0.50373134328358204},null,null,{"$f":"$I$57","v":"Rubbel das Schaf"},{"$f":"$L$58/$L$57","v":0.5},{"$f":"$N$68","v":4.6091605897371686},{"$f":"$K$68","v":0.51},{"$f":"IFERROR(1/$J$68/$L$57,\"\")","v":0.32784000000000002},{"$f":"$M$68","v":5.4817708333333339},4.6091605897371686]
[null,2500000,null,null,{"$f":"E57*1","v":1},{"$f":"IFERROR(COUNTIF(E60:E67,\"Freilos\"),\"\")","v":0},null,null,200000,null,null,{"$f":"L57*0.5","v":0.5},{"$f":"IFERROR(COUNTIF(L60:L67,\"Freilos\"),\"\")","v":0},null,null,134000,null,null,{"$f":"S57*0.5","v":0.5},{"$f":"IFERROR(COUNTIF(S60:S67,\"Freilos\"),\"\")","v":0},null,null,{"$f":"$P$29","v":"Audi TT RS + \nBMW M2 Coupé"},{"$f":"$S$30/$S$29","v":3},{"$f":"$U$40","v":4.6011526928970641},{"$f":"$R$40","v":0.58000000000000007},{"$f":"IFERROR(1/$Q$40/$S$29,\"\")","v":0.54555333333333333},{"$f":"$T$40","v":2.4016954022988513},4.6011526928970641]
[null,"Losanzahl",{"$f":"IF(E57=1,\"Chancen 1:\",\"Ø Gewinne 1:\")","v":"Chancen 1:"},"Ø AQ","(Ø) Gewinn",null,null,null,"Losanzahl",{"$f":"IF(L57=1,\"Chancen 1:\",\"Ø Gewinne 1:\")","v":"Chancen 1:"},"Ø AQ","(Ø) Gewinn",null,null,null,"Losanzahl",{"$f":"IF(S57=1,\"Chancen 1:\",\"Ø Gewinne 1:\")","v":"Chancen 1:"},"Ø AQ","(Ø) Gewinn",null,null,null,{"$f":"$P$427","v":"CashBall"},{"$f":"$S$428/$S$427","v":1},{"$f":"$U$465","v":4.5593610364981076},{"$f":"$R$465","v":0.58653250000000012},{"$f":"IFERROR(1/$Q$465/$S$427,\"\")","v":0.32860780000000001},{"$f":"$T$465","v":4.596250519254494},4.5593610364981076]
[6,10,{"$f":"IF(OR(B60<=0,B60>1000000000),\"\",B58/B60/E57)","v":250000},{"$f":"IF(OR(C60=\"\",E60<=0,F58>1),\"\",IF(E60=\"Freilos\",F57/(1-(1/C60))/C60,IF(E60>1000000000,\"\",E60/C60/E58)))","v":0.04},10000,{"$f":"IFERROR(IF(D60<D69,D69/D60,D60/D69),\"\")","v":2.0625},{"$f":"IFERROR(D60/IF((C60*E58)<150,150,C60*E58)^0.25*34.9964,\"\")","v":6.2603463494218928E-2},6,1,{"$f":"IF(OR(I60<=0,I60>1000000000),\"\",I58/I60/L57)","v":200000},{"$f":"IF(OR(J60=\"\",L60<=0,M58>1),\"\",IF(L60=\"Freilos\",M57/(1-(1/J60))/J60,IF(L60>1000000000,\"\",L60/J60/L58)))","v":0.03},3000,{"$f":"IFERROR(IF(K60<K69,K69/K60,K60/K69),\"\")","v":2.125},{"$f":"IFERROR(K60/IF((J60*L58)<150,150,J60*L58)^0.25*34.9964,\"\")","v":5.9039765858674591E-2},6,1,{"$f":"IF(OR(P60<=0,P60>1000000000),\"\",P58/P60/S57)","v":134000},{"$f":"IF(OR(Q60=\"\",S60<=0,T58>1),\"\",IF(S60=\"Freilos\",T57/(1-(1/Q60))/Q60,IF(S60>1000000000,\"\",S60/Q60/S58)))","v":2.2388059701492536E-2},1500,{"$f":"IFERROR(IF(R60<R69,R69/R60,R60/R69),\"\")","v":2.8125},{"$f":"IFERROR(R60/IF((Q60*S58)<150,150,Q60*S58)^0.25*34.9964,\"\")","v":4.8699121560922209E-2},null,{"$f":"$B$480","v":"Prosit Neujahr"},{"$f":"$E$481/$E$480","v":4},{"$f":"$G$492","v":4.5530518567458698},{"$f":"$D$492","v":0.48749999999999999},{"$f":"IFERROR(1/$C$492/$E$480,\"\")","v":0.60262559999999998},{"$f":"$F$492","v":6.5673987021209248},4.5530518567458698]
[6,20,{"$f":"IF(OR(B61<=0,B61>1000000000),\"\",B58/B61/E57)","v":125000},{"$f":"IF(OR(C61=\"\",E61<=0,F58>1),\"\",IF(E61=\"Freilos\",F57/(1-(1/C61))/C61,IF(E61>1000000000,\"\",E61/C61/E58)))","v":8.0000000000000002E-3},1000,{"$f":"IFERROR(IF(D61<D69,D69/D61,D61/D69),\"\")","v":10.3125},{"$f":"IFERROR(D61/IF((C61*E58)<150,150,C61*E58)^0.25*34.9964,\"\")","v":1.4889696842227651E-2},6,2,{"$f":"IF(OR(I61<=0,I61>1000000000),\"\",I58/I61/L57)","v":100000},{"$f":"IF(OR(J61=\"\",L61<=0,M58>1),\"\",IF(L61=\"Freilos\",M57/(1-(1/J61))/J61,IF(L61>1000000000,\"\",L61/J61/L58)))","v":0.01},500,{"$f":"IFERROR(IF(K61<K69,K69/K61,K61/K69),\"\")","v":6.375},{"$f":"IFERROR(K61/IF((J61*L58)<150,150,J61*L58)^0.25*34.9964,\"\")","v":2.3403503209076856E-2},5,5,{"$f":"IF(OR(P61<=0,P61>1000000000),\"\",P58/P61/S57)","v":26800},{"$f":"IF(OR(Q61=\"\",S61<=0,T58>1),\"\",IF(S61=\"Freilos\",T57/(1-(1/Q61))/Q61,IF(S61>1000000000,\"\",S61/Q61/S58)))","v":1.4925373134328358E-2},200,{"$f":"IFERROR(IF(R61<R69,R69/R61,R61/R69),\"\")","v":4.21875},{"$f":"IFERROR(R61/IF((Q61*S58)<150,150,Q61*S58)^0.25*34.9964,\"\")","v":4.8548114715112736E-2},null,{"$f":"$B$149","v":"Santa's Scratch"},{"$f":"$E$150/$E$149","v":3},{"$f":"$G$162","v":4.5493888665639037},{"$f":"$D$162","v":0.51519999999999999},{"$f":"IFERROR(1/$C$162/$E$149,\"\")","v":0.3411206},{"$f":"$F$162","v":3.9002472049689443},4.5493888665639037]
[5,200,{"$f":"IF(OR(B62<=0,B62>1000000000),\"\",B58/B62/E57)","v":12500},{"$f":"IF(OR(C62=\"\",E62<=0,F58>1),\"\",IF(E62=\"Freilos\",F57/(1-(1/C62))/C62,IF(E62>1000000000,\"\",E62/C62/E58)))","v":8.0000000000000002E-3},100,{"$f":"IFERROR(IF(D62<D69,D69/D62,D62/D69),\"\")","v":10.3125},{"$f":"IFERROR(D62/IF((C62*E58)<150,150,C62*E58)^0.25*34.9964,\"\")","v":2.6478041316254995E-2},5,5,{"$f":"IF(OR(I62<=0,I62>1000000000),\"\",I58/I62/L57)","v":40000},{"$f":"IF(OR(J62=\"\",L62<=0,M58>1),\"\",IF(L62=\"Freilos\",M57/(1-(1/J62))/J62,IF(L62>1000000000,\"\",L62/J62/L58)))","v":0.01},200,{"$f":"IFERROR(IF(K62<K69,K69/K62,K62/K69),\"\")","v":6.375},{"$f":"IFERROR(K62/IF((J62*L58)<150,150,J62*L58)^0.25*34.9964,\"\")","v":2.9428347306785101E-2},5,10,{"$f":"IF(OR(P62<=0,P62>1000000000),\"\",P58/P62/S57)","v":13400},{"$f":"IF(OR(Q62=\"\",S62<=0,T58>1),\"\",IF(S62=\"Freilos\",T57/(1-(1/Q62))/Q62,IF(S62>1000000000,\"\",S62/Q62/S58)))","v":1.4925373134328358E-2},100,{"$f":"IFERROR(IF(R62<R69,R69/R62,R62/R69),\"\")","v":4.21875},{"$f":"IFERROR(R62/IF((Q62*S58)<150,150,Q62*S58)^0.25*34.9964,\"\")","v":5.7733763439180373E-2},null,{"$f":"$I$71","v":"Goldenes Einhorn"},{"$f":"$L$72/$L$71","v":2},{"$f":"$N$83","v":4.53415987482032},{"$f":"$K$83","v":0.632979632979633},{"$f":"IFERROR(1/$J$83/$L$71,\"\")","v":0.60511110511110511},{"$f":"$M$83","v":4.2899567086409114},4.53415987482032]
[3,5000,{"$f":"IF(OR(B63<=0,B63>1000000000),\"\",B58/B63/E57)","v":500},{"$f":"IF(OR(C63=\"\",E63<=0,F58>1),\"\",IF(E63=\"Freilos\",F57/(1-(1/C63))/C63,IF(E63>1000000000,\"\",E63/C63/E58)))","v":0.02},10,{"$f":"IFERROR(IF(D63<D69,D69/D63,D63/D69),\"\")","v":4.125},{"$f":"IFERROR(D63/IF((C63*E58)<150,150,C63*E58)^0.25*34.9964,\"\")","v":0.14801675073548548},5,10,{"$f":"IF(OR(I63<=0,I63>1000000000),\"\",I58/I63/L57)","v":20000},{"$f":"IF(OR(J63=\"\",L63<=0,M58>1),\"\",IF(L63=\"Freilos\",M57/(1-(1/J63))/J63,IF(L63>1000000000,\"\",L63/J63/L58)))","v":0.01},100,{"$f":"IFERROR(IF(K63<K69,K69/K63,K63/K69),\"\")","v":6.375},{"$f":"IFERROR(K63/IF((J63*L58)<150,150,J63*L58)^0.25*34.9964,\"\")","v":3.4996399999999997E-2},4,50,{"$f":"IF(OR(P63<=0,P63>1000000000),\"\",P58/P63/S57)","v":2680},{"$f":"IF(OR(Q63=\"\",S63<=0,T58>1),\"\",IF(S63=\"Freilos\",T57/(1-(1/Q63))/Q63,IF(S63>1000000000,\"\",S63/Q63/S58)))","v":7.462686567164179E-3},10,{"$f":"IFERROR(IF(R63<R69,R69/R63,R63/R69),\"\")","v":8.4375},{"$f":"IFERROR(R63/IF((Q63*S58)<150,150,Q63*S58)^0.25*34.9964,\"\")","v":4.3166056397046307E-2},null,{"$f":"$B$29","v":"Ferrari 488 GTB + \nLamborghini Huracán"},{"$f":"$E$30/$E$29","v":6},{"$f":"$G$40","v":4.5321998435474224},{"$f":"$D$40","v":0.57981481481481478},{"$f":"IFERROR(1/$C$40/$E$29,\"\")","v":0.56481111111111115},{"$f":"$F$40","v":2.4518896906226857},4.5321998435474224]
[2,30000,{"$f":"IF(OR(B64<=0,B64>1000000000),\"\",B58/B64/E57)","v":83.333333333333329},{"$f":"IF(OR(C64=\"\",E64<=0,F58>1),\"\",IF(E64=\"Freilos\",F57/(1-(1/C64))/C64,IF(E64>1000000000,\"\",E64/C64/E58)))","v":6.0000000000000005E-2},5,{"$f":"IFERROR(IF(D64<D69,D69/D64,D64/D69),\"\")","v":1.375},{"$f":"IFERROR(D64/IF((C64*E58)<150,150,C64*E58)^0.25*34.9964,\"\")","v":0.60000076952346659},4,50,{"$f":"IF(OR(I64<=0,I64>1000000000),\"\",I58/I64/L57)","v":4000},{"$f":"IF(OR(J64=\"\",L64<=0,M58>1),\"\",IF(L64=\"Freilos\",M57/(1-(1/J64))/J64,IF(L64>1000000000,\"\",L64/J64/L58)))","v":5.0000000000000001E-3},10,{"$f":"IFERROR(IF(K64<K69,K69/K64,K64/K69),\"\")","v":12.75},{"$f":"IFERROR(K64/IF((J64*L58)<150,150,J64*L58)^0.25*34.9964,\"\")","v":2.6165912043565165E-2},3,150,{"$f":"IF(OR(P64<=0,P64>1000000000),\"\",P58/P64/S57)","v":893.33333333333337},{"$f":"IF(OR(Q64=\"\",S64<=0,T58>1),\"\",IF(S64=\"Freilos\",T57/(1-(1/Q64))/Q64,IF(S64>1000000000,\"\",S64/Q64/S58)))","v":1.1194029850746268E-2},5,{"$f":"IFERROR(IF(R64<R69,R69/R64,R64/R69),\"\")","v":5.625},{"$f":"IFERROR(R64/IF((Q64*S58)<150,150,Q64*S58)^0.25*34.9964,\"\")","v":8.5214587598691507E-2},null,{"$f":"$B$133","v":"GlücksLos"},{"$f":"$E$134/$E$133","v":1.5},{"$f":"$G$146","v":4.4966973484971744},{"$f":"$D$146","v":0.5118760757314974},{"$f":"IFERROR(1/$C$146/$E$133,\"\")","v":0.31222385714285716},{"$f":"$F$146","v":5.8377654802127141},4.4966973484971744]
[2,130000,{"$f":"IF(OR(B65<=0,B65>1000000000),\"\",B58/B65/E57)","v":19.23076923076923},{"$f":"IF(OR(C65=\"\",E65<=0,F58>1),\"\",IF(E65=\"Freilos\",F57/(1-(1/C65))/C65,IF(E65>1000000000,\"\",E65/C65/E58)))","v":0.156},3,{"$f":"IFERROR(IF(D65<D69,D69/D65,D65/D69),\"\")","v":1.8909090909090909},{"$f":"IFERROR(D65/IF((C65*E58)<150,150,C65*E58)^0.25*34.9964,\"\")","v":1.5600020007610129},3,500,{"$f":"IF(OR(I65<=0,I65>1000000000),\"\",I58/I65/L57)","v":400},{"$f":"IF(OR(J65=\"\",L65<=0,M58>1),\"\",IF(L65=\"Freilos\",M57/(1-(1/J65))/J65,IF(L65>1000000000,\"\",L65/J65/L58)))","v":0.02},4,{"$f":"IFERROR(IF(K65<K69,K69/K65,K65/K69),\"\")","v":3.1875},{"$f":"IFERROR(K65/IF((J65*L58)<150,150,J65*L58)^0.25*34.9964,\"\")","v":0.18612121052784561},3,500,{"$f":"IF(OR(P65<=0,P65>1000000000),\"\",P58/P65/S57)","v":268},{"$f":"IF(OR(Q65=\"\",S65<=0,T58>1),\"\",IF(S65=\"Freilos\",T57/(1-(1/Q65))/Q65,IF(S65>1000000000,\"\",S65/Q65/S58)))","v":1.4925373134328358E-2},2,{"$f":"IFERROR(IF(R65<R69,R69/R65,R65/R69),\"\")","v":4.21875},{"$f":"IFERROR(R65/IF((Q65*S58)<150,150,Q65*S58)^0.25*34.9964,\"\")","v":0.14925392276703145},null,{"$f":"$B$509","v":"Tutti Frutti Bonus"},{"$f":"$E$510/$E$509","v":2},{"$f":"$G$524","v":4.4805509582653409},{"$f":"$D$524","v":0.51416499999999998},{"$f":"IFERROR(1/$C$524/$E$509,\"\")","v":0.46754129999999994},{"$f":"$F$524","v":6.1197334044809368},4.4805509582653409]
[1,360000,{"$f":"IF(OR(B66<=0,B66>1000000000),\"\",B58/B66/E57)","v":6.9444444444444446},{"$f":"IF(OR(C66=\"\",E66<=0,F58>1),\"\",IF(E66=\"Freilos\",F57/(1-(1/C66))/C66,IF(E66>1000000000,\"\",E66/C66/E58)))","v":0.216},1.5,{"$f":"IFERROR(IF(D66<D69,D69/D66,D66/D69),\"\")","v":2.6181818181818182},{"$f":"IFERROR(D66/IF((C66*E58)<150,150,C66*E58)^0.25*34.9964,\"\")","v":2.1600027702844793},2,20000,{"$f":"IF(OR(I66<=0,I66>1000000000),\"\",I58/I66/L57)","v":10},{"$f":"IF(OR(J66=\"\",L66<=0,M58>1),\"\",IF(L66=\"Freilos\",M57/(1-(1/J66))/J66,IF(L66>1000000000,\"\",L66/J66/L58)))","v":0.2},1,{"$f":"IFERROR(IF(K66<K69,K69/K66,K66/K69),\"\")","v":3.1372549019607843},{"$f":"IFERROR(K66/IF((J66*L58)<150,150,J66*L58)^0.25*34.9964,\"\")","v":2.0000025650782218},2,13000,{"$f":"IF(OR(P66<=0,P66>1000000000),\"\",P58/P66/S57)","v":10.307692307692308},{"$f":"IF(OR(Q66=\"\",S66<=0,T58>1),\"\",IF(S66=\"Freilos\",T57/(1-(1/Q66))/Q66,IF(S66>1000000000,\"\",S66/Q66/S58)))","v":0.19402985074626863},1,{"$f":"IFERROR(IF(R66<R69,R69/R66,R66/R69),\"\")","v":3.0814814814814815},{"$f":"IFERROR(R66/IF((Q66*S58)<150,150,Q66*S58)^0.25*34.9964,\"\")","v":1.9403009959714088},null,{"$f":"$I$495","v":"Rubbel die Katz"},{"$f":"$L$496/$L$495","v":1},{"$f":"$N$506","v":4.4576951591896039},{"$f":"$K$506","v":0.50943899999999998},{"$f":"IFERROR(1/$J$506/$L$495,\"\")","v":0.317722},{"$f":"$M$506","v":7.4447753331700648},4.4576951591896039]
[1,760000,{"$f":"IF(OR(B67<=0,B67>1000000000),\"\",B58/B67/E57)","v":3.2894736842105261},{"$f":"IF(OR(C67=\"\",E67<=0,F58>1),\"\",IF(E67=\"Freilos\",F57/(1-(1/C67))/C67,IF(E67>1000000000,\"\",E67/C67/E58)))","v":0.152},0.5,{"$f":"IFERROR(IF(D67<D69,D69/D67,D67/D69),\"\")","v":1.8424242424242423},{"$f":"IFERROR(D67/IF((C67*E58)<150,150,C67*E58)^0.25*34.9964,\"\")","v":1.5200019494594486},1,45000,{"$f":"IF(OR(I67<=0,I67>1000000000),\"\",I58/I67/L57)","v":4.4444444444444446},{"$f":"IF(OR(J67=\"\",L67<=0,M58>1),\"\",IF(L67=\"Freilos\",M57/(1-(1/J67))/J67,IF(L67>1000000000,\"\",L67/J67/L58)))","v":0.22499999999999998},0.5,{"$f":"IFERROR(IF(K67<K69,K69/K67,K67/K69),\"\")","v":3.5294117647058818},{"$f":"IFERROR(K67/IF((J67*L58)<150,150,J67*L58)^0.25*34.9964,\"\")","v":2.2500028857129988},1,30000,{"$f":"IF(OR(P67<=0,P67>1000000000),\"\",P58/P67/S57)","v":4.4666666666666668},{"$f":"IF(OR(Q67=\"\",S67<=0,T58>1),\"\",IF(S67=\"Freilos\",T57/(1-(1/Q67))/Q67,IF(S67>1000000000,\"\",S67/Q67/S58)))","v":0.22388059701492538},0.5,{"$f":"IFERROR(IF(R67<R69,R69/R67,R67/R69),\"\")","v":3.5555555555555558},{"$f":"IFERROR(R67/IF((Q67*S58)<150,150,Q67*S58)^0.25*34.9964,\"\")","v":2.2388088415054721},null,{"$f":"$P$235","v":"Super Cash \"M\""},{"$f":"$S$236/$S$235","v":2.5},{"$f":"$U$256","v":4.4543840883675418},{"$f":"$R$256","v":0.50070000000000003},{"$f":"IFERROR(1/$Q$256/$S$235,\"\")","v":0.2946706},{"$f":"$T$256","v":3.3964349050638862},4.4543840883675418]
[null,{"$f":"IF(SUM(B60:B67)=0,\"\",SUM(B60:B67))","v":1285230},{"$f":"IF(OR(B68<=0,B68>1000000000),\"\",B58/B68/E57)","v":1.9451771278292602},{"$f":"IF(SUM(D60:D67)=0,\"\",SUM(D60:D67))","v":0.66},{"$f":"IFERROR(E58*D68,\"\")","v":0.66},{"$f":"IFERROR(AVERAGE(F60:F67),\"\")","v":4.3173768939393939},{"$f":"IF(SUM(G60:G67)=0,\"\",SUM(G60:G67))","v":6.0919954424165947},null,{"$f":"IF(SUM(I60:I67)=0,\"\",SUM(I60:I67))","v":65568},{"$f":"IF(OR(I68<=0,I68>1000000000),\"\",I58/I68/L57)","v":3.0502684236212785},{"$f":"IF(SUM(K60:K67)=0,\"\",SUM(K60:K67))","v":0.51},{"$f":"IFERROR(L58*K68,\"\")","v":0.255},{"$f":"IFERROR(AVERAGE(M60:M67),\"\")","v":5.4817708333333339},{"$f":"IF(SUM(N60:N67)=0,\"\",SUM(N60:N67))","v":4.6091605897371686},null,{"$f":"IF(SUM(P60:P67)=0,\"\",SUM(P60:P67))","v":43716},{"$f":"IF(OR(P68<=0,P68>1000000000),\"\",P58/P68/S57)","v":3.0652392716625494},{"$f":"IF(SUM(R60:R67)=0,\"\",SUM(R60:R67))","v":0.50373134328358204},{"$f":"IFERROR(S58*R68,\"\")","v":0.25186567164179102},{"$f":"IFERROR(AVERAGE(T60:T67),\"\")","v":4.5210358796296299},{"$f":"IF(SUM(U60:U67)=0,\"\",SUM(U60:U67))","v":4.6117254039548659},null,{"$f":"$B$86","v":"Tutti Frutti"},{"$f":"$E$87/$E$86","v":1},{"$f":"$G$98","v":4.3532397922908412},{"$f":"$D$98","v":0.50714285714285712},{"$f":"IFERROR(1/$C$98/$E$86,\"\")","v":0.29005523809523809},{"$f":"$F$98","v":4.0710811163275951},4.3532397922908412]
[null,null,null,{"$f":"AVERAGE(D60:D67)","v":8.2500000000000004E-2},null,null,null,null,null,null,{"$f":"AVERAGE(K60:K67)","v":6.3750000000000001E-2},null,null,null,null,null,null,{"$f":"AVERAGE(R60:R67)","v":6.2966417910447756E-2},null,null,null,null,{"$f":"$P$384","v":"Rubbel SuperLotto"},{"$f":"$S$385/$S$384","v":1.5},{"$f":"$U$424","v":4.3107632783507537},{"$f":"$R$424","v":0.50321477604143583},{"$f":"IFERROR(1/$Q$424/$S$384,\"\")","v":0.74223734285714282},{"$f":"$T$424","v":10.930772716615774},4.3107632783507537]
[null,null,null,null,null,null,null,null,null,null,null,null,null,null,null,null,null,null,null,null,null,null,{"$f":"$P$149","v":"Kölle Alaaf"},{"$f":"$S$150/$S$149","v":1},{"$f":"$U$162","v":4.2971771208283389},{"$f":"$R$162","v":0.46875},{"$f":"IFERROR(1/$Q$162/$S$149,\"\")","v":0.32305810000000001},{"$f":"$T$162","v":7.3087500000000007},4.2971771208283389]
[null,"25 fette Jahre ⁵",null,null,1,{"$f":"IFERROR(SUMIF(E74:E82,\"<>Freilos\",D74:D82),\"\")","v":0.58540079604876416},null,null,"Goldenes Einhorn",null,null,1,{"$f":"IFERROR(SUMIF(L74:L82,\"<>Freilos\",K74:K82),\"\")","v":0.632979632979633},null,null,"5 Card Cash",null,null,1,{"$f":"IFERROR(SUMIF(S74:S82,\"<>Freilos\",R74:R82),\"\")","v":0.60888888888888881},null,null,{"$f":"$P$198","v":"Lottohelden GOLD 250K"},{"$f":"$S$199/$S$198","v":1},{"$f":"$U$213","v":4.2752600842687487},{"$f":"$R$213","v":0.6316666666666666},{"$f":"IFERROR(1/$Q$213/$S$198,\"\")","v":0.48802200000000001},{"$f":"$T$213","v":4.1342577323365584},4.2752600842687487]
[null,50000000,null,null,{"$f":"E71*3","v":3},{"$f":"IFERROR(COUNTIF(E74:E82,\"Freilos\"),\"\")","v":0},null,null,222222,null,null,{"$f":"L71*2","v":2},{"$f":"IFERROR(COUNTIF(L74:L82,\"Freilos\"),\"\")","v":0},null,null,3000000,null,null,{"$f":"S71*1.5","v":1.5},{"$f":"IFERROR(COUNTIF(S74:S82,\"Freilos\"),\"\")","v":0},null,null,{"$f":"$I$235","v":"Super Cash \"L\""},{"$f":"$L$236/$L$235","v":5},{"$f":"$N$256","v":4.0334993503332113},{"$f":"$K$256","v":0.50070000000000003},{"$f":"IFERROR(1/$J$256/$L$235,\"\")","v":0.2946706},{"$f":"$M$256","v":3.3964349050638862},4.0334993503332113]
[null,"Losanzahl",{"$f":"IF(E71=1,\"Chancen 1:\",\"Ø Gewinne 1:\")","v":"Chancen 1:"},"Ø AQ","(Ø) Gewinn",null,null,null,"Losanzahl",{"$f":"IF(L71=1,\"Chancen 1:\",\"Ø Gewinne 1:\")","v":"Chancen 1:"},"Ø AQ","(Ø) Gewinn",null,null,null,"Losanzahl",{"$f":"IF(S71=1,\"Chancen 1:\",\"Ø Gewinne 1:\")","v":"Chancen 1:"},"Ø AQ","(Ø) Gewinn",null,null,null,{"$f":"$B$464","v":"Knack das Sparschwein"},{"$f":"$E$465/$E$464","v":0.5},{"$f":"$G$477","v":3.9907070369940669},{"$f":"$D$477","v":0.51124999999999998},{"$f":"IFERROR(1/$C$477/$E$464,\"\")","v":0.25026874999999998},{"$f":"$F$477","v":2.0918507465944813},3.9907070369940669]
[{"$f":"IF(C74=\"\",0,IF(C74>=1000000,7,IF(C74>=100000,6,IF(C74>=10000,5,IF(C74>=1000,4,IF(C74>=100,3,IF(C74>=10,2,1)))))))","v":7},1,{"$f":"IF(OR(B74<=0,B74>1000000000),\"\",B72/B74/E71)","v":50000000},{"$f":"IF(OR(C74=\"\",E74<=0,F72>1),\"\",IF(E74=\"Freilos\",F71/(1-(1/C74))/C74,IF(E74>1000000000,\"\",E74/C74/E72)))","v":5.2007960487641018E-3},{"$f":"30000+PV(0.00125,300,-3000)","v":780119.40731461521},{"$f":"IFERROR(IF(D74<D84,D84/D74,D74/D84),\"\")","v":12.506649421440796},{"$f":"IFERROR(D74/IF((C74*E72)<150,150,C74*E72)^0.25*34.9964,\"\")","v":1.6446382253200108E-3},{"$f":"IF(J74=\"\",0,IF(J74>=1000000,7,IF(J74>=100000,6,IF(J74>=10000,5,IF(J74>=1000,4,IF(J74>=100,3,IF(J74>=10,2,1)))))))","v":6},1,{"$f":"IF(OR(I74<=0,I74>1000000000),\"\",I72/I74/L71)","v":222222},{"$f":"IF(OR(J74=\"\",L74<=0,M72>1),\"\",IF(L74=\"Freilos\",M71/(1-(1/J74))/J74,IF(L74>1000000000,\"\",L74/J74/L72)))","v":0.12499887499887499},55555,{"$f":"IFERROR(IF(K74<K84,K84/K74,K74/K84),\"\")","v":1.7772923746285421},{"$f":"IFERROR(K74/IF((J74*L72)<150,150,J74*L72)^0.25*34.9964,\"\")","v":0.16942411049569847},{"$f":"IF(Q74=\"\",0,IF(Q74>=1000000,7,IF(Q74>=100000,6,IF(Q74>=10000,5,IF(Q74>=1000,4,IF(Q74>=100,3,IF(Q74>=10,2,1)))))))","v":7},1,{"$f":"IF(OR(P74<=0,P74>1000000000),\"\",P72/P74/S71)","v":3000000},{"$f":"IF(OR(Q74=\"\",S74<=0,T72>1),\"\",IF(S74=\"Freilos\",T71/(1-(1/Q74))/Q74,IF(S74>1000000000,\"\",S74/Q74/S72)))","v":1.1111111111111112E-2},50000,{"$f":"IFERROR(IF(R74<R84,R84/R74,R74/R84),\"\")","v":6.0888888888888877},{"$f":"IFERROR(R74/IF((Q74*S72)<150,150,Q74*S72)^0.25*34.9964,\"\")","v":8.4426295574508564E-3},null,{"$f":"$B$283","v":"Rubbel den Ra"},{"$f":"$E$284/$E$283","v":2},{"$f":"$G$318","v":3.8554562846666993},{"$f":"$D$318","v":0.50520000000000009},{"$f":"IFERROR(1/$C$318/$E$283,\"\")","v":0.38223639999999998},{"$f":"$F$318","v":3.0741700683269269},3.8554562846666993]
[6,100,{"$f":"IF(OR(B75<=0,B75>1000000000),\"\",B72/B75/E71)","v":500000},{"$f":"IF(OR(C75=\"\",E75<=0,F72>1),\"\",IF(E75=\"Freilos\",F71/(1-(1/C75))/C75,IF(E75>1000000000,\"\",E75/C75/E72)))","v":5.9999999999999993E-3},9000,{"$f":"IFERROR(IF(D75<D84,D84/D75,D75/D84),\"\")","v":10.840755482384523},{"$f":"IFERROR(D75/IF((C75*E72)<150,150,C75*E72)^0.25*34.9964,\"\")","v":6.0000076952346614E-3},6,2,{"$f":"IF(OR(I75<=0,I75>1000000000),\"\",I72/I75/L71)","v":111111},{"$f":"IF(OR(J75=\"\",L75<=0,M72>1),\"\",IF(L75=\"Freilos\",M71/(1-(1/J75))/J75,IF(L75>1000000000,\"\",L75/J75/L72)))","v":1.9998019998019999E-2},4444,{"$f":"IFERROR(IF(K75<K84,K84/K75,K75/K84),\"\")","v":3.5169016901690169},{"$f":"IFERROR(K75/IF((J75*L72)<150,150,J75*L72)^0.25*34.9964,\"\")","v":3.2233955878555001E-2},6,10,{"$f":"IF(OR(P75<=0,P75>1000000000),\"\",P72/P75/S71)","v":300000},{"$f":"IF(OR(Q75=\"\",S75<=0,T72>1),\"\",IF(S75=\"Freilos\",T71/(1-(1/Q75))/Q75,IF(S75>1000000000,\"\",S75/Q75/S72)))","v":1.1111111111111112E-2},5000,{"$f":"IFERROR(IF(R75<R84,R84/R75,R75/R84),\"\")","v":6.0888888888888877},{"$f":"IFERROR(R75/IF((Q75*S72)<150,150,Q75*S72)^0.25*34.9964,\"\")","v":1.5013354308600881E-2},null,{"$f":"$B$117","v":"Rubbel-Millionär"},{"$f":"$E$118/$E$117","v":4},{"$f":"$G$130","v":3.8252436574647923},{"$f":"$D$130","v":0.45951704545454541},{"$f":"IFERROR(1/$C$130/$E$117,\"\")","v":0.27808080000000002},{"$f":"$F$130","v":9.9835387394033042},3.8252436574647923]
[5,2000,{"$f":"IF(OR(B76<=0,B76>1000000000),\"\",B72/B76/E71)","v":25000},{"$f":"IF(OR(C76=\"\",E76<=0,F72>1),\"\",IF(E76=\"Freilos\",F71/(1-(1/C76))/C76,IF(E76>1000000000,\"\",E76/C76/E72)))","v":1.1999999999999999E-2},900,{"$f":"IFERROR(IF(D76<D84,D84/D76,D76/D84),\"\")","v":5.4203777411922616},{"$f":"IFERROR(D76/IF((C76*E72)<150,150,C76*E72)^0.25*34.9964,\"\")","v":2.5376942869453536E-2},5,3,{"$f":"IF(OR(I76<=0,I76>1000000000),\"\",I72/I76/L71)","v":74074},{"$f":"IF(OR(J76=\"\",L76<=0,M72>1),\"\",IF(L76=\"Freilos\",M71/(1-(1/J76))/J76,IF(L76>1000000000,\"\",L76/J76/L72)))","v":2.2497772497772496E-2},3333,{"$f":"IFERROR(IF(K76<K84,K84/K76,K76/K84),\"\")","v":3.126134835705793},{"$f":"IFERROR(K76/IF((J76*L72)<150,150,J76*L72)^0.25*34.9964,\"\")","v":4.013182819261657E-2},4,400,{"$f":"IF(OR(P76<=0,P76>1000000000),\"\",P72/P76/S71)","v":7500},{"$f":"IF(OR(Q76=\"\",S76<=0,T72>1),\"\",IF(S76=\"Freilos\",T71/(1-(1/Q76))/Q76,IF(S76>1000000000,\"\",S76/Q76/S72)))","v":8.8888888888888889E-3},100,{"$f":"IFERROR(IF(R76<R84,R84/R76,R76/R84),\"\")","v":7.6111111111111098},{"$f":"IFERROR(R76/IF((Q76*S72)<150,150,Q76*S72)^0.25*34.9964,\"\")","v":3.0205269758894534E-2},null,{"$f":"$B$495","v":"Goldene 7"},{"$f":"$E$496/$E$495","v":0.5},{"$f":"$G$506","v":3.7628970618993307},{"$f":"$D$506","v":0.49387799999999998},{"$f":"IFERROR(1/$C$506/$E$495,\"\")","v":0.317722},{"$f":"$F$506","v":3.9964477166602883},3.7628970618993307]
[4,25000,{"$f":"IF(OR(B77<=0,B77>1000000000),\"\",B72/B77/E71)","v":2000},{"$f":"IF(OR(C77=\"\",E77<=0,F72>1),\"\",IF(E77=\"Freilos\",F71/(1-(1/C77))/C77,IF(E77>1000000000,\"\",E77/C77/E72)))","v":1.4999999999999999E-2},90,{"$f":"IFERROR(IF(D77<D84,D84/D77,D77/D84),\"\")","v":4.3363021929538093},{"$f":"IFERROR(D77/IF((C77*E72)<150,150,C77*E72)^0.25*34.9964,\"\")","v":5.9645381154964809E-2},5,4,{"$f":"IF(OR(I77<=0,I77>1000000000),\"\",I72/I77/L71)","v":55555.5},{"$f":"IF(OR(J77=\"\",L77<=0,M72>1),\"\",IF(L77=\"Freilos\",M71/(1-(1/J77))/J77,IF(L77>1000000000,\"\",L77/J77/L72)))","v":1.9998019998019999E-2},2222,{"$f":"IFERROR(IF(K77<K84,K84/K77,K77/K84),\"\")","v":3.5169016901690169},{"$f":"IFERROR(K77/IF((J77*L72)<150,150,J77*L72)^0.25*34.9964,\"\")","v":3.8332849675461404E-2},4,2000,{"$f":"IF(OR(P77<=0,P77>1000000000),\"\",P72/P77/S71)","v":1500},{"$f":"IF(OR(Q77=\"\",S77<=0,T72>1),\"\",IF(S77=\"Freilos\",T71/(1-(1/Q77))/Q77,IF(S77>1000000000,\"\",S77/Q77/S72)))","v":3.1111111111111114E-2},70,{"$f":"IFERROR(IF(R77<R84,R84/R77,R77/R84),\"\")","v":2.174603174603174},{"$f":"IFERROR(R77/IF((Q77*S72)<150,150,Q77*S72)^0.25*34.9964,\"\")","v":0.15808594662147396},null,{"$f":"$B$321","v":"PowerBall"},{"$f":"$E$322/$E$321","v":4},{"$f":"$G$341","v":3.5691593762632063},{"$f":"$D$341","v":0.40648511164000273},{"$f":"IFERROR(1/$C$341/$E$321,\"\")","v":0.63840204999999994},{"$f":"$F$341","v":4.7621904933744901},3.5691593762632063]
[3,175000,{"$f":"IF(OR(B78<=0,B78>1000000000),\"\",B72/B78/E71)","v":285.71428571428572},{"$f":"IF(OR(C78=\"\",E78<=0,F72>1),\"\",IF(E78=\"Freilos\",F71/(1-(1/C78))/C78,IF(E78>1000000000,\"\",E78/C78/E72)))","v":3.4999999999999996E-2},30,{"$f":"IFERROR(IF(D78<D84,D84/D78,D78/D84),\"\")","v":1.8584152255516324},{"$f":"IFERROR(D78/IF((C78*E72)<150,150,C78*E72)^0.25*34.9964,\"\")","v":0.22637481766712525},5,5,{"$f":"IF(OR(I78<=0,I78>1000000000),\"\",I72/I78/L71)","v":44444.4},{"$f":"IF(OR(J78=\"\",L78<=0,M72>1),\"\",IF(L78=\"Freilos\",M71/(1-(1/J78))/J78,IF(L78>1000000000,\"\",L78/J78/L72)))","v":1.2498762498762498E-2},1111,{"$f":"IFERROR(IF(K78<K84,K84/K78,K78/K84),\"\")","v":5.6270427042704272},{"$f":"IFERROR(K78/IF((J78*L72)<150,150,J78*L72)^0.25*34.9964,\"\")","v":2.53325335578874E-2},3,4000,{"$f":"IF(OR(P78<=0,P78>1000000000),\"\",P72/P78/S71)","v":750},{"$f":"IF(OR(Q78=\"\",S78<=0,T72>1),\"\",IF(S78=\"Freilos\",T71/(1-(1/Q78))/Q78,IF(S78>1000000000,\"\",S78/Q78/S72)))","v":3.5555555555555556E-2},40,{"$f":"IFERROR(IF(R78<R84,R84/R78,R78/R84),\"\")","v":1.9027777777777775},{"$f":"IFERROR(R78/IF((Q78*S72)<150,150,Q78*S72)^0.25*34.9964,\"\")","v":0.2148536371476539},null,{"$f":"$I$321","v":"MegaBall"},{"$f":"$L$322/$L$321","v":4},{"$f":"$N$341","v":3.5428420233393987},{"$f":"$K$341","v":0.40385337972292107},{"$f":"IFERROR(1/$J$341/$L$321,\"\")","v":0.63840204999999994},{"$f":"$M$341","v":4.7490389033383407},3.5428420233393987]
[3,450000,{"$f":"IF(OR(B79<=0,B79>1000000000),\"\",B72/B79/E71)","v":111.11111111111111},{"$f":"IF(OR(C79=\"\",E79<=0,F72>1),\"\",IF(E79=\"Freilos\",F71/(1-(1/C79))/C79,IF(E79>1000000000,\"\",E79/C79/E72)))","v":4.5000000000000005E-2},15,{"$f":"IFERROR(IF(D79<D84,D84/D79,D79/D84),\"\")","v":1.445434064317936},{"$f":"IFERROR(D79/IF((C79*E72)<150,150,C79*E72)^0.25*34.9964,\"\")","v":0.36856678916643976},5,11,{"$f":"IF(OR(I79<=0,I79>1000000000),\"\",I72/I79/L71)","v":20202},{"$f":"IF(OR(J79=\"\",L79<=0,M72>1),\"\",IF(L79=\"Freilos\",M71/(1-(1/J79))/J79,IF(L79>1000000000,\"\",L79/J79/L72)))","v":5.4945054945054949E-3},222,{"$f":"IFERROR(IF(K79<K84,K84/K79,K79/K84),\"\")","v":12.8002548002548},{"$f":"IFERROR(K79/IF((J79*L72)<150,150,J79*L72)^0.25*34.9964,\"\")","v":1.3562691807978998E-2},3,10000,{"$f":"IF(OR(P79<=0,P79>1000000000),\"\",P72/P79/S71)","v":300},{"$f":"IF(OR(Q79=\"\",S79<=0,T72>1),\"\",IF(S79=\"Freilos\",T71/(1-(1/Q79))/Q79,IF(S79>1000000000,\"\",S79/Q79/S72)))","v":4.4444444444444446E-2},20,{"$f":"IFERROR(IF(R79<R84,R84/R79,R79/R84),\"\")","v":1.5222222222222219},{"$f":"IFERROR(R79/IF((Q79*S72)<150,150,Q79*S72)^0.25*34.9964,\"\")","v":0.33770518229803426},null,{"$f":"$B$235","v":"Super Cash \"XL\""},{"$f":"$E$236/$E$235","v":10},{"$f":"$G$256","v":3.4199902123444854},{"$f":"$D$256","v":0.50070000000000003},{"$f":"IFERROR(1/$C$256/$E$235,\"\")","v":0.2946706},{"$f":"$F$256","v":3.3964349050638862},3.4199902123444854]
[2,1100000,{"$f":"IF(OR(B80<=0,B80>1000000000),\"\",B72/B80/E71)","v":45.454545454545453},{"$f":"IF(OR(C80=\"\",E80<=0,F72>1),\"\",IF(E80=\"Freilos\",F71/(1-(1/C80))/C80,IF(E80>1000000000,\"\",E80/C80/E72)))","v":8.8000000000000009E-2},12,{"$f":"IFERROR(IF(D80<D84,D84/D80,D80/D84),\"\")","v":1.3529192398536234},{"$f":"IFERROR(D80/IF((C80*E72)<150,150,C80*E72)^0.25*34.9964,\"\")","v":0.8800011286344176},3,1111,{"$f":"IF(OR(I80<=0,I80>1000000000),\"\",I72/I80/L71)","v":200.01980198019803},{"$f":"IF(OR(J80=\"\",L80<=0,M72>1),\"\",IF(L80=\"Freilos\",M71/(1-(1/J80))/J80,IF(L80>1000000000,\"\",L80/J80/L72)))","v":2.7497277497277497E-2},11,{"$f":"IFERROR(IF(K80<K84,K84/K80,K80/K84),\"\")","v":2.557746683759285},{"$f":"IFERROR(K80/IF((J80*L72)<150,150,J80*L72)^0.25*34.9964,\"\")","v":0.21517277513785013},2,50000,{"$f":"IF(OR(P80<=0,P80>1000000000),\"\",P72/P80/S71)","v":60},{"$f":"IF(OR(Q80=\"\",S80<=0,T72>1),\"\",IF(S80=\"Freilos\",T71/(1-(1/Q80))/Q80,IF(S80>1000000000,\"\",S80/Q80/S72)))","v":6.6666666666666666E-2},6,{"$f":"IFERROR(IF(R80<R84,R84/R80,R80/R84),\"\")","v":1.0148148148148146},{"$f":"IFERROR(R80/IF((Q80*S72)<150,150,Q80*S72)^0.25*34.9964,\"\")","v":0.66666752169274057},null,{"$f":"$B$384","v":"Wer wird Millionär"},{"$f":"$E$385/$E$384","v":4},{"$f":"$G$416","v":3.3265410593157543},{"$f":"$D$416","v":0.40496695131953492},{"$f":"IFERROR(1/$C$416/$E$384,\"\")","v":0.35103653919168654},{"$f":"$F$416","v":8.9643642282910783},3.3265410593157543]
[2,2630000,{"$f":"IF(OR(B81<=0,B81>1000000000),\"\",B72/B81/E71)","v":19.011406844106464},{"$f":"IF(OR(C81=\"\",E81<=0,F72>1),\"\",IF(E81=\"Freilos\",F71/(1-(1/C81))/C81,IF(E81>1000000000,\"\",E81/C81/E72)))","v":0.1052},6,{"$f":"IFERROR(IF(D81<D84,D84/D81,D81/D84),\"\")","v":1.6173534549159225},{"$f":"IFERROR(D81/IF((C81*E72)<150,150,C81*E72)^0.25*34.9964,\"\")","v":1.0520013492311446},1,44444,{"$f":"IF(OR(I81<=0,I81>1000000000),\"\",I72/I81/L71)","v":5.0000450004500046},{"$f":"IF(OR(J81=\"\",L81<=0,M72>1),\"\",IF(L81=\"Freilos\",M71/(1-(1/J81))/J81,IF(L81>1000000000,\"\",L81/J81/L72)))","v":0.19999819999819998},2,{"$f":"IFERROR(IF(K81<K84,K84/K81,K81/K84),\"\")","v":2.8436677994056674},{"$f":"IFERROR(K81/IF((J81*L72)<150,150,J81*L72)^0.25*34.9964,\"\")","v":1.9999845650371357},2,300000,{"$f":"IF(OR(P81<=0,P81>1000000000),\"\",P72/P81/S71)","v":10},{"$f":"IF(OR(Q81=\"\",S81<=0,T72>1),\"\",IF(S81=\"Freilos\",T71/(1-(1/Q81))/Q81,IF(S81>1000000000,\"\",S81/Q81/S72)))","v":0.19999999999999998},3,{"$f":"IFERROR(IF(R81<R84,R84/R81,R81/R84),\"\")","v":2.9562043795620441},{"$f":"IFERROR(R81/IF((Q81*S72)<150,150,Q81*S72)^0.25*34.9964,\"\")","v":2.0000025650782218},null,{"$f":"$I$117","v":"Tresor Knacker"},{"$f":"$L$118/$L$117","v":2},{"$f":"$N$130","v":3.1759835030041268},{"$f":"$K$130","v":0.34166666666666662},{"$f":"IFERROR(1/$J$130/$L$117,\"\")","v":0.38482262499999997},{"$f":"$M$130","v":8.5708753387533871},3.1759835030041268]
[1,13700000,{"$f":"IF(OR(B82<=0,B82>1000000000),\"\",B72/B82/E71)","v":3.6496350364963503},{"$f":"IF(OR(C82=\"\",E82<=0,F72>1),\"\",IF(E82=\"Freilos\",F71/(1-(1/C82))/C82,IF(E82>1000000000,\"\",E82/C82/E72)))","v":0.27399999999999997},3,{"$f":"IFERROR(IF(D82<D84,D84/D82,D82/D84),\"\")","v":4.2124985422715087},{"$f":"IFERROR(D82/IF((C82*E72)<150,150,C82*E72)^0.25*34.9964,\"\")","v":2.7400035141571637},1,88888,{"$f":"IF(OR(I82<=0,I82>1000000000),\"\",I72/I82/L71)","v":2.5000225002250023},{"$f":"IF(OR(J82=\"\",L82<=0,M72>1),\"\",IF(L82=\"Freilos\",M71/(1-(1/J82))/J82,IF(L82>1000000000,\"\",L82/J82/L72)))","v":0.19999819999819998},1,{"$f":"IFERROR(IF(K82<K84,K84/K82,K82/K84),\"\")","v":2.8436677994056674},{"$f":"IFERROR(K82/IF((J82*L72)<150,150,J82*L72)^0.25*34.9964,\"\")","v":1.9999845650371357},1,600000,{"$f":"IF(OR(P82<=0,P82>1000000000),\"\",P72/P82/S71)","v":5},{"$f":"IF(OR(Q82=\"\",S82<=0,T72>1),\"\",IF(S82=\"Freilos\",T71/(1-(1/Q82))/Q82,IF(S82>1000000000,\"\",S82/Q82/S72)))","v":0.19999999999999998},1.5,{"$f":"IFERROR(IF(R82<R84,R84/R82,R82/R84),\"\")","v":2.9562043795620441},{"$f":"IFERROR(R82/IF((Q82*S72)<150,150,Q82*S72)^0.25*34.9964,\"\")","v":2.0000025650782218}]
[null,{"$f":"IF(SUM(B74:B82)=0,\"\",SUM(B74:B82))","v":18082101},{"$f":"IF(OR(B83<=0,B83>1000000000),\"\",B72/B83/E71)","v":2.7651653975387043},{"$f":"IF(SUM(D74:D82)=0,\"\",SUM(D74:D82))","v":0.58540079604876416},{"$f":"IFERROR(E72*D83,\"\")","v":1.7562023881462925},{"$f":"IFERROR(AVERAGE(F74:F82),\"\")","v":4.8434117072091132},{"$f":"IF(SUM(G74:G82)=0,\"\",SUM(G74:G82))","v":5.3596145688012644},null,{"$f":"IF(SUM(I74:I82)=0,\"\",SUM(I74:I82))","v":134469},{"$f":"IF(OR(I83<=0,I83>1000000000),\"\",I72/I83/L71)","v":1.652589072574348},{"$f":"IF(SUM(K74:K82)=0,\"\",SUM(K74:K82))","v":0.632979632979633},{"$f":"IFERROR(L72*K83,\"\")","v":1.265959265959266},{"$f":"IFERROR(AVERAGE(M74:M82),\"\")","v":4.2899567086409114},{"$f":"IF(SUM(N74:N82)=0,\"\",SUM(N74:N82))","v":4.53415987482032},null,{"$f":"IF(SUM(P74:P82)=0,\"\",SUM(P74:P82))","v":966411},{"$f":"IF(OR(P83<=0,P83>1000000000),\"\",P72/P83/S71)","v":3.1042693015704499},{"$f":"IF(SUM(R74:R82)=0,\"\",SUM(R74:R82))","v":0.60888888888888881},{"$f":"IFERROR(S72*R83,\"\")","v":0.91333333333333322},{"$f":"IFERROR(AVERAGE(T74:T82),\"\")","v":3.5906350708256625},{"$f":"IF(SUM(U74:U82)=0,\"\",SUM(U74:U82))","v":5.4309786715412924}]
[null,null,null,{"$f":"AVERAGE(D74:D82)","v":6.504453289430713E-2},null,null,null,null,null,null,{"$f":"AVERAGE(K74:K82)","v":7.0331070331070333E-2},null,null,null,null,null,null,{"$f":"AVERAGE(R74:R82)","v":6.7654320987654309E-2}]
[]
[null,"Tutti Frutti",null,null,1,{"$f":"IFERROR(SUMIF(E89:E97,\"<>Freilos\",D89:D97),\"\")","v":0.50714285714285712},null,null,"Happy Birthday",null,null,1,{"$f":"IFERROR(SUMIF(L89:L97,\"<>Freilos\",K89:K97),\"\")","v":0.59875},null,null,"Glückskatze",null,null,1,{"$f":"IFERROR(SUMIF(S89:S97,\"<>Freilos\",R89:R97),\"\")","v":0.55597014925373134}]
[null,2100000,null,null,{"$f":"E86*1","v":1},{"$f":"IFERROR(COUNTIF(E89:E97,\"Freilos\"),\"\")","v":0},null,null,2000000,null,null,{"$f":"L86*1","v":1},{"$f":"IFERROR(COUNTIF(L89:L97,\"Freilos\"),\"\")","v":0},null,null,134000,null,null,{"$f":"S86*0.5","v":0.5},{"$f":"IFERROR(COUNTIF(S89:S97,\"Freilos\"),\"\")","v":0}]
[null,"Losanzahl",{"$f":"IF(E86=1,\"Chancen 1:\",\"Ø Gewinne 1:\")","v":"Chancen 1:"},"Ø AQ","(Ø) Gewinn",null,null,null,"Losanzahl",{"$f":"IF(L86=1,\"Chancen 1:\",\"Ø Gewinne 1:\")","v":"Chancen 1:"},"Ø AQ","(Ø) Gewinn",null,null,null,"Losanzahl",{"$f":"IF(S86=1,\"Chancen 1:\",\"Ø Gewinne 1:\")","v":"Chancen 1:"},"Ø AQ","(Ø) Gewinn"]
[7,1,{"$f":"IF(OR(B89<=0,B89>1000000000),\"\",B87/B89/E86)","v":2100000},{"$f":"IF(OR(C89=\"\",E89<=0,F87>1),\"\",IF(E89=\"Freilos\",F86/(1-(1/C89))/C89,IF(E89>1000000000,\"\",E89/C89/E87)))","v":2.3809523809523808E-2},50000,{"$f":"IFERROR(IF(D89<D99,D99/D89,D89/D99),\"\")","v":2.3666666666666667},{"$f":"IFERROR(D89/IF((C89*E87)<150,150,C89*E87)^0.25*34.9964,\"\")","v":2.1888664149815624E-2},7,1,{"$f":"IF(OR(I89<=0,I89>1000000000),\"\",I87/I89/L86)","v":2000000},{"$f":"IF(OR(J89=\"\",L89<=0,M87>1),\"\",IF(L89=\"Freilos\",M86/(1-(1/J89))/J89,IF(L89>1000000000,\"\",L89/J89/L87)))","v":5.0000000000000001E-3},10000,{"$f":"IFERROR(IF(K89<K99,K99/K89,K89/K99),\"\")","v":13.305555555555557},{"$f":"IFERROR(K89/IF((J89*L87)<150,150,J89*L87)^0.25*34.9964,\"\")","v":4.6530302631961401E-3},6,1,{"$f":"IF(OR(P89<=0,P89>1000000000),\"\",P87/P89/S86)","v":134000},{"$f":"IF(OR(Q89=\"\",S89<=0,T87>1),\"\",IF(S89=\"Freilos\",T86/(1-(1/Q89))/Q89,IF(S89>1000000000,\"\",S89/Q89/S87)))","v":2.2388059701492536E-2},1500,{"$f":"IFERROR(IF(R89<R99,R99/R89,R89/R99),\"\")","v":2.7592592592592591},{"$f":"IFERROR(R89/IF((Q89*S87)<150,150,Q89*S87)^0.25*34.9964,\"\")","v":4.8699121560922209E-2}]
[7,2,{"$f":"IF(OR(B90<=0,B90>1000000000),\"\",B87/B90/E86)","v":1050000},{"$f":"IF(OR(C90=\"\",E90<=0,F87>1),\"\",IF(E90=\"Freilos\",F86/(1-(1/C90))/C90,IF(E90>1000000000,\"\",E90/C90/E87)))","v":1.4285714285714285E-2},15000,{"$f":"IFERROR(IF(D90<D99,D99/D90,D90/D99),\"\")","v":3.9444444444444442},{"$f":"IFERROR(D90/IF((C90*E87)<150,150,C90*E87)^0.25*34.9964,\"\")","v":1.5618093086919436E-2},7,2,{"$f":"IF(OR(I90<=0,I90>1000000000),\"\",I87/I90/L86)","v":1000000},{"$f":"IF(OR(J90=\"\",L90<=0,M87>1),\"\",IF(L90=\"Freilos\",M86/(1-(1/J90))/J90,IF(L90>1000000000,\"\",L90/J90/L87)))","v":5.0000000000000001E-3},5000,{"$f":"IFERROR(IF(K90<K99,K99/K90,K90/K99),\"\")","v":13.305555555555557},{"$f":"IFERROR(K90/IF((J90*L87)<150,150,J90*L87)^0.25*34.9964,\"\")","v":5.5334166953158346E-3},5,5,{"$f":"IF(OR(P90<=0,P90>1000000000),\"\",P87/P90/S86)","v":26800},{"$f":"IF(OR(Q90=\"\",S90<=0,T87>1),\"\",IF(S90=\"Freilos\",T86/(1-(1/Q90))/Q90,IF(S90>1000000000,\"\",S90/Q90/S87)))","v":1.4925373134328358E-2},200,{"$f":"IFERROR(IF(R90<R99,R99/R90,R90/R99),\"\")","v":4.1388888888888884},{"$f":"IFERROR(R90/IF((Q90*S87)<150,150,Q90*S87)^0.25*34.9964,\"\")","v":4.8548114715112736E-2}]
[6,3,{"$f":"IF(OR(B91<=0,B91>1000000000),\"\",B87/B91/E86)","v":700000},{"$f":"IF(OR(C91=\"\",E91<=0,F87>1),\"\",IF(E91=\"Freilos\",F86/(1-(1/C91))/C91,IF(E91>1000000000,\"\",E91/C91/E87)))","v":7.1428571428571426E-3},5000,{"$f":"IFERROR(IF(D91<D99,D99/D91,D91/D99),\"\")","v":7.8888888888888884},{"$f":"IFERROR(D91/IF((C91*E87)<150,150,C91*E87)^0.25*34.9964,\"\")","v":8.6421306197451593E-3},6,5,{"$f":"IF(OR(I91<=0,I91>1000000000),\"\",I87/I91/L86)","v":400000},{"$f":"IF(OR(J91=\"\",L91<=0,M87>1),\"\",IF(L91=\"Freilos\",M86/(1-(1/J91))/J91,IF(L91>1000000000,\"\",L91/J91/L87)))","v":6.2500000000000003E-3},2500,{"$f":"IFERROR(IF(K91<K99,K99/K91,K91/K99),\"\")","v":10.644444444444444},{"$f":"IFERROR(K91/IF((J91*L87)<150,150,J91*L87)^0.25*34.9964,\"\")","v":8.6973789163197531E-3},5,10,{"$f":"IF(OR(P91<=0,P91>1000000000),\"\",P87/P91/S86)","v":13400},{"$f":"IF(OR(Q91=\"\",S91<=0,T87>1),\"\",IF(S91=\"Freilos\",T86/(1-(1/Q91))/Q91,IF(S91>1000000000,\"\",S91/Q91/S87)))","v":1.4925373134328358E-2},100,{"$f":"IFERROR(IF(R91<R99,R99/R91,R91/R99),\"\")","v":4.1388888888888884},{"$f":"IFERROR(R91/IF((Q91*S87)<150,150,Q91*S87)^0.25*34.9964,\"\")","v":5.7733763439180373E-2}]
[6,10,{"$f":"IF(OR(B92<=0,B92>1000000000),\"\",B87/B92/E86)","v":210000},{"$f":"IF(OR(C92=\"\",E92<=0,F87>1),\"\",IF(E92=\"Freilos\",F86/(1-(1/C92))/C92,IF(E92>1000000000,\"\",E92/C92/E87)))","v":9.5238095238095247E-3},2000,{"$f":"IFERROR(IF(D92<D99,D99/D92,D92/D99),\"\")","v":5.9166666666666652},{"$f":"IFERROR(D92/IF((C92*E87)<150,150,C92*E87)^0.25*34.9964,\"\")","v":1.5569664308349699E-2},6,10,{"$f":"IF(OR(I92<=0,I92>1000000000),\"\",I87/I92/L86)","v":200000},{"$f":"IF(OR(J92=\"\",L92<=0,M87>1),\"\",IF(L92=\"Freilos\",M86/(1-(1/J92))/J92,IF(L92>1000000000,\"\",L92/J92/L87)))","v":2.5000000000000001E-3},500,{"$f":"IFERROR(IF(K92<K99,K99/K92,K92/K99),\"\")","v":26.611111111111114},{"$f":"IFERROR(K92/IF((J92*L87)<150,150,J92*L87)^0.25*34.9964,\"\")","v":4.1371939556648432E-3},4,50,{"$f":"IF(OR(P92<=0,P92>1000000000),\"\",P87/P92/S86)","v":2680},{"$f":"IF(OR(Q92=\"\",S92<=0,T87>1),\"\",IF(S92=\"Freilos\",T86/(1-(1/Q92))/Q92,IF(S92>1000000000,\"\",S92/Q92/S87)))","v":7.462686567164179E-3},10,{"$f":"IFERROR(IF(R92<R99,R99/R92,R92/R99),\"\")","v":8.2777777777777768},{"$f":"IFERROR(R92/IF((Q92*S87)<150,150,Q92*S87)^0.25*34.9964,\"\")","v":4.3166056397046307E-2}]
[5,100,{"$f":"IF(OR(B93<=0,B93>1000000000),\"\",B87/B93/E86)","v":21000},{"$f":"IF(OR(C93=\"\",E93<=0,F87>1),\"\",IF(E93=\"Freilos\",F86/(1-(1/C93))/C93,IF(E93>1000000000,\"\",E93/C93/E87)))","v":9.5238095238095247E-3},200,{"$f":"IFERROR(IF(D93<D99,D99/D93,D93/D99),\"\")","v":5.9166666666666652},{"$f":"IFERROR(D93/IF((C93*E87)<150,150,C93*E87)^0.25*34.9964,\"\")","v":2.7687213460756182E-2},5,100,{"$f":"IF(OR(I93<=0,I93>1000000000),\"\",I87/I93/L86)","v":20000},{"$f":"IF(OR(J93=\"\",L93<=0,M87>1),\"\",IF(L93=\"Freilos\",M86/(1-(1/J93))/J93,IF(L93>1000000000,\"\",L93/J93/L87)))","v":5.0000000000000001E-3},100,{"$f":"IFERROR(IF(K93<K99,K99/K93,K93/K99),\"\")","v":13.305555555555557},{"$f":"IFERROR(K93/IF((J93*L87)<150,150,J93*L87)^0.25*34.9964,\"\")","v":1.4714173653392551E-2},3,150,{"$f":"IF(OR(P93<=0,P93>1000000000),\"\",P87/P93/S86)","v":893.33333333333337},{"$f":"IF(OR(Q93=\"\",S93<=0,T87>1),\"\",IF(S93=\"Freilos\",T86/(1-(1/Q93))/Q93,IF(S93>1000000000,\"\",S93/Q93/S87)))","v":1.1194029850746268E-2},5,{"$f":"IFERROR(IF(R93<R99,R99/R93,R93/R99),\"\")","v":5.5185185185185182},{"$f":"IFERROR(R93/IF((Q93*S87)<150,150,Q93*S87)^0.25*34.9964,\"\")","v":8.5214587598691507E-2}]
[4,1000,{"$f":"IF(OR(B94<=0,B94>1000000000),\"\",B87/B94/E86)","v":2100},{"$f":"IF(OR(C94=\"\",E94<=0,F87>1),\"\",IF(E94=\"Freilos\",F86/(1-(1/C94))/C94,IF(E94>1000000000,\"\",E94/C94/E87)))","v":2.3809523809523808E-2},50,{"$f":"IFERROR(IF(D94<D99,D99/D94,D94/D99),\"\")","v":2.3666666666666667},{"$f":"IFERROR(D94/IF((C94*E87)<150,150,C94*E87)^0.25*34.9964,\"\")","v":0.12308900404653801},4,1000,{"$f":"IF(OR(I94<=0,I94>1000000000),\"\",I87/I94/L86)","v":2000},{"$f":"IF(OR(J94=\"\",L94<=0,M87>1),\"\",IF(L94=\"Freilos\",M86/(1-(1/J94))/J94,IF(L94>1000000000,\"\",L94/J94/L87)))","v":1.2500000000000001E-2},25,{"$f":"IFERROR(IF(K94<K99,K99/K94,K94/K99),\"\")","v":5.322222222222222},{"$f":"IFERROR(K94/IF((J94*L87)<150,150,J94*L87)^0.25*34.9964,\"\")","v":6.5414780108912912E-2},3,500,{"$f":"IF(OR(P94<=0,P94>1000000000),\"\",P87/P94/S86)","v":268},{"$f":"IF(OR(Q94=\"\",S94<=0,T87>1),\"\",IF(S94=\"Freilos\",T86/(1-(1/Q94))/Q94,IF(S94>1000000000,\"\",S94/Q94/S87)))","v":1.4925373134328358E-2},2,{"$f":"IFERROR(IF(R94<R99,R99/R94,R94/R99),\"\")","v":4.1388888888888884},{"$f":"IFERROR(R94/IF((Q94*S87)<150,150,Q94*S87)^0.25*34.9964,\"\")","v":0.14925392276703145}]
[3,8000,{"$f":"IF(OR(B95<=0,B95>1000000000),\"\",B87/B95/E86)","v":262.5},{"$f":"IF(OR(C95=\"\",E95<=0,F87>1),\"\",IF(E95=\"Freilos\",F86/(1-(1/C95))/C95,IF(E95>1000000000,\"\",E95/C95/E87)))","v":3.8095238095238099E-2},10,{"$f":"IFERROR(IF(D95<D99,D99/D95,D95/D99),\"\")","v":1.4791666666666663},{"$f":"IFERROR(D95/IF((C95*E87)<150,150,C95*E87)^0.25*34.9964,\"\")","v":0.33121632723162825},3,10000,{"$f":"IF(OR(I95<=0,I95>1000000000),\"\",I87/I95/L86)","v":200},{"$f":"IF(OR(J95=\"\",L95<=0,M87>1),\"\",IF(L95=\"Freilos\",M86/(1-(1/J95))/J95,IF(L95>1000000000,\"\",L95/J95/L87)))","v":2.5000000000000001E-2},5,{"$f":"IFERROR(IF(K95<K99,K99/K95,K95/K99),\"\")","v":2.661111111111111},{"$f":"IFERROR(K95/IF((J95*L87)<150,150,J95*L87)^0.25*34.9964,\"\")","v":0.23265151315980703},2,11000,{"$f":"IF(OR(P95<=0,P95>1000000000),\"\",P87/P95/S86)","v":12.181818181818182},{"$f":"IF(OR(Q95=\"\",S95<=0,T87>1),\"\",IF(S95=\"Freilos\",T86/(1-(1/Q95))/Q95,IF(S95>1000000000,\"\",S95/Q95/S87)))","v":0.16417910447761194},1,{"$f":"IFERROR(IF(R95<R99,R99/R95,R95/R99),\"\")","v":2.6577181208053693},{"$f":"IFERROR(R95/IF((Q95*S87)<150,150,Q95*S87)^0.25*34.9964,\"\")","v":1.6417931504373462}]
[2,200000,{"$f":"IF(OR(B96<=0,B96>1000000000),\"\",B87/B96/E86)","v":10.5},{"$f":"IF(OR(C96=\"\",E96<=0,F87>1),\"\",IF(E96=\"Freilos\",F86/(1-(1/C96))/C96,IF(E96>1000000000,\"\",E96/C96/E87)))","v":0.19047619047619047},2,{"$f":"IFERROR(IF(D96<D99,D99/D96,D96/D99),\"\")","v":3.3802816901408455},{"$f":"IFERROR(D96/IF((C96*E87)<150,150,C96*E87)^0.25*34.9964,\"\")","v":1.9047643476935445},2,200000,{"$f":"IF(OR(I96<=0,I96>1000000000),\"\",I87/I96/L86)","v":10},{"$f":"IF(OR(J96=\"\",L96<=0,M87>1),\"\",IF(L96=\"Freilos\",M86/(1-(1/J96))/J96,IF(L96>1000000000,\"\",L96/J96/L87)))","v":0.3},3,{"$f":"IFERROR(IF(K96<K99,K99/K96,K96/K99),\"\")","v":4.5093945720250517},{"$f":"IFERROR(K96/IF((J96*L87)<150,150,J96*L87)^0.25*34.9964,\"\")","v":3.0000038476173323},1,21000,{"$f":"IF(OR(P96<=0,P96>1000000000),\"\",P87/P96/S86)","v":6.3809523809523814},{"$f":"IF(OR(Q96=\"\",S96<=0,T87>1),\"\",IF(S96=\"Freilos\",T86/(1-(1/Q96))/Q96,IF(S96>1000000000,\"\",S96/Q96/S87)))","v":0.15671641791044774},0.5,{"$f":"IFERROR(IF(R96<R99,R99/R96,R96/R99),\"\")","v":2.536912751677852},{"$f":"IFERROR(R96/IF((Q96*S87)<150,150,Q96*S87)^0.25*34.9964,\"\")","v":1.5671661890538304}]
[1,400000,{"$f":"IF(OR(B97<=0,B97>1000000000),\"\",B87/B97/E86)","v":5.25},{"$f":"IF(OR(C97=\"\",E97<=0,F87>1),\"\",IF(E97=\"Freilos\",F86/(1-(1/C97))/C97,IF(E97>1000000000,\"\",E97/C97/E87)))","v":0.19047619047619047},1,{"$f":"IFERROR(IF(D97<D99,D99/D97,D97/D99),\"\")","v":3.3802816901408455},{"$f":"IFERROR(D97/IF((C97*E87)<150,150,C97*E87)^0.25*34.9964,\"\")","v":1.9047643476935445},1,475000,{"$f":"IF(OR(I97<=0,I97>1000000000),\"\",I87/I97/L86)","v":4.2105263157894735},{"$f":"IF(OR(J97=\"\",L97<=0,M87>1),\"\",IF(L97=\"Freilos\",M86/(1-(1/J97))/J97,IF(L97>1000000000,\"\",L97/J97/L87)))","v":0.23750000000000002},1,{"$f":"IFERROR(IF(K97<K99,K99/K97,K97/K99),\"\")","v":3.5699373695198329},{"$f":"IFERROR(K97/IF((J97*L87)<150,150,J97*L87)^0.25*34.9964,\"\")","v":2.3750030460303884},1,40000,{"$f":"IF(OR(P97<=0,P97>1000000000),\"\",P87/P97/S86)","v":3.35},{"$f":"IF(OR(Q97=\"\",S97<=0,T87>1),\"\",IF(S97=\"Freilos\",T86/(1-(1/Q97))/Q97,IF(S97>1000000000,\"\",S97/Q97/S87)))","v":0.14925373134328357},0.25,{"$f":"IFERROR(IF(R97<R99,R99/R97,R97/R99),\"\")","v":2.4161073825503356},{"$f":"IFERROR(R97/IF((Q97*S87)<150,150,Q97*S87)^0.25*34.9964,\"\")","v":1.4925392276703144}]
[null,{"$f":"IF(SUM(B89:B97)=0,\"\",SUM(B89:B97))","v":609116},{"$f":"IF(OR(B98<=0,B98>1000000000),\"\",B87/B98/E86)","v":3.4476191727027365},{"$f":"IF(SUM(D89:D97)=0,\"\",SUM(D89:D97))","v":0.50714285714285712},{"$f":"IFERROR(E87*D98,\"\")","v":0.50714285714285712},{"$f":"IFERROR(AVERAGE(F89:F97),\"\")","v":4.0710811163275951},{"$f":"IF(SUM(G89:G97)=0,\"\",SUM(G89:G97))","v":4.3532397922908412},null,{"$f":"IF(SUM(I89:I97)=0,\"\",SUM(I89:I97))","v":686118},{"$f":"IF(OR(I98<=0,I98>1000000000),\"\",I87/I98/L86)","v":2.9149504895659346},{"$f":"IF(SUM(K89:K97)=0,\"\",SUM(K89:K97))","v":0.59875},{"$f":"IFERROR(L87*K98,\"\")","v":0.59875},{"$f":"IFERROR(AVERAGE(M89:M97),\"\")","v":10.359431944122273},{"$f":"IF(SUM(N89:N97)=0,\"\",SUM(N89:N97))","v":5.71080838040033},null,{"$f":"IF(SUM(P89:P97)=0,\"\",SUM(P89:P97))","v":72716},{"$f":"IF(OR(P98<=0,P98>1000000000),\"\",P87/P98/S86)","v":1.8427856317729248},{"$f":"IF(SUM(R89:R97)=0,\"\",SUM(R89:R97))","v":0.55597014925373134},{"$f":"IFERROR(S87*R98,\"\")","v":0.27798507462686567},{"$f":"IFERROR(AVERAGE(T89:T97),\"\")","v":4.064773386361753},{"$f":"IF(SUM(U89:U97)=0,\"\",SUM(U89:U97))","v":5.1341141336394758}]
[null,null,null,{"$f":"AVERAGE(D89:D97)","v":5.6349206349206343E-2},null,null,null,null,null,null,{"$f":"AVERAGE(K89:K97)","v":6.6527777777777783E-2},null,null,null,null,null,null,{"$f":"AVERAGE(R89:R97)","v":6.1774461028192368E-2}]
[]
[null,"Black Pearl",null,null,1,{"$f":"IFERROR(SUMIF(E104:E113,\"<>Freilos\",D104:D113),\"\")","v":0.63280000000000003},null,null,"25 mega fette Jahre ⁵",null,null,1,{"$f":"IFERROR(SUMIF(L104:L113,\"<>Freilos\",K104:K113),\"\")","v":0.63875497530477565},null,null,"25 super fette Jahre ⁵",null,null,1,{"$f":"IFERROR(SUMIF(S104:S113,\"<>Freilos\",R104:R113),\"\")","v":0.63625497530477559}]
[null,6000000,null,null,{"$f":"E101*10","v":10},{"$f":"IFERROR(COUNTIF(E104:E113,\"Freilos\"),\"\")","v":0},null,null,8000000,null,null,{"$f":"L101*10","v":10},{"$f":"IFERROR(COUNTIF(L104:L113,\"Freilos\"),\"\")","v":0},null,null,8000000,null,null,{"$f":"S101*5","v":5},{"$f":"IFERROR(COUNTIF(S104:S113,\"Freilos\"),\"\")","v":0}]
[null,"Losanzahl",{"$f":"IF(E101=1,\"Chancen 1:\",\"Ø Gewinne 1:\")","v":"Chancen 1:"},"Ø AQ","(Ø) Gewinn",null,null,null,"Losanzahl",{"$f":"IF(L101=1,\"Chancen 1:\",\"Ø Gewinne 1:\")","v":"Chancen 1:"},"Ø AQ","(Ø) Gewinn",null,null,null,"Losanzahl",{"$f":"IF(S101=1,\"Chancen 1:\",\"Ø Gewinne 1:\")","v":"Chancen 1:"},"Ø AQ","(Ø) Gewinn"]
[7,1,{"$f":"IF(OR(B104<=0,B104>1000000000),\"\",B102/B104/E101)","v":6000000},{"$f":"IF(OR(C104=\"\",E104<=0,F102>1),\"\",IF(E104=\"Freilos\",F101/(1-(1/C104))/C104,IF(E104>1000000000,\"\",E104/C104/E102)))","v":1.6666666666666666E-2},1000000,{"$f":"IFERROR(IF(D104<D115,D115/D104,D104/D115),\"\")","v":3.7968000000000002},{"$f":"IFERROR(D104/IF((C104*E102)<150,150,C104*E102)^0.25*34.9964,\"\")","v":6.6272645727738656E-3},7,1,{"$f":"IF(OR(I104<=0,I104>1000000000),\"\",I102/I104/L101)","v":8000000},{"$f":"IF(OR(J104=\"\",L104<=0,M102>1),\"\",IF(L104=\"Freilos\",M101/(1-(1/J104))/J104,IF(L104>1000000000,\"\",L104/J104/L102)))","v":3.2504975304775641E-2},{"$f":"100000+PV(0.00125,300,-10000)","v":2600398.0243820511},{"$f":"IFERROR(IF(K104<K115,K115/K104,K104/K115),\"\")","v":1.9650990942636699},{"$f":"IFERROR(K104/IF((J104*L102)<150,150,J104*L102)^0.25*34.9964,\"\")","v":1.2028202068375215E-2},7,1,{"$f":"IF(OR(P104<=0,P104>1000000000),\"\",P102/P104/S101)","v":8000000},{"$f":"IF(OR(Q104=\"\",S104<=0,T102>1),\"\",IF(S104=\"Freilos\",T101/(1-(1/Q104))/Q104,IF(S104>1000000000,\"\",S104/Q104/S102)))","v":3.2504975304775641E-2},{"$f":"50000+PV(0.00125,300,-5000)","v":1300199.0121910255},{"$f":"IFERROR(IF(R104<R115,R115/R104,R104/R115),\"\")","v":1.957407963978046},{"$f":"IFERROR(R104/IF((Q104*S102)<150,150,Q104*S102)^0.25*34.9964,\"\")","v":1.4304023480402248E-2}]
[6,20,{"$f":"IF(OR(B105<=0,B105>1000000000),\"\",B102/B105/E101)","v":300000},{"$f":"IF(OR(C105=\"\",E105<=0,F102>1),\"\",IF(E105=\"Freilos\",F101/(1-(1/C105))/C105,IF(E105>1000000000,\"\",E105/C105/E102)))","v":6.6666666666666662E-3},20000,{"$f":"IFERROR(IF(D105<D115,D115/D105,D105/D115),\"\")","v":9.4920000000000009},{"$f":"IFERROR(D105/IF((C105*E102)<150,150,C105*E102)^0.25*34.9964,\"\")","v":5.6059832915750325E-3},6,10,{"$f":"IF(OR(I105<=0,I105>1000000000),\"\",I102/I105/L101)","v":800000},{"$f":"IF(OR(J105=\"\",L105<=0,M102>1),\"\",IF(L105=\"Freilos\",M101/(1-(1/J105))/J105,IF(L105>1000000000,\"\",L105/J105/L102)))","v":6.2500000000000003E-3},50000,{"$f":"IFERROR(IF(K105<K115,K115/K105,K105/K115),\"\")","v":10.22007960487641},{"$f":"IFERROR(K105/IF((J105*L102)<150,150,J105*L102)^0.25*34.9964,\"\")","v":4.1127365652152718E-3},6,10,{"$f":"IF(OR(P105<=0,P105>1000000000),\"\",P102/P105/S101)","v":800000},{"$f":"IF(OR(Q105=\"\",S105<=0,T102>1),\"\",IF(S105=\"Freilos\",T101/(1-(1/Q105))/Q105,IF(S105>1000000000,\"\",S105/Q105/S102)))","v":3.7499999999999999E-3},15000,{"$f":"IFERROR(IF(R105<R115,R115/R105,R105/R115),\"\")","v":16.966799341460682},{"$f":"IFERROR(R105/IF((Q105*S102)<150,150,Q105*S102)^0.25*34.9964,\"\")","v":2.934537351291512E-3}]
[5,330,{"$f":"IF(OR(B106<=0,B106>1000000000),\"\",B102/B106/E101)","v":18181.81818181818},{"$f":"IF(OR(C106=\"\",E106<=0,F102>1),\"\",IF(E106=\"Freilos\",F101/(1-(1/C106))/C106,IF(E106>1000000000,\"\",E106/C106/E102)))","v":1.1000000000000001E-2},2000,{"$f":"IFERROR(IF(D106<D115,D115/D106,D106/D115),\"\")","v":5.752727272727272},{"$f":"IFERROR(D106/IF((C106*E102)<150,150,C106*E102)^0.25*34.9964,\"\")","v":1.8642610643332683E-2},5,150,{"$f":"IF(OR(I106<=0,I106>1000000000),\"\",I102/I106/L101)","v":53333.333333333336},{"$f":"IF(OR(J106=\"\",L106<=0,M102>1),\"\",IF(L106=\"Freilos\",M101/(1-(1/J106))/J106,IF(L106>1000000000,\"\",L106/J106/L102)))","v":1.8749999999999999E-2},10000,{"$f":"IFERROR(IF(K106<K115,K115/K106,K106/K115),\"\")","v":3.4066932016254703},{"$f":"IFERROR(K106/IF((J106*L102)<150,150,J106*L102)^0.25*34.9964,\"\")","v":2.4281469242937951E-2},5,150,{"$f":"IF(OR(P106<=0,P106>1000000000),\"\",P102/P106/S101)","v":53333.333333333336},{"$f":"IF(OR(Q106=\"\",S106<=0,T102>1),\"\",IF(S106=\"Freilos\",T101/(1-(1/Q106))/Q106,IF(S106>1000000000,\"\",S106/Q106/S102)))","v":1.8749999999999999E-2},5000,{"$f":"IFERROR(IF(R106<R115,R115/R106,R106/R115),\"\")","v":3.3933598682921362},{"$f":"IFERROR(R106/IF((Q106*S102)<150,150,Q106*S102)^0.25*34.9964,\"\")","v":2.8875695986421548E-2}]
[4,2000,{"$f":"IF(OR(B107<=0,B107>1000000000),\"\",B102/B107/E101)","v":3000},{"$f":"IF(OR(C107=\"\",E107<=0,F102>1),\"\",IF(E107=\"Freilos\",F101/(1-(1/C107))/C107,IF(E107>1000000000,\"\",E107/C107/E102)))","v":3.3333333333333333E-2},1000,{"$f":"IFERROR(IF(D107<D115,D115/D107,D107/D115),\"\")","v":1.8984000000000001},{"$f":"IFERROR(D107/IF((C107*E102)<150,150,C107*E102)^0.25*34.9964,\"\")","v":8.8638378631124629E-2},4,4000,{"$f":"IF(OR(I107<=0,I107>1000000000),\"\",I102/I107/L101)","v":2000},{"$f":"IF(OR(J107=\"\",L107<=0,M102>1),\"\",IF(L107=\"Freilos\",M101/(1-(1/J107))/J107,IF(L107>1000000000,\"\",L107/J107/L102)))","v":0.05},1000,{"$f":"IFERROR(IF(K107<K115,K115/K107,K107/K115),\"\")","v":1.2775099506095513},{"$f":"IFERROR(K107/IF((J107*L102)<150,150,J107*L102)^0.25*34.9964,\"\")","v":0.14714173653392551},4,4000,{"$f":"IF(OR(P107<=0,P107>1000000000),\"\",P102/P107/S101)","v":2000},{"$f":"IF(OR(Q107=\"\",S107<=0,T102>1),\"\",IF(S107=\"Freilos\",T101/(1-(1/Q107))/Q107,IF(S107>1000000000,\"\",S107/Q107/S102)))","v":0.05},500,{"$f":"IFERROR(IF(R107<R115,R115/R107,R107/R115),\"\")","v":1.272509950609551},{"$f":"IFERROR(R107/IF((Q107*S102)<150,150,Q107*S102)^0.25*34.9964,\"\")","v":0.17498199999999997}]
[3,8000,{"$f":"IF(OR(B108<=0,B108>1000000000),\"\",B102/B108/E101)","v":750},{"$f":"IF(OR(C108=\"\",E108<=0,F102>1),\"\",IF(E108=\"Freilos\",F101/(1-(1/C108))/C108,IF(E108>1000000000,\"\",E108/C108/E102)))","v":2.6666666666666665E-2},200,{"$f":"IFERROR(IF(D108<D115,D115/D108,D108/D115),\"\")","v":2.3730000000000002},{"$f":"IFERROR(D108/IF((C108*E102)<150,150,C108*E102)^0.25*34.9964,\"\")","v":0.10028287776551841},3,20000,{"$f":"IF(OR(I108<=0,I108>1000000000),\"\",I102/I108/L101)","v":400},{"$f":"IF(OR(J108=\"\",L108<=0,M102>1),\"\",IF(L108=\"Freilos\",M101/(1-(1/J108))/J108,IF(L108>1000000000,\"\",L108/J108/L102)))","v":2.5000000000000001E-2},100,{"$f":"IFERROR(IF(K108<K115,K115/K108,K108/K115),\"\")","v":2.5550199012191026},{"$f":"IFERROR(K108/IF((J108*L102)<150,150,J108*L102)^0.25*34.9964,\"\")","v":0.11001410819638972},3,20000,{"$f":"IF(OR(P108<=0,P108>1000000000),\"\",P102/P108/S101)","v":400},{"$f":"IF(OR(Q108=\"\",S108<=0,T102>1),\"\",IF(S108=\"Freilos\",T101/(1-(1/Q108))/Q108,IF(S108>1000000000,\"\",S108/Q108/S102)))","v":2.5000000000000001E-2},50,{"$f":"IFERROR(IF(R108<R115,R115/R108,R108/R115),\"\")","v":2.5450199012191019},{"$f":"IFERROR(R108/IF((Q108*S102)<150,150,Q108*S102)^0.25*34.9964,\"\")","v":0.13082956021782582}]
[3,35080,{"$f":"IF(OR(B109<=0,B109>1000000000),\"\",B102/B109/E101)","v":171.03762827822121},{"$f":"IF(OR(C109=\"\",E109<=0,F102>1),\"\",IF(E109=\"Freilos\",F101/(1-(1/C109))/C109,IF(E109>1000000000,\"\",E109/C109/E102)))","v":5.8466666666666667E-2},100,{"$f":"IFERROR(IF(D109<D115,D115/D109,D109/D115),\"\")","v":1.0823261117445839},{"$f":"IFERROR(D109/IF((C109*E102)<150,150,C109*E102)^0.25*34.9964,\"\")","v":0.31816967889317566},3,60000,{"$f":"IF(OR(I109<=0,I109>1000000000),\"\",I102/I109/L101)","v":133.33333333333334},{"$f":"IF(OR(J109=\"\",L109<=0,M102>1),\"\",IF(L109=\"Freilos\",M101/(1-(1/J109))/J109,IF(L109>1000000000,\"\",L109/J109/L102)))","v":3.7499999999999999E-2},50,{"$f":"IFERROR(IF(K109<K115,K115/K109,K109/K115),\"\")","v":1.7033466008127351},{"$f":"IFERROR(K109/IF((J109*L102)<150,150,J109*L102)^0.25*34.9964,\"\")","v":0.2171800632831184},3,60000,{"$f":"IF(OR(P109<=0,P109>1000000000),\"\",P102/P109/S101)","v":133.33333333333334},{"$f":"IF(OR(Q109=\"\",S109<=0,T102>1),\"\",IF(S109=\"Freilos\",T101/(1-(1/Q109))/Q109,IF(S109>1000000000,\"\",S109/Q109/S102)))","v":3.7499999999999999E-2},25,{"$f":"IFERROR(IF(R109<R115,R115/R109,R109/R115),\"\")","v":1.6966799341460681},{"$f":"IFERROR(R109/IF((Q109*S102)<150,150,Q109*S102)^0.25*34.9964,\"\")","v":0.25827207649302564}]
[2,120000,{"$f":"IF(OR(B110<=0,B110>1000000000),\"\",B102/B110/E101)","v":50},{"$f":"IF(OR(C110=\"\",E110<=0,F102>1),\"\",IF(E110=\"Freilos\",F101/(1-(1/C110))/C110,IF(E110>1000000000,\"\",E110/C110/E102)))","v":0.08},40,{"$f":"IFERROR(IF(D110<D115,D115/D110,D110/D115),\"\")","v":1.2642225031605563},{"$f":"IFERROR(D110/IF((C110*E102)<150,150,C110*E102)^0.25*34.9964,\"\")","v":0.59206700294194192},2,150000,{"$f":"IF(OR(I110<=0,I110>1000000000),\"\",I102/I110/L101)","v":53.333333333333336},{"$f":"IF(OR(J110=\"\",L110<=0,M102>1),\"\",IF(L110=\"Freilos\",M101/(1-(1/J110))/J110,IF(L110>1000000000,\"\",L110/J110/L102)))","v":5.6250000000000001E-2},30,{"$f":"IFERROR(IF(K110<K115,K115/K110,K110/K115),\"\")","v":1.1355644005418235},{"$f":"IFERROR(K110/IF((J110*L102)<150,150,J110*L102)^0.25*34.9964,\"\")","v":0.40963420774927284},2,150000,{"$f":"IF(OR(P110<=0,P110>1000000000),\"\",P102/P110/S101)","v":53.333333333333336},{"$f":"IF(OR(Q110=\"\",S110<=0,T102>1),\"\",IF(S110=\"Freilos\",T101/(1-(1/Q110))/Q110,IF(S110>1000000000,\"\",S110/Q110/S102)))","v":5.6250000000000001E-2},15,{"$f":"IFERROR(IF(R110<R115,R115/R110,R110/R115),\"\")","v":1.1311199560973788},{"$f":"IFERROR(R110/IF((Q110*S102)<150,150,Q110*S102)^0.25*34.9964,\"\")","v":0.48713991440393806}]
[2,600000,{"$f":"IF(OR(B111<=0,B111>1000000000),\"\",B102/B111/E101)","v":10},{"$f":"IF(OR(C111=\"\",E111<=0,F102>1),\"\",IF(E111=\"Freilos\",F101/(1-(1/C111))/C111,IF(E111>1000000000,\"\",E111/C111/E102)))","v":0.2},20,{"$f":"IFERROR(IF(D111<D115,D115/D111,D111/D115),\"\")","v":3.1605562579013906},{"$f":"IFERROR(D111/IF((C111*E102)<150,150,C111*E102)^0.25*34.9964,\"\")","v":2.0000025650782218},2,300000,{"$f":"IF(OR(I111<=0,I111>1000000000),\"\",I102/I111/L101)","v":26.666666666666668},{"$f":"IF(OR(J111=\"\",L111<=0,M102>1),\"\",IF(L111=\"Freilos\",M101/(1-(1/J111))/J111,IF(L111>1000000000,\"\",L111/J111/L102)))","v":7.4999999999999997E-2},20,{"$f":"IFERROR(IF(K111<K115,K115/K111,K111/K115),\"\")","v":1.174159151781393},{"$f":"IFERROR(K111/IF((J111*L102)<150,150,J111*L102)^0.25*34.9964,\"\")","v":0.64951988587191722},2,300000,{"$f":"IF(OR(P111<=0,P111>1000000000),\"\",P102/P111/S101)","v":26.666666666666668},{"$f":"IF(OR(Q111=\"\",S111<=0,T102>1),\"\",IF(S111=\"Freilos\",T101/(1-(1/Q111))/Q111,IF(S111>1000000000,\"\",S111/Q111/S102)))","v":7.4999999999999997E-2},10,{"$f":"IFERROR(IF(R111<R115,R115/R111,R111/R115),\"\")","v":1.1787727076566104},{"$f":"IFERROR(R111/IF((Q111*S102)<150,150,Q111*S102)^0.25*34.9964,\"\")","v":0.75000096190433307}]
[1,750000,{"$f":"IF(OR(B112<=0,B112>1000000000),\"\",B102/B112/E101)","v":8},{"$f":"IF(OR(C112=\"\",E112<=0,F102>1),\"\",IF(E112=\"Freilos\",F101/(1-(1/C112))/C112,IF(E112>1000000000,\"\",E112/C112/E102)))","v":0.125},10,{"$f":"IFERROR(IF(D112<D115,D115/D112,D112/D115),\"\")","v":1.9753476611883691},{"$f":"IFERROR(D112/IF((C112*E102)<150,150,C112*E102)^0.25*34.9964,\"\")","v":1.2500016031738885},1,1200000,{"$f":"IF(OR(I112<=0,I112>1000000000),\"\",I102/I112/L101)","v":6.666666666666667},{"$f":"IF(OR(J112=\"\",L112<=0,M102>1),\"\",IF(L112=\"Freilos\",M101/(1-(1/J112))/J112,IF(L112>1000000000,\"\",L112/J112/L102)))","v":0.15},10,{"$f":"IFERROR(IF(K112<K115,K115/K112,K112/K115),\"\")","v":2.3483183035627859},{"$f":"IFERROR(K112/IF((J112*L102)<150,150,J112*L102)^0.25*34.9964,\"\")","v":1.5000019238086661},1,1200000,{"$f":"IF(OR(P112<=0,P112>1000000000),\"\",P102/P112/S101)","v":6.666666666666667},{"$f":"IF(OR(Q112=\"\",S112<=0,T102>1),\"\",IF(S112=\"Freilos\",T101/(1-(1/Q112))/Q112,IF(S112>1000000000,\"\",S112/Q112/S102)))","v":0.15},5,{"$f":"IFERROR(IF(R112<R115,R115/R112,R112/R115),\"\")","v":2.3575454153132207},{"$f":"IFERROR(R112/IF((Q112*S102)<150,150,Q112*S102)^0.25*34.9964,\"\")","v":1.5000019238086661}]
[1,900000,{"$f":"IF(OR(B113<=0,B113>1000000000),\"\",B102/B113/E101)","v":6.666666666666667},{"$f":"IF(OR(C113=\"\",E113<=0,F102>1),\"\",IF(E113=\"Freilos\",F101/(1-(1/C113))/C113,IF(E113>1000000000,\"\",E113/C113/E102)))","v":7.4999999999999997E-2},5,{"$f":"IFERROR(IF(D113<D115,D115/D113,D113/D115),\"\")","v":1.1852085967130215},{"$f":"IFERROR(D113/IF((C113*E102)<150,150,C113*E102)^0.25*34.9964,\"\")","v":0.75000096190433307},1,3000000,{"$f":"IF(OR(I113<=0,I113>1000000000),\"\",I102/I113/L101)","v":2.6666666666666665},{"$f":"IF(OR(J113=\"\",L113<=0,M102>1),\"\",IF(L113=\"Freilos\",M101/(1-(1/J113))/J113,IF(L113>1000000000,\"\",L113/J113/L102)))","v":0.1875},5,{"$f":"IFERROR(IF(K113<K115,K115/K113,K113/K115),\"\")","v":2.9353978794534825},{"$f":"IFERROR(K113/IF((J113*L102)<150,150,J113*L102)^0.25*34.9964,\"\")","v":1.8750024047608329},1,3000000,{"$f":"IF(OR(P113<=0,P113>1000000000),\"\",P102/P113/S101)","v":2.6666666666666665},{"$f":"IF(OR(Q113=\"\",S113<=0,T102>1),\"\",IF(S113=\"Freilos\",T101/(1-(1/Q113))/Q113,IF(S113>1000000000,\"\",S113/Q113/S102)))","v":0.1875},2.5,{"$f":"IFERROR(IF(R113<R115,R115/R113,R113/R115),\"\")","v":2.9469317691415258},{"$f":"IFERROR(R113/IF((Q113*S102)<150,150,Q113*S102)^0.25*34.9964,\"\")","v":1.8750024047608329}]
[null,{"$f":"IF(SUM(B104:B113)=0,\"\",SUM(B104:B113))","v":2415431},{"$f":"IF(OR(B114<=0,B114>1000000000),\"\",B102/B114/E101)","v":2.4840287302762944},{"$f":"IF(SUM(D104:D113)=0,\"\",SUM(D104:D113))","v":0.63280000000000003},{"$f":"IFERROR(E102*D114,\"\")","v":6.3280000000000003},{"$f":"IFERROR(AVERAGE(F104:F113),\"\")","v":3.1980588403435197},{"$f":"IF(SUM(G104:G113)=0,\"\",SUM(G104:G113))","v":5.1300389268958861},null,{"$f":"IF(SUM(I104:I113)=0,\"\",SUM(I104:I113))","v":4734161},{"$f":"IF(OR(I114<=0,I114>1000000000),\"\",I102/I114/L101)","v":1.6898453601387871},{"$f":"IF(SUM(K104:K113)=0,\"\",SUM(K104:K113))","v":0.63875497530477565},{"$f":"IFERROR(L102*K114,\"\")","v":6.3875497530477565},{"$f":"IFERROR(AVERAGE(M104:M113),\"\")","v":2.8721188088746428},{"$f":"IF(SUM(N104:N113)=0,\"\",SUM(N104:N113))","v":4.9489167380806514},null,{"$f":"IF(SUM(P104:P113)=0,\"\",SUM(P104:P113))","v":4734161},{"$f":"IF(OR(P114<=0,P114>1000000000),\"\",P102/P114/S101)","v":1.6898453601387871},{"$f":"IF(SUM(R104:R113)=0,\"\",SUM(R104:R113))","v":0.63625497530477559},{"$f":"IFERROR(S102*R114,\"\")","v":3.1812748765238781},{"$f":"IFERROR(AVERAGE(T104:T113),\"\")","v":3.5446146807914323},{"$f":"IF(SUM(U104:U113)=0,\"\",SUM(U104:U113))","v":5.2223430984067374}]
[null,null,null,{"$f":"AVERAGE(D104:D113)","v":6.3280000000000003E-2},null,null,null,null,null,null,{"$f":"AVERAGE(K104:K113)","v":6.3875497530477568E-2},null,null,null,null,null,null,{"$f":"AVERAGE(R104:R113)","v":6.3625497530477554E-2}]
[]
[null,"Rubbel-Millionär",null,null,1,{"$f":"IFERROR(SUMIF(E120:E129,\"<>Freilos\",D120:D129),\"\")","v":0.40437499999999998},null,null,"Tresor Knacker",null,null,1,{"$f":"IFERROR(SUMIF(L120:L129,\"<>Freilos\",K120:K129),\"\")","v":0.25624999999999998},null,null,"Glücksrad",null,null,1,{"$f":"IFERROR(SUMIF(S120:S129,\"<>Freilos\",R120:R129),\"\")","v":0.54027777777777775}]
[null,10000000,null,null,{"$f":"E117*4","v":4},{"$f":"IFERROR(COUNTIF(E120:E129,\"Freilos\"),\"\")","v":1},null,null,8000000,null,null,{"$f":"L117*2","v":2},{"$f":"IFERROR(COUNTIF(L120:L129,\"Freilos\"),\"\")","v":1},null,null,1800000,null,null,{"$f":"S117*2","v":2},{"$f":"IFERROR(COUNTIF(S120:S129,\"Freilos\"),\"\")","v":0}]
[null,"Losanzahl",{"$f":"IF(E117=1,\"Chancen 1:\",\"Ø Gewinne 1:\")","v":"Chancen 1:"},"Ø AQ","(Ø) Gewinn",null,null,null,"Losanzahl",{"$f":"IF(L117=1,\"Chancen 1:\",\"Ø Gewinne 1:\")","v":"Chancen 1:"},"Ø AQ","(Ø) Gewinn",null,null,null,"Losanzahl",{"$f":"IF(S117=1,\"Chancen 1:\",\"Ø Gewinne 1:\")","v":"Chancen 1:"},"Ø AQ","(Ø) Gewinn"]
[7,1,{"$f":"IF(OR(B120<=0,B120>1000000000),\"\",B118/B120/E117)","v":10000000},{"$f":"IF(OR(C120=\"\",E120<=0,F118>1),\"\",IF(E120=\"Freilos\",F117/(1-(1/C120))/C120,IF(E120>1000000000,\"\",E120/C120/E118)))","v":2.5000000000000001E-2},1000000,{"$f":"IFERROR(IF(D120<D131,D131/D120,D120/D131),\"\")","v":1.8380681818181814},{"$f":"IFERROR(D120/IF((C120*E118)<150,150,C120*E118)^0.25*34.9964,\"\")","v":1.1001410819638971E-2},7,1,{"$f":"IF(OR(I120<=0,I120>1000000000),\"\",I118/I120/L117)","v":8000000},{"$f":"IF(OR(J120=\"\",L120<=0,M118>1),\"\",IF(L120=\"Freilos\",M117/(1-(1/J120))/J120,IF(L120>1000000000,\"\",L120/J120/L118)))","v":6.2500000000000003E-3},100000,{"$f":"IFERROR(IF(K120<K131,K131/K120,K120/K131),\"\")","v":5.4666666666666659},{"$f":"IFERROR(K120/IF((J120*L118)<150,150,J120*L118)^0.25*34.9964,\"\")","v":3.4583854345723963E-3},7,1,{"$f":"IF(OR(P120<=0,P120>1000000000),\"\",P118/P120/S117)","v":1800000},{"$f":"IF(OR(Q120=\"\",S120<=0,T118>1),\"\",IF(S120=\"Freilos\",T117/(1-(1/Q120))/Q120,IF(S120>1000000000,\"\",S120/Q120/S118)))","v":1.3888888888888888E-2},50000,{"$f":"IFERROR(IF(R120<R131,R131/R120,R120/R131),\"\")","v":3.8899999999999997},{"$f":"IFERROR(R120/IF((Q120*S118)<150,150,Q120*S118)^0.25*34.9964,\"\")","v":1.1158742352403082E-2}]
[7,2,{"$f":"IF(OR(B121<=0,B121>1000000000),\"\",B118/B121/E117)","v":5000000},{"$f":"IF(OR(C121=\"\",E121<=0,F118>1),\"\",IF(E121=\"Freilos\",F117/(1-(1/C121))/C121,IF(E121>1000000000,\"\",E121/C121/E118)))","v":5.0000000000000001E-3},100000,{"$f":"IFERROR(IF(D121<D131,D131/D121,D121/D131),\"\")","v":9.1903409090909083},{"$f":"IFERROR(D121/IF((C121*E118)<150,150,C121*E118)^0.25*34.9964,\"\")","v":2.6165912043565171E-3},7,5,{"$f":"IF(OR(I121<=0,I121>1000000000),\"\",I118/I121/L117)","v":1600000},{"$f":"IF(OR(J121=\"\",L121<=0,M118>1),\"\",IF(L121=\"Freilos\",M117/(1-(1/J121))/J121,IF(L121>1000000000,\"\",L121/J121/L118)))","v":3.1250000000000002E-3},10000,{"$f":"IFERROR(IF(K121<K131,K131/K121,K121/K131),\"\")","v":10.933333333333332},{"$f":"IFERROR(K121/IF((J121*L118)<150,150,J121*L118)^0.25*34.9964,\"\")","v":2.5857462222905261E-3},6,5,{"$f":"IF(OR(P121<=0,P121>1000000000),\"\",P118/P121/S117)","v":360000},{"$f":"IF(OR(Q121=\"\",S121<=0,T118>1),\"\",IF(S121=\"Freilos\",T117/(1-(1/Q121))/Q121,IF(S121>1000000000,\"\",S121/Q121/S118)))","v":6.9444444444444441E-3},5000,{"$f":"IFERROR(IF(R121<R131,R131/R121,R121/R131),\"\")","v":7.7799999999999994},{"$f":"IFERROR(R121/IF((Q121*S118)<150,150,Q121*S118)^0.25*34.9964,\"\")","v":8.3431058883137801E-3}]
[7,5,{"$f":"IF(OR(B122<=0,B122>1000000000),\"\",B118/B122/E117)","v":2000000},{"$f":"IF(OR(C122=\"\",E122<=0,F118>1),\"\",IF(E122=\"Freilos\",F117/(1-(1/C122))/C122,IF(E122>1000000000,\"\",E122/C122/E118)))","v":1.25E-3},10000,{"$f":"IFERROR(IF(D122<D131,D131/D122,D122/D131),\"\")","v":36.761363636363633},{"$f":"IFERROR(D122/IF((C122*E118)<150,150,C122*E118)^0.25*34.9964,\"\")","v":8.2254731304305423E-4},6,25,{"$f":"IF(OR(I122<=0,I122>1000000000),\"\",I118/I122/L117)","v":320000},{"$f":"IF(OR(J122=\"\",L122<=0,M118>1),\"\",IF(L122=\"Freilos\",M117/(1-(1/J122))/J122,IF(L122>1000000000,\"\",L122/J122/L118)))","v":1.5625000000000001E-3},1000,{"$f":"IFERROR(IF(K122<K131,K131/K122,K122/K131),\"\")","v":21.866666666666664},{"$f":"IFERROR(K122/IF((J122*L118)<150,150,J122*L118)^0.25*34.9964,\"\")","v":1.9332962310247574E-3},5,20,{"$f":"IF(OR(P122<=0,P122>1000000000),\"\",P118/P122/S117)","v":90000},{"$f":"IF(OR(Q122=\"\",S122<=0,T118>1),\"\",IF(S122=\"Freilos\",T117/(1-(1/Q122))/Q122,IF(S122>1000000000,\"\",S122/Q122/S118)))","v":2.7777777777777779E-3},500,{"$f":"IFERROR(IF(R122<R131,R131/R122,R122/R131),\"\")","v":19.449999999999996},{"$f":"IFERROR(R122/IF((Q122*S118)<150,150,Q122*S118)^0.25*34.9964,\"\")","v":4.7195733998272706E-3}]
[6,50,{"$f":"IF(OR(B123<=0,B123>1000000000),\"\",B118/B123/E117)","v":200000},{"$f":"IF(OR(C123=\"\",E123<=0,F118>1),\"\",IF(E123=\"Freilos\",F117/(1-(1/C123))/C123,IF(E123>1000000000,\"\",E123/C123/E118)))","v":1.25E-3},1000,{"$f":"IFERROR(IF(D123<D131,D131/D123,D123/D131),\"\")","v":36.761363636363633},{"$f":"IFERROR(D123/IF((C123*E118)<150,150,C123*E118)^0.25*34.9964,\"\")","v":1.4627189505673035E-3},6,50,{"$f":"IF(OR(I123<=0,I123>1000000000),\"\",I118/I123/L117)","v":160000},{"$f":"IF(OR(J123=\"\",L123<=0,M118>1),\"\",IF(L123=\"Freilos\",M117/(1-(1/J123))/J123,IF(L123>1000000000,\"\",L123/J123/L118)))","v":1.5625000000000001E-3},500,{"$f":"IFERROR(IF(K123<K131,K131/K123,K123/K131),\"\")","v":21.866666666666664},{"$f":"IFERROR(K123/IF((J123*L118)<150,150,J123*L118)^0.25*34.9964,\"\")","v":2.2990896333425857E-3},4,200,{"$f":"IF(OR(P123<=0,P123>1000000000),\"\",P118/P123/S117)","v":9000},{"$f":"IF(OR(Q123=\"\",S123<=0,T118>1),\"\",IF(S123=\"Freilos\",T117/(1-(1/Q123))/Q123,IF(S123>1000000000,\"\",S123/Q123/S118)))","v":5.5555555555555558E-3},100,{"$f":"IFERROR(IF(R123<R131,R131/R123,R123/R131),\"\")","v":9.7249999999999979},{"$f":"IFERROR(R123/IF((Q123*S118)<150,150,Q123*S118)^0.25*34.9964,\"\")","v":1.6785440402160463E-2}]
[5,750,{"$f":"IF(OR(B124<=0,B124>1000000000),\"\",B118/B124/E117)","v":13333.333333333334},{"$f":"IF(OR(C124=\"\",E124<=0,F118>1),\"\",IF(E124=\"Freilos\",F117/(1-(1/C124))/C124,IF(E124>1000000000,\"\",E124/C124/E118)))","v":9.3749999999999997E-3},500,{"$f":"IFERROR(IF(D124<D131,D131/D124,D124/D131),\"\")","v":4.9015151515151514},{"$f":"IFERROR(D124/IF((C124*E118)<150,150,C124*E118)^0.25*34.9964,\"\")","v":2.1589618400104975E-2},5,500,{"$f":"IF(OR(I124<=0,I124>1000000000),\"\",I118/I124/L117)","v":16000},{"$f":"IF(OR(J124=\"\",L124<=0,M118>1),\"\",IF(L124=\"Freilos\",M117/(1-(1/J124))/J124,IF(L124>1000000000,\"\",L124/J124/L118)))","v":3.1250000000000002E-3},100,{"$f":"IFERROR(IF(K124<K131,K131/K124,K124/K131),\"\")","v":10.933333333333332},{"$f":"IFERROR(K124/IF((J124*L118)<150,150,J124*L118)^0.25*34.9964,\"\")","v":8.1768475136141123E-3},4,1000,{"$f":"IF(OR(P124<=0,P124>1000000000),\"\",P118/P124/S117)","v":1800},{"$f":"IF(OR(Q124=\"\",S124<=0,T118>1),\"\",IF(S124=\"Freilos\",T117/(1-(1/Q124))/Q124,IF(S124>1000000000,\"\",S124/Q124/S118)))","v":1.1111111111111112E-2},40,{"$f":"IFERROR(IF(R124<R131,R131/R124,R124/R131),\"\")","v":4.8624999999999989},{"$f":"IFERROR(R124/IF((Q124*S118)<150,150,Q124*S118)^0.25*34.9964,\"\")","v":5.0200175695264172E-2}]
[4,10000,{"$f":"IF(OR(B125<=0,B125>1000000000),\"\",B118/B125/E117)","v":1000},{"$f":"IF(OR(C125=\"\",E125<=0,F118>1),\"\",IF(E125=\"Freilos\",F117/(1-(1/C125))/C125,IF(E125>1000000000,\"\",E125/C125/E118)))","v":2.5000000000000001E-2},100,{"$f":"IFERROR(IF(D125<D131,D131/D125,D125/D131),\"\")","v":1.8380681818181814},{"$f":"IFERROR(D125/IF((C125*E118)<150,150,C125*E118)^0.25*34.9964,\"\")","v":0.11001410819638972},4,3000,{"$f":"IF(OR(I125<=0,I125>1000000000),\"\",I118/I125/L117)","v":2666.6666666666665},{"$f":"IF(OR(J125=\"\",L125<=0,M118>1),\"\",IF(L125=\"Freilos\",M117/(1-(1/J125))/J125,IF(L125>1000000000,\"\",L125/J125/L118)))","v":9.3750000000000014E-3},50,{"$f":"IFERROR(IF(K125<K131,K131/K125,K125/K131),\"\")","v":3.6444444444444435},{"$f":"IFERROR(K125/IF((J125*L118)<150,150,J125*L118)^0.25*34.9964,\"\")","v":3.839237387150414E-2},2,20000,{"$f":"IF(OR(P125<=0,P125>1000000000),\"\",P118/P125/S117)","v":90},{"$f":"IF(OR(Q125=\"\",S125<=0,T118>1),\"\",IF(S125=\"Freilos\",T117/(1-(1/Q125))/Q125,IF(S125>1000000000,\"\",S125/Q125/S118)))","v":0.1111111111111111},20,{"$f":"IFERROR(IF(R125<R131,R131/R125,R125/R131),\"\")","v":2.0565552699228791},{"$f":"IFERROR(R125/IF((Q125*S118)<150,150,Q125*S118)^0.25*34.9964,\"\")","v":1.0616044639967954}]
[3,70000,{"$f":"IF(OR(B126<=0,B126>1000000000),\"\",B118/B126/E117)","v":142.85714285714286},{"$f":"IF(OR(C126=\"\",E126<=0,F118>1),\"\",IF(E126=\"Freilos\",F117/(1-(1/C126))/C126,IF(E126>1000000000,\"\",E126/C126/E118)))","v":8.7499999999999994E-2},50,{"$f":"IFERROR(IF(D126<D131,D131/D126,D126/D131),\"\")","v":1.904173106646059},{"$f":"IFERROR(D126/IF((C126*E118)<150,150,C126*E118)^0.25*34.9964,\"\")","v":0.62631229446916115},3,25000,{"$f":"IF(OR(I126<=0,I126>1000000000),\"\",I118/I126/L117)","v":320},{"$f":"IF(OR(J126=\"\",L126<=0,M118>1),\"\",IF(L126=\"Freilos\",M117/(1-(1/J126))/J126,IF(L126>1000000000,\"\",L126/J126/L118)))","v":1.5625E-2},10,{"$f":"IFERROR(IF(K126<K131,K131/K126,K126/K131),\"\")","v":2.1866666666666665},{"$f":"IFERROR(K126/IF((J126*L118)<150,150,J126*L118)^0.25*34.9964,\"\")","v":0.10871723645399693},2,20000,{"$f":"IF(OR(P126<=0,P126>1000000000),\"\",P118/P126/S117)","v":90},{"$f":"IF(OR(Q126=\"\",S126<=0,T118>1),\"\",IF(S126=\"Freilos\",T117/(1-(1/Q126))/Q126,IF(S126>1000000000,\"\",S126/Q126/S118)))","v":5.5555555555555552E-2},10,{"$f":"IFERROR(IF(R126<R131,R131/R126,R126/R131),\"\")","v":1.0282776349614395},{"$f":"IFERROR(R126/IF((Q126*S118)<150,150,Q126*S118)^0.25*34.9964,\"\")","v":0.53080223199839771}]
[2,500000,{"$f":"IF(OR(B127<=0,B127>1000000000),\"\",B118/B127/E117)","v":20},{"$f":"IF(OR(C127=\"\",E127<=0,F118>1),\"\",IF(E127=\"Freilos\",F117/(1-(1/C127))/C127,IF(E127>1000000000,\"\",E127/C127/E118)))","v":0.125},10,{"$f":"IFERROR(IF(D127<D131,D131/D127,D127/D131),\"\")","v":2.7202472952086558},{"$f":"IFERROR(D127/IF((C127*E118)<150,150,C127*E118)^0.25*34.9964,\"\")","v":1.2500016031738885},2,150000,{"$f":"IF(OR(I127<=0,I127>1000000000),\"\",I118/I127/L117)","v":53.333333333333336},{"$f":"IF(OR(J127=\"\",L127<=0,M118>1),\"\",IF(L127=\"Freilos\",M117/(1-(1/J127))/J127,IF(L127>1000000000,\"\",L127/J127/L118)))","v":4.6875E-2},5,{"$f":"IFERROR(IF(K127<K131,K131/K127,K127/K131),\"\")","v":1.3719512195121952},{"$f":"IFERROR(K127/IF((J127*L118)<150,150,J127*L118)^0.25*34.9964,\"\")","v":0.46875060119020823},2,100000,{"$f":"IF(OR(P127<=0,P127>1000000000),\"\",P118/P127/S117)","v":18},{"$f":"IF(OR(Q127=\"\",S127<=0,T118>1),\"\",IF(S127=\"Freilos\",T117/(1-(1/Q127))/Q127,IF(S127>1000000000,\"\",S127/Q127/S118)))","v":0.1111111111111111},4,{"$f":"IFERROR(IF(R127<R131,R131/R127,R127/R131),\"\")","v":2.0565552699228791},{"$f":"IFERROR(R127/IF((Q127*S118)<150,150,Q127*S118)^0.25*34.9964,\"\")","v":1.1111125361545675}]
[2,1000000,{"$f":"IF(OR(B128<=0,B128>1000000000),\"\",B118/B128/E117)","v":10},{"$f":"IF(OR(C128=\"\",E128<=0,F118>1),\"\",IF(E128=\"Freilos\",F117/(1-(1/C128))/C128,IF(E128>1000000000,\"\",E128/C128/E118)))","v":0.125},5,{"$f":"IFERROR(IF(D128<D131,D131/D128,D128/D131),\"\")","v":2.7202472952086558},{"$f":"IFERROR(D128/IF((C128*E118)<150,150,C128*E118)^0.25*34.9964,\"\")","v":1.2500016031738885},1,900000,{"$f":"IF(OR(I128<=0,I128>1000000000),\"\",I118/I128/L117)","v":8.8888888888888893},{"$f":"IF(OR(J128=\"\",L128<=0,M118>1),\"\",IF(L128=\"Freilos\",M117/(1-(1/J128))/J128,IF(L128>1000000000,\"\",L128/J128/L118)))","v":0.16874999999999998},3,{"$f":"IFERROR(IF(K128<K131,K131/K128,K128/K131),\"\")","v":4.9390243902439019},{"$f":"IFERROR(K128/IF((J128*L118)<150,150,J128*L118)^0.25*34.9964,\"\")","v":1.6875021642847494},1,250000,{"$f":"IF(OR(P128<=0,P128>1000000000),\"\",P118/P128/S117)","v":7.2},{"$f":"IF(OR(Q128=\"\",S128<=0,T118>1),\"\",IF(S128=\"Freilos\",T117/(1-(1/Q128))/Q128,IF(S128>1000000000,\"\",S128/Q128/S118)))","v":0.1388888888888889},2,{"$f":"IFERROR(IF(R128<R131,R131/R128,R128/R131),\"\")","v":2.5706940874035995},{"$f":"IFERROR(R128/IF((Q128*S118)<150,150,Q128*S118)^0.25*34.9964,\"\")","v":1.3888906701932096}]
[1,1200000,{"$f":"IF(OR(B129<=0,B129>1000000000),\"\",B118/B129/E117)","v":8.3333333333333339},{"$f":"IF(OR(C129=\"\",E129<=0,F118>1),\"\",IF(E129=\"Freilos\",F117/(1-(1/C129))/C129,IF(E129>1000000000,\"\",E129/C129/E118)))","v":5.5142045454545444E-2},"Freilos",{"$f":"IFERROR(IF(D129<D131,D131/D129,D129/D131),\"\")","v":1.2},{"$f":"IFERROR(D129/IF((C129*E118)<150,150,C129*E118)^0.25*34.9964,\"\")","v":0.551421161763754},1,2000000,{"$f":"IF(OR(I129<=0,I129>1000000000),\"\",I118/I129/L117)","v":4},{"$f":"IF(OR(J129=\"\",L129<=0,M118>1),\"\",IF(L129=\"Freilos\",M117/(1-(1/J129))/J129,IF(L129>1000000000,\"\",L129/J129/L118)))","v":8.5416666666666655E-2},"Freilos",{"$f":"IFERROR(IF(K129<K131,K131/K129,K129/K131),\"\")","v":2.5},{"$f":"IFERROR(K129/IF((J129*L118)<150,150,J129*L118)^0.25*34.9964,\"\")","v":0.85416776216882362},1,300000,{"$f":"IF(OR(P129<=0,P129>1000000000),\"\",P118/P129/S117)","v":6},{"$f":"IF(OR(Q129=\"\",S129<=0,T118>1),\"\",IF(S129=\"Freilos\",T117/(1-(1/Q129))/Q129,IF(S129>1000000000,\"\",S129/Q129/S118)))","v":8.3333333333333329E-2},1,{"$f":"IFERROR(IF(R129<R131,R131/R129,R129/R131),\"\")","v":1.5424164524421595},{"$f":"IFERROR(R129/IF((Q129*S118)<150,150,Q129*S118)^0.25*34.9964,\"\")","v":0.83333440211592569}]
[null,{"$f":"IF(SUM(B120:B129)=0,\"\",SUM(B120:B129))","v":2780808},{"$f":"IF(OR(B130<=0,B130>1000000000),\"\",B118/B130/E117)","v":3.5960771114007151},{"$f":"IF(SUM(D120:D129)=0,\"\",SUM(D120:D129))","v":0.45951704545454541},{"$f":"IFERROR(E118*D130,\"\")","v":1.8380681818181817},{"$f":"IFERROR(AVERAGE(F120:F129),\"\")","v":9.9835387394033042},{"$f":"IF(SUM(G120:G129)=0,\"\",SUM(G120:G129))","v":3.8252436574647923},null,{"$f":"IF(SUM(I120:I129)=0,\"\",SUM(I120:I129))","v":3078581},{"$f":"IF(OR(I130<=0,I130>1000000000),\"\",I118/I130/L117)","v":2.598599809457669},{"$f":"IF(SUM(K120:K129)=0,\"\",SUM(K120:K129))","v":0.34166666666666662},{"$f":"IFERROR(L118*K130,\"\")","v":0.68333333333333324},{"$f":"IFERROR(AVERAGE(M120:M129),\"\")","v":8.5708753387533871},{"$f":"IF(SUM(N120:N129)=0,\"\",SUM(N120:N129))","v":3.1759835030041268},null,{"$f":"IF(SUM(P120:P129)=0,\"\",SUM(P120:P129))","v":691226},{"$f":"IF(OR(P130<=0,P130>1000000000),\"\",P118/P130/S117)","v":2.604068712693099},{"$f":"IF(SUM(R120:R129)=0,\"\",SUM(R120:R129))","v":0.54027777777777775},{"$f":"IFERROR(S118*R130,\"\")","v":1.0805555555555555},{"$f":"IFERROR(AVERAGE(T120:T129),\"\")","v":5.4961998714652953},{"$f":"IF(SUM(U120:U129)=0,\"\",SUM(U120:U129))","v":5.0169513421968652}]
[null,null,null,{"$f":"AVERAGE(D120:D129)","v":4.5951704545454539E-2},null,null,null,null,null,null,{"$f":"AVERAGE(K120:K129)","v":3.4166666666666665E-2},null,null,null,null,null,null,{"$f":"AVERAGE(R120:R129)","v":5.4027777777777772E-2}]
[]
[null,"GlücksLos",null,null,1,{"$f":"IFERROR(SUMIF(E136:E145,\"<>Freilos\",D136:D145),\"\")","v":0.42485714285714282},null,null,"Halloween",null,null,1,{"$f":"IFERROR(SUMIF(L136:L145,\"<>Freilos\",K136:K145),\"\")","v":0.50427777777777782},null,null,"Hitzefrei + Herbstlich ⁶",null,null,1,{"$f":"IFERROR(SUMIF(S136:S145,\"<>Freilos\",R136:R145),\"\")","v":0.58900000000000008}]
[null,7000000,null,null,{"$f":"E133*1.5","v":1.5},{"$f":"IFERROR(COUNTIF(E136:E145,\"Freilos\"),\"\")","v":1},null,null,15000000,null,null,{"$f":"L133*1.5","v":1.5},{"$f":"IFERROR(COUNTIF(L136:L145,\"Freilos\"),\"\")","v":0},null,null,1000000,null,null,{"$f":"S133*1","v":1},{"$f":"IFERROR(COUNTIF(S136:S145,\"Freilos\"),\"\")","v":0}]
[null,"Losanzahl",{"$f":"IF(E133=1,\"Chancen 1:\",\"Ø Gewinne 1:\")","v":"Chancen 1:"},"Ø AQ","(Ø) Gewinn",null,null,null,"Losanzahl",{"$f":"IF(L133=1,\"Chancen 1:\",\"Ø Gewinne 1:\")","v":"Chancen 1:"},"Ø AQ","(Ø) Gewinn",null,null,null,"Losanzahl",{"$f":"IF(S133=1,\"Chancen 1:\",\"Ø Gewinne 1:\")","v":"Chancen 1:"},"Ø AQ","(Ø) Gewinn"]
[{"$f":"IF(C136=\"\",0,IF(C136>=1000000,7,IF(C136>=100000,6,IF(C136>=10000,5,IF(C136>=1000,4,IF(C136>=100,3,IF(C136>=10,2,1)))))))","v":7},1,{"$f":"IF(OR(B136<=0,B136>1000000000),\"\",B134/B136/E133)","v":7000000},{"$f":"IF(OR(C136=\"\",E136<=0,F134>1),\"\",IF(E136=\"Freilos\",F133/(1-(1/C136))/C136,IF(E136>1000000000,\"\",E136/C136/E134)))","v":2.8571428571428571E-2},300000,{"$f":"IFERROR(IF(D136<D147,D147/D136,D136/D147),\"\")","v":1.7915662650602409},{"$f":"IFERROR(D136/IF((C136*E134)<150,150,C136*E134)^0.25*34.9964,\"\")","v":1.7565398326889008E-2},{"$f":"IF(J136=\"\",0,IF(J136>=1000000,7,IF(J136>=100000,6,IF(J136>=10000,5,IF(J136>=1000,4,IF(J136>=100,3,IF(J136>=10,2,1)))))))","v":7},1,{"$f":"IF(OR(I136<=0,I136>1000000000),\"\",I134/I136/L133)","v":15000000},{"$f":"IF(OR(J136=\"\",L136<=0,M134>1),\"\",IF(L136=\"Freilos\",M133/(1-(1/J136))/J136,IF(L136>1000000000,\"\",L136/J136/L134)))","v":1.1111111111111112E-2},250000,{"$f":"IFERROR(IF(K136<K147,K147/K136,K136/K147),\"\")","v":4.5385},{"$f":"IFERROR(K136/IF((J136*L134)<150,150,J136*L134)^0.25*34.9964,\"\")","v":5.6459266650526431E-3},{"$f":"IF(Q136=\"\",0,IF(Q136>=1000000,7,IF(Q136>=100000,6,IF(Q136>=10000,5,IF(Q136>=1000,4,IF(Q136>=100,3,IF(Q136>=10,2,1)))))))","v":7},1,{"$f":"IF(OR(P136<=0,P136>1000000000),\"\",P134/P136/S133)","v":1000000},{"$f":"IF(OR(Q136=\"\",S136<=0,T134>1),\"\",IF(S136=\"Freilos\",T133/(1-(1/Q136))/Q136,IF(S136>1000000000,\"\",S136/Q136/S134)))","v":0.05},50000,{"$f":"IFERROR(IF(R136<R147,R147/R136,R136/R147),\"\")","v":1.1780000000000002},{"$f":"IFERROR(R136/IF((Q136*S134)<150,150,Q136*S134)^0.25*34.9964,\"\")","v":5.5334166953158348E-2}]
[7,2,{"$f":"IF(OR(B137<=0,B137>1000000000),\"\",B134/B137/E133)","v":3500000},{"$f":"IF(OR(C137=\"\",E137<=0,F134>1),\"\",IF(E137=\"Freilos\",F133/(1-(1/C137))/C137,IF(E137>1000000000,\"\",E137/C137/E134)))","v":5.7142857142857143E-3},30000,{"$f":"IFERROR(IF(D137<D147,D147/D137,D137/D147),\"\")","v":8.9578313253012052},{"$f":"IFERROR(D137/IF((C137*E134)<150,150,C137*E134)^0.25*34.9964,\"\")","v":4.1777793336386596E-3},6,50,{"$f":"IF(OR(I137<=0,I137>1000000000),\"\",I134/I137/L133)","v":300000},{"$f":"IF(OR(J137=\"\",L137<=0,M134>1),\"\",IF(L137=\"Freilos\",M133/(1-(1/J137))/J137,IF(L137>1000000000,\"\",L137/J137/L134)))","v":5.5555555555555558E-3},2500,{"$f":"IFERROR(IF(K137<K147,K147/K137,K137/K147),\"\")","v":9.077},{"$f":"IFERROR(K137/IF((J137*L134)<150,150,J137*L134)^0.25*34.9964,\"\")","v":7.5066771543004403E-3},6,5,{"$f":"IF(OR(P137<=0,P137>1000000000),\"\",P134/P137/S133)","v":200000},{"$f":"IF(OR(Q137=\"\",S137<=0,T134>1),\"\",IF(S137=\"Freilos\",T133/(1-(1/Q137))/Q137,IF(S137>1000000000,\"\",S137/Q137/S134)))","v":2.5000000000000001E-2},5000,{"$f":"IFERROR(IF(R137<R147,R147/R137,R137/R147),\"\")","v":2.3560000000000003},{"$f":"IFERROR(R137/IF((Q137*S134)<150,150,Q137*S134)^0.25*34.9964,\"\")","v":4.1371939556648425E-2}]
[7,4,{"$f":"IF(OR(B138<=0,B138>1000000000),\"\",B134/B138/E133)","v":1750000},{"$f":"IF(OR(C138=\"\",E138<=0,F134>1),\"\",IF(E138=\"Freilos\",F133/(1-(1/C138))/C138,IF(E138>1000000000,\"\",E138/C138/E134)))","v":2.2857142857142855E-3},6000,{"$f":"IFERROR(IF(D138<D147,D147/D138,D138/D147),\"\")","v":22.394578313253014},{"$f":"IFERROR(D138/IF((C138*E134)<150,150,C138*E134)^0.25*34.9964,\"\")","v":1.987297963389768E-3},6,100,{"$f":"IF(OR(I138<=0,I138>1000000000),\"\",I134/I138/L133)","v":150000},{"$f":"IF(OR(J138=\"\",L138<=0,M134>1),\"\",IF(L138=\"Freilos\",M133/(1-(1/J138))/J138,IF(L138>1000000000,\"\",L138/J138/L134)))","v":2.2222222222222222E-3},500,{"$f":"IFERROR(IF(K138<K147,K147/K138,K138/K147),\"\")","v":22.692500000000003},{"$f":"IFERROR(K138/IF((J138*L134)<150,150,J138*L134)^0.25*34.9964,\"\")","v":3.5707975527689844E-3},6,7,{"$f":"IF(OR(P138<=0,P138>1000000000),\"\",P134/P138/S133)","v":142857.14285714287},{"$f":"IF(OR(Q138=\"\",S138<=0,T134>1),\"\",IF(S138=\"Freilos\",T133/(1-(1/Q138))/Q138,IF(S138>1000000000,\"\",S138/Q138/S134)))","v":6.9999999999999993E-3},1000,{"$f":"IFERROR(IF(R138<R147,R147/R138,R138/R147),\"\")","v":8.4142857142857164},{"$f":"IFERROR(R138/IF((Q138*S134)<150,150,Q138*S134)^0.25*34.9964,\"\")","v":1.2600736263791134E-2}]
[6,60,{"$f":"IF(OR(B139<=0,B139>1000000000),\"\",B134/B139/E133)","v":116666.66666666667},{"$f":"IF(OR(C139=\"\",E139<=0,F134>1),\"\",IF(E139=\"Freilos\",F133/(1-(1/C139))/C139,IF(E139>1000000000,\"\",E139/C139/E134)))","v":6.8571428571428568E-3},1200,{"$f":"IFERROR(IF(D139<D147,D147/D139,D139/D147),\"\")","v":7.464859437751004},{"$f":"IFERROR(D139/IF((C139*E134)<150,150,C139*E134)^0.25*34.9964,\"\")","v":1.1732945597033671E-2},5,225,{"$f":"IF(OR(I139<=0,I139>1000000000),\"\",I134/I139/L133)","v":66666.666666666672},{"$f":"IF(OR(J139=\"\",L139<=0,M134>1),\"\",IF(L139=\"Freilos\",M133/(1-(1/J139))/J139,IF(L139>1000000000,\"\",L139/J139/L134)))","v":1.4999999999999998E-3},150,{"$f":"IFERROR(IF(K139<K147,K147/K139,K139/K147),\"\")","v":33.61851851851852},{"$f":"IFERROR(K139/IF((J139*L134)<150,150,J139*L134)^0.25*34.9964,\"\")","v":2.9519882929337298E-3},5,15,{"$f":"IF(OR(P139<=0,P139>1000000000),\"\",P134/P139/S133)","v":66666.666666666672},{"$f":"IF(OR(Q139=\"\",S139<=0,T134>1),\"\",IF(S139=\"Freilos\",T133/(1-(1/Q139))/Q139,IF(S139>1000000000,\"\",S139/Q139/S134)))","v":1.4999999999999998E-3},100,{"$f":"IFERROR(IF(R139<R147,R147/R139,R139/R147),\"\")","v":39.26666666666668},{"$f":"IFERROR(R139/IF((Q139*S134)<150,150,Q139*S134)^0.25*34.9964,\"\")","v":3.2669120709567746E-3}]
[5,500,{"$f":"IF(OR(B140<=0,B140>1000000000),\"\",B134/B140/E133)","v":14000},{"$f":"IF(OR(C140=\"\",E140<=0,F134>1),\"\",IF(E140=\"Freilos\",F133/(1-(1/C140))/C140,IF(E140>1000000000,\"\",E140/C140/E134)))","v":7.1428571428571426E-3},150,{"$f":"IFERROR(IF(D140<D147,D147/D140,D140/D147),\"\")","v":7.1662650602409634},{"$f":"IFERROR(D140/IF((C140*E134)<150,150,C140*E134)^0.25*34.9964,\"\")","v":2.0765410095567136E-2},4,2500,{"$f":"IF(OR(I140<=0,I140>1000000000),\"\",I134/I140/L133)","v":6000},{"$f":"IF(OR(J140=\"\",L140<=0,M134>1),\"\",IF(L140=\"Freilos\",M133/(1-(1/J140))/J140,IF(L140>1000000000,\"\",L140/J140/L134)))","v":8.3333333333333332E-3},75,{"$f":"IFERROR(IF(K140<K147,K147/K140,K140/K147),\"\")","v":6.0513333333333339},{"$f":"IFERROR(K140/IF((J140*L134)<150,150,J140*L134)^0.25*34.9964,\"\")","v":2.9942047732055031E-2},4,150,{"$f":"IF(OR(P140<=0,P140>1000000000),\"\",P134/P140/S133)","v":6666.666666666667},{"$f":"IF(OR(Q140=\"\",S140<=0,T134>1),\"\",IF(S140=\"Freilos\",T133/(1-(1/Q140))/Q140,IF(S140>1000000000,\"\",S140/Q140/S134)))","v":7.4999999999999997E-3},50,{"$f":"IFERROR(IF(R140<R147,R147/R140,R140/R147),\"\")","v":7.8533333333333344},{"$f":"IFERROR(R140/IF((Q140*S134)<150,150,Q140*S134)^0.25*34.9964,\"\")","v":2.9047412350950253E-2}]
[4,5000,{"$f":"IF(OR(B141<=0,B141>1000000000),\"\",B134/B141/E133)","v":1400},{"$f":"IF(OR(C141=\"\",E141<=0,F134>1),\"\",IF(E141=\"Freilos\",F133/(1-(1/C141))/C141,IF(E141>1000000000,\"\",E141/C141/E134)))","v":2.8571428571428571E-2},60,{"$f":"IFERROR(IF(D141<D147,D147/D141,D141/D147),\"\")","v":1.7915662650602409},{"$f":"IFERROR(D141/IF((C141*E134)<150,150,C141*E134)^0.25*34.9964,\"\")","v":0.14770680485584564},3,40000,{"$f":"IF(OR(I141<=0,I141>1000000000),\"\",I134/I141/L133)","v":375},{"$f":"IF(OR(J141=\"\",L141<=0,M134>1),\"\",IF(L141=\"Freilos\",M133/(1-(1/J141))/J141,IF(L141>1000000000,\"\",L141/J141/L134)))","v":2.6666666666666668E-2},15,{"$f":"IFERROR(IF(K141<K147,K147/K141,K141/K147),\"\")","v":1.8910416666666665},{"$f":"IFERROR(K141/IF((J141*L134)<150,150,J141*L134)^0.25*34.9964,\"\")","v":0.19162910548515225},3,1300,{"$f":"IF(OR(P141<=0,P141>1000000000),\"\",P134/P141/S133)","v":769.23076923076928},{"$f":"IF(OR(Q141=\"\",S141<=0,T134>1),\"\",IF(S141=\"Freilos\",T133/(1-(1/Q141))/Q141,IF(S141>1000000000,\"\",S141/Q141/S134)))","v":1.2999999999999999E-2},10,{"$f":"IFERROR(IF(R141<R147,R147/R141,R141/R147),\"\")","v":4.5307692307692315},{"$f":"IFERROR(R141/IF((Q141*S134)<150,150,Q141*S134)^0.25*34.9964,\"\")","v":8.6387829436919847E-2}]
[3,50000,{"$f":"IF(OR(B142<=0,B142>1000000000),\"\",B134/B142/E133)","v":140},{"$f":"IF(OR(C142=\"\",E142<=0,F134>1),\"\",IF(E142=\"Freilos\",F133/(1-(1/C142))/C142,IF(E142>1000000000,\"\",E142/C142/E134)))","v":4.2857142857142851E-2},9,{"$f":"IFERROR(IF(D142<D147,D147/D142,D142/D147),\"\")","v":1.1943775100401608},{"$f":"IFERROR(D142/IF((C142*E134)<150,150,C142*E134)^0.25*34.9964,\"\")","v":0.39399595469668114},2,200000,{"$f":"IF(OR(I142<=0,I142>1000000000),\"\",I134/I142/L133)","v":75},{"$f":"IF(OR(J142=\"\",L142<=0,M134>1),\"\",IF(L142=\"Freilos\",M133/(1-(1/J142))/J142,IF(L142>1000000000,\"\",L142/J142/L134)))","v":6.2222222222222227E-2},7,{"$f":"IFERROR(IF(K142<K147,K147/K142,K142/K147),\"\")","v":1.2338878484080644},{"$f":"IFERROR(K142/IF((J142*L134)<150,150,J142*L134)^0.25*34.9964,\"\")","v":0.62222302024655785},3,4000,{"$f":"IF(OR(P142<=0,P142>1000000000),\"\",P134/P142/S133)","v":250},{"$f":"IF(OR(Q142=\"\",S142<=0,T134>1),\"\",IF(S142=\"Freilos\",T133/(1-(1/Q142))/Q142,IF(S142>1000000000,\"\",S142/Q142/S134)))","v":0.02},5,{"$f":"IFERROR(IF(R142<R147,R147/R142,R142/R147),\"\")","v":2.9450000000000003},{"$f":"IFERROR(R142/IF((Q142*S134)<150,150,Q142*S134)^0.25*34.9964,\"\")","v":0.17602257311422356}]
[2,240000,{"$f":"IF(OR(B143<=0,B143>1000000000),\"\",B134/B143/E133)","v":29.166666666666668},{"$f":"IF(OR(C143=\"\",E143<=0,F134>1),\"\",IF(E143=\"Freilos\",F133/(1-(1/C143))/C143,IF(E143>1000000000,\"\",E143/C143/E134)))","v":0.10285714285714286},4.5,{"$f":"IFERROR(IF(D143<D147,D147/D143,D143/D147),\"\")","v":2.0094149293880297},{"$f":"IFERROR(D143/IF((C143*E134)<150,150,C143*E134)^0.25*34.9964,\"\")","v":1.0285727477545141},2,1350000,{"$f":"IF(OR(I143<=0,I143>1000000000),\"\",I134/I143/L133)","v":11.111111111111111},{"$f":"IF(OR(J143=\"\",L143<=0,M134>1),\"\",IF(L143=\"Freilos\",M133/(1-(1/J143))/J143,IF(L143>1000000000,\"\",L143/J143/L134)))","v":0.18000000000000002},3,{"$f":"IFERROR(IF(K143<K147,K147/K143,K143/K147),\"\")","v":3.5694612757519009},{"$f":"IFERROR(K143/IF((J143*L134)<150,150,J143*L134)^0.25*34.9964,\"\")","v":1.8000023085703998},2,60000,{"$f":"IF(OR(P143<=0,P143>1000000000),\"\",P134/P143/S133)","v":16.666666666666668},{"$f":"IF(OR(Q143=\"\",S143<=0,T134>1),\"\",IF(S143=\"Freilos\",T133/(1-(1/Q143))/Q143,IF(S143>1000000000,\"\",S143/Q143/S134)))","v":0.15},2.5,{"$f":"IFERROR(IF(R143<R147,R147/R143,R143/R147),\"\")","v":2.5466893039049232},{"$f":"IFERROR(R143/IF((Q143*S134)<150,150,Q143*S134)^0.25*34.9964,\"\")","v":1.5000019238086661}]
[2,700000,{"$f":"IF(OR(B144<=0,B144>1000000000),\"\",B134/B144/E133)","v":10},{"$f":"IF(OR(C144=\"\",E144<=0,F134>1),\"\",IF(E144=\"Freilos\",F133/(1-(1/C144))/C144,IF(E144>1000000000,\"\",E144/C144/E134)))","v":0.19999999999999998},3,{"$f":"IFERROR(IF(D144<D147,D147/D144,D144/D147),\"\")","v":3.9071956960322796},{"$f":"IFERROR(D144/IF((C144*E134)<150,150,C144*E134)^0.25*34.9964,\"\")","v":2.0000025650782218},1,2100000,{"$f":"IF(OR(I144<=0,I144>1000000000),\"\",I134/I144/L133)","v":7.1428571428571432},{"$f":"IF(OR(J144=\"\",L144<=0,M134>1),\"\",IF(L144=\"Freilos\",M133/(1-(1/J144))/J144,IF(L144>1000000000,\"\",L144/J144/L134)))","v":0.13999999999999999},1.5,{"$f":"IFERROR(IF(K144<K147,K147/K144,K144/K147),\"\")","v":2.7762476589181442},{"$f":"IFERROR(K144/IF((J144*L134)<150,150,J144*L134)^0.25*34.9964,\"\")","v":1.400001795554755},1,160000,{"$f":"IF(OR(P144<=0,P144>1000000000),\"\",P134/P144/S133)","v":6.25},{"$f":"IF(OR(Q144=\"\",S144<=0,T134>1),\"\",IF(S144=\"Freilos\",T133/(1-(1/Q144))/Q144,IF(S144>1000000000,\"\",S144/Q144/S134)))","v":0.16},1,{"$f":"IFERROR(IF(R144<R147,R147/R144,R144/R147),\"\")","v":2.7164685908319184},{"$f":"IFERROR(R144/IF((Q144*S134)<150,150,Q144*S134)^0.25*34.9964,\"\")","v":1.6000020520625775}]
[1,1190000,{"$f":"IF(OR(B145<=0,B145>1000000000),\"\",B134/B145/E133)","v":5.882352941176471},{"$f":"IF(OR(C145=\"\",E145<=0,F134>1),\"\",IF(E145=\"Freilos\",F133/(1-(1/C145))/C145,IF(E145>1000000000,\"\",E145/C145/E134)))","v":8.701893287435454E-2},"Freilos",{"$f":"IFERROR(IF(D145<D147,D147/D145,D145/D147),\"\")","v":1.6999999999999997},{"$f":"IFERROR(D145/IF((C145*E134)<150,150,C145*E134)^0.25*34.9964,\"\")","v":0.87019044479539343},1,3000000,{"$f":"IF(OR(I145<=0,I145>1000000000),\"\",I134/I145/L133)","v":5},{"$f":"IF(OR(J145=\"\",L145<=0,M134>1),\"\",IF(L145=\"Freilos\",M133/(1-(1/J145))/J145,IF(L145>1000000000,\"\",L145/J145/L134)))","v":6.6666666666666666E-2},0.5,{"$f":"IFERROR(IF(K145<K147,K147/K145,K145/K147),\"\")","v":1.3220226947229261},{"$f":"IFERROR(K145/IF((J145*L134)<150,150,J145*L134)^0.25*34.9964,\"\")","v":0.66666752169274057},1,310000,{"$f":"IF(OR(P145<=0,P145>1000000000),\"\",P134/P145/S133)","v":3.225806451612903},{"$f":"IF(OR(Q145=\"\",S145<=0,T134>1),\"\",IF(S145=\"Freilos\",T133/(1-(1/Q145))/Q145,IF(S145>1000000000,\"\",S145/Q145/S134)))","v":0.155},0.5,{"$f":"IFERROR(IF(R145<R147,R147/R145,R145/R147),\"\")","v":2.6315789473684208},{"$f":"IFERROR(R145/IF((Q145*S134)<150,150,Q145*S134)^0.25*34.9964,\"\")","v":1.5500019879356217}]
[null,{"$f":"IF(SUM(B136:B145)=0,\"\",SUM(B136:B145))","v":2185567},{"$f":"IF(OR(B146<=0,B146>1000000000),\"\",B134/B146/E133)","v":3.2028302037869349},{"$f":"IF(SUM(D136:D145)=0,\"\",SUM(D136:D145))","v":0.5118760757314974},{"$f":"IFERROR(E134*D146,\"\")","v":0.76781411359724605},{"$f":"IFERROR(AVERAGE(F136:F145),\"\")","v":5.8377654802127141},{"$f":"IF(SUM(G136:G145)=0,\"\",SUM(G136:G145))","v":4.4966973484971744},null,{"$f":"IF(SUM(I136:I145)=0,\"\",SUM(I136:I145))","v":6692876},{"$f":"IF(OR(I146<=0,I146>1000000000),\"\",I134/I146/L133)","v":2.241188989606262},{"$f":"IF(SUM(K136:K145)=0,\"\",SUM(K136:K145))","v":0.50427777777777782},{"$f":"IFERROR(L134*K146,\"\")","v":0.75641666666666674},{"$f":"IFERROR(AVERAGE(M136:M145),\"\")","v":8.6770512996319553},{"$f":"IF(SUM(N136:N145)=0,\"\",SUM(N136:N145))","v":4.7301411889467166},null,{"$f":"IF(SUM(P136:P145)=0,\"\",SUM(P136:P145))","v":535478},{"$f":"IF(OR(P146<=0,P146>1000000000),\"\",P134/P146/S133)","v":1.8674903544123194},{"$f":"IF(SUM(R136:R145)=0,\"\",SUM(R136:R145))","v":0.58900000000000008},{"$f":"IFERROR(S134*R146,\"\")","v":0.58900000000000008},{"$f":"IFERROR(AVERAGE(T136:T145),\"\")","v":7.4438791787160241},{"$f":"IF(SUM(U136:U145)=0,\"\",SUM(U136:U145))","v":5.0540375335535135}]
[null,null,null,{"$f":"AVERAGE(D136:D145)","v":5.1187607573149739E-2},null,null,null,null,null,null,{"$f":"AVERAGE(K136:K145)","v":5.042777777777778E-2},null,null,null,null,null,null,{"$f":"AVERAGE(R136:R145)","v":5.8900000000000008E-2}]
[]
[null,"Santa's Scratch",null,null,1,{"$f":"IFERROR(SUMIF(E152:E161,\"<>Freilos\",D152:D161),\"\")","v":0.51519999999999999},null,null,"Catch 3 Bonus",null,null,1,{"$f":"IFERROR(SUMIF(L152:L161,\"<>Freilos\",K152:K161),\"\")","v":0.61990615937250226},null,null,"Kölle Alaaf",null,null,1,{"$f":"IFERROR(SUMIF(S152:S161,\"<>Freilos\",R152:R161),\"\")","v":0.375}]
[null,5000000,null,null,{"$f":"E149*3","v":3},{"$f":"IFERROR(COUNTIF(E152:E161,\"Freilos\"),\"\")","v":0},null,null,63232740,null,null,{"$f":"L149*1","v":1},{"$f":"IFERROR(COUNTIF(L152:L161,\"Freilos\"),\"\")","v":0},null,null,10000000,null,null,{"$f":"S149*1","v":1},{"$f":"IFERROR(COUNTIF(S152:S161,\"Freilos\"),\"\")","v":1}]
[null,"Losanzahl",{"$f":"IF(E149=1,\"Chancen 1:\",\"Ø Gewinne 1:\")","v":"Chancen 1:"},"Ø AQ","(Ø) Gewinn",null,null,null,"Losanzahl",{"$f":"IF(L149=1,\"Chancen 1:\",\"Ø Gewinne 1:\")","v":"Chancen 1:"},"Ø AQ","(Ø) Gewinn",null,null,null,"Losanzahl",{"$f":"IF(S149=1,\"Chancen 1:\",\"Ø Gewinne 1:\")","v":"Chancen 1:"},"Ø AQ","(Ø) Gewinn"]
[{"$f":"IF(C152=\"\",0,IF(C152>=1000000,7,IF(C152>=100000,6,IF(C152>=10000,5,IF(C152>=1000,4,IF(C152>=100,3,IF(C152>=10,2,1)))))))","v":7},1,{"$f":"IF(OR(B152<=0,B152>1000000000),\"\",B150/B152/E149)","v":5000000},{"$f":"IF(OR(C152=\"\",E152<=0,F150>1),\"\",IF(E152=\"Freilos\",F149/(1-(1/C152))/C152,IF(E152>1000000000,\"\",E152/C152/E150)))","v":1.6E-2},240000,{"$f":"IFERROR(IF(D152<D163,D163/D152,D152/D163),\"\")","v":3.2199999999999998},{"$f":"IFERROR(D152/IF((C152*E150)<150,150,C152*E150)^0.25*34.9964,\"\")","v":8.9974727426414755E-3},7,12,{"$f":"IF(OR(I152<=0,I152>1000000000),\"\",I150/I152/L149)","v":5269395},{"$f":"IF(OR(J152=\"\",L152<=0,M150>1),\"\",IF(L152=\"Freilos\",M149/(1-(1/J152))/J152,IF(L152>1000000000,\"\",L152/J152/L150)))","v":1.8977510700943848E-2},100000,{"$f":"IFERROR(IF(K152<K163,K163/K152,K152/K163),\"\")","v":3.2665304166666664},{"$f":"IFERROR(K152/IF((J152*L150)<150,150,J152*L150)^0.25*34.9964,\"\")","v":1.3861889354684579E-2},7,1,{"$f":"IF(OR(P152<=0,P152>1000000000),\"\",P150/P152/S149)","v":10000000},{"$f":"IF(OR(Q152=\"\",S152<=0,T150>1),\"\",IF(S152=\"Freilos\",T149/(1-(1/Q152))/Q152,IF(S152>1000000000,\"\",S152/Q152/S150)))","v":0.01},100000,{"$f":"IFERROR(IF(R152<R163,R163/R152,R152/R163),\"\")","v":4.6875},{"$f":"IFERROR(R152/IF((Q152*S150)<150,150,Q152*S150)^0.25*34.9964,\"\")","v":6.2233377545486161E-3}]
[7,2,{"$f":"IF(OR(B153<=0,B153>1000000000),\"\",B150/B153/E149)","v":2500000},{"$f":"IF(OR(C153=\"\",E153<=0,F150>1),\"\",IF(E153=\"Freilos\",F149/(1-(1/C153))/C153,IF(E153>1000000000,\"\",E153/C153/E150)))","v":3.1999999999999997E-3},24000,{"$f":"IFERROR(IF(D153<D163,D163/D153,D153/D163),\"\")","v":16.100000000000001},{"$f":"IFERROR(D153/IF((C153*E150)<150,150,C153*E150)^0.25*34.9964,\"\")","v":2.1399717205184579E-3},7,20,{"$f":"IF(OR(I153<=0,I153>1000000000),\"\",I150/I153/L149)","v":3161637},{"$f":"IF(OR(J153=\"\",L153<=0,M150>1),\"\",IF(L153=\"Freilos\",M149/(1-(1/J153))/J153,IF(L153>1000000000,\"\",L153/J153/L150)))","v":1.581459225078654E-3},5000,{"$f":"IFERROR(IF(K153<K163,K163/K153,K153/K163),\"\")","v":39.198364999999995},{"$f":"IFERROR(K153/IF((J153*L150)<150,150,J153*L150)^0.25*34.9964,\"\")","v":1.3125122617185236E-3},7,5,{"$f":"IF(OR(P153<=0,P153>1000000000),\"\",P150/P153/S149)","v":2000000},{"$f":"IF(OR(Q153=\"\",S153<=0,T150>1),\"\",IF(S153=\"Freilos\",T149/(1-(1/Q153))/Q153,IF(S153>1000000000,\"\",S153/Q153/S150)))","v":5.0000000000000001E-3},10000,{"$f":"IFERROR(IF(R153<R163,R163/R153,R153/R163),\"\")","v":9.375},{"$f":"IFERROR(R153/IF((Q153*S150)<150,150,Q153*S150)^0.25*34.9964,\"\")","v":4.6530302631961401E-3}]
[5,100,{"$f":"IF(OR(B154<=0,B154>1000000000),\"\",B150/B154/E149)","v":50000},{"$f":"IF(OR(C154=\"\",E154<=0,F150>1),\"\",IF(E154=\"Freilos\",F149/(1-(1/C154))/C154,IF(E154>1000000000,\"\",E154/C154/E150)))","v":1.6E-2},2400,{"$f":"IFERROR(IF(D154<D163,D163/D154,D154/D163),\"\")","v":3.2199999999999998},{"$f":"IFERROR(D154/IF((C154*E150)<150,150,C154*E150)^0.25*34.9964,\"\")","v":2.845250705202906E-2},7,47,{"$f":"IF(OR(I154<=0,I154>1000000000),\"\",I150/I154/L149)","v":1345377.4468085107},{"$f":"IF(OR(J154=\"\",L154<=0,M150>1),\"\",IF(L154=\"Freilos\",M149/(1-(1/J154))/J154,IF(L154>1000000000,\"\",L154/J154/L150)))","v":7.432858357869673E-4},1000,{"$f":"IFERROR(IF(K154<K163,K163/K154,K154/K163),\"\")","v":83.400776595744688},{"$f":"IFERROR(K154/IF((J154*L150)<150,150,J154*L150)^0.25*34.9964,\"\")","v":7.6377984331927012E-4},6,25,{"$f":"IF(OR(P154<=0,P154>1000000000),\"\",P150/P154/S149)","v":400000},{"$f":"IF(OR(Q154=\"\",S154<=0,T150>1),\"\",IF(S154=\"Freilos\",T149/(1-(1/Q154))/Q154,IF(S154>1000000000,\"\",S154/Q154/S150)))","v":2.5000000000000001E-3},1000,{"$f":"IFERROR(IF(R154<R163,R163/R154,R154/R163),\"\")","v":18.75},{"$f":"IFERROR(R154/IF((Q154*S150)<150,150,Q154*S150)^0.25*34.9964,\"\")","v":3.4789515665279011E-3}]
[5,500,{"$f":"IF(OR(B155<=0,B155>1000000000),\"\",B150/B155/E149)","v":10000},{"$f":"IF(OR(C155=\"\",E155<=0,F150>1),\"\",IF(E155=\"Freilos\",F149/(1-(1/C155))/C155,IF(E155>1000000000,\"\",E155/C155/E150)))","v":0.01},300,{"$f":"IFERROR(IF(D155<D163,D163/D155,D155/D163),\"\")","v":5.1519999999999992},{"$f":"IFERROR(D155/IF((C155*E150)<150,150,C155*E150)^0.25*34.9964,\"\")","v":2.6591513589337389E-2},5,2808,{"$f":"IF(OR(I155<=0,I155>1000000000),\"\",I150/I155/L149)","v":22518.782051282051},{"$f":"IF(OR(J155=\"\",L155<=0,M150>1),\"\",IF(L155=\"Freilos\",M149/(1-(1/J155))/J155,IF(L155>1000000000,\"\",L155/J155/L150)))","v":4.4407375040208599E-3},100,{"$f":"IFERROR(IF(K155<K163,K163/K155,K155/K163),\"\")","v":13.959531695156695},{"$f":"IFERROR(K155/IF((J155*L150)<150,150,J155*L150)^0.25*34.9964,\"\")","v":1.2686512442944239E-2},6,50,{"$f":"IF(OR(P155<=0,P155>1000000000),\"\",P150/P155/S149)","v":200000},{"$f":"IF(OR(Q155=\"\",S155<=0,T150>1),\"\",IF(S155=\"Freilos\",T149/(1-(1/Q155))/Q155,IF(S155>1000000000,\"\",S155/Q155/S150)))","v":2.5000000000000001E-3},500,{"$f":"IFERROR(IF(R155<R163,R163/R155,R155/R163),\"\")","v":18.75},{"$f":"IFERROR(R155/IF((Q155*S150)<150,150,Q155*S150)^0.25*34.9964,\"\")","v":4.1371939556648432E-3}]
[4,5000,{"$f":"IF(OR(B156<=0,B156>1000000000),\"\",B150/B156/E149)","v":1000},{"$f":"IF(OR(C156=\"\",E156<=0,F150>1),\"\",IF(E156=\"Freilos\",F149/(1-(1/C156))/C156,IF(E156>1000000000,\"\",E156/C156/E150)))","v":0.02},60,{"$f":"IFERROR(IF(D156<D163,D163/D156,D156/D163),\"\")","v":2.5759999999999996},{"$f":"IFERROR(D156/IF((C156*E150)<150,150,C156*E150)^0.25*34.9964,\"\")","v":9.4574282195377821E-2},4,13696,{"$f":"IF(OR(I156<=0,I156>1000000000),\"\",I150/I156/L149)","v":4616.876460280374},{"$f":"IF(OR(J156=\"\",L156<=0,M150>1),\"\",IF(L156=\"Freilos\",M149/(1-(1/J156))/J156,IF(L156>1000000000,\"\",L156/J156/L150)))","v":1.0829832773338622E-2},50,{"$f":"IFERROR(IF(K156<K163,K163/K156,K156/K163),\"\")","v":5.7240603095794391},{"$f":"IFERROR(K156/IF((J156*L150)<150,150,J156*L150)^0.25*34.9964,\"\")","v":4.5978845153833797E-2},5,500,{"$f":"IF(OR(P156<=0,P156>1000000000),\"\",P150/P156/S149)","v":20000},{"$f":"IF(OR(Q156=\"\",S156<=0,T150>1),\"\",IF(S156=\"Freilos\",T149/(1-(1/Q156))/Q156,IF(S156>1000000000,\"\",S156/Q156/S150)))","v":5.0000000000000001E-3},100,{"$f":"IFERROR(IF(R156<R163,R163/R156,R156/R163),\"\")","v":9.375},{"$f":"IFERROR(R156/IF((Q156*S150)<150,150,Q156*S150)^0.25*34.9964,\"\")","v":1.4714173653392551E-2}]
[3,50000,{"$f":"IF(OR(B157<=0,B157>1000000000),\"\",B150/B157/E149)","v":100},{"$f":"IF(OR(C157=\"\",E157<=0,F150>1),\"\",IF(E157=\"Freilos\",F149/(1-(1/C157))/C157,IF(E157>1000000000,\"\",E157/C157/E150)))","v":6.9999999999999993E-2},21,{"$f":"IFERROR(IF(D157<D163,D163/D157,D157/D163),\"\")","v":1.3586956521739131},{"$f":"IFERROR(D157/IF((C157*E150)<150,150,C157*E150)^0.25*34.9964,\"\")","v":0.58862824561537863},3,87804,{"$f":"IF(OR(I157<=0,I157>1000000000),\"\",I150/I157/L149)","v":720.15785157851576},{"$f":"IF(OR(J157=\"\",L157<=0,M150>1),\"\",IF(L157=\"Freilos\",M149/(1-(1/J157))/J157,IF(L157>1000000000,\"\",L157/J157/L150)))","v":2.7771689159761227E-2},20,{"$f":"IFERROR(IF(K157<K163,K163/K157,K157/K163),\"\")","v":2.2321514395699511},{"$f":"IFERROR(K157/IF((J157*L150)<150,150,J157*L150)^0.25*34.9964,\"\")","v":0.18761551181540423},4,5000,{"$f":"IF(OR(P157<=0,P157>1000000000),\"\",P150/P157/S149)","v":2000},{"$f":"IF(OR(Q157=\"\",S157<=0,T150>1),\"\",IF(S157=\"Freilos\",T149/(1-(1/Q157))/Q157,IF(S157>1000000000,\"\",S157/Q157/S150)))","v":2.5000000000000001E-2},50,{"$f":"IFERROR(IF(R157<R163,R163/R157,R157/R163),\"\")","v":1.875},{"$f":"IFERROR(R157/IF((Q157*S150)<150,150,Q157*S150)^0.25*34.9964,\"\")","v":0.13082956021782582}]
[2,100000,{"$f":"IF(OR(B158<=0,B158>1000000000),\"\",B150/B158/E149)","v":50},{"$f":"IF(OR(C158=\"\",E158<=0,F150>1),\"\",IF(E158=\"Freilos\",F149/(1-(1/C158))/C158,IF(E158>1000000000,\"\",E158/C158/E150)))","v":0.08},12,{"$f":"IFERROR(IF(D158<D163,D163/D158,D158/D163),\"\")","v":1.5527950310559007},{"$f":"IFERROR(D158/IF((C158*E150)<150,150,C158*E150)^0.25*34.9964,\"\")","v":0.80000102603128875},2,{"$f":"702547+351293","v":1053840},{"$f":"IF(OR(I158<=0,I158>1000000000),\"\",I150/I158/L149)","v":60.002220450922344},{"$f":"IF(OR(J158=\"\",L158<=0,M150>1),\"\",IF(L158=\"Freilos\",M149/(1-(1/J158))/J158,IF(L158>1000000000,\"\",L158/J158/L150)))","v":0.16666049897568885},10,{"$f":"IFERROR(IF(K158<K163,K163/K158,K158/K163),\"\")","v":2.68847948122326},{"$f":"IFERROR(K158/IF((J158*L150)<150,150,J158*L150)^0.25*34.9964,\"\")","v":1.6666071272429701},3,25000,{"$f":"IF(OR(P158<=0,P158>1000000000),\"\",P150/P158/S149)","v":400},{"$f":"IF(OR(Q158=\"\",S158<=0,T150>1),\"\",IF(S158=\"Freilos\",T149/(1-(1/Q158))/Q158,IF(S158>1000000000,\"\",S158/Q158/S150)))","v":2.5000000000000001E-2},10,{"$f":"IFERROR(IF(R158<R163,R163/R158,R158/R163),\"\")","v":1.875},{"$f":"IFERROR(R158/IF((Q158*S150)<150,150,Q158*S150)^0.25*34.9964,\"\")","v":0.19563582341943414}]
[2,200000,{"$f":"IF(OR(B159<=0,B159>1000000000),\"\",B150/B159/E149)","v":25},{"$f":"IF(OR(C159=\"\",E159<=0,F150>1),\"\",IF(E159=\"Freilos\",F149/(1-(1/C159))/C159,IF(E159>1000000000,\"\",E159/C159/E150)))","v":0.12},9,{"$f":"IFERROR(IF(D159<D163,D163/D159,D159/D163),\"\")","v":2.329192546583851},{"$f":"IFERROR(D159/IF((C159*E150)<150,150,C159*E150)^0.25*34.9964,\"\")","v":1.200001539046933},2,{"$f":"702777+1053843","v":1756620},{"$f":"IF(OR(I159<=0,I159>1000000000),\"\",I150/I159/L149)","v":35.996823445025107},{"$f":"IF(OR(J159=\"\",L159<=0,M150>1),\"\",IF(L159=\"Freilos\",M149/(1-(1/J159))/J159,IF(L159>1000000000,\"\",L159/J159/L150)))","v":0.13890114519788324},5,{"$f":"IFERROR(IF(K159<K163,K163/K159,K159/K163),\"\")","v":2.2406801916355441},{"$f":"IFERROR(K159/IF((J159*L150)<150,150,J159*L150)^0.25*34.9964,\"\")","v":1.3890132334403451},2,200000,{"$f":"IF(OR(P159<=0,P159>1000000000),\"\",P150/P159/S149)","v":50},{"$f":"IF(OR(Q159=\"\",S159<=0,T150>1),\"\",IF(S159=\"Freilos\",T149/(1-(1/Q159))/Q159,IF(S159>1000000000,\"\",S159/Q159/S150)))","v":0.1},5,{"$f":"IFERROR(IF(R159<R163,R163/R159,R159/R163),\"\")","v":2.1333333333333333},{"$f":"IFERROR(R159/IF((Q159*S150)<150,150,Q159*S150)^0.25*34.9964,\"\")","v":1.0000012825391109}]
[2,450000,{"$f":"IF(OR(B160<=0,B160>1000000000),\"\",B150/B160/E149)","v":11.111111111111111},{"$f":"IF(OR(C160=\"\",E160<=0,F150>1),\"\",IF(E160=\"Freilos\",F149/(1-(1/C160))/C160,IF(E160>1000000000,\"\",E160/C160/E150)))","v":9.0000000000000011E-2},3,{"$f":"IFERROR(IF(D160<D163,D163/D160,D160/D163),\"\")","v":1.7468944099378885},{"$f":"IFERROR(D160/IF((C160*E150)<150,150,C160*E150)^0.25*34.9964,\"\")","v":0.90000115428519989},2,{"$f":"2810384+1405208+702471","v":4918063},{"$f":"IF(OR(I160<=0,I160>1000000000),\"\",I150/I160/L149)","v":12.857244813659362},{"$f":"IF(OR(J160=\"\",L160<=0,M150>1),\"\",IF(L160=\"Freilos\",M149/(1-(1/J160))/J160,IF(L160>1000000000,\"\",L160/J160/L150)))","v":0.15555432201736},2,{"$f":"IFERROR(IF(K160<K163,K163/K160,K160/K163),\"\")","v":2.5093204780352445},{"$f":"IFERROR(K160/IF((J160*L150)<150,150,J160*L150)^0.25*34.9964,\"\")","v":1.5555452152186184},2,1000000,{"$f":"IF(OR(P160<=0,P160>1000000000),\"\",P150/P160/S149)","v":10},{"$f":"IF(OR(Q160=\"\",S160<=0,T150>1),\"\",IF(S160=\"Freilos\",T149/(1-(1/Q160))/Q160,IF(S160>1000000000,\"\",S160/Q160/S150)))","v":0.2},2,{"$f":"IFERROR(IF(R160<R163,R163/R160,R160/R163),\"\")","v":4.2666666666666666},{"$f":"IFERROR(R160/IF((Q160*S150)<150,150,Q160*S150)^0.25*34.9964,\"\")","v":2.0000025650782218}]
[1,900000,{"$f":"IF(OR(B161<=0,B161>1000000000),\"\",B150/B161/E149)","v":5.5555555555555554},{"$f":"IF(OR(C161=\"\",E161<=0,F150>1),\"\",IF(E161=\"Freilos\",F149/(1-(1/C161))/C161,IF(E161>1000000000,\"\",E161/C161/E150)))","v":9.0000000000000011E-2},1.5,{"$f":"IFERROR(IF(D161<D163,D163/D161,D161/D163),\"\")","v":1.7468944099378885},{"$f":"IFERROR(D161/IF((C161*E150)<150,150,C161*E150)^0.25*34.9964,\"\")","v":0.90000115428519989},2,{"$f":"3161712+2810347","v":5972059},{"$f":"IF(OR(I161<=0,I161>1000000000),\"\",I150/I161/L149)","v":10.588097003060419},{"$f":"IF(OR(J161=\"\",L161<=0,M150>1),\"\",IF(L161=\"Freilos\",M149/(1-(1/J161))/J161,IF(L161>1000000000,\"\",L161/J161/L150)))","v":9.4445677982640003E-2},1,{"$f":"IFERROR(IF(K161<K163,K163/K161,K161/K163),\"\")","v":1.52354798471824},{"$f":"IFERROR(K161/IF((J161*L150)<150,150,J161*L150)^0.25*34.9964,\"\")","v":0.94445799112915862},1,2000000,{"$f":"IF(OR(P161<=0,P161>1000000000),\"\",P150/P161/S149)","v":5},{"$f":"IF(OR(Q161=\"\",S161<=0,T150>1),\"\",IF(S161=\"Freilos\",T149/(1-(1/Q161))/Q161,IF(S161>1000000000,\"\",S161/Q161/S150)))","v":9.375E-2},"Freilos",{"$f":"IFERROR(IF(R161<R163,R163/R161,R161/R163),\"\")","v":2},{"$f":"IFERROR(R161/IF((Q161*S150)<150,150,Q161*S150)^0.25*34.9964,\"\")","v":0.93750120238041645}]
[null,{"$f":"IF(SUM(B152:B161)=0,\"\",SUM(B152:B161))","v":1705603},{"$f":"IF(OR(B162<=0,B162>1000000000),\"\",B150/B162/E149)","v":2.9315145435368017},{"$f":"IF(SUM(D152:D161)=0,\"\",SUM(D152:D161))","v":0.51519999999999999},{"$f":"IFERROR(E150*D162,\"\")","v":1.5455999999999999},{"$f":"IFERROR(AVERAGE(F152:F161),\"\")","v":3.9002472049689443},{"$f":"IF(SUM(G152:G161)=0,\"\",SUM(G152:G161))","v":4.5493888665639037},null,{"$f":"IF(SUM(I152:I161)=0,\"\",SUM(I152:I161))","v":13804969},{"$f":"IF(OR(I162<=0,I162>1000000000),\"\",I150/I162/L149)","v":4.5804333207847119},{"$f":"IF(SUM(K152:K161)=0,\"\",SUM(K152:K161))","v":0.61990615937250226},{"$f":"IFERROR(L150*K162,\"\")","v":0.61990615937250226},{"$f":"IFERROR(AVERAGE(M152:M161),\"\")","v":15.674344359232972},{"$f":"IF(SUM(N152:N161)=0,\"\",SUM(N152:N161))","v":5.8178426179029969},null,{"$f":"IF(SUM(P152:P161)=0,\"\",SUM(P152:P161))","v":3230581},{"$f":"IF(OR(P162<=0,P162>1000000000),\"\",P150/P162/S149)","v":3.0954184402124572},{"$f":"IF(SUM(R152:R161)=0,\"\",SUM(R152:R161))","v":0.46875},{"$f":"IFERROR(S150*R162,\"\")","v":0.46875},{"$f":"IFERROR(AVERAGE(T152:T161),\"\")","v":7.3087500000000007},{"$f":"IF(SUM(U152:U161)=0,\"\",SUM(U152:U161))","v":4.2971771208283389}]
[null,null,null,{"$f":"AVERAGE(D152:D161)","v":5.1519999999999996E-2},null,null,null,null,null,null,{"$f":"AVERAGE(K152:K161)","v":6.1990615937250228E-2},null,null,null,null,null,null,{"$f":"AVERAGE(R152:R161)","v":4.6875E-2}]
[]
[null,"Calavera",null,null,1,{"$f":"IFERROR(SUMIF(E168:E177,\"<>Freilos\",D168:D177),\"\")","v":0.5},null,null,"Moorhuhn",null,null,1,{"$f":"IFERROR(SUMIF(L168:L177,\"<>Freilos\",K168:K177),\"\")","v":0.50842857142857145},null,null,"Lucky Day Rubbellose (5x) ⁷",null,null,1,{"$f":"IFERROR(SUMIF(S168:S177,\"<>Freilos\",R168:R177),\"\")","v":0.5}]
[null,15000000,null,null,{"$f":"E165*0.9","v":0.9},{"$f":"IFERROR(COUNTIF(E168:E177,\"Freilos\"),\"\")","v":0},null,null,5000000,null,null,{"$f":"L165*0.7","v":0.7},{"$f":"IFERROR(COUNTIF(L168:L177,\"Freilos\"),\"\")","v":0},null,null,7000000,null,null,{"$f":"S165*0.5","v":0.5},{"$f":"IFERROR(COUNTIF(S168:S177,\"Freilos\"),\"\")","v":0}]
[null,"Losanzahl",{"$f":"IF(E165=1,\"Chancen 1:\",\"Ø Gewinne 1:\")","v":"Chancen 1:"},"Ø AQ","(Ø) Gewinn",null,null,null,"Losanzahl",{"$f":"IF(L165=1,\"Chancen 1:\",\"Ø Gewinne 1:\")","v":"Chancen 1:"},"Ø AQ","(Ø) Gewinn",null,null,null,"Losanzahl",{"$f":"IF(S165=1,\"Chancen 1:\",\"Ø Gewinne 1:\")","v":"Chancen 1:"},"Ø AQ","(Ø) Gewinn"]
[7,1,{"$f":"IF(OR(B168<=0,B168>1000000000),\"\",B166/B168/E165)","v":15000000},{"$f":"IF(OR(C168=\"\",E168<=0,F166>1),\"\",IF(E168=\"Freilos\",F165/(1-(1/C168))/C168,IF(E168>1000000000,\"\",E168/C168/E166)))","v":7.4074074074074077E-3},100000,{"$f":"IFERROR(IF(D168<D179,D179/D168,D168/D179),\"\")","v":6.75},{"$f":"IFERROR(D168/IF((C168*E166)<150,150,C168*E166)^0.25*34.9964,\"\")","v":4.2766741456587137E-3},7,1,{"$f":"IF(OR(I168<=0,I168>1000000000),\"\",I166/I168/L165)","v":5000000},{"$f":"IF(OR(J168=\"\",L168<=0,M166>1),\"\",IF(L168=\"Freilos\",M165/(1-(1/J168))/J168,IF(L168>1000000000,\"\",L168/J168/L166)))","v":0.02},70000,{"$f":"IFERROR(IF(K168<K179,K179/K168,K168/K179),\"\")","v":2.5421428571428573},{"$f":"IFERROR(K168/IF((J168*L166)<150,150,J168*L166)^0.25*34.9964,\"\")","v":1.6182154985624472E-2},7,1,{"$f":"IF(OR(P168<=0,P168>1000000000),\"\",P166/P168/S165)","v":7000000},{"$f":"IF(OR(Q168=\"\",S168<=0,T166>1),\"\",IF(S168=\"Freilos\",T165/(1-(1/Q168))/Q168,IF(S168>1000000000,\"\",S168/Q168/S166)))","v":1.4285714285714285E-2},50000,{"$f":"IFERROR(IF(R168<R179,R179/R168,R168/R179),\"\")","v":3.5000000000000004},{"$f":"IFERROR(R168/IF((Q168*S166)<150,150,Q168*S166)^0.25*34.9964,\"\")","v":1.1558682132588909E-2}]
[7,10,{"$f":"IF(OR(B169<=0,B169>1000000000),\"\",B166/B169/E165)","v":1500000},{"$f":"IF(OR(C169=\"\",E169<=0,F166>1),\"\",IF(E169=\"Freilos\",F165/(1-(1/C169))/C169,IF(E169>1000000000,\"\",E169/C169/E166)))","v":3.7037037037037038E-3},5000,{"$f":"IFERROR(IF(D169<D179,D179/D169,D169/D179),\"\")","v":13.5},{"$f":"IFERROR(D169/IF((C169*E166)<150,150,C169*E166)^0.25*34.9964,\"\")","v":3.8025607883353471E-3},7,2,{"$f":"IF(OR(I169<=0,I169>1000000000),\"\",I166/I169/L165)","v":2500000},{"$f":"IF(OR(J169=\"\",L169<=0,M166>1),\"\",IF(L169=\"Freilos\",M165/(1-(1/J169))/J169,IF(L169>1000000000,\"\",L169/J169/L166)))","v":4.0000000000000001E-3},7000,{"$f":"IFERROR(IF(K169<K179,K179/K169,K169/K179),\"\")","v":12.710714285714287},{"$f":"IFERROR(K169/IF((J169*L166)<150,150,J169*L166)^0.25*34.9964,\"\")","v":3.8487867689962754E-3},7,2,{"$f":"IF(OR(P169<=0,P169>1000000000),\"\",P166/P169/S165)","v":3500000},{"$f":"IF(OR(Q169=\"\",S169<=0,T166>1),\"\",IF(S169=\"Freilos\",T165/(1-(1/Q169))/Q169,IF(S169>1000000000,\"\",S169/Q169/S166)))","v":2.8571428571428571E-3},5000,{"$f":"IFERROR(IF(R169<R179,R179/R169,R169/R179),\"\")","v":17.5},{"$f":"IFERROR(R169/IF((Q169*S166)<150,150,Q169*S166)^0.25*34.9964,\"\")","v":2.7491334064259111E-3}]
[6,100,{"$f":"IF(OR(B170<=0,B170>1000000000),\"\",B166/B170/E165)","v":150000},{"$f":"IF(OR(C170=\"\",E170<=0,F166>1),\"\",IF(E170=\"Freilos\",F165/(1-(1/C170))/C170,IF(E170>1000000000,\"\",E170/C170/E166)))","v":3.7037037037037038E-3},500,{"$f":"IFERROR(IF(D170<D179,D179/D170,D170/D179),\"\")","v":13.5},{"$f":"IFERROR(D170/IF((C170*E166)<150,150,C170*E166)^0.25*34.9964,\"\")","v":6.762015555318121E-3},6,20,{"$f":"IF(OR(I170<=0,I170>1000000000),\"\",I166/I170/L165)","v":250000},{"$f":"IF(OR(J170=\"\",L170<=0,M166>1),\"\",IF(L170=\"Freilos\",M165/(1-(1/J170))/J170,IF(L170>1000000000,\"\",L170/J170/L166)))","v":4.0000000000000001E-3},700,{"$f":"IFERROR(IF(K170<K179,K179/K170,K170/K179),\"\")","v":12.710714285714287},{"$f":"IFERROR(K170/IF((J170*L166)<150,150,J170*L166)^0.25*34.9964,\"\")","v":6.844218264936309E-3},6,15,{"$f":"IF(OR(P170<=0,P170>1000000000),\"\",P166/P170/S165)","v":466666.66666666669},{"$f":"IF(OR(Q170=\"\",S170<=0,T166>1),\"\",IF(S170=\"Freilos\",T165/(1-(1/Q170))/Q170,IF(S170>1000000000,\"\",S170/Q170/S166)))","v":2.142857142857143E-3},500,{"$f":"IFERROR(IF(R170<R179,R179/R170,R170/R179),\"\")","v":23.333333333333332},{"$f":"IFERROR(R170/IF((Q170*S166)<150,150,Q170*S166)^0.25*34.9964,\"\")","v":3.4121050575562869E-3}]
[5,225,{"$f":"IF(OR(B171<=0,B171>1000000000),\"\",B166/B171/E165)","v":66666.666666666672},{"$f":"IF(OR(C171=\"\",E171<=0,F166>1),\"\",IF(E171=\"Freilos\",F165/(1-(1/C171))/C171,IF(E171>1000000000,\"\",E171/C171/E166)))","v":2.4999999999999996E-3},150,{"$f":"IFERROR(IF(D171<D179,D179/D171,D171/D179),\"\")","v":20.000000000000004},{"$f":"IFERROR(D171/IF((C171*E166)<150,150,C171*E166)^0.25*34.9964,\"\")","v":5.590177113361061E-3},5,200,{"$f":"IF(OR(I171<=0,I171>1000000000),\"\",I166/I171/L165)","v":25000},{"$f":"IF(OR(J171=\"\",L171<=0,M166>1),\"\",IF(L171=\"Freilos\",M165/(1-(1/J171))/J171,IF(L171>1000000000,\"\",L171/J171/L166)))","v":4.0000000000000001E-3},70,{"$f":"IFERROR(IF(K171<K179,K179/K171,K171/K179),\"\")","v":12.710714285714287},{"$f":"IFERROR(K171/IF((J171*L166)<150,150,J171*L166)^0.25*34.9964,\"\")","v":1.2170932418348556E-2},5,150,{"$f":"IF(OR(P171<=0,P171>1000000000),\"\",P166/P171/S165)","v":46666.666666666664},{"$f":"IF(OR(Q171=\"\",S171<=0,T166>1),\"\",IF(S171=\"Freilos\",T165/(1-(1/Q171))/Q171,IF(S171>1000000000,\"\",S171/Q171/S166)))","v":2.142857142857143E-3},50,{"$f":"IFERROR(IF(R171<R179,R179/R171,R171/R179),\"\")","v":23.333333333333332},{"$f":"IFERROR(R171/IF((Q171*S166)<150,150,Q171*S166)^0.25*34.9964,\"\")","v":6.0676761687420196E-3}]
[4,2000,{"$f":"IF(OR(B172<=0,B172>1000000000),\"\",B166/B172/E165)","v":7500},{"$f":"IF(OR(C172=\"\",E172<=0,F166>1),\"\",IF(E172=\"Freilos\",F165/(1-(1/C172))/C172,IF(E172>1000000000,\"\",E172/C172/E166)))","v":1.1111111111111112E-2},75,{"$f":"IFERROR(IF(D172<D179,D179/D172,D172/D179),\"\")","v":4.5},{"$f":"IFERROR(D172/IF((C172*E166)<150,150,C172*E166)^0.25*34.9964,\"\")","v":4.2899765586788825E-2},3,7000,{"$f":"IF(OR(I172<=0,I172>1000000000),\"\",I166/I172/L165)","v":714.28571428571433},{"$f":"IF(OR(J172=\"\",L172<=0,M166>1),\"\",IF(L172=\"Freilos\",M165/(1-(1/J172))/J172,IF(L172>1000000000,\"\",L172/J172/L166)))","v":0.04},20,{"$f":"IFERROR(IF(K172<K179,K179/K172,K172/K179),\"\")","v":1.2710714285714286},{"$f":"IFERROR(K172/IF((J172*L166)<150,150,J172*L166)^0.25*34.9964,\"\")","v":0.29603350147097096},4,4000,{"$f":"IF(OR(P172<=0,P172>1000000000),\"\",P166/P172/S165)","v":1750},{"$f":"IF(OR(Q172=\"\",S172<=0,T166>1),\"\",IF(S172=\"Freilos\",T165/(1-(1/Q172))/Q172,IF(S172>1000000000,\"\",S172/Q172/S166)))","v":1.1428571428571429E-2},10,{"$f":"IFERROR(IF(R172<R179,R179/R172,R172/R179),\"\")","v":4.375},{"$f":"IFERROR(R172/IF((Q172*S166)<150,150,Q172*S166)^0.25*34.9964,\"\")","v":7.3538252505365345E-2}]
[3,29750,{"$f":"IF(OR(B173<=0,B173>1000000000),\"\",B166/B173/E165)","v":504.20168067226894},{"$f":"IF(OR(C173=\"\",E173<=0,F166>1),\"\",IF(E173=\"Freilos\",F165/(1-(1/C173))/C173,IF(E173>1000000000,\"\",E173/C173/E166)))","v":3.3055555555555553E-2},15,{"$f":"IFERROR(IF(D173<D179,D179/D173,D173/D179),\"\")","v":1.5126050420168069},{"$f":"IFERROR(D173/IF((C173*E166)<150,150,C173*E166)^0.25*34.9964,\"\")","v":0.25064331898512643},3,40000,{"$f":"IF(OR(I173<=0,I173>1000000000),\"\",I166/I173/L165)","v":125},{"$f":"IF(OR(J173=\"\",L173<=0,M166>1),\"\",IF(L173=\"Freilos\",M165/(1-(1/J173))/J173,IF(L173>1000000000,\"\",L173/J173/L166)))","v":5.7142857142857148E-2},5,{"$f":"IFERROR(IF(K173<K179,K179/K173,K173/K179),\"\")","v":1.1239112110143299},{"$f":"IFERROR(K173/IF((J173*L166)<150,150,J173*L166)^0.25*34.9964,\"\")","v":0.57142930430806349},3,16000,{"$f":"IF(OR(P173<=0,P173>1000000000),\"\",P166/P173/S165)","v":437.5},{"$f":"IF(OR(Q173=\"\",S173<=0,T166>1),\"\",IF(S173=\"Freilos\",T165/(1-(1/Q173))/Q173,IF(S173>1000000000,\"\",S173/Q173/S166)))","v":2.2857142857142857E-2},5,{"$f":"IFERROR(IF(R173<R179,R179/R173,R173/R179),\"\")","v":2.1875},{"$f":"IFERROR(R173/IF((Q173*S166)<150,150,Q173*S166)^0.25*34.9964,\"\")","v":0.20799758809260979}]
[3,100000,{"$f":"IF(OR(B174<=0,B174>1000000000),\"\",B166/B174/E165)","v":150},{"$f":"IF(OR(C174=\"\",E174<=0,F166>1),\"\",IF(E174=\"Freilos\",F165/(1-(1/C174))/C174,IF(E174>1000000000,\"\",E174/C174/E166)))","v":5.185185185185185E-2},7,{"$f":"IFERROR(IF(D174<D179,D179/D174,D174/D179),\"\")","v":1.037037037037037},{"$f":"IFERROR(D174/IF((C174*E166)<150,150,C174*E166)^0.25*34.9964,\"\")","v":0.51851918353879822},2,175000,{"$f":"IF(OR(I174<=0,I174>1000000000),\"\",I166/I174/L165)","v":28.571428571428573},{"$f":"IF(OR(J174=\"\",L174<=0,M166>1),\"\",IF(L174=\"Freilos\",M165/(1-(1/J174))/J174,IF(L174>1000000000,\"\",L174/J174/L166)))","v":9.9999999999999992E-2},2,{"$f":"IFERROR(IF(K174<K179,K179/K174,K174/K179),\"\")","v":1.9668446192750768},{"$f":"IFERROR(K174/IF((J174*L166)<150,150,J174*L166)^0.25*34.9964,\"\")","v":1.0000012825391109},2,90000,{"$f":"IF(OR(P174<=0,P174>1000000000),\"\",P166/P174/S165)","v":77.777777777777771},{"$f":"IF(OR(Q174=\"\",S174<=0,T166>1),\"\",IF(S174=\"Freilos\",T165/(1-(1/Q174))/Q174,IF(S174>1000000000,\"\",S174/Q174/S166)))","v":5.1428571428571435E-2},2,{"$f":"IFERROR(IF(R174<R179,R179/R174,R174/R179),\"\")","v":1.0285714285714287},{"$f":"IFERROR(R174/IF((Q174*S166)<150,150,Q174*S166)^0.25*34.9964,\"\")","v":0.51428637387725706}]
[2,640000,{"$f":"IF(OR(B175<=0,B175>1000000000),\"\",B166/B175/E165)","v":23.4375},{"$f":"IF(OR(C175=\"\",E175<=0,F166>1),\"\",IF(E175=\"Freilos\",F165/(1-(1/C175))/C175,IF(E175>1000000000,\"\",E175/C175/E166)))","v":0.14222222222222222},3,{"$f":"IFERROR(IF(D175<D179,D179/D175,D175/D179),\"\")","v":2.8444444444444441},{"$f":"IFERROR(D175/IF((C175*E166)<150,150,C175*E166)^0.25*34.9964,\"\")","v":1.4222240462778466},2,315000,{"$f":"IF(OR(I175<=0,I175>1000000000),\"\",I166/I175/L165)","v":15.873015873015873},{"$f":"IF(OR(J175=\"\",L175<=0,M166>1),\"\",IF(L175=\"Freilos\",M165/(1-(1/J175))/J175,IF(L175>1000000000,\"\",L175/J175/L166)))","v":9.0000000000000011E-2},1,{"$f":"IFERROR(IF(K175<K179,K179/K175,K175/K179),\"\")","v":1.7701601573475696},{"$f":"IFERROR(K175/IF((J175*L166)<150,150,J175*L166)^0.25*34.9964,\"\")","v":0.90000115428519989},2,350000,{"$f":"IF(OR(P175<=0,P175>1000000000),\"\",P166/P175/S165)","v":20},{"$f":"IF(OR(Q175=\"\",S175<=0,T166>1),\"\",IF(S175=\"Freilos\",T165/(1-(1/Q175))/Q175,IF(S175>1000000000,\"\",S175/Q175/S166)))","v":0.15},1.5,{"$f":"IFERROR(IF(R175<R179,R179/R175,R175/R179),\"\")","v":2.9999999999999996},{"$f":"IFERROR(R175/IF((Q175*S166)<150,150,Q175*S166)^0.25*34.9964,\"\")","v":1.5000019238086661}]
[2,1300000,{"$f":"IF(OR(B176<=0,B176>1000000000),\"\",B166/B176/E165)","v":11.538461538461538},{"$f":"IF(OR(C176=\"\",E176<=0,F166>1),\"\",IF(E176=\"Freilos\",F165/(1-(1/C176))/C176,IF(E176>1000000000,\"\",E176/C176/E166)))","v":0.14444444444444446},1.5,{"$f":"IFERROR(IF(D176<D179,D179/D176,D176/D179),\"\")","v":2.8888888888888888},{"$f":"IFERROR(D176/IF((C176*E166)<150,150,C176*E166)^0.25*34.9964,\"\")","v":1.4444462970009382},1,510000,{"$f":"IF(OR(I176<=0,I176>1000000000),\"\",I166/I176/L165)","v":9.8039215686274517},{"$f":"IF(OR(J176=\"\",L176<=0,M166>1),\"\",IF(L176=\"Freilos\",M165/(1-(1/J176))/J176,IF(L176>1000000000,\"\",L176/J176/L166)))","v":0.10928571428571429},0.75,{"$f":"IFERROR(IF(K176<K179,K179/K176,K176/K179),\"\")","v":2.1494801910649057},{"$f":"IFERROR(K176/IF((J176*L166)<150,150,J176*L166)^0.25*34.9964,\"\")","v":1.0928585444891712},2,700000,{"$f":"IF(OR(P176<=0,P176>1000000000),\"\",P166/P176/S165)","v":10},{"$f":"IF(OR(Q176=\"\",S176<=0,T166>1),\"\",IF(S176=\"Freilos\",T165/(1-(1/Q176))/Q176,IF(S176>1000000000,\"\",S176/Q176/S166)))","v":0.15},0.75,{"$f":"IFERROR(IF(R176<R179,R179/R176,R176/R179),\"\")","v":2.9999999999999996},{"$f":"IFERROR(R176/IF((Q176*S166)<150,150,Q176*S166)^0.25*34.9964,\"\")","v":1.5000019238086661}]
[1,2700000,{"$f":"IF(OR(B177<=0,B177>1000000000),\"\",B166/B177/E165)","v":5.5555555555555554},{"$f":"IF(OR(C177=\"\",E177<=0,F166>1),\"\",IF(E177=\"Freilos\",F165/(1-(1/C177))/C177,IF(E177>1000000000,\"\",E177/C177/E166)))","v":9.9999999999999992E-2},0.5,{"$f":"IFERROR(IF(D177<D179,D179/D177,D177/D179),\"\")","v":1.9999999999999998},{"$f":"IFERROR(D177/IF((C177*E166)<150,150,C177*E166)^0.25*34.9964,\"\")","v":1.0000012825391109},1,800000,{"$f":"IF(OR(I177<=0,I177>1000000000),\"\",I166/I177/L165)","v":6.25},{"$f":"IF(OR(J177=\"\",L177<=0,M166>1),\"\",IF(L177=\"Freilos\",M165/(1-(1/J177))/J177,IF(L177>1000000000,\"\",L177/J177/L166)))","v":0.08},0.35,{"$f":"IFERROR(IF(K177<K179,K179/K177,K177/K179),\"\")","v":1.5734756954200617},{"$f":"IFERROR(K177/IF((J177*L166)<150,150,J177*L166)^0.25*34.9964,\"\")","v":0.80000102603128875},1,1300000,{"$f":"IF(OR(P177<=0,P177>1000000000),\"\",P166/P177/S165)","v":5.384615384615385},{"$f":"IF(OR(Q177=\"\",S177<=0,T166>1),\"\",IF(S177=\"Freilos\",T165/(1-(1/Q177))/Q177,IF(S177>1000000000,\"\",S177/Q177/S166)))","v":9.2857142857142846E-2},0.25,{"$f":"IFERROR(IF(R177<R179,R179/R177,R177/R179),\"\")","v":1.8571428571428568},{"$f":"IFERROR(R177/IF((Q177*S166)<150,150,Q177*S166)^0.25*34.9964,\"\")","v":0.92857261950060288}]
[null,{"$f":"IF(SUM(B168:B177)=0,\"\",SUM(B168:B177))","v":4772086},{"$f":"IF(OR(B178<=0,B178>1000000000),\"\",B166/B178/E165)","v":3.1432794798752579},{"$f":"IF(SUM(D168:D177)=0,\"\",SUM(D168:D177))","v":0.5},{"$f":"IFERROR(E166*D178,\"\")","v":0.45},{"$f":"IFERROR(AVERAGE(F168:F177),\"\")","v":6.8532975412387174},{"$f":"IF(SUM(G168:G177)=0,\"\",SUM(G168:G177))","v":4.6991653215312823},null,{"$f":"IF(SUM(I168:I177)=0,\"\",SUM(I168:I177))","v":1847223},{"$f":"IF(OR(I178<=0,I178>1000000000),\"\",I166/I178/L165)","v":2.7067657776023792},{"$f":"IF(SUM(K168:K177)=0,\"\",SUM(K168:K177))","v":0.50842857142857145},{"$f":"IFERROR(L166*K178,\"\")","v":0.35589999999999999},{"$f":"IFERROR(AVERAGE(M168:M177),\"\")","v":5.0529229016979098},{"$f":"IF(SUM(N168:N177)=0,\"\",SUM(N168:N177))","v":4.699370905561711},null,{"$f":"IF(SUM(P168:P177)=0,\"\",SUM(P168:P177))","v":2460168},{"$f":"IF(OR(P178<=0,P178>1000000000),\"\",P166/P178/S165)","v":2.8453341397823237},{"$f":"IF(SUM(R168:R177)=0,\"\",SUM(R168:R177))","v":0.5},{"$f":"IFERROR(S166*R178,\"\")","v":0.25},{"$f":"IFERROR(AVERAGE(T168:T177),\"\")","v":8.3114880952380936},{"$f":"IF(SUM(U168:U177)=0,\"\",SUM(U168:U177))","v":4.7481862783584807}]
[null,null,null,{"$f":"AVERAGE(D168:D177)","v":0.05},null,null,null,null,null,null,{"$f":"AVERAGE(K168:K177)","v":5.0842857142857148E-2},null,null,null,null,null,null,{"$f":"AVERAGE(R168:R177)","v":0.05}]
[]
[null,"Schatztruhe",null,null,1,{"$f":"IFERROR(SUMIF(E184:E194,\"<>Freilos\",D184:D194),\"\")","v":0.57650000000000001},null,null,"Feuer & Eis",null,null,1,{"$f":"IFERROR(SUMIF(L184:L194,\"<>Freilos\",K184:K194),\"\")","v":0.63200000000000001},null,null,"Catch 3 Multiple",null,null,1,{"$f":"IFERROR(SUMIF(S184:S194,\"<>Freilos\",R184:R194),\"\")","v":0.61380274906450294}]
[null,1000000,null,null,{"$f":"E181*2","v":2},{"$f":"IFERROR(COUNTIF(E184:E194,\"Freilos\"),\"\")","v":0},null,null,1000000,null,null,{"$f":"L181*1.5","v":1.5},{"$f":"IFERROR(COUNTIF(L184:L194,\"Freilos\"),\"\")","v":0},null,null,21592800,null,null,{"$f":"S181*1","v":1},{"$f":"IFERROR(COUNTIF(S184:S194,\"Freilos\"),\"\")","v":0}]
[null,"Losanzahl",{"$f":"IF(E181=1,\"Chancen 1:\",\"Ø Gewinne 1:\")","v":"Chancen 1:"},"Ø AQ","(Ø) Gewinn",null,null,null,"Losanzahl",{"$f":"IF(L181=1,\"Chancen 1:\",\"Ø Gewinne 1:\")","v":"Chancen 1:"},"Ø AQ","(Ø) Gewinn",null,null,null,"Losanzahl",{"$f":"IF(S181=1,\"Chancen 1:\",\"Ø Gewinne 1:\")","v":"Chancen 1:"},"Ø AQ","(Ø) Gewinn"]
[7,1,{"$f":"IF(OR(B184<=0,B184>1000000000),\"\",B182/B184/E181)","v":1000000},{"$f":"IF(OR(C184=\"\",E184<=0,F182>1),\"\",IF(E184=\"Freilos\",F181/(1-(1/C184))/C184,IF(E184>1000000000,\"\",E184/C184/E182)))","v":1.4999999999999999E-2},30000,{"$f":"IFERROR(IF(D184<D196,D196/D184,D184/D196),\"\")","v":3.4939393939393941},{"$f":"IFERROR(D184/IF((C184*E182)<150,150,C184*E182)^0.25*34.9964,\"\")","v":1.3959090789588421E-2},7,1,{"$f":"IF(OR(I184<=0,I184>1000000000),\"\",I182/I184/L181)","v":1000000},{"$f":"IF(OR(J184=\"\",L184<=0,M182>1),\"\",IF(L184=\"Freilos\",M181/(1-(1/J184))/J184,IF(L184>1000000000,\"\",L184/J184/L182)))","v":0.02},30000,{"$f":"IFERROR(IF(K184<K196,K196/K184,K184/K196),\"\")","v":2.8727272727272726},{"$f":"IFERROR(K184/IF((J184*L182)<150,150,J184*L182)^0.25*34.9964,\"\")","v":2.0000025650782207E-2},7,6,{"$f":"IF(OR(P184<=0,P184>1000000000),\"\",P182/P184/S181)","v":3598800},{"$f":"IF(OR(Q184=\"\",S184<=0,T182>1),\"\",IF(S184=\"Freilos\",T181/(1-(1/Q184))/Q184,IF(S184>1000000000,\"\",S184/Q184/S182)))","v":2.7787040124485941E-3},10000,{"$f":"IFERROR(IF(R184<R196,R196/R184,R184/R196),\"\")","v":20.081393939393937},{"$f":"IFERROR(R184/IF((Q184*S182)<150,150,Q184*S182)^0.25*34.9964,\"\")","v":2.2326787145133154E-3}]
[6,3,{"$f":"IF(OR(B185<=0,B185>1000000000),\"\",B182/B185/E181)","v":333333.33333333331},{"$f":"IF(OR(C185=\"\",E185<=0,F182>1),\"\",IF(E185=\"Freilos\",F181/(1-(1/C185))/C185,IF(E185>1000000000,\"\",E185/C185/E182)))","v":4.5000000000000005E-3},3000,{"$f":"IFERROR(IF(D185<D196,D196/D185,D185/D196),\"\")","v":11.646464646464645},{"$f":"IFERROR(D185/IF((C185*E182)<150,150,C185*E182)^0.25*34.9964,\"\")","v":5.5113589897865427E-3},6,2,{"$f":"IF(OR(I185<=0,I185>1000000000),\"\",I182/I185/L181)","v":500000},{"$f":"IF(OR(J185=\"\",L185<=0,M182>1),\"\",IF(L185=\"Freilos\",M181/(1-(1/J185))/J185,IF(L185>1000000000,\"\",L185/J185/L182)))","v":1E-3},750,{"$f":"IFERROR(IF(K185<K196,K196/K185,K185/K196),\"\")","v":57.454545454545453},{"$f":"IFERROR(K185/IF((J185*L182)<150,150,J185*L182)^0.25*34.9964,\"\")","v":1.1892086402073567E-3},7,12,{"$f":"IF(OR(P185<=0,P185>1000000000),\"\",P182/P185/S181)","v":1799400},{"$f":"IF(OR(Q185=\"\",S185<=0,T182>1),\"\",IF(S185=\"Freilos\",T181/(1-(1/Q185))/Q185,IF(S185>1000000000,\"\",S185/Q185/S182)))","v":5.5574080248971876E-5},100,{"$f":"IFERROR(IF(R185<R196,R196/R185,R185/R196),\"\")","v":1004.0696969696969},{"$f":"IFERROR(R185/IF((Q185*S182)<150,150,Q185*S182)^0.25*34.9964,\"\")","v":5.3102348256287266E-5}]
[6,10,{"$f":"IF(OR(B186<=0,B186>1000000000),\"\",B182/B186/E181)","v":100000},{"$f":"IF(OR(C186=\"\",E186<=0,F182>1),\"\",IF(E186=\"Freilos\",F181/(1-(1/C186))/C186,IF(E186>1000000000,\"\",E186/C186/E182)))","v":1.5E-3},300,{"$f":"IFERROR(IF(D186<D196,D196/D186,D186/D196),\"\")","v":34.939393939393938},{"$f":"IFERROR(D186/IF((C186*E182)<150,150,C186*E182)^0.25*34.9964,\"\")","v":2.482316373398906E-3},6,5,{"$f":"IF(OR(I186<=0,I186>1000000000),\"\",I182/I186/L181)","v":200000},{"$f":"IF(OR(J186=\"\",L186<=0,M182>1),\"\",IF(L186=\"Freilos\",M181/(1-(1/J186))/J186,IF(L186>1000000000,\"\",L186/J186/L182)))","v":1E-3},300,{"$f":"IFERROR(IF(K186<K196,K196/K186,K186/K196),\"\")","v":57.454545454545453},{"$f":"IFERROR(K186/IF((J186*L182)<150,150,J186*L182)^0.25*34.9964,\"\")","v":1.4953506990645167E-3},6,114,{"$f":"IF(OR(P186<=0,P186>1000000000),\"\",P182/P186/S181)","v":189410.52631578947},{"$f":"IF(OR(Q186=\"\",S186<=0,T182>1),\"\",IF(S186=\"Freilos\",T181/(1-(1/Q186))/Q186,IF(S186>1000000000,\"\",S186/Q186/S182)))","v":3.1677225741913971E-4},60,{"$f":"IFERROR(IF(R186<R196,R196/R186,R186/R196),\"\")","v":176.15257841573629},{"$f":"IFERROR(R186/IF((Q186*S182)<150,150,Q186*S182)^0.25*34.9964,\"\")","v":5.3139747145535129E-4}]
[4,300,{"$f":"IF(OR(B187<=0,B187>1000000000),\"\",B182/B187/E181)","v":3333.3333333333335},{"$f":"IF(OR(C187=\"\",E187<=0,F182>1),\"\",IF(E187=\"Freilos\",F181/(1-(1/C187))/C187,IF(E187>1000000000,\"\",E187/C187/E182)))","v":1.4999999999999999E-2},100,{"$f":"IFERROR(IF(D187<D196,D196/D187,D187/D196),\"\")","v":3.4939393939393941},{"$f":"IFERROR(D187/IF((C187*E182)<150,150,C187*E182)^0.25*34.9964,\"\")","v":5.8094824701900506E-2},6,10,{"$f":"IF(OR(I187<=0,I187>1000000000),\"\",I182/I187/L181)","v":100000},{"$f":"IF(OR(J187=\"\",L187<=0,M182>1),\"\",IF(L187=\"Freilos\",M181/(1-(1/J187))/J187,IF(L187>1000000000,\"\",L187/J187/L182)))","v":1E-3},150,{"$f":"IFERROR(IF(K187<K196,K196/K187,K187/K196),\"\")","v":57.454545454545453},{"$f":"IFERROR(K187/IF((J187*L182)<150,150,J187*L182)^0.25*34.9964,\"\")","v":1.7782816907518163E-3},4,3668,{"$f":"IF(OR(P187<=0,P187>1000000000),\"\",P182/P187/S181)","v":5886.8047982551798},{"$f":"IF(OR(Q187=\"\",S187<=0,T182>1),\"\",IF(S187=\"Freilos\",T181/(1-(1/Q187))/Q187,IF(S187>1000000000,\"\",S187/Q187/S182)))","v":5.0961431588307212E-3},30,{"$f":"IFERROR(IF(R187<R196,R196/R187,R187/R196),\"\")","v":10.94950596477314},{"$f":"IFERROR(R187/IF((Q187*S182)<150,150,Q187*S182)^0.25*34.9964,\"\")","v":2.0360811464934788E-2}]
[4,900,{"$f":"IF(OR(B188<=0,B188>1000000000),\"\",B182/B188/E181)","v":1111.1111111111111},{"$f":"IF(OR(C188=\"\",E188<=0,F182>1),\"\",IF(E188=\"Freilos\",F181/(1-(1/C188))/C188,IF(E188>1000000000,\"\",E188/C188/E182)))","v":2.2499999999999999E-2},50,{"$f":"IFERROR(IF(D188<D196,D196/D188,D188/D196),\"\")","v":2.3292929292929294},{"$f":"IFERROR(D188/IF((C188*E182)<150,150,C188*E182)^0.25*34.9964,\"\")","v":0.11468563361580265},5,100,{"$f":"IF(OR(I188<=0,I188>1000000000),\"\",I182/I188/L181)","v":10000},{"$f":"IF(OR(J188=\"\",L188<=0,M182>1),\"\",IF(L188=\"Freilos\",M181/(1-(1/J188))/J188,IF(L188>1000000000,\"\",L188/J188/L182)))","v":2.9999999999999996E-3},45,{"$f":"IFERROR(IF(K188<K196,K196/K188,K188/K196),\"\")","v":19.151515151515152},{"$f":"IFERROR(K188/IF((J188*L182)<150,150,J188*L182)^0.25*34.9964,\"\")","v":9.4868451477394707E-3},3,23966,{"$f":"IF(OR(P188<=0,P188>1000000000),\"\",P182/P188/S181)","v":900.97638320954684},{"$f":"IF(OR(Q188=\"\",S188<=0,T182>1),\"\",IF(S188=\"Freilos\",T181/(1-(1/Q188))/Q188,IF(S188>1000000000,\"\",S188/Q188/S182)))","v":1.1099070060390501E-2},10,{"$f":"IFERROR(IF(R188<R196,R196/R188,R188/R196),\"\")","v":5.0274707350564807},{"$f":"IFERROR(R188/IF((Q188*S182)<150,150,Q188*S182)^0.25*34.9964,\"\")","v":7.0897612880161387E-2}]
[3,1800,{"$f":"IF(OR(B189<=0,B189>1000000000),\"\",B182/B189/E181)","v":555.55555555555554},{"$f":"IF(OR(C189=\"\",E189<=0,F182>1),\"\",IF(E189=\"Freilos\",F181/(1-(1/C189))/C189,IF(E189>1000000000,\"\",E189/C189/E182)))","v":1.8000000000000002E-2},20,{"$f":"IFERROR(IF(D189<D196,D196/D189,D189/D196),\"\")","v":2.9116161616161613},{"$f":"IFERROR(D189/IF((C189*E182)<150,150,C189*E182)^0.25*34.9964,\"\")","v":0.10910797718760623},3,3500,{"$f":"IF(OR(I189<=0,I189>1000000000),\"\",I182/I189/L181)","v":285.71428571428572},{"$f":"IF(OR(J189=\"\",L189<=0,M182>1),\"\",IF(L189=\"Freilos\",M181/(1-(1/J189))/J189,IF(L189>1000000000,\"\",L189/J189/L182)))","v":6.9999999999999993E-2},30,{"$f":"IFERROR(IF(K189<K196,K196/K189,K189/K196),\"\")","v":1.2183544303797467},{"$f":"IFERROR(K189/IF((J189*L182)<150,150,J189*L182)^0.25*34.9964,\"\")","v":0.53841308765437812},3,24024,{"$f":"IF(OR(P189<=0,P189>1000000000),\"\",P182/P189/S181)","v":898.80119880119878},{"$f":"IF(OR(Q189=\"\",S189<=0,T182>1),\"\",IF(S189=\"Freilos\",T181/(1-(1/Q189))/Q189,IF(S189>1000000000,\"\",S189/Q189/S182)))","v":2.225186173168834E-2},20,{"$f":"IFERROR(IF(R189<R196,R196/R189,R189/R196),\"\")","v":2.5076665758483938},{"$f":"IFERROR(R189/IF((Q189*S182)<150,150,Q189*S182)^0.25*34.9964,\"\")","v":0.14222430286358839}]
[3,7500,{"$f":"IF(OR(B190<=0,B190>1000000000),\"\",B182/B190/E181)","v":133.33333333333334},{"$f":"IF(OR(C190=\"\",E190<=0,F182>1),\"\",IF(E190=\"Freilos\",F181/(1-(1/C190))/C190,IF(E190>1000000000,\"\",E190/C190/E182)))","v":0.03},8,{"$f":"IFERROR(IF(D190<D196,D196/D190,D190/D196),\"\")","v":1.7469696969696971},{"$f":"IFERROR(D190/IF((C190*E182)<150,150,C190*E182)^0.25*34.9964,\"\")","v":0.25980795434876691},3,5000,{"$f":"IF(OR(I190<=0,I190>1000000000),\"\",I182/I190/L181)","v":200},{"$f":"IF(OR(J190=\"\",L190<=0,M182>1),\"\",IF(L190=\"Freilos\",M181/(1-(1/J190))/J190,IF(L190>1000000000,\"\",L190/J190/L182)))","v":4.9999999999999996E-2},15,{"$f":"IFERROR(IF(K190<K196,K196/K190,K190/K196),\"\")","v":1.1490909090909092},{"$f":"IFERROR(K190/IF((J190*L182)<150,150,J190*L182)^0.25*34.9964,\"\")","v":0.42044874686812761},3,119933,{"$f":"IF(OR(P190<=0,P190>1000000000),\"\",P182/P190/S181)","v":180.04052262513235},{"$f":"IF(OR(Q190=\"\",S190<=0,T182>1),\"\",IF(S190=\"Freilos\",T181/(1-(1/Q190))/Q190,IF(S190>1000000000,\"\",S190/Q190/S182)))","v":4.9988746248749584E-2},9,{"$f":"IFERROR(IF(R190<R196,R196/R190,R190/R196),\"\")","v":1.1162562397001623},{"$f":"IFERROR(R190/IF((Q190*S182)<150,150,Q190*S182)^0.25*34.9964,\"\")","v":0.47758760846380022}]
[2,30000,{"$f":"IF(OR(B191<=0,B191>1000000000),\"\",B182/B191/E181)","v":33.333333333333336},{"$f":"IF(OR(C191=\"\",E191<=0,F182>1),\"\",IF(E191=\"Freilos\",F181/(1-(1/C191))/C191,IF(E191>1000000000,\"\",E191/C191/E182)))","v":0.09},6,{"$f":"IFERROR(IF(D191<D196,D196/D191,D191/D196),\"\")","v":1.7172593235039026},{"$f":"IFERROR(D191/IF((C191*E182)<150,150,C191*E182)^0.25*34.9964,\"\")","v":0.90000115428519967},2,45000,{"$f":"IF(OR(I191<=0,I191>1000000000),\"\",I182/I191/L181)","v":22.222222222222221},{"$f":"IF(OR(J191=\"\",L191<=0,M182>1),\"\",IF(L191=\"Freilos\",M181/(1-(1/J191))/J191,IF(L191>1000000000,\"\",L191/J191/L182)))","v":0.13500000000000001},4.5,{"$f":"IFERROR(IF(K191<K196,K196/K191,K191/K196),\"\")","v":2.3496835443037978},{"$f":"IFERROR(K191/IF((J191*L182)<150,150,J191*L182)^0.25*34.9964,\"\")","v":1.3500017314277997},3,120018,{"$f":"IF(OR(P191<=0,P191>1000000000),\"\",P182/P191/S181)","v":179.91301304804279},{"$f":"IF(OR(Q191=\"\",S191<=0,T182>1),\"\",IF(S191=\"Freilos\",T181/(1-(1/Q191))/Q191,IF(S191>1000000000,\"\",S191/Q191/S182)))","v":1.6674724908302768E-2},3,{"$f":"IFERROR(IF(R191<R196,R196/R191,R191/R196),\"\")","v":3.3463970303444377},{"$f":"IFERROR(R191/IF((Q191*S182)<150,150,Q191*S182)^0.25*34.9964,\"\")","v":0.15933691539979886}]
[2,70000,{"$f":"IF(OR(B192<=0,B192>1000000000),\"\",B182/B192/E181)","v":14.285714285714286},{"$f":"IF(OR(C192=\"\",E192<=0,F182>1),\"\",IF(E192=\"Freilos\",F181/(1-(1/C192))/C192,IF(E192>1000000000,\"\",E192/C192/E182)))","v":0.105},3,{"$f":"IFERROR(IF(D192<D196,D196/D192,D192/D196),\"\")","v":2.0034692107545533},{"$f":"IFERROR(D192/IF((C192*E182)<150,150,C192*E182)^0.25*34.9964,\"\")","v":1.0500013466660663},2,58000,{"$f":"IF(OR(I192<=0,I192>1000000000),\"\",I182/I192/L181)","v":17.241379310344829},{"$f":"IF(OR(J192=\"\",L192<=0,M182>1),\"\",IF(L192=\"Freilos\",M181/(1-(1/J192))/J192,IF(L192>1000000000,\"\",L192/J192/L182)))","v":0.11599999999999999},3,{"$f":"IFERROR(IF(K192<K196,K196/K192,K192/K196),\"\")","v":2.018987341772152},{"$f":"IFERROR(K192/IF((J192*L182)<150,150,J192*L182)^0.25*34.9964,\"\")","v":1.1600014877453684},2,1079592,{"$f":"IF(OR(P192<=0,P192>1000000000),\"\",P182/P192/S181)","v":20.000889224818266},{"$f":"IF(OR(Q192=\"\",S192<=0,T182>1),\"\",IF(S192=\"Freilos\",T181/(1-(1/Q192))/Q192,IF(S192>1000000000,\"\",S192/Q192/S182)))","v":0.29998666222074022},6,{"$f":"IFERROR(IF(R192<R196,R196/R192,R192/R196),\"\")","v":5.3760809795287665},{"$f":"IFERROR(R192/IF((Q192*S182)<150,150,Q192*S182)^0.25*34.9964,\"\")","v":2.9998704696536724}]
[1,150000,{"$f":"IF(OR(B193<=0,B193>1000000000),\"\",B182/B193/E181)","v":6.666666666666667},{"$f":"IF(OR(C193=\"\",E193<=0,F182>1),\"\",IF(E193=\"Freilos\",F181/(1-(1/C193))/C193,IF(E193>1000000000,\"\",E193/C193/E182)))","v":0.15},2,{"$f":"IFERROR(IF(D193<D196,D196/D193,D193/D196),\"\")","v":2.8620988725065044},{"$f":"IFERROR(D193/IF((C193*E182)<150,150,C193*E182)^0.25*34.9964,\"\")","v":1.5000019238086661},1,110000,{"$f":"IF(OR(I193<=0,I193>1000000000),\"\",I182/I193/L181)","v":9.0909090909090917},{"$f":"IF(OR(J193=\"\",L193<=0,M182>1),\"\",IF(L193=\"Freilos\",M181/(1-(1/J193))/J193,IF(L193>1000000000,\"\",L193/J193/L182)))","v":5.4999999999999993E-2},0.75,{"$f":"IFERROR(IF(K193<K196,K196/K193,K193/K196),\"\")","v":1.0446280991735537},{"$f":"IFERROR(K193/IF((J193*L182)<150,150,J193*L182)^0.25*34.9964,\"\")","v":0.55000070539651091},2,1199604,{"$f":"IF(OR(P193<=0,P193>1000000000),\"\",P182/P193/S181)","v":17.999939980193464},{"$f":"IF(OR(Q193=\"\",S193<=0,T182>1),\"\",IF(S193=\"Freilos\",T181/(1-(1/Q193))/Q193,IF(S193>1000000000,\"\",S193/Q193/S182)))","v":0.11111148160497944},2,{"$f":"IFERROR(IF(R193<R196,R196/R193,R193/R196),\"\")","v":1.9912362717787915},{"$f":"IFERROR(R193/IF((Q193*S182)<150,150,Q193*S182)^0.25*34.9964,\"\")","v":1.1111162410980027}]
[1,250000,{"$f":"IF(OR(B194<=0,B194>1000000000),\"\",B182/B194/E181)","v":4},{"$f":"IF(OR(C194=\"\",E194<=0,F182>1),\"\",IF(E194=\"Freilos\",F181/(1-(1/C194))/C194,IF(E194>1000000000,\"\",E194/C194/E182)))","v":0.125},1,{"$f":"IFERROR(IF(D194<D196,D196/D194,D194/D196),\"\")","v":2.3850823937554204},{"$f":"IFERROR(D194/IF((C194*E182)<150,150,C194*E182)^0.25*34.9964,\"\")","v":1.2500016031738885},1,120000,{"$f":"IF(OR(I194<=0,I194>1000000000),\"\",I182/I194/L181)","v":8.3333333333333339},{"$f":"IF(OR(J194=\"\",L194<=0,M182>1),\"\",IF(L194=\"Freilos\",M181/(1-(1/J194))/J194,IF(L194>1000000000,\"\",L194/J194/L182)))","v":0.17999999999999997},2.25,{"$f":"IFERROR(IF(K194<K196,K196/K194,K194/K196),\"\")","v":3.1329113924050627},{"$f":"IFERROR(K194/IF((J194*L182)<150,150,J194*L182)^0.25*34.9964,\"\")","v":1.8000023085703991},2,2039289,{"$f":"IF(OR(P194<=0,P194>1000000000),\"\",P182/P194/S181)","v":10.58839624986944},{"$f":"IF(OR(Q194=\"\",S194<=0,T182>1),\"\",IF(S194=\"Freilos\",T181/(1-(1/Q194))/Q194,IF(S194>1000000000,\"\",S194/Q194/S182)))","v":9.4443008780704676E-2},1,{"$f":"IFERROR(IF(R194<R196,R196/R194,R194/R196),\"\")","v":1.6925194586878252},{"$f":"IFERROR(R194/IF((Q194*S182)<150,150,Q194*S182)^0.25*34.9964,\"\")","v":0.94443129907557188}]
[null,{"$f":"IF(SUM(B184:B194)=0,\"\",SUM(B184:B194))","v":510514},{"$f":"IF(OR(B195<=0,B195>1000000000),\"\",B182/B195/E181)","v":1.9588101403683347},{"$f":"IF(SUM(D184:D194)=0,\"\",SUM(D184:D194))","v":0.57650000000000001},{"$f":"IFERROR(E182*D195,\"\")","v":1.153},{"$f":"IFERROR(AVERAGE(F184:F194),\"\")","v":6.3208659965578677},{"$f":"IF(SUM(G184:G194)=0,\"\",SUM(G184:G194))","v":5.2636551839406707},null,{"$f":"IF(SUM(I184:I194)=0,\"\",SUM(I184:I194))","v":341618},{"$f":"IF(OR(I195<=0,I195>1000000000),\"\",I182/I195/L181)","v":2.9272462223887499},{"$f":"IF(SUM(K184:K194)=0,\"\",SUM(K184:K194))","v":0.63200000000000001},{"$f":"IFERROR(L182*K195,\"\")","v":0.94799999999999995},{"$f":"IFERROR(AVERAGE(M184:M194),\"\")","v":18.663775864091274},{"$f":"IF(SUM(N184:N194)=0,\"\",SUM(N184:N194))","v":5.8528177794911294},null,{"$f":"IF(SUM(P184:P194)=0,\"\",SUM(P184:P194))","v":4610226},{"$f":"IF(OR(P195<=0,P195>1000000000),\"\",P182/P195/S181)","v":4.6836749434843323},{"$f":"IF(SUM(R184:R194)=0,\"\",SUM(R184:R194))","v":0.61380274906450294},{"$f":"IFERROR(S182*R195,\"\")","v":0.61380274906450294},{"$f":"IFERROR(AVERAGE(T184:T194),\"\")","v":112.02825478004956},{"$f":"IF(SUM(U184:U194)=0,\"\",SUM(U184:U194))","v":5.928642439433756}]
[null,null,null,{"$f":"AVERAGE(D184:D194)","v":5.2409090909090912E-2},null,null,null,null,null,null,{"$f":"AVERAGE(K184:K194)","v":5.7454545454545453E-2},null,null,null,null,null,null,{"$f":"AVERAGE(R184:R194)","v":5.580024991495481E-2}]
[]
[null,"Lottohelden GOLD 1 MIO",null,null,1,{"$f":"IFERROR(SUMIF(E201:E212,\"<>Freilos\",D201:D212),\"\")","v":0.63666666666666671},null,null,"Lottohelden GOLD 500K",null,null,1,{"$f":"IFERROR(SUMIF(L201:L212,\"<>Freilos\",K201:K212),\"\")","v":0.6316666666666666},null,null,"Lottohelden GOLD 250K",null,null,1,{"$f":"IFERROR(SUMIF(S201:S212,\"<>Freilos\",R201:R212),\"\")","v":0.6316666666666666}]
[null,6000000,null,null,{"$f":"E198*4","v":4},{"$f":"IFERROR(COUNTIF(E201:E212,\"Freilos\"),\"\")","v":0},null,null,3000000,null,null,{"$f":"L198*2","v":2},{"$f":"IFERROR(COUNTIF(L201:L212,\"Freilos\"),\"\")","v":0},null,null,1500000,null,null,{"$f":"S198*1","v":1},{"$f":"IFERROR(COUNTIF(S201:S212,\"Freilos\"),\"\")","v":0}]
[null,"Losanzahl",{"$f":"IF(E198=1,\"Chancen 1:\",\"Ø Gewinne 1:\")","v":"Chancen 1:"},"Ø AQ","(Ø) Gewinn",null,null,null,"Losanzahl",{"$f":"IF(L198=1,\"Chancen 1:\",\"Ø Gewinne 1:\")","v":"Chancen 1:"},"Ø AQ","(Ø) Gewinn",null,null,null,"Losanzahl",{"$f":"IF(S198=1,\"Chancen 1:\",\"Ø Gewinne 1:\")","v":"Chancen 1:"},"Ø AQ","(Ø) Gewinn"]
[{"$f":"IF(C201=\"\",0,IF(C201>=1000000,7,IF(C201>=100000,6,IF(C201>=10000,5,IF(C201>=1000,4,IF(C201>=100,3,IF(C201>=10,2,1)))))))","v":7},1,{"$f":"IF(OR(B201<=0,B201>1000000000),\"\",B199/B201/E198)","v":6000000},{"$f":"IF(OR(C201=\"\",E201<=0,F199>1),\"\",IF(E201=\"Freilos\",F198/(1-(1/C201))/C201,IF(E201>1000000000,\"\",E201/C201/E199)))","v":4.1666666666666664E-2},1000000,{"$f":"IFERROR(IF(D201<D214,D214/D201,D201/D214),\"\")","v":1.2733333333333334},{"$f":"IFERROR(D201/IF((C201*E199)<150,150,C201*E199)^0.25*34.9964,\"\")","v":2.0833360052898143E-2},{"$f":"IF(J201=\"\",0,IF(J201>=1000000,7,IF(J201>=100000,6,IF(J201>=10000,5,IF(J201>=1000,4,IF(J201>=100,3,IF(J201>=10,2,1)))))))","v":7},1,{"$f":"IF(OR(I201<=0,I201>1000000000),\"\",I199/I201/L198)","v":3000000},{"$f":"IF(OR(J201=\"\",L201<=0,M199>1),\"\",IF(L201=\"Freilos\",M198/(1-(1/J201))/J201,IF(L201>1000000000,\"\",L201/J201/L199)))","v":8.3333333333333329E-2},500000,{"$f":"IFERROR(IF(K201<K214,K214/K201,K201/K214),\"\")","v":1.5831134564643801},{"$f":"IFERROR(K201/IF((J201*L199)<150,150,J201*L199)^0.25*34.9964,\"\")","v":5.8925640673220807E-2},{"$f":"IF(Q201=\"\",0,IF(Q201>=1000000,7,IF(Q201>=100000,6,IF(Q201>=10000,5,IF(Q201>=1000,4,IF(Q201>=100,3,IF(Q201>=10,2,1)))))))","v":7},1,{"$f":"IF(OR(P201<=0,P201>1000000000),\"\",P199/P201/S198)","v":1500000},{"$f":"IF(OR(Q201=\"\",S201<=0,T199>1),\"\",IF(S201=\"Freilos\",T198/(1-(1/Q201))/Q201,IF(S201>1000000000,\"\",S201/Q201/S199)))","v":0.16666666666666666},250000,{"$f":"IFERROR(IF(R201<R214,R214/R201,R201/R214),\"\")","v":3.1662269129287601},{"$f":"IFERROR(R201/IF((Q201*S199)<150,150,Q201*S199)^0.25*34.9964,\"\")","v":0.16666688042318509}]
[7,4,{"$f":"IF(OR(B202<=0,B202>1000000000),\"\",B199/B202/E198)","v":1500000},{"$f":"IF(OR(C202=\"\",E202<=0,F199>1),\"\",IF(E202=\"Freilos\",F198/(1-(1/C202))/C202,IF(E202>1000000000,\"\",E202/C202/E199)))","v":3.3333333333333335E-3},20000,{"$f":"IFERROR(IF(D202<D214,D214/D202,D202/D214),\"\")","v":15.916666666666666},{"$f":"IFERROR(D202/IF((C202*E199)<150,150,C202*E199)^0.25*34.9964,\"\")","v":2.3570256269288326E-3},6,4,{"$f":"IF(OR(I202<=0,I202>1000000000),\"\",I199/I202/L198)","v":750000},{"$f":"IF(OR(J202=\"\",L202<=0,M199>1),\"\",IF(L202=\"Freilos\",M198/(1-(1/J202))/J202,IF(L202>1000000000,\"\",L202/J202/L199)))","v":6.6666666666666671E-3},10000,{"$f":"IFERROR(IF(K202<K214,K214/K202,K202/K214),\"\")","v":7.8958333333333313},{"$f":"IFERROR(K202/IF((J202*L199)<150,150,J202*L199)^0.25*34.9964,\"\")","v":6.6666752169274035E-3},6,2,{"$f":"IF(OR(P202<=0,P202>1000000000),\"\",P199/P202/S198)","v":750000},{"$f":"IF(OR(Q202=\"\",S202<=0,T199>1),\"\",IF(S202=\"Freilos\",T198/(1-(1/Q202))/Q202,IF(S202>1000000000,\"\",S202/Q202/S199)))","v":6.6666666666666671E-3},5000,{"$f":"IFERROR(IF(R202<R214,R214/R202,R202/R214),\"\")","v":7.8958333333333313},{"$f":"IFERROR(R202/IF((Q202*S199)<150,150,Q202*S199)^0.25*34.9964,\"\")","v":7.9280576013823784E-3}]
[6,20,{"$f":"IF(OR(B203<=0,B203>1000000000),\"\",B199/B203/E198)","v":300000},{"$f":"IF(OR(C203=\"\",E203<=0,F199>1),\"\",IF(E203=\"Freilos\",F198/(1-(1/C203))/C203,IF(E203>1000000000,\"\",E203/C203/E199)))","v":8.3333333333333332E-3},10000,{"$f":"IFERROR(IF(D203<D214,D214/D203,D203/D214),\"\")","v":6.3666666666666671},{"$f":"IFERROR(D203/IF((C203*E199)<150,150,C203*E199)^0.25*34.9964,\"\")","v":8.8114384963380345E-3},6,10,{"$f":"IF(OR(I203<=0,I203>1000000000),\"\",I199/I203/L198)","v":300000},{"$f":"IF(OR(J203=\"\",L203<=0,M199>1),\"\",IF(L203=\"Freilos\",M198/(1-(1/J203))/J203,IF(L203>1000000000,\"\",L203/J203/L199)))","v":8.3333333333333332E-3},5000,{"$f":"IFERROR(IF(K203<K214,K214/K203,K203/K214),\"\")","v":6.3166666666666655},{"$f":"IFERROR(K203/IF((J203*L199)<150,150,J203*L199)^0.25*34.9964,\"\")","v":1.0478625353254068E-2},6,5,{"$f":"IF(OR(P203<=0,P203>1000000000),\"\",P199/P203/S198)","v":300000},{"$f":"IF(OR(Q203=\"\",S203<=0,T199>1),\"\",IF(S203=\"Freilos\",T198/(1-(1/Q203))/Q203,IF(S203>1000000000,\"\",S203/Q203/S199)))","v":8.3333333333333332E-3},2500,{"$f":"IFERROR(IF(R203<R214,R214/R203,R203/R214),\"\")","v":6.3166666666666655},{"$f":"IFERROR(R203/IF((Q203*S199)<150,150,Q203*S199)^0.25*34.9964,\"\")","v":1.2461255825537637E-2}]
[5,100,{"$f":"IF(OR(B204<=0,B204>1000000000),\"\",B199/B204/E198)","v":60000},{"$f":"IF(OR(C204=\"\",E204<=0,F199>1),\"\",IF(E204=\"Freilos\",F198/(1-(1/C204))/C204,IF(E204>1000000000,\"\",E204/C204/E199)))","v":8.3333333333333332E-3},2000,{"$f":"IFERROR(IF(D204<D214,D214/D204,D204/D214),\"\")","v":6.3666666666666671},{"$f":"IFERROR(D204/IF((C204*E199)<150,150,C204*E199)^0.25*34.9964,\"\")","v":1.317617381630482E-2},5,50,{"$f":"IF(OR(I204<=0,I204>1000000000),\"\",I199/I204/L198)","v":60000},{"$f":"IF(OR(J204=\"\",L204<=0,M199>1),\"\",IF(L204=\"Freilos\",M198/(1-(1/J204))/J204,IF(L204>1000000000,\"\",L204/J204/L199)))","v":8.3333333333333332E-3},1000,{"$f":"IFERROR(IF(K204<K214,K214/K204,K204/K214),\"\")","v":6.3166666666666655},{"$f":"IFERROR(K204/IF((J204*L199)<150,150,J204*L199)^0.25*34.9964,\"\")","v":1.5669199650862251E-2},5,25,{"$f":"IF(OR(P204<=0,P204>1000000000),\"\",P199/P204/S198)","v":60000},{"$f":"IF(OR(Q204=\"\",S204<=0,T199>1),\"\",IF(S204=\"Freilos\",T198/(1-(1/Q204))/Q204,IF(S204>1000000000,\"\",S204/Q204/S199)))","v":8.3333333333333332E-3},500,{"$f":"IFERROR(IF(R204<R214,R214/R204,R204/R214),\"\")","v":6.3166666666666655},{"$f":"IFERROR(R204/IF((Q204*S199)<150,150,Q204*S199)^0.25*34.9964,\"\")","v":1.8633923711203544E-2}]
[5,200,{"$f":"IF(OR(B205<=0,B205>1000000000),\"\",B199/B205/E198)","v":30000},{"$f":"IF(OR(C205=\"\",E205<=0,F199>1),\"\",IF(E205=\"Freilos\",F198/(1-(1/C205))/C205,IF(E205>1000000000,\"\",E205/C205/E199)))","v":8.3333333333333332E-3},1000,{"$f":"IFERROR(IF(D205<D214,D214/D205,D205/D214),\"\")","v":6.3666666666666671},{"$f":"IFERROR(D205/IF((C205*E199)<150,150,C205*E199)^0.25*34.9964,\"\")","v":1.5669199650862251E-2},5,100,{"$f":"IF(OR(I205<=0,I205>1000000000),\"\",I199/I205/L198)","v":30000},{"$f":"IF(OR(J205=\"\",L205<=0,M199>1),\"\",IF(L205=\"Freilos\",M198/(1-(1/J205))/J205,IF(L205>1000000000,\"\",L205/J205/L199)))","v":8.3333333333333332E-3},500,{"$f":"IFERROR(IF(K205<K214,K214/K205,K205/K214),\"\")","v":6.3166666666666655},{"$f":"IFERROR(K205/IF((J205*L199)<150,150,J205*L199)^0.25*34.9964,\"\")","v":1.8633923711203544E-2},5,50,{"$f":"IF(OR(P205<=0,P205>1000000000),\"\",P199/P205/S198)","v":30000},{"$f":"IF(OR(Q205=\"\",S205<=0,T199>1),\"\",IF(S205=\"Freilos\",T198/(1-(1/Q205))/Q205,IF(S205>1000000000,\"\",S205/Q205/S199)))","v":8.3333333333333332E-3},250,{"$f":"IFERROR(IF(R205<R214,R214/R205,R205/R214),\"\")","v":6.3166666666666655},{"$f":"IFERROR(R205/IF((Q205*S199)<150,150,Q205*S199)^0.25*34.9964,\"\")","v":2.2159594657781157E-2}]
[4,800,{"$f":"IF(OR(B206<=0,B206>1000000000),\"\",B199/B206/E198)","v":7500},{"$f":"IF(OR(C206=\"\",E206<=0,F199>1),\"\",IF(E206=\"Freilos\",F198/(1-(1/C206))/C206,IF(E206>1000000000,\"\",E206/C206/E199)))","v":1.6666666666666666E-2},500,{"$f":"IFERROR(IF(D206<D214,D214/D206,D206/D214),\"\")","v":3.1833333333333336},{"$f":"IFERROR(D206/IF((C206*E199)<150,150,C206*E199)^0.25*34.9964,\"\")","v":4.4319189315562314E-2},4,400,{"$f":"IF(OR(I206<=0,I206>1000000000),\"\",I199/I206/L198)","v":7500},{"$f":"IF(OR(J206=\"\",L206<=0,M199>1),\"\",IF(L206=\"Freilos\",M198/(1-(1/J206))/J206,IF(L206>1000000000,\"\",L206/J206/L199)))","v":1.6666666666666666E-2},250,{"$f":"IFERROR(IF(K206<K214,K214/K206,K206/K214),\"\")","v":3.1583333333333328},{"$f":"IFERROR(K206/IF((J206*L199)<150,150,J206*L199)^0.25*34.9964,\"\")","v":5.2704695265219287E-2},4,200,{"$f":"IF(OR(P206<=0,P206>1000000000),\"\",P199/P206/S198)","v":7500},{"$f":"IF(OR(Q206=\"\",S206<=0,T199>1),\"\",IF(S206=\"Freilos\",T198/(1-(1/Q206))/Q206,IF(S206>1000000000,\"\",S206/Q206/S199)))","v":1.6666666666666666E-2},125,{"$f":"IFERROR(IF(R206<R214,R214/R206,R206/R214),\"\")","v":3.1583333333333328},{"$f":"IFERROR(R206/IF((Q206*S199)<150,150,Q206*S199)^0.25*34.9964,\"\")","v":6.2676798603449005E-2}]
[4,2000,{"$f":"IF(OR(B207<=0,B207>1000000000),\"\",B199/B207/E198)","v":3000},{"$f":"IF(OR(C207=\"\",E207<=0,F199>1),\"\",IF(E207=\"Freilos\",F198/(1-(1/C207))/C207,IF(E207>1000000000,\"\",E207/C207/E199)))","v":1.6666666666666666E-2},200,{"$f":"IFERROR(IF(D207<D214,D214/D207,D207/D214),\"\")","v":3.1833333333333336},{"$f":"IFERROR(D207/IF((C207*E199)<150,150,C207*E199)^0.25*34.9964,\"\")","v":5.5728430221834852E-2},4,1000,{"$f":"IF(OR(I207<=0,I207>1000000000),\"\",I199/I207/L198)","v":3000},{"$f":"IF(OR(J207=\"\",L207<=0,M199>1),\"\",IF(L207=\"Freilos\",M198/(1-(1/J207))/J207,IF(L207>1000000000,\"\",L207/J207/L199)))","v":1.6666666666666666E-2},100,{"$f":"IFERROR(IF(K207<K214,K214/K207,K207/K214),\"\")","v":3.1583333333333328},{"$f":"IFERROR(K207/IF((J207*L199)<150,150,J207*L199)^0.25*34.9964,\"\")","v":6.627264572773868E-2},4,500,{"$f":"IF(OR(P207<=0,P207>1000000000),\"\",P199/P207/S198)","v":3000},{"$f":"IF(OR(Q207=\"\",S207<=0,T199>1),\"\",IF(S207=\"Freilos\",T198/(1-(1/Q207))/Q207,IF(S207>1000000000,\"\",S207/Q207/S199)))","v":1.6666666666666666E-2},50,{"$f":"IFERROR(IF(R207<R214,R214/R207,R207/R214),\"\")","v":3.1583333333333328},{"$f":"IFERROR(R207/IF((Q207*S199)<150,150,Q207*S199)^0.25*34.9964,\"\")","v":7.8811901829481515E-2}]
[4,5000,{"$f":"IF(OR(B208<=0,B208>1000000000),\"\",B199/B208/E198)","v":1200},{"$f":"IF(OR(C208=\"\",E208<=0,F199>1),\"\",IF(E208=\"Freilos\",F198/(1-(1/C208))/C208,IF(E208>1000000000,\"\",E208/C208/E199)))","v":1.6666666666666666E-2},80,{"$f":"IFERROR(IF(D208<D214,D214/D208,D208/D214),\"\")","v":3.1833333333333336},{"$f":"IFERROR(D208/IF((C208*E199)<150,150,C208*E199)^0.25*34.9964,\"\")","v":7.0074791144687926E-2},4,2500,{"$f":"IF(OR(I208<=0,I208>1000000000),\"\",I199/I208/L198)","v":1200},{"$f":"IF(OR(J208=\"\",L208<=0,M199>1),\"\",IF(L208=\"Freilos\",M198/(1-(1/J208))/J208,IF(L208>1000000000,\"\",L208/J208/L199)))","v":1.6666666666666666E-2},40,{"$f":"IFERROR(IF(K208<K214,K214/K208,K208/K214),\"\")","v":3.1583333333333328},{"$f":"IFERROR(K208/IF((J208*L199)<150,150,J208*L199)^0.25*34.9964,\"\")","v":8.3333440211592558E-2},4,1250,{"$f":"IF(OR(P208<=0,P208>1000000000),\"\",P199/P208/S198)","v":1200},{"$f":"IF(OR(Q208=\"\",S208<=0,T199>1),\"\",IF(S208=\"Freilos\",T198/(1-(1/Q208))/Q208,IF(S208>1000000000,\"\",S208/Q208/S199)))","v":1.6666666666666666E-2},20,{"$f":"IFERROR(IF(R208<R214,R214/R208,R208/R214),\"\")","v":3.1583333333333328},{"$f":"IFERROR(R208/IF((Q208*S199)<150,150,Q208*S199)^0.25*34.9964,\"\")","v":9.9100720017279723E-2}]
[3,20000,{"$f":"IF(OR(B209<=0,B209>1000000000),\"\",B199/B209/E198)","v":300},{"$f":"IF(OR(C209=\"\",E209<=0,F199>1),\"\",IF(E209=\"Freilos\",F198/(1-(1/C209))/C209,IF(E209>1000000000,\"\",E209/C209/E199)))","v":1.6666666666666666E-2},20,{"$f":"IFERROR(IF(D209<D214,D214/D209,D209/D214),\"\")","v":3.1833333333333336},{"$f":"IFERROR(D209/IF((C209*E199)<150,150,C209*E199)^0.25*34.9964,\"\")","v":9.9100720017279723E-2},3,10000,{"$f":"IF(OR(I209<=0,I209>1000000000),\"\",I199/I209/L198)","v":300},{"$f":"IF(OR(J209=\"\",L209<=0,M199>1),\"\",IF(L209=\"Freilos\",M198/(1-(1/J209))/J209,IF(L209>1000000000,\"\",L209/J209/L199)))","v":1.6666666666666666E-2},10,{"$f":"IFERROR(IF(K209<K214,K214/K209,K209/K214),\"\")","v":3.1583333333333328},{"$f":"IFERROR(K209/IF((J209*L199)<150,150,J209*L199)^0.25*34.9964,\"\")","v":0.11785128134644164},3,5000,{"$f":"IF(OR(P209<=0,P209>1000000000),\"\",P199/P209/S198)","v":300},{"$f":"IF(OR(Q209=\"\",S209<=0,T199>1),\"\",IF(S209=\"Freilos\",T198/(1-(1/Q209))/Q209,IF(S209>1000000000,\"\",S209/Q209/S199)))","v":1.6666666666666666E-2},5,{"$f":"IFERROR(IF(R209<R214,R214/R209,R209/R214),\"\")","v":3.1583333333333328},{"$f":"IFERROR(R209/IF((Q209*S199)<150,150,Q209*S199)^0.25*34.9964,\"\")","v":0.14014958228937588}]
[2,500000,{"$f":"IF(OR(B210<=0,B210>1000000000),\"\",B199/B210/E198)","v":12},{"$f":"IF(OR(C210=\"\",E210<=0,F199>1),\"\",IF(E210=\"Freilos\",F198/(1-(1/C210))/C210,IF(E210>1000000000,\"\",E210/C210/E199)))","v":0.16666666666666666},8,{"$f":"IFERROR(IF(D210<D214,D214/D210,D210/D214),\"\")","v":3.1413612565445024},{"$f":"IFERROR(D210/IF((C210*E199)<150,150,C210*E199)^0.25*34.9964,\"\")","v":1.6666688042318514},2,200000,{"$f":"IF(OR(I210<=0,I210>1000000000),\"\",I199/I210/L198)","v":15},{"$f":"IF(OR(J210=\"\",L210<=0,M199>1),\"\",IF(L210=\"Freilos\",M198/(1-(1/J210))/J210,IF(L210>1000000000,\"\",L210/J210/L199)))","v":0.13333333333333333},4,{"$f":"IFERROR(IF(K210<K214,K214/K210,K210/K214),\"\")","v":2.5329815303430081},{"$f":"IFERROR(K210/IF((J210*L199)<150,150,J210*L199)^0.25*34.9964,\"\")","v":1.3333350433854811},2,50000,{"$f":"IF(OR(P210<=0,P210>1000000000),\"\",P199/P210/S198)","v":30},{"$f":"IF(OR(Q210=\"\",S210<=0,T199>1),\"\",IF(S210=\"Freilos\",T198/(1-(1/Q210))/Q210,IF(S210>1000000000,\"\",S210/Q210/S199)))","v":6.6666666666666666E-2},2,{"$f":"IFERROR(IF(R210<R214,R214/R210,R210/R214),\"\")","v":1.2664907651715041},{"$f":"IFERROR(R210/IF((Q210*S199)<150,150,Q210*S199)^0.25*34.9964,\"\")","v":0.66666752169274057}]
[1,1200000,{"$f":"IF(OR(B211<=0,B211>1000000000),\"\",B199/B211/E198)","v":5},{"$f":"IF(OR(C211=\"\",E211<=0,F199>1),\"\",IF(E211=\"Freilos\",F198/(1-(1/C211))/C211,IF(E211>1000000000,\"\",E211/C211/E199)))","v":0.1},2,{"$f":"IFERROR(IF(D211<D214,D214/D211,D211/D214),\"\")","v":1.8848167539267016},{"$f":"IFERROR(D211/IF((C211*E199)<150,150,C211*E199)^0.25*34.9964,\"\")","v":1.0000012825391109},1,600000,{"$f":"IF(OR(I211<=0,I211>1000000000),\"\",I199/I211/L198)","v":5},{"$f":"IF(OR(J211=\"\",L211<=0,M199>1),\"\",IF(L211=\"Freilos\",M198/(1-(1/J211))/J211,IF(L211>1000000000,\"\",L211/J211/L199)))","v":0.2},2,{"$f":"IFERROR(IF(K211<K214,K214/K211,K211/K214),\"\")","v":3.7994722955145126},{"$f":"IFERROR(K211/IF((J211*L199)<150,150,J211*L199)^0.25*34.9964,\"\")","v":2.0000025650782218},1,225000,{"$f":"IF(OR(P211<=0,P211>1000000000),\"\",P199/P211/S198)","v":6.666666666666667},{"$f":"IF(OR(Q211=\"\",S211<=0,T199>1),\"\",IF(S211=\"Freilos\",T198/(1-(1/Q211))/Q211,IF(S211>1000000000,\"\",S211/Q211/S199)))","v":0.15},1,{"$f":"IFERROR(IF(R211<R214,R214/R211,R211/R214),\"\")","v":2.8496042216358841},{"$f":"IFERROR(R211/IF((Q211*S199)<150,150,Q211*S199)^0.25*34.9964,\"\")","v":1.5000019238086661}]
[1,1400000,{"$f":"IF(OR(B212<=0,B212>1000000000),\"\",B199/B212/E198)","v":4.2857142857142856},{"$f":"IF(OR(C212=\"\",E212<=0,F199>1),\"\",IF(E212=\"Freilos\",F198/(1-(1/C212))/C212,IF(E212>1000000000,\"\",E212/C212/E199)))","v":0.23333333333333334},4,{"$f":"IFERROR(IF(D212<D214,D214/D212,D212/D214),\"\")","v":4.3979057591623034},{"$f":"IFERROR(D212/IF((C212*E199)<150,150,C212*E199)^0.25*34.9964,\"\")","v":2.3333363259245918},1,700000,{"$f":"IF(OR(I212<=0,I212>1000000000),\"\",I199/I212/L198)","v":4.2857142857142856},{"$f":"IF(OR(J212=\"\",L212<=0,M199>1),\"\",IF(L212=\"Freilos\",M198/(1-(1/J212))/J212,IF(L212>1000000000,\"\",L212/J212/L199)))","v":0.11666666666666667},1,{"$f":"IFERROR(IF(K212<K214,K214/K212,K212/K214),\"\")","v":2.2163588390501321},{"$f":"IFERROR(K212/IF((J212*L199)<150,150,J212*L199)^0.25*34.9964,\"\")","v":1.1666681629622959},1,450000,{"$f":"IF(OR(P212<=0,P212>1000000000),\"\",P199/P212/S198)","v":3.3333333333333335},{"$f":"IF(OR(Q212=\"\",S212<=0,T199>1),\"\",IF(S212=\"Freilos\",T198/(1-(1/Q212))/Q212,IF(S212>1000000000,\"\",S212/Q212/S199)))","v":0.15},0.5,{"$f":"IFERROR(IF(R212<R214,R214/R212,R212/R214),\"\")","v":2.8496042216358841},{"$f":"IFERROR(R212/IF((Q212*S199)<150,150,Q212*S199)^0.25*34.9964,\"\")","v":1.5000019238086661}]
[null,{"$f":"IF(SUM(B201:B212)=0,\"\",SUM(B201:B212))","v":3128125},{"$f":"IF(OR(B213<=0,B213>1000000000),\"\",B199/B213/E198)","v":1.9180819180819182},{"$f":"IF(SUM(D201:D212)=0,\"\",SUM(D201:D212))","v":0.63666666666666671},{"$f":"IFERROR(E199*D213,\"\")","v":2.5466666666666669},{"$f":"IFERROR(AVERAGE(F201:F212),\"\")","v":4.8706180919139035},{"$f":"IF(SUM(G201:G212)=0,\"\",SUM(G201:G212))","v":5.3300767410382512},null,{"$f":"IF(SUM(I201:I212)=0,\"\",SUM(I201:I212))","v":1514065},{"$f":"IF(OR(I213<=0,I213>1000000000),\"\",I199/I213/L198)","v":1.9814208769108328},{"$f":"IF(SUM(K201:K212)=0,\"\",SUM(K201:K212))","v":0.6316666666666666},{"$f":"IFERROR(L199*K213,\"\")","v":1.2633333333333332},{"$f":"IFERROR(AVERAGE(M201:M212),\"\")","v":4.1342577323365575},{"$f":"IF(SUM(N201:N212)=0,\"\",SUM(N201:N212))","v":4.9305418985824589},null,{"$f":"IF(SUM(P201:P212)=0,\"\",SUM(P201:P212))","v":732033},{"$f":"IF(OR(P213<=0,P213>1000000000),\"\",P199/P213/S198)","v":2.0490879509530306},{"$f":"IF(SUM(R201:R212)=0,\"\",SUM(R201:R212))","v":0.6316666666666666},{"$f":"IFERROR(S199*R213,\"\")","v":0.6316666666666666},{"$f":"IFERROR(AVERAGE(T201:T212),\"\")","v":4.1342577323365584},{"$f":"IF(SUM(U201:U212)=0,\"\",SUM(U201:U212))","v":4.2752600842687487}]
[null,null,null,{"$f":"AVERAGE(D201:D212)","v":5.3055555555555557E-2},null,null,null,null,null,null,{"$f":"AVERAGE(K201:K212)","v":5.2638888888888881E-2},null,null,null,null,null,null,{"$f":"AVERAGE(R201:R212)","v":5.2638888888888881E-2}]
[]
[null,"Schatz des Pharao",null,null,1,{"$f":"IFERROR(SUMIF(E219:E231,\"<>Freilos\",D219:D231),\"\")","v":0.63133333333333341},null,null,"Cool Cash",null,null,1,{"$f":"IFERROR(SUMIF(L219:L231,\"<>Freilos\",K219:K231),\"\")","v":0.624},null,null,"Elfmeter",null,null,1,{"$f":"IFERROR(SUMIF(S219:S231,\"<>Freilos\",R219:R231),\"\")","v":0.64024999999999999}]
[null,6000000,null,null,{"$f":"E216*5","v":5},{"$f":"IFERROR(COUNTIF(E219:E231,\"Freilos\"),\"\")","v":0},null,null,3000000,null,null,{"$f":"L216*3","v":3},{"$f":"IFERROR(COUNTIF(L219:L231,\"Freilos\"),\"\")","v":0},null,null,4000000,null,null,{"$f":"S216*1","v":1},{"$f":"IFERROR(COUNTIF(S219:S231,\"Freilos\"),\"\")","v":0}]
[null,"Losanzahl",{"$f":"IF(E216=1,\"Chancen 1:\",\"Ø Gewinne 1:\")","v":"Chancen 1:"},"Ø AQ","(Ø) Gewinn",null,null,null,"Losanzahl",{"$f":"IF(L216=1,\"Chancen 1:\",\"Ø Gewinne 1:\")","v":"Chancen 1:"},"Ø AQ","(Ø) Gewinn",null,null,null,"Losanzahl",{"$f":"IF(S216=1,\"Chancen 1:\",\"Ø Gewinne 1:\")","v":"Chancen 1:"},"Ø AQ","(Ø) Gewinn"]
[7,1,{"$f":"IF(OR(B219<=0,B219>1000000000),\"\",B217/B219/E216)","v":6000000},{"$f":"IF(OR(C219=\"\",E219<=0,F217>1),\"\",IF(E219=\"Freilos\",F216/(1-(1/C219))/C219,IF(E219>1000000000,\"\",E219/C219/E217)))","v":1.6666666666666666E-2},500000,{"$f":"IFERROR(IF(D219<D233,D233/D219,D219/D233),\"\")","v":2.913846153846154},{"$f":"IFERROR(D219/IF((C219*E217)<150,150,C219*E217)^0.25*34.9964,\"\")","v":7.8811901829481529E-3},7,3,{"$f":"IF(OR(I219<=0,I219>1000000000),\"\",I217/I219/L216)","v":1000000},{"$f":"IF(OR(J219=\"\",L219<=0,M217>1),\"\",IF(L219=\"Freilos\",M216/(1-(1/J219))/J219,IF(L219>1000000000,\"\",L219/J219/L217)))","v":0.02},60000,{"$f":"IFERROR(IF(K219<K233,K233/K219,K219/K233),\"\")","v":2.4},{"$f":"IFERROR(K219/IF((J219*L217)<150,150,J219*L217)^0.25*34.9964,\"\")","v":1.68179498747251E-2},6,11,{"$f":"IF(OR(P219<=0,P219>1000000000),\"\",P217/P219/S216)","v":363636.36363636365},{"$f":"IF(OR(Q219=\"\",S219<=0,T217>1),\"\",IF(S219=\"Freilos\",T216/(1-(1/Q219))/Q219,IF(S219>1000000000,\"\",S219/Q219/S217)))","v":3.0249999999999999E-2},11000,{"$f":"IFERROR(IF(R219<R233,R233/R219,R219/R233),\"\")","v":1.6280991735537191},{"$f":"IFERROR(R219/IF((Q219*S217)<150,150,Q219*S217)^0.25*34.9964,\"\")","v":4.3110387267610288E-2}]
[7,3,{"$f":"IF(OR(B220<=0,B220>1000000000),\"\",B217/B220/E216)","v":2000000},{"$f":"IF(OR(C220=\"\",E220<=0,F217>1),\"\",IF(E220=\"Freilos\",F216/(1-(1/C220))/C220,IF(E220>1000000000,\"\",E220/C220/E217)))","v":0.01},100000,{"$f":"IFERROR(IF(D220<D233,D233/D220,D220/D233),\"\")","v":4.8564102564102569},{"$f":"IFERROR(D220/IF((C220*E217)<150,150,C220*E217)^0.25*34.9964,\"\")","v":6.2233377545486161E-3},6,4,{"$f":"IF(OR(I220<=0,I220>1000000000),\"\",I217/I220/L216)","v":750000},{"$f":"IF(OR(J220=\"\",L220<=0,M217>1),\"\",IF(L220=\"Freilos\",M216/(1-(1/J220))/J220,IF(L220>1000000000,\"\",L220/J220/L217)))","v":4.0000000000000001E-3},9000,{"$f":"IFERROR(IF(K220<K233,K233/K220,K220/K233),\"\")","v":12},{"$f":"IFERROR(K220/IF((J220*L217)<150,150,J220*L217)^0.25*34.9964,\"\")","v":3.6144126500590201E-3},6,20,{"$f":"IF(OR(P220<=0,P220>1000000000),\"\",P217/P220/S216)","v":200000},{"$f":"IF(OR(Q220=\"\",S220<=0,T217>1),\"\",IF(S220=\"Freilos\",T216/(1-(1/Q220))/Q220,IF(S220>1000000000,\"\",S220/Q220/S217)))","v":5.0000000000000001E-3},1000,{"$f":"IFERROR(IF(R220<R233,R233/R220,R220/R233),\"\")","v":9.85},{"$f":"IFERROR(R220/IF((Q220*S217)<150,150,Q220*S217)^0.25*34.9964,\"\")","v":8.2743879113296864E-3}]
[7,5,{"$f":"IF(OR(B221<=0,B221>1000000000),\"\",B217/B221/E216)","v":1200000},{"$f":"IF(OR(C221=\"\",E221<=0,F217>1),\"\",IF(E221=\"Freilos\",F216/(1-(1/C221))/C221,IF(E221>1000000000,\"\",E221/C221/E217)))","v":8.3333333333333332E-3},50000,{"$f":"IFERROR(IF(D221<D233,D233/D221,D221/D233),\"\")","v":5.8276923076923079},{"$f":"IFERROR(D221/IF((C221*E217)<150,150,C221*E217)^0.25*34.9964,\"\")","v":5.8925640673220805E-3},6,10,{"$f":"IF(OR(I221<=0,I221>1000000000),\"\",I217/I221/L216)","v":300000},{"$f":"IF(OR(J221=\"\",L221<=0,M217>1),\"\",IF(L221=\"Freilos\",M216/(1-(1/J221))/J221,IF(L221>1000000000,\"\",L221/J221/L217)))","v":5.0000000000000001E-3},4500,{"$f":"IFERROR(IF(K221<K233,K233/K221,K221/K233),\"\")","v":9.6},{"$f":"IFERROR(K221/IF((J221*L217)<150,150,J221*L217)^0.25*34.9964,\"\")","v":5.6811041185663757E-3},5,100,{"$f":"IF(OR(P221<=0,P221>1000000000),\"\",P217/P221/S216)","v":40000},{"$f":"IF(OR(Q221=\"\",S221<=0,T217>1),\"\",IF(S221=\"Freilos\",T216/(1-(1/Q221))/Q221,IF(S221>1000000000,\"\",S221/Q221/S217)))","v":5.0000000000000001E-3},200,{"$f":"IFERROR(IF(R221<R233,R233/R221,R221/R233),\"\")","v":9.85},{"$f":"IFERROR(R221/IF((Q221*S217)<150,150,Q221*S217)^0.25*34.9964,\"\")","v":1.2373095878558451E-2}]
[6,10,{"$f":"IF(OR(B222<=0,B222>1000000000),\"\",B217/B222/E216)","v":600000},{"$f":"IF(OR(C222=\"\",E222<=0,F217>1),\"\",IF(E222=\"Freilos\",F216/(1-(1/C222))/C222,IF(E222>1000000000,\"\",E222/C222/E217)))","v":3.3333333333333331E-3},10000,{"$f":"IFERROR(IF(D222<D233,D233/D222,D222/D233),\"\")","v":14.569230769230771},{"$f":"IFERROR(D222/IF((C222*E217)<150,150,C222*E217)^0.25*34.9964,\"\")","v":2.8029916457875162E-3},5,50,{"$f":"IF(OR(I222<=0,I222>1000000000),\"\",I217/I222/L216)","v":60000},{"$f":"IF(OR(J222=\"\",L222<=0,M217>1),\"\",IF(L222=\"Freilos\",M216/(1-(1/J222))/J222,IF(L222>1000000000,\"\",L222/J222/L217)))","v":5.0000000000000001E-3},900,{"$f":"IFERROR(IF(K222<K233,K233/K222,K222/K233),\"\")","v":9.6},{"$f":"IFERROR(K222/IF((J222*L217)<150,150,J222*L217)^0.25*34.9964,\"\")","v":8.4952321196890869E-3},5,200,{"$f":"IF(OR(P222<=0,P222>1000000000),\"\",P217/P222/S216)","v":20000},{"$f":"IF(OR(Q222=\"\",S222<=0,T217>1),\"\",IF(S222=\"Freilos\",T216/(1-(1/Q222))/Q222,IF(S222>1000000000,\"\",S222/Q222/S217)))","v":5.0000000000000001E-3},100,{"$f":"IFERROR(IF(R222<R233,R233/R222,R222/R233),\"\")","v":9.85},{"$f":"IFERROR(R222/IF((Q222*S217)<150,150,Q222*S217)^0.25*34.9964,\"\")","v":1.4714173653392551E-2}]
[5,100,{"$f":"IF(OR(B223<=0,B223>1000000000),\"\",B217/B223/E216)","v":60000},{"$f":"IF(OR(C223=\"\",E223<=0,F217>1),\"\",IF(E223=\"Freilos\",F216/(1-(1/C223))/C223,IF(E223>1000000000,\"\",E223/C223/E217)))","v":6.6666666666666662E-3},2000,{"$f":"IFERROR(IF(D223<D233,D233/D223,D223/D233),\"\")","v":7.2846153846153854},{"$f":"IFERROR(D223/IF((C223*E217)<150,150,C223*E217)^0.25*34.9964,\"\")","v":9.96900466043011E-3},5,100,{"$f":"IF(OR(I223<=0,I223>1000000000),\"\",I217/I223/L216)","v":30000},{"$f":"IF(OR(J223=\"\",L223<=0,M217>1),\"\",IF(L223=\"Freilos\",M216/(1-(1/J223))/J223,IF(L223>1000000000,\"\",L223/J223/L217)))","v":5.0000000000000001E-3},450,{"$f":"IFERROR(IF(K223<K233,K233/K223,K223/K233),\"\")","v":9.6},{"$f":"IFERROR(K223/IF((J223*L217)<150,150,J223*L217)^0.25*34.9964,\"\")","v":1.010259048033391E-2},5,400,{"$f":"IF(OR(P223<=0,P223>1000000000),\"\",P217/P223/S216)","v":10000},{"$f":"IF(OR(Q223=\"\",S223<=0,T217>1),\"\",IF(S223=\"Freilos\",T216/(1-(1/Q223))/Q223,IF(S223>1000000000,\"\",S223/Q223/S217)))","v":5.0000000000000001E-3},50,{"$f":"IFERROR(IF(R223<R233,R233/R223,R223/R233),\"\")","v":9.85},{"$f":"IFERROR(R223/IF((Q223*S217)<150,150,Q223*S217)^0.25*34.9964,\"\")","v":1.7498199999999998E-2}]
[4,2040,{"$f":"IF(OR(B224<=0,B224>1000000000),\"\",B217/B224/E216)","v":2941.1764705882351},{"$f":"IF(OR(C224=\"\",E224<=0,F217>1),\"\",IF(E224=\"Freilos\",F216/(1-(1/C224))/C224,IF(E224>1000000000,\"\",E224/C224/E217)))","v":3.4000000000000002E-2},500,{"$f":"IFERROR(IF(D224<D233,D233/D224,D224/D233),\"\")","v":1.4283559577677225},{"$f":"IFERROR(D224/IF((C224*E217)<150,150,C224*E217)^0.25*34.9964,\"\")","v":0.10805118072527055},4,400,{"$f":"IF(OR(I224<=0,I224>1000000000),\"\",I217/I224/L216)","v":7500},{"$f":"IF(OR(J224=\"\",L224<=0,M217>1),\"\",IF(L224=\"Freilos\",M216/(1-(1/J224))/J224,IF(L224>1000000000,\"\",L224/J224/L217)))","v":1.3333333333333334E-2},300,{"$f":"IFERROR(IF(K224<K233,K233/K224,K224/K233),\"\")","v":3.5999999999999996},{"$f":"IFERROR(K224/IF((J224*L217)<150,150,J224*L217)^0.25*34.9964,\"\")","v":3.8099254593038777E-2},4,800,{"$f":"IF(OR(P224<=0,P224>1000000000),\"\",P217/P224/S216)","v":5000},{"$f":"IF(OR(Q224=\"\",S224<=0,T217>1),\"\",IF(S224=\"Freilos\",T216/(1-(1/Q224))/Q224,IF(S224>1000000000,\"\",S224/Q224/S217)))","v":5.0000000000000001E-3},25,{"$f":"IFERROR(IF(R224<R233,R233/R224,R224/R233),\"\")","v":9.85},{"$f":"IFERROR(R224/IF((Q224*S217)<150,150,Q224*S217)^0.25*34.9964,\"\")","v":2.0808983939740611E-2}]
[4,4000,{"$f":"IF(OR(B225<=0,B225>1000000000),\"\",B217/B225/E216)","v":1500},{"$f":"IF(OR(C225=\"\",E225<=0,F217>1),\"\",IF(E225=\"Freilos\",F216/(1-(1/C225))/C225,IF(E225>1000000000,\"\",E225/C225/E217)))","v":2.6666666666666665E-2},200,{"$f":"IFERROR(IF(D225<D233,D233/D225,D225/D233),\"\")","v":1.8211538461538463},{"$f":"IFERROR(D225/IF((C225*E217)<150,150,C225*E217)^0.25*34.9964,\"\")","v":0.10028287776551841},4,1000,{"$f":"IF(OR(I225<=0,I225>1000000000),\"\",I217/I225/L216)","v":3000},{"$f":"IF(OR(J225=\"\",L225<=0,M217>1),\"\",IF(L225=\"Freilos\",M216/(1-(1/J225))/J225,IF(L225>1000000000,\"\",L225/J225/L217)))","v":3.3333333333333335E-3},30,{"$f":"IFERROR(IF(K225<K233,K233/K225,K225/K233),\"\")","v":14.399999999999999},{"$f":"IFERROR(K225/IF((J225*L217)<150,150,J225*L217)^0.25*34.9964,\"\")","v":1.1976819092822014E-2},4,1000,{"$f":"IF(OR(P225<=0,P225>1000000000),\"\",P217/P225/S216)","v":4000},{"$f":"IF(OR(Q225=\"\",S225<=0,T217>1),\"\",IF(S225=\"Freilos\",T216/(1-(1/Q225))/Q225,IF(S225>1000000000,\"\",S225/Q225/S217)))","v":5.0000000000000001E-3},20,{"$f":"IFERROR(IF(R225<R233,R233/R225,R225/R233),\"\")","v":9.85},{"$f":"IFERROR(R225/IF((Q225*S217)<150,150,Q225*S217)^0.25*34.9964,\"\")","v":2.2002821639277945E-2}]
[4,4700,{"$f":"IF(OR(B226<=0,B226>1000000000),\"\",B217/B226/E216)","v":1276.5957446808511},{"$f":"IF(OR(C226=\"\",E226<=0,F217>1),\"\",IF(E226=\"Freilos\",F216/(1-(1/C226))/C226,IF(E226>1000000000,\"\",E226/C226/E217)))","v":1.5666666666666666E-2},100,{"$f":"IFERROR(IF(D226<D233,D233/D226,D226/D233),\"\")","v":3.0998363338788875},{"$f":"IFERROR(D226/IF((C226*E217)<150,150,C226*E217)^0.25*34.9964,\"\")","v":6.1340050018507085E-2},4,2500,{"$f":"IF(OR(I226<=0,I226>1000000000),\"\",I217/I226/L216)","v":1200},{"$f":"IF(OR(J226=\"\",L226<=0,M217>1),\"\",IF(L226=\"Freilos\",M216/(1-(1/J226))/J226,IF(L226>1000000000,\"\",L226/J226/L217)))","v":5.0000000000000001E-3},18,{"$f":"IFERROR(IF(K226<K233,K233/K226,K226/K233),\"\")","v":9.6},{"$f":"IFERROR(K226/IF((J226*L217)<150,150,J226*L217)^0.25*34.9964,\"\")","v":2.2590079062868879E-2},2,42000,{"$f":"IF(OR(P226<=0,P226>1000000000),\"\",P217/P226/S216)","v":95.238095238095241},{"$f":"IF(OR(Q226=\"\",S226<=0,T217>1),\"\",IF(S226=\"Freilos\",T216/(1-(1/Q226))/Q226,IF(S226>1000000000,\"\",S226/Q226/S217)))","v":0.105},10,{"$f":"IFERROR(IF(R226<R233,R233/R226,R226/R233),\"\")","v":2.1319796954314718},{"$f":"IFERROR(R226/IF((Q226*S217)<150,150,Q226*S217)^0.25*34.9964,\"\")","v":1.0500013466660663}]
[3,11000,{"$f":"IF(OR(B227<=0,B227>1000000000),\"\",B217/B227/E216)","v":545.4545454545455},{"$f":"IF(OR(C227=\"\",E227<=0,F217>1),\"\",IF(E227=\"Freilos\",F216/(1-(1/C227))/C227,IF(E227>1000000000,\"\",E227/C227/E217)))","v":1.8333333333333333E-2},50,{"$f":"IFERROR(IF(D227<D233,D233/D227,D227/D233),\"\")","v":2.6489510489510493},{"$f":"IFERROR(D227/IF((C227*E217)<150,150,C227*E217)^0.25*34.9964,\"\")","v":8.878358227898657E-2},3,10000,{"$f":"IF(OR(I227<=0,I227>1000000000),\"\",I217/I227/L216)","v":300},{"$f":"IF(OR(J227=\"\",L227<=0,M217>1),\"\",IF(L227=\"Freilos\",M216/(1-(1/J227))/J227,IF(L227>1000000000,\"\",L227/J227/L217)))","v":5.0000000000000001E-3},4.5,{"$f":"IFERROR(IF(K227<K233,K233/K227,K227/K233),\"\")","v":9.6},{"$f":"IFERROR(K227/IF((J227*L217)<150,150,J227*L217)^0.25*34.9964,\"\")","v":3.1947196185789659E-2},2,60000,{"$f":"IF(OR(P227<=0,P227>1000000000),\"\",P217/P227/S216)","v":66.666666666666671},{"$f":"IF(OR(Q227=\"\",S227<=0,T217>1),\"\",IF(S227=\"Freilos\",T216/(1-(1/Q227))/Q227,IF(S227>1000000000,\"\",S227/Q227/S217)))","v":7.4999999999999997E-2},5,{"$f":"IFERROR(IF(R227<R233,R233/R227,R227/R233),\"\")","v":1.5228426395939085},{"$f":"IFERROR(R227/IF((Q227*S217)<150,150,Q227*S217)^0.25*34.9964,\"\")","v":0.75000096190433307}]
[2,100000,{"$f":"IF(OR(B228<=0,B228>1000000000),\"\",B217/B228/E216)","v":60},{"$f":"IF(OR(C228=\"\",E228<=0,F217>1),\"\",IF(E228=\"Freilos\",F216/(1-(1/C228))/C228,IF(E228>1000000000,\"\",E228/C228/E217)))","v":6.6666666666666666E-2},20,{"$f":"IFERROR(IF(D228<D233,D233/D228,D228/D233),\"\")","v":1.3727560718057021},{"$f":"IFERROR(D228/IF((C228*E217)<150,150,C228*E217)^0.25*34.9964,\"\")","v":0.56059832915750352},2,100000,{"$f":"IF(OR(I228<=0,I228>1000000000),\"\",I217/I228/L216)","v":30},{"$f":"IF(OR(J228=\"\",L228<=0,M217>1),\"\",IF(L228=\"Freilos\",M216/(1-(1/J228))/J228,IF(L228>1000000000,\"\",L228/J228/L217)))","v":9.9999999999999992E-2},9,{"$f":"IFERROR(IF(K228<K233,K233/K228,K228/K233),\"\")","v":2.083333333333333},{"$f":"IFERROR(K228/IF((J228*L217)<150,150,J228*L217)^0.25*34.9964,\"\")","v":1.0000012825391109},2,100000,{"$f":"IF(OR(P228<=0,P228>1000000000),\"\",P217/P228/S216)","v":40},{"$f":"IF(OR(Q228=\"\",S228<=0,T217>1),\"\",IF(S228=\"Freilos\",T216/(1-(1/Q228))/Q228,IF(S228>1000000000,\"\",S228/Q228/S217)))","v":0.1},4,{"$f":"IFERROR(IF(R228<R233,R233/R228,R228/R233),\"\")","v":2.030456852791878},{"$f":"IFERROR(R228/IF((Q228*S217)<150,150,Q228*S217)^0.25*34.9964,\"\")","v":1.0000012825391109}]
[1,650000,{"$f":"IF(OR(B229<=0,B229>1000000000),\"\",B217/B229/E216)","v":9.2307692307692299},{"$f":"IF(OR(C229=\"\",E229<=0,F217>1),\"\",IF(E229=\"Freilos\",F216/(1-(1/C229))/C229,IF(E229>1000000000,\"\",E229/C229/E217)))","v":0.2166666666666667},10,{"$f":"IFERROR(IF(D229<D233,D233/D229,D229/D233),\"\")","v":4.4614572333685327},{"$f":"IFERROR(D229/IF((C229*E217)<150,150,C229*E217)^0.25*34.9964,\"\")","v":2.1666694455014071},2,150000,{"$f":"IF(OR(I229<=0,I229>1000000000),\"\",I217/I229/L216)","v":20},{"$f":"IF(OR(J229=\"\",L229<=0,M217>1),\"\",IF(L229=\"Freilos\",M216/(1-(1/J229))/J229,IF(L229>1000000000,\"\",L229/J229/L217)))","v":9.9999999999999992E-2},6,{"$f":"IFERROR(IF(K229<K233,K233/K229,K229/K233),\"\")","v":2.083333333333333},{"$f":"IFERROR(K229/IF((J229*L217)<150,150,J229*L217)^0.25*34.9964,\"\")","v":1.0000012825391109},2,150000,{"$f":"IF(OR(P229<=0,P229>1000000000),\"\",P217/P229/S216)","v":26.666666666666668},{"$f":"IF(OR(Q229=\"\",S229<=0,T217>1),\"\",IF(S229=\"Freilos\",T216/(1-(1/Q229))/Q229,IF(S229>1000000000,\"\",S229/Q229/S217)))","v":7.4999999999999997E-2},2,{"$f":"IFERROR(IF(R229<R233,R233/R229,R229/R233),\"\")","v":1.5228426395939085},{"$f":"IFERROR(R229/IF((Q229*S217)<150,150,Q229*S217)^0.25*34.9964,\"\")","v":0.75000096190433307}]
[1,750000,{"$f":"IF(OR(B230<=0,B230>1000000000),\"\",B217/B230/E216)","v":8},{"$f":"IF(OR(C230=\"\",E230<=0,F217>1),\"\",IF(E230=\"Freilos\",F216/(1-(1/C230))/C230,IF(E230>1000000000,\"\",E230/C230/E217)))","v":0.125},5,{"$f":"IFERROR(IF(D230<D233,D233/D230,D230/D233),\"\")","v":2.5739176346356913},{"$f":"IFERROR(D230/IF((C230*E217)<150,150,C230*E217)^0.25*34.9964,\"\")","v":1.2500016031738885},1,700000,{"$f":"IF(OR(I230<=0,I230>1000000000),\"\",I217/I230/L216)","v":4.2857142857142856},{"$f":"IF(OR(J230=\"\",L230<=0,M217>1),\"\",IF(L230=\"Freilos\",M216/(1-(1/J230))/J230,IF(L230>1000000000,\"\",L230/J230/L217)))","v":0.23333333333333336},3,{"$f":"IFERROR(IF(K230<K233,K233/K230,K230/K233),\"\")","v":4.8611111111111116},{"$f":"IFERROR(K230/IF((J230*L217)<150,150,J230*L217)^0.25*34.9964,\"\")","v":2.3333363259245923},2,300000,{"$f":"IF(OR(P230<=0,P230>1000000000),\"\",P217/P230/S216)","v":13.333333333333334},{"$f":"IF(OR(Q230=\"\",S230<=0,T217>1),\"\",IF(S230=\"Freilos\",T216/(1-(1/Q230))/Q230,IF(S230>1000000000,\"\",S230/Q230/S217)))","v":7.4999999999999997E-2},1,{"$f":"IFERROR(IF(R230<R233,R233/R230,R230/R233),\"\")","v":1.5228426395939085},{"$f":"IFERROR(R230/IF((Q230*S217)<150,150,Q230*S217)^0.25*34.9964,\"\")","v":0.75000096190433307}]
[1,1000000,{"$f":"IF(OR(B231<=0,B231>1000000000),\"\",B217/B231/E216)","v":6},{"$f":"IF(OR(C231=\"\",E231<=0,F217>1),\"\",IF(E231=\"Freilos\",F216/(1-(1/C231))/C231,IF(E231>1000000000,\"\",E231/C231/E217)))","v":8.3333333333333343E-2},2.5,{"$f":"IFERROR(IF(D231<D233,D233/D231,D231/D233),\"\")","v":1.7159450897571278},{"$f":"IFERROR(D231/IF((C231*E217)<150,150,C231*E217)^0.25*34.9964,\"\")","v":0.8333344021159258},1,750000,{"$f":"IF(OR(I231<=0,I231>1000000000),\"\",I217/I231/L216)","v":4},{"$f":"IF(OR(J231=\"\",L231<=0,M217>1),\"\",IF(L231=\"Freilos\",M216/(1-(1/J231))/J231,IF(L231>1000000000,\"\",L231/J231/L217)))","v":0.125},1.5,{"$f":"IFERROR(IF(K231<K233,K233/K231,K231/K233),\"\")","v":2.6041666666666665},{"$f":"IFERROR(K231/IF((J231*L217)<150,150,J231*L217)^0.25*34.9964,\"\")","v":1.2500016031738885},1,1200000,{"$f":"IF(OR(P231<=0,P231>1000000000),\"\",P217/P231/S216)","v":3.3333333333333335},{"$f":"IF(OR(Q231=\"\",S231<=0,T217>1),\"\",IF(S231=\"Freilos\",T216/(1-(1/Q231))/Q231,IF(S231>1000000000,\"\",S231/Q231/S217)))","v":0.15},0.5,{"$f":"IFERROR(IF(R231<R233,R233/R231,R231/R233),\"\")","v":3.0456852791878171},{"$f":"IFERROR(R231/IF((Q231*S217)<150,150,Q231*S217)^0.25*34.9964,\"\")","v":1.5000019238086661}]
[null,{"$f":"IF(SUM(B219:B231)=0,\"\",SUM(B219:B231))","v":2521859},{"$f":"IF(OR(B232<=0,B232>1000000000),\"\",B217/B232/E216)","v":2.3791972509168833},{"$f":"IF(SUM(D219:D231)=0,\"\",SUM(D219:D231))","v":0.63133333333333341},{"$f":"IFERROR(E217*D232,\"\")","v":3.1566666666666672},{"$f":"IFERROR(AVERAGE(F219:F231),\"\")","v":4.1980129298548796},{"$f":"IF(SUM(G219:G231)=0,\"\",SUM(G219:G231))","v":5.2018305590480445},null,{"$f":"IF(SUM(I219:I231)=0,\"\",SUM(I219:I231))","v":1714067},{"$f":"IF(OR(I232<=0,I232>1000000000),\"\",I217/I232/L216)","v":1.7502232993226052},{"$f":"IF(SUM(K219:K231)=0,\"\",SUM(K219:K231))","v":0.624},{"$f":"IFERROR(L217*K232,\"\")","v":1.8719999999999999},{"$f":"IFERROR(AVERAGE(M219:M231),\"\")","v":7.0793803418803414},{"$f":"IF(SUM(N219:N231)=0,\"\",SUM(N219:N231))","v":5.7326651323545956},null,{"$f":"IF(SUM(P219:P231)=0,\"\",SUM(P219:P231))","v":1854531},{"$f":"IF(OR(P232<=0,P232>1000000000),\"\",P217/P232/S216)","v":2.1568795560710496},{"$f":"IF(SUM(R219:R231)=0,\"\",SUM(R219:R231))","v":0.64024999999999999},{"$f":"IFERROR(S217*R232,\"\")","v":0.64024999999999999},{"$f":"IFERROR(AVERAGE(T219:T231),\"\")","v":5.5772883784420468},{"$f":"IF(SUM(U219:U231)=0,\"\",SUM(U219:U231))","v":5.9387894890167523}]
[null,null,null,{"$f":"AVERAGE(D219:D231)","v":4.8564102564102568E-2},null,null,null,null,null,null,{"$f":"AVERAGE(K219:K231)","v":4.8000000000000001E-2},null,null,null,null,null,null,{"$f":"AVERAGE(R219:R231)","v":4.9250000000000002E-2}]
[]
[null,"Super Cash \"XL\"",null,null,1,{"$f":"IFERROR(SUMIF(E238:E255,\"<>Freilos\",D238:D255),\"\")","v":0.50070000000000003},null,null,"Super Cash \"L\"",null,null,1,{"$f":"IFERROR(SUMIF(L238:L255,\"<>Freilos\",K238:K255),\"\")","v":0.50070000000000003},null,null,"Super Cash \"M\"",null,null,1,{"$f":"IFERROR(SUMIF(S238:S255,\"<>Freilos\",R238:R255),\"\")","v":0.50070000000000003}]
[null,10000000,null,null,{"$f":"E235*10","v":10},{"$f":"IFERROR(COUNTIF(E238:E255,\"Freilos\"),\"\")","v":0},null,null,10000000,null,null,{"$f":"L235*5","v":5},{"$f":"IFERROR(COUNTIF(L238:L255,\"Freilos\"),\"\")","v":0},null,null,10000000,null,null,{"$f":"S235*2.5","v":2.5},{"$f":"IFERROR(COUNTIF(S238:S255,\"Freilos\"),\"\")","v":0}]
[null,"Losanzahl",{"$f":"IF(E235=1,\"Chancen 1:\",\"Ø Gewinne 1:\")","v":"Chancen 1:"},"Ø AQ","(Ø) Gewinn",null,null,null,"Losanzahl",{"$f":"IF(L235=1,\"Chancen 1:\",\"Ø Gewinne 1:\")","v":"Chancen 1:"},"Ø AQ","(Ø) Gewinn",null,null,null,"Losanzahl",{"$f":"IF(S235=1,\"Chancen 1:\",\"Ø Gewinne 1:\")","v":"Chancen 1:"},"Ø AQ","(Ø) Gewinn"]
[7,1,{"$f":"IF(OR(B238<=0,B238>1000000000),\"\",B236/B238/E235)","v":10000000},{"$f":"IF(OR(C238=\"\",E238<=0,F236>1),\"\",IF(E238=\"Freilos\",F235/(1-(1/C238))/C238,IF(E238>1000000000,\"\",E238/C238/E236)))","v":2E-3},200000,{"$f":"IFERROR(IF(D238<D257,D257/D238,D238/D257),\"\")","v":13.908333333333335},{"$f":"IFERROR(D238/IF((C238*E236)<150,150,C238*E236)^0.25*34.9964,\"\")","v":6.9992799999999973E-4},7,1,{"$f":"IF(OR(I238<=0,I238>1000000000),\"\",I236/I238/L235)","v":10000000},{"$f":"IF(OR(J238=\"\",L238<=0,M236>1),\"\",IF(L238=\"Freilos\",M235/(1-(1/J238))/J238,IF(L238>1000000000,\"\",L238/J238/L236)))","v":2E-3},100000,{"$f":"IFERROR(IF(K238<K257,K257/K238,K238/K257),\"\")","v":13.908333333333335},{"$f":"IFERROR(K238/IF((J238*L236)<150,150,J238*L236)^0.25*34.9964,\"\")","v":8.3235935758962465E-4},7,1,{"$f":"IF(OR(P238<=0,P238>1000000000),\"\",P236/P238/S235)","v":10000000},{"$f":"IF(OR(Q238=\"\",S238<=0,T236>1),\"\",IF(S238=\"Freilos\",T235/(1-(1/Q238))/Q238,IF(S238>1000000000,\"\",S238/Q238/S236)))","v":2E-3},50000,{"$f":"IFERROR(IF(R238<R257,R257/R238,R238/R257),\"\")","v":13.908333333333335},{"$f":"IFERROR(R238/IF((Q238*S236)<150,150,Q238*S236)^0.25*34.9964,\"\")","v":9.8984767028467528E-4}]
[7,5,{"$f":"IF(OR(B239<=0,B239>1000000000),\"\",B236/B239/E235)","v":2000000},{"$f":"IF(OR(C239=\"\",E239<=0,F236>1),\"\",IF(E239=\"Freilos\",F235/(1-(1/C239))/C239,IF(E239>1000000000,\"\",E239/C239/E236)))","v":5.0000000000000001E-3},100000,{"$f":"IFERROR(IF(D239<D257,D257/D239,D239/D257),\"\")","v":5.5633333333333335},{"$f":"IFERROR(D239/IF((C239*E236)<150,150,C239*E236)^0.25*34.9964,\"\")","v":2.6165912043565171E-3},7,5,{"$f":"IF(OR(I239<=0,I239>1000000000),\"\",I236/I239/L235)","v":2000000},{"$f":"IF(OR(J239=\"\",L239<=0,M236>1),\"\",IF(L239=\"Freilos\",M235/(1-(1/J239))/J239,IF(L239>1000000000,\"\",L239/J239/L236)))","v":5.0000000000000001E-3},50000,{"$f":"IFERROR(IF(K239<K257,K257/K239,K239/K257),\"\")","v":5.5633333333333335},{"$f":"IFERROR(K239/IF((J239*L236)<150,150,J239*L236)^0.25*34.9964,\"\")","v":3.111668877274308E-3},7,5,{"$f":"IF(OR(P239<=0,P239>1000000000),\"\",P236/P239/S235)","v":2000000},{"$f":"IF(OR(Q239=\"\",S239<=0,T236>1),\"\",IF(S239=\"Freilos\",T235/(1-(1/Q239))/Q239,IF(S239>1000000000,\"\",S239/Q239/S236)))","v":5.0000000000000001E-3},25000,{"$f":"IFERROR(IF(R239<R257,R257/R239,R239/R257),\"\")","v":5.5633333333333335},{"$f":"IFERROR(R239/IF((Q239*S236)<150,150,Q239*S236)^0.25*34.9964,\"\")","v":3.7004187683871356E-3}]
[6,50,{"$f":"IF(OR(B240<=0,B240>1000000000),\"\",B236/B240/E235)","v":200000},{"$f":"IF(OR(C240=\"\",E240<=0,F236>1),\"\",IF(E240=\"Freilos\",F235/(1-(1/C240))/C240,IF(E240>1000000000,\"\",E240/C240/E236)))","v":5.0000000000000001E-3},10000,{"$f":"IFERROR(IF(D240<D257,D257/D240,D240/D257),\"\")","v":5.5633333333333335},{"$f":"IFERROR(D240/IF((C240*E236)<150,150,C240*E236)^0.25*34.9964,\"\")","v":4.6530302631961401E-3},6,50,{"$f":"IF(OR(I240<=0,I240>1000000000),\"\",I236/I240/L235)","v":200000},{"$f":"IF(OR(J240=\"\",L240<=0,M236>1),\"\",IF(L240=\"Freilos\",M235/(1-(1/J240))/J240,IF(L240>1000000000,\"\",L240/J240/L236)))","v":5.0000000000000001E-3},5000,{"$f":"IFERROR(IF(K240<K257,K257/K240,K240/K257),\"\")","v":5.5633333333333335},{"$f":"IFERROR(K240/IF((J240*L236)<150,150,J240*L236)^0.25*34.9964,\"\")","v":5.5334166953158346E-3},6,50,{"$f":"IF(OR(P240<=0,P240>1000000000),\"\",P236/P240/S235)","v":200000},{"$f":"IF(OR(Q240=\"\",S240<=0,T236>1),\"\",IF(S240=\"Freilos\",T235/(1-(1/Q240))/Q240,IF(S240>1000000000,\"\",S240/Q240/S236)))","v":5.0000000000000001E-3},2500,{"$f":"IFERROR(IF(R240<R257,R257/R240,R240/R257),\"\")","v":5.5633333333333335},{"$f":"IFERROR(R240/IF((Q240*S236)<150,150,Q240*S236)^0.25*34.9964,\"\")","v":6.5803785043444347E-3}]
[6,100,{"$f":"IF(OR(B241<=0,B241>1000000000),\"\",B236/B241/E235)","v":100000},{"$f":"IF(OR(C241=\"\",E241<=0,F236>1),\"\",IF(E241=\"Freilos\",F235/(1-(1/C241))/C241,IF(E241>1000000000,\"\",E241/C241/E236)))","v":5.0000000000000001E-3},5000,{"$f":"IFERROR(IF(D241<D257,D257/D241,D241/D257),\"\")","v":5.5633333333333335},{"$f":"IFERROR(D241/IF((C241*E236)<150,150,C241*E236)^0.25*34.9964,\"\")","v":5.5334166953158346E-3},6,100,{"$f":"IF(OR(I241<=0,I241>1000000000),\"\",I236/I241/L235)","v":100000},{"$f":"IF(OR(J241=\"\",L241<=0,M236>1),\"\",IF(L241=\"Freilos\",M235/(1-(1/J241))/J241,IF(L241>1000000000,\"\",L241/J241/L236)))","v":5.0000000000000001E-3},2500,{"$f":"IFERROR(IF(K241<K257,K257/K241,K241/K257),\"\")","v":5.5633333333333335},{"$f":"IFERROR(K241/IF((J241*L236)<150,150,J241*L236)^0.25*34.9964,\"\")","v":6.5803785043444347E-3},6,100,{"$f":"IF(OR(P241<=0,P241>1000000000),\"\",P236/P241/S235)","v":100000},{"$f":"IF(OR(Q241=\"\",S241<=0,T236>1),\"\",IF(S241=\"Freilos\",T235/(1-(1/Q241))/Q241,IF(S241>1000000000,\"\",S241/Q241/S236)))","v":5.0000000000000001E-3},1250,{"$f":"IFERROR(IF(R241<R257,R257/R241,R241/R257),\"\")","v":5.5633333333333335},{"$f":"IFERROR(R241/IF((Q241*S236)<150,150,Q241*S236)^0.25*34.9964,\"\")","v":7.825432936777366E-3}]
[5,550,{"$f":"IF(OR(B242<=0,B242>1000000000),\"\",B236/B242/E235)","v":18181.81818181818},{"$f":"IF(OR(C242=\"\",E242<=0,F236>1),\"\",IF(E242=\"Freilos\",F235/(1-(1/C242))/C242,IF(E242>1000000000,\"\",E242/C242/E236)))","v":8.2500000000000004E-3},1500,{"$f":"IFERROR(IF(D242<D257,D257/D242,D242/D257),\"\")","v":3.3717171717171719},{"$f":"IFERROR(D242/IF((C242*E236)<150,150,C242*E236)^0.25*34.9964,\"\")","v":1.398195798249951E-2},5,550,{"$f":"IF(OR(I242<=0,I242>1000000000),\"\",I236/I242/L235)","v":18181.81818181818},{"$f":"IF(OR(J242=\"\",L242<=0,M236>1),\"\",IF(L242=\"Freilos\",M235/(1-(1/J242))/J242,IF(L242>1000000000,\"\",L242/J242/L236)))","v":8.2500000000000004E-3},750,{"$f":"IFERROR(IF(K242<K257,K257/K242,K242/K257),\"\")","v":3.3717171717171719},{"$f":"IFERROR(K242/IF((J242*L236)<150,150,J242*L236)^0.25*34.9964,\"\")","v":1.6627443914457512E-2},5,550,{"$f":"IF(OR(P242<=0,P242>1000000000),\"\",P236/P242/S235)","v":18181.81818181818},{"$f":"IF(OR(Q242=\"\",S242<=0,T236>1),\"\",IF(S242=\"Freilos\",T235/(1-(1/Q242))/Q242,IF(S242>1000000000,\"\",S242/Q242/S236)))","v":8.2500000000000004E-3},375,{"$f":"IFERROR(IF(R242<R257,R257/R242,R242/R257),\"\")","v":3.3717171717171719},{"$f":"IFERROR(R242/IF((Q242*S236)<150,150,Q242*S236)^0.25*34.9964,\"\")","v":1.9773474607381568E-2}]
[5,1000,{"$f":"IF(OR(B243<=0,B243>1000000000),\"\",B236/B243/E235)","v":10000},{"$f":"IF(OR(C243=\"\",E243<=0,F236>1),\"\",IF(E243=\"Freilos\",F235/(1-(1/C243))/C243,IF(E243>1000000000,\"\",E243/C243/E236)))","v":5.0000000000000001E-3},500,{"$f":"IFERROR(IF(D243<D257,D257/D243,D243/D257),\"\")","v":5.5633333333333335},{"$f":"IFERROR(D243/IF((C243*E236)<150,150,C243*E236)^0.25*34.9964,\"\")","v":9.8399609764457663E-3},5,1000,{"$f":"IF(OR(I243<=0,I243>1000000000),\"\",I236/I243/L235)","v":10000},{"$f":"IF(OR(J243=\"\",L243<=0,M236>1),\"\",IF(L243=\"Freilos\",M235/(1-(1/J243))/J243,IF(L243>1000000000,\"\",L243/J243/L236)))","v":5.0000000000000001E-3},250,{"$f":"IFERROR(IF(K243<K257,K257/K243,K243/K257),\"\")","v":5.5633333333333335},{"$f":"IFERROR(K243/IF((J243*L236)<150,150,J243*L236)^0.25*34.9964,\"\")","v":1.1701751604538428E-2},5,1000,{"$f":"IF(OR(P243<=0,P243>1000000000),\"\",P236/P243/S235)","v":10000},{"$f":"IF(OR(Q243=\"\",S243<=0,T236>1),\"\",IF(S243=\"Freilos\",T235/(1-(1/Q243))/Q243,IF(S243>1000000000,\"\",S243/Q243/S236)))","v":5.0000000000000001E-3},125,{"$f":"IFERROR(IF(R243<R257,R257/R243,R243/R257),\"\")","v":5.5633333333333335},{"$f":"IFERROR(R243/IF((Q243*S236)<150,150,Q243*S236)^0.25*34.9964,\"\")","v":1.3915806266111606E-2}]
[4,10000,{"$f":"IF(OR(B244<=0,B244>1000000000),\"\",B236/B244/E235)","v":1000},{"$f":"IF(OR(C244=\"\",E244<=0,F236>1),\"\",IF(E244=\"Freilos\",F235/(1-(1/C244))/C244,IF(E244>1000000000,\"\",E244/C244/E236)))","v":0.02},200,{"$f":"IFERROR(IF(D244<D257,D257/D244,D244/D257),\"\")","v":1.3908333333333334},{"$f":"IFERROR(D244/IF((C244*E236)<150,150,C244*E236)^0.25*34.9964,\"\")","v":6.9992799999999994E-2},4,10000,{"$f":"IF(OR(I244<=0,I244>1000000000),\"\",I236/I244/L235)","v":1000},{"$f":"IF(OR(J244=\"\",L244<=0,M236>1),\"\",IF(L244=\"Freilos\",M235/(1-(1/J244))/J244,IF(L244>1000000000,\"\",L244/J244/L236)))","v":0.02},100,{"$f":"IFERROR(IF(K244<K257,K257/K244,K244/K257),\"\")","v":1.3908333333333334},{"$f":"IFERROR(K244/IF((J244*L236)<150,150,J244*L236)^0.25*34.9964,\"\")","v":8.3235935758962445E-2},4,10000,{"$f":"IF(OR(P244<=0,P244>1000000000),\"\",P236/P244/S235)","v":1000},{"$f":"IF(OR(Q244=\"\",S244<=0,T236>1),\"\",IF(S244=\"Freilos\",T235/(1-(1/Q244))/Q244,IF(S244>1000000000,\"\",S244/Q244/S236)))","v":0.02},50,{"$f":"IFERROR(IF(R244<R257,R257/R244,R244/R257),\"\")","v":1.3908333333333334},{"$f":"IFERROR(R244/IF((Q244*S236)<150,150,Q244*S236)^0.25*34.9964,\"\")","v":9.8984767028467591E-2}]
[3,50000,{"$f":"IF(OR(B245<=0,B245>1000000000),\"\",B236/B245/E235)","v":200},{"$f":"IF(OR(C245=\"\",E245<=0,F236>1),\"\",IF(E245=\"Freilos\",F235/(1-(1/C245))/C245,IF(E245>1000000000,\"\",E245/C245/E236)))","v":0.05},100,{"$f":"IFERROR(IF(D245<D257,D257/D245,D245/D257),\"\")","v":1.7974835230677051},{"$f":"IFERROR(D245/IF((C245*E236)<150,150,C245*E236)^0.25*34.9964,\"\")","v":0.26165912043565165},3,50000,{"$f":"IF(OR(I245<=0,I245>1000000000),\"\",I236/I245/L235)","v":200},{"$f":"IF(OR(J245=\"\",L245<=0,M236>1),\"\",IF(L245=\"Freilos\",M235/(1-(1/J245))/J245,IF(L245>1000000000,\"\",L245/J245/L236)))","v":0.05},50,{"$f":"IFERROR(IF(K245<K257,K257/K245,K245/K257),\"\")","v":1.7974835230677051},{"$f":"IFERROR(K245/IF((J245*L236)<150,150,J245*L236)^0.25*34.9964,\"\")","v":0.31116688772743084},3,50000,{"$f":"IF(OR(P245<=0,P245>1000000000),\"\",P236/P245/S235)","v":200},{"$f":"IF(OR(Q245=\"\",S245<=0,T236>1),\"\",IF(S245=\"Freilos\",T235/(1-(1/Q245))/Q245,IF(S245>1000000000,\"\",S245/Q245/S236)))","v":0.05},25,{"$f":"IFERROR(IF(R245<R257,R257/R245,R245/R257),\"\")","v":1.7974835230677051},{"$f":"IFERROR(R245/IF((Q245*S236)<150,150,Q245*S236)^0.25*34.9964,\"\")","v":0.37004187683871365}]
[3,100000,{"$f":"IF(OR(B246<=0,B246>1000000000),\"\",B236/B246/E235)","v":100},{"$f":"IF(OR(C246=\"\",E246<=0,F236>1),\"\",IF(E246=\"Freilos\",F235/(1-(1/C246))/C246,IF(E246>1000000000,\"\",E246/C246/E236)))","v":0.06},60,{"$f":"IFERROR(IF(D246<D257,D257/D246,D246/D257),\"\")","v":2.1569802276812458},{"$f":"IFERROR(D246/IF((C246*E236)<150,150,C246*E236)^0.25*34.9964,\"\")","v":0.37340026527291703},3,100000,{"$f":"IF(OR(I246<=0,I246>1000000000),\"\",I236/I246/L235)","v":100},{"$f":"IF(OR(J246=\"\",L246<=0,M236>1),\"\",IF(L246=\"Freilos\",M235/(1-(1/J246))/J246,IF(L246>1000000000,\"\",L246/J246/L236)))","v":0.06},30,{"$f":"IFERROR(IF(K246<K257,K257/K246,K246/K257),\"\")","v":2.1569802276812458},{"$f":"IFERROR(K246/IF((J246*L236)<150,150,J246*L236)^0.25*34.9964,\"\")","v":0.44405025220645639},3,100000,{"$f":"IF(OR(P246<=0,P246>1000000000),\"\",P236/P246/S235)","v":100},{"$f":"IF(OR(Q246=\"\",S246<=0,T236>1),\"\",IF(S246=\"Freilos\",T235/(1-(1/Q246))/Q246,IF(S246>1000000000,\"\",S246/Q246/S236)))","v":0.06},15,{"$f":"IFERROR(IF(R246<R257,R257/R246,R246/R257),\"\")","v":2.1569802276812458},{"$f":"IFERROR(R246/IF((Q246*S236)<150,150,Q246*S236)^0.25*34.9964,\"\")","v":0.52806771934267061}]
[2,200000,{"$f":"IF(OR(B247<=0,B247>1000000000),\"\",B236/B247/E235)","v":50},{"$f":"IF(OR(C247=\"\",E247<=0,F236>1),\"\",IF(E247=\"Freilos\",F235/(1-(1/C247))/C247,IF(E247>1000000000,\"\",E247/C247/E236)))","v":0.1},50,{"$f":"IFERROR(IF(D247<D257,D257/D247,D247/D257),\"\")","v":3.5949670461354102},{"$f":"IFERROR(D247/IF((C247*E236)<150,150,C247*E236)^0.25*34.9964,\"\")","v":0.74008375367742729},2,200000,{"$f":"IF(OR(I247<=0,I247>1000000000),\"\",I236/I247/L235)","v":50},{"$f":"IF(OR(J247=\"\",L247<=0,M236>1),\"\",IF(L247=\"Freilos\",M235/(1-(1/J247))/J247,IF(L247>1000000000,\"\",L247/J247/L236)))","v":0.1},25,{"$f":"IFERROR(IF(K247<K257,K257/K247,K247/K257),\"\")","v":3.5949670461354102},{"$f":"IFERROR(K247/IF((J247*L236)<150,150,J247*L236)^0.25*34.9964,\"\")","v":0.88011286557111779},2,200000,{"$f":"IF(OR(P247<=0,P247>1000000000),\"\",P236/P247/S235)","v":50},{"$f":"IF(OR(Q247=\"\",S247<=0,T236>1),\"\",IF(S247=\"Freilos\",T235/(1-(1/Q247))/Q247,IF(S247>1000000000,\"\",S247/Q247/S236)))","v":0.1},12.5,{"$f":"IFERROR(IF(R247<R257,R257/R247,R247/R257),\"\")","v":3.5949670461354102},{"$f":"IFERROR(R247/IF((Q247*S236)<150,150,Q247*S236)^0.25*34.9964,\"\")","v":1.0000012825391109}]
[2,200000,{"$f":"IF(OR(B248<=0,B248>1000000000),\"\",B236/B248/E235)","v":50},{"$f":"IF(OR(C248=\"\",E248<=0,F236>1),\"\",IF(E248=\"Freilos\",F235/(1-(1/C248))/C248,IF(E248>1000000000,\"\",E248/C248/E236)))","v":0.05},25,{"$f":"IFERROR(IF(D248<D257,D257/D248,D248/D257),\"\")","v":1.7974835230677051},{"$f":"IFERROR(D248/IF((C248*E236)<150,150,C248*E236)^0.25*34.9964,\"\")","v":0.37004187683871365},2,200000,{"$f":"IF(OR(I248<=0,I248>1000000000),\"\",I236/I248/L235)","v":50},{"$f":"IF(OR(J248=\"\",L248<=0,M236>1),\"\",IF(L248=\"Freilos\",M235/(1-(1/J248))/J248,IF(L248>1000000000,\"\",L248/J248/L236)))","v":0.05},12.5,{"$f":"IFERROR(IF(K248<K257,K257/K248,K248/K257),\"\")","v":1.7974835230677051},{"$f":"IFERROR(K248/IF((J248*L236)<150,150,J248*L236)^0.25*34.9964,\"\")","v":0.44005643278555889},2,200000,{"$f":"IF(OR(P248<=0,P248>1000000000),\"\",P236/P248/S235)","v":50},{"$f":"IF(OR(Q248=\"\",S248<=0,T236>1),\"\",IF(S248=\"Freilos\",T235/(1-(1/Q248))/Q248,IF(S248>1000000000,\"\",S248/Q248/S236)))","v":0.05},6.25,{"$f":"IFERROR(IF(R248<R257,R257/R248,R248/R257),\"\")","v":1.7974835230677051},{"$f":"IFERROR(R248/IF((Q248*S236)<150,150,Q248*S236)^0.25*34.9964,\"\")","v":0.50000064126955546}]
[2,200000,{"$f":"IF(OR(B249<=0,B249>1000000000),\"\",B236/B249/E235)","v":50},{"$f":"IF(OR(C249=\"\",E249<=0,F236>1),\"\",IF(E249=\"Freilos\",F235/(1-(1/C249))/C249,IF(E249>1000000000,\"\",E249/C249/E236)))","v":0.04},20,{"$f":"IFERROR(IF(D249<D257,D257/D249,D249/D257),\"\")","v":1.437986818454164},{"$f":"IFERROR(D249/IF((C249*E236)<150,150,C249*E236)^0.25*34.9964,\"\")","v":0.29603350147097096},2,200000,{"$f":"IF(OR(I249<=0,I249>1000000000),\"\",I236/I249/L235)","v":50},{"$f":"IF(OR(J249=\"\",L249<=0,M236>1),\"\",IF(L249=\"Freilos\",M235/(1-(1/J249))/J249,IF(L249>1000000000,\"\",L249/J249/L236)))","v":0.04},10,{"$f":"IFERROR(IF(K249<K257,K257/K249,K249/K257),\"\")","v":1.437986818454164},{"$f":"IFERROR(K249/IF((J249*L236)<150,150,J249*L236)^0.25*34.9964,\"\")","v":0.35204514622844713},2,200000,{"$f":"IF(OR(P249<=0,P249>1000000000),\"\",P236/P249/S235)","v":50},{"$f":"IF(OR(Q249=\"\",S249<=0,T236>1),\"\",IF(S249=\"Freilos\",T235/(1-(1/Q249))/Q249,IF(S249>1000000000,\"\",S249/Q249/S236)))","v":0.04},5,{"$f":"IFERROR(IF(R249<R257,R257/R249,R249/R257),\"\")","v":1.437986818454164},{"$f":"IFERROR(R249/IF((Q249*S236)<150,150,Q249*S236)^0.25*34.9964,\"\")","v":0.40000051301564438}]
[2,275000,{"$f":"IF(OR(B250<=0,B250>1000000000),\"\",B236/B250/E235)","v":36.363636363636367},{"$f":"IF(OR(C250=\"\",E250<=0,F236>1),\"\",IF(E250=\"Freilos\",F235/(1-(1/C250))/C250,IF(E250>1000000000,\"\",E250/C250/E236)))","v":4.1249999999999995E-2},15,{"$f":"IFERROR(IF(D250<D257,D257/D250,D250/D257),\"\")","v":1.4829239065308564},{"$f":"IFERROR(D250/IF((C250*E236)<150,150,C250*E236)^0.25*34.9964,\"\")","v":0.33058298598459707},2,275000,{"$f":"IF(OR(I250<=0,I250>1000000000),\"\",I236/I250/L235)","v":36.363636363636367},{"$f":"IF(OR(J250=\"\",L250<=0,M236>1),\"\",IF(L250=\"Freilos\",M235/(1-(1/J250))/J250,IF(L250>1000000000,\"\",L250/J250/L236)))","v":4.1249999999999995E-2},7.5,{"$f":"IFERROR(IF(K250<K257,K257/K250,K250/K257),\"\")","v":1.4829239065308564},{"$f":"IFERROR(K250/IF((J250*L236)<150,150,J250*L236)^0.25*34.9964,\"\")","v":0.39313163903172765},2,275000,{"$f":"IF(OR(P250<=0,P250>1000000000),\"\",P236/P250/S235)","v":36.363636363636367},{"$f":"IF(OR(Q250=\"\",S250<=0,T236>1),\"\",IF(S250=\"Freilos\",T235/(1-(1/Q250))/Q250,IF(S250>1000000000,\"\",S250/Q250/S236)))","v":4.1249999999999995E-2},3.75,{"$f":"IFERROR(IF(R250<R257,R257/R250,R250/R257),\"\")","v":1.4829239065308564},{"$f":"IFERROR(R250/IF((Q250*S236)<150,150,Q250*S236)^0.25*34.9964,\"\")","v":0.41250052904738316}]
[2,310000,{"$f":"IF(OR(B251<=0,B251>1000000000),\"\",B236/B251/E235)","v":32.258064516129032},{"$f":"IF(OR(C251=\"\",E251<=0,F236>1),\"\",IF(E251=\"Freilos\",F235/(1-(1/C251))/C251,IF(E251>1000000000,\"\",E251/C251/E236)))","v":3.7199999999999997E-2},12,{"$f":"IFERROR(IF(D251<D257,D257/D251,D251/D257),\"\")","v":1.3373277411623723},{"$f":"IFERROR(D251/IF((C251*E236)<150,150,C251*E236)^0.25*34.9964,\"\")","v":0.30718976033118861},2,310000,{"$f":"IF(OR(I251<=0,I251>1000000000),\"\",I236/I251/L235)","v":32.258064516129032},{"$f":"IF(OR(J251=\"\",L251<=0,M236>1),\"\",IF(L251=\"Freilos\",M235/(1-(1/J251))/J251,IF(L251>1000000000,\"\",L251/J251/L236)))","v":3.7199999999999997E-2},6,{"$f":"IFERROR(IF(K251<K257,K257/K251,K251/K257),\"\")","v":1.3373277411623723},{"$f":"IFERROR(K251/IF((J251*L236)<150,150,J251*L236)^0.25*34.9964,\"\")","v":0.3653122486418301},2,310000,{"$f":"IF(OR(P251<=0,P251>1000000000),\"\",P236/P251/S235)","v":32.258064516129032},{"$f":"IF(OR(Q251=\"\",S251<=0,T236>1),\"\",IF(S251=\"Freilos\",T235/(1-(1/Q251))/Q251,IF(S251>1000000000,\"\",S251/Q251/S236)))","v":3.7199999999999997E-2},3,{"$f":"IFERROR(IF(R251<R257,R257/R251,R251/R257),\"\")","v":1.3373277411623723},{"$f":"IFERROR(R251/IF((Q251*S236)<150,150,Q251*S236)^0.25*34.9964,\"\")","v":0.3720004771045492}]
[2,400000,{"$f":"IF(OR(B252<=0,B252>1000000000),\"\",B236/B252/E235)","v":25},{"$f":"IF(OR(C252=\"\",E252<=0,F236>1),\"\",IF(E252=\"Freilos\",F235/(1-(1/C252))/C252,IF(E252>1000000000,\"\",E252/C252/E236)))","v":2.4E-2},6,{"$f":"IFERROR(IF(D252<D257,D257/D252,D252/D257),\"\")","v":1.159027777777778},{"$f":"IFERROR(D252/IF((C252*E236)<150,150,C252*E236)^0.25*34.9964,\"\")","v":0.21122708773706825},2,400000,{"$f":"IF(OR(I252<=0,I252>1000000000),\"\",I236/I252/L235)","v":25},{"$f":"IF(OR(J252=\"\",L252<=0,M236>1),\"\",IF(L252=\"Freilos\",M235/(1-(1/J252))/J252,IF(L252>1000000000,\"\",L252/J252/L236)))","v":2.4E-2},3,{"$f":"IFERROR(IF(K252<K257,K257/K252,K252/K257),\"\")","v":1.159027777777778},{"$f":"IFERROR(K252/IF((J252*L236)<150,150,J252*L236)^0.25*34.9964,\"\")","v":0.24000030780938661},2,400000,{"$f":"IF(OR(P252<=0,P252>1000000000),\"\",P236/P252/S235)","v":25},{"$f":"IF(OR(Q252=\"\",S252<=0,T236>1),\"\",IF(S252=\"Freilos\",T235/(1-(1/Q252))/Q252,IF(S252>1000000000,\"\",S252/Q252/S236)))","v":2.4E-2},1.5,{"$f":"IFERROR(IF(R252<R257,R257/R252,R252/R257),\"\")","v":1.159027777777778},{"$f":"IFERROR(R252/IF((Q252*S236)<150,150,Q252*S236)^0.25*34.9964,\"\")","v":0.24000030780938661}]
[2,400000,{"$f":"IF(OR(B253<=0,B253>1000000000),\"\",B236/B253/E235)","v":25},{"$f":"IF(OR(C253=\"\",E253<=0,F236>1),\"\",IF(E253=\"Freilos\",F235/(1-(1/C253))/C253,IF(E253>1000000000,\"\",E253/C253/E236)))","v":0.02},5,{"$f":"IFERROR(IF(D253<D257,D257/D253,D253/D257),\"\")","v":1.3908333333333334},{"$f":"IFERROR(D253/IF((C253*E236)<150,150,C253*E236)^0.25*34.9964,\"\")","v":0.17602257311422356},2,400000,{"$f":"IF(OR(I253<=0,I253>1000000000),\"\",I236/I253/L235)","v":25},{"$f":"IF(OR(J253=\"\",L253<=0,M236>1),\"\",IF(L253=\"Freilos\",M235/(1-(1/J253))/J253,IF(L253>1000000000,\"\",L253/J253/L236)))","v":0.02},2.5,{"$f":"IFERROR(IF(K253<K257,K257/K253,K253/K257),\"\")","v":1.3908333333333334},{"$f":"IFERROR(K253/IF((J253*L236)<150,150,J253*L236)^0.25*34.9964,\"\")","v":0.20000025650782219},2,400000,{"$f":"IF(OR(P253<=0,P253>1000000000),\"\",P236/P253/S235)","v":25},{"$f":"IF(OR(Q253=\"\",S253<=0,T236>1),\"\",IF(S253=\"Freilos\",T235/(1-(1/Q253))/Q253,IF(S253>1000000000,\"\",S253/Q253/S236)))","v":0.02},1.25,{"$f":"IFERROR(IF(R253<R257,R257/R253,R253/R257),\"\")","v":1.3908333333333334},{"$f":"IFERROR(R253/IF((Q253*S236)<150,150,Q253*S236)^0.25*34.9964,\"\")","v":0.20000025650782219}]
[2,400000,{"$f":"IF(OR(B254<=0,B254>1000000000),\"\",B236/B254/E235)","v":25},{"$f":"IF(OR(C254=\"\",E254<=0,F236>1),\"\",IF(E254=\"Freilos\",F235/(1-(1/C254))/C254,IF(E254>1000000000,\"\",E254/C254/E236)))","v":1.6E-2},4,{"$f":"IFERROR(IF(D254<D257,D257/D254,D254/D257),\"\")","v":1.7385416666666669},{"$f":"IFERROR(D254/IF((C254*E236)<150,150,C254*E236)^0.25*34.9964,\"\")","v":0.14081805849137882},2,400000,{"$f":"IF(OR(I254<=0,I254>1000000000),\"\",I236/I254/L235)","v":25},{"$f":"IF(OR(J254=\"\",L254<=0,M236>1),\"\",IF(L254=\"Freilos\",M235/(1-(1/J254))/J254,IF(L254>1000000000,\"\",L254/J254/L236)))","v":1.6E-2},2,{"$f":"IFERROR(IF(K254<K257,K257/K254,K254/K257),\"\")","v":1.7385416666666669},{"$f":"IFERROR(K254/IF((J254*L236)<150,150,J254*L236)^0.25*34.9964,\"\")","v":0.16000020520625774},2,400000,{"$f":"IF(OR(P254<=0,P254>1000000000),\"\",P236/P254/S235)","v":25},{"$f":"IF(OR(Q254=\"\",S254<=0,T236>1),\"\",IF(S254=\"Freilos\",T235/(1-(1/Q254))/Q254,IF(S254>1000000000,\"\",S254/Q254/S236)))","v":1.6E-2},1,{"$f":"IFERROR(IF(R254<R257,R257/R254,R254/R257),\"\")","v":1.7385416666666669},{"$f":"IFERROR(R254/IF((Q254*S236)<150,150,Q254*S236)^0.25*34.9964,\"\")","v":0.16000020520625774}]
[2,400000,{"$f":"IF(OR(B255<=0,B255>1000000000),\"\",B236/B255/E235)","v":25},{"$f":"IF(OR(C255=\"\",E255<=0,F236>1),\"\",IF(E255=\"Freilos\",F235/(1-(1/C255))/C255,IF(E255>1000000000,\"\",E255/C255/E236)))","v":1.2E-2},3,{"$f":"IFERROR(IF(D255<D257,D257/D255,D255/D257),\"\")","v":2.318055555555556},{"$f":"IFERROR(D255/IF((C255*E236)<150,150,C255*E236)^0.25*34.9964,\"\")","v":0.10561354386853412},2,400000,{"$f":"IF(OR(I255<=0,I255>1000000000),\"\",I236/I255/L235)","v":25},{"$f":"IF(OR(J255=\"\",L255<=0,M236>1),\"\",IF(L255=\"Freilos\",M235/(1-(1/J255))/J255,IF(L255>1000000000,\"\",L255/J255/L236)))","v":1.2E-2},1.5,{"$f":"IFERROR(IF(K255<K257,K257/K255,K255/K257),\"\")","v":2.318055555555556},{"$f":"IFERROR(K255/IF((J255*L236)<150,150,J255*L236)^0.25*34.9964,\"\")","v":0.1200001539046933},2,400000,{"$f":"IF(OR(P255<=0,P255>1000000000),\"\",P236/P255/S235)","v":25},{"$f":"IF(OR(Q255=\"\",S255<=0,T236>1),\"\",IF(S255=\"Freilos\",T235/(1-(1/Q255))/Q255,IF(S255>1000000000,\"\",S255/Q255/S236)))","v":1.2E-2},0.75,{"$f":"IFERROR(IF(R255<R257,R257/R255,R255/R257),\"\")","v":2.318055555555556},{"$f":"IFERROR(R255/IF((Q255*S236)<150,150,Q255*S236)^0.25*34.9964,\"\")","v":0.1200001539046933}]
[null,{"$f":"IF(SUM(B238:B255)=0,\"\",SUM(B238:B255))","v":2946706},{"$f":"IF(OR(B256<=0,B256>1000000000),\"\",B236/B256/E235)","v":3.3936198589204354},{"$f":"IF(SUM(D238:D255)=0,\"\",SUM(D238:D255))","v":0.50070000000000003},{"$f":"IFERROR(E236*D256,\"\")","v":5.0070000000000006},{"$f":"IFERROR(AVERAGE(F238:F255),\"\")","v":3.3964349050638862},{"$f":"IF(SUM(G238:G255)=0,\"\",SUM(G238:G255))","v":3.4199902123444854},null,{"$f":"IF(SUM(I238:I255)=0,\"\",SUM(I238:I255))","v":2946706},{"$f":"IF(OR(I256<=0,I256>1000000000),\"\",I236/I256/L235)","v":3.3936198589204354},{"$f":"IF(SUM(K238:K255)=0,\"\",SUM(K238:K255))","v":0.50070000000000003},{"$f":"IFERROR(L236*K256,\"\")","v":2.5035000000000003},{"$f":"IFERROR(AVERAGE(M238:M255),\"\")","v":3.3964349050638862},{"$f":"IF(SUM(N238:N255)=0,\"\",SUM(N238:N255))","v":4.0334993503332113},null,{"$f":"IF(SUM(P238:P255)=0,\"\",SUM(P238:P255))","v":2946706},{"$f":"IF(OR(P256<=0,P256>1000000000),\"\",P236/P256/S235)","v":3.3936198589204354},{"$f":"IF(SUM(R238:R255)=0,\"\",SUM(R238:R255))","v":0.50070000000000003},{"$f":"IFERROR(S236*R256,\"\")","v":1.2517500000000001},{"$f":"IFERROR(AVERAGE(T238:T255),\"\")","v":3.3964349050638862},{"$f":"IF(SUM(U238:U255)=0,\"\",SUM(U238:U255))","v":4.4543840883675418}]
[null,null,null,{"$f":"AVERAGE(D238:D255)","v":2.781666666666667E-2},null,null,null,null,null,null,{"$f":"AVERAGE(K238:K255)","v":2.781666666666667E-2},null,null,null,null,null,null,{"$f":"AVERAGE(R238:R255)","v":2.781666666666667E-2}]
[]
[null,"Bananarama",null,null,1,{"$f":"IFERROR(SUMIF(E262:E279,\"<>Freilos\",D262:D279),\"\")","v":0.62644444444444447},null,null,"Krötenwanderung",null,null,1,{"$f":"IFERROR(SUMIF(L262:L279,\"<>Freilos\",K262:K279),\"\")","v":0.62644444444444447},null,null,"Super Cash \"S\"",null,null,1,{"$f":"IFERROR(SUMIF(S262:S279,\"<>Freilos\",R262:R279),\"\")","v":0.50070000000000003}]
[null,6000000,null,null,{"$f":"E259*1.5","v":1.5},{"$f":"IFERROR(COUNTIF(E262:E279,\"Freilos\"),\"\")","v":0},null,null,6000000,null,null,{"$f":"L259*0.75","v":0.75},{"$f":"IFERROR(COUNTIF(L262:L279,\"Freilos\"),\"\")","v":0},null,null,10000000,null,null,{"$f":"S259*0.5","v":0.5},{"$f":"IFERROR(COUNTIF(S262:S279,\"Freilos\"),\"\")","v":0}]
[null,"Losanzahl",{"$f":"IF(E259=1,\"Chancen 1:\",\"Ø Gewinne 1:\")","v":"Chancen 1:"},"Ø AQ","(Ø) Gewinn",null,null,null,"Losanzahl",{"$f":"IF(L259=1,\"Chancen 1:\",\"Ø Gewinne 1:\")","v":"Chancen 1:"},"Ø AQ","(Ø) Gewinn",null,null,null,"Losanzahl",{"$f":"IF(S259=1,\"Chancen 1:\",\"Ø Gewinne 1:\")","v":"Chancen 1:"},"Ø AQ","(Ø) Gewinn"]
[{"$f":"IF(C262=\"\",0,IF(C262>=1000000,7,IF(C262>=100000,6,IF(C262>=10000,5,IF(C262>=1000,4,IF(C262>=100,3,IF(C262>=10,2,1)))))))","v":7},6,{"$f":"IF(OR(B262<=0,B262>1000000000),\"\",B260/B262/E259)","v":1000000},{"$f":"IF(OR(C262=\"\",E262<=0,F260>1),\"\",IF(E262=\"Freilos\",F259/(1-(1/C262))/C262,IF(E262>1000000000,\"\",E262/C262/E260)))","v":0.01},15000,{"$f":"IFERROR(IF(D262<D281,D281/D262,D262/D281),\"\")","v":3.4802469135802467},{"$f":"IFERROR(D262/IF((C262*E260)<150,150,C262*E260)^0.25*34.9964,\"\")","v":1.0000012825391104E-2},{"$f":"IF(J262=\"\",0,IF(J262>=1000000,7,IF(J262>=100000,6,IF(J262>=10000,5,IF(J262>=1000,4,IF(J262>=100,3,IF(J262>=10,2,1)))))))","v":7},6,{"$f":"IF(OR(I262<=0,I262>1000000000),\"\",I260/I262/L259)","v":1000000},{"$f":"IF(OR(J262=\"\",L262<=0,M260>1),\"\",IF(L262=\"Freilos\",M259/(1-(1/J262))/J262,IF(L262>1000000000,\"\",L262/J262/L260)))","v":0.01},7500,{"$f":"IFERROR(IF(K262<K281,K281/K262,K262/K281),\"\")","v":3.4802469135802467},{"$f":"IFERROR(K262/IF((J262*L260)<150,150,J262*L260)^0.25*34.9964,\"\")","v":1.1892086402073565E-2},{"$f":"IF(Q262=\"\",0,IF(Q262>=1000000,7,IF(Q262>=100000,6,IF(Q262>=10000,5,IF(Q262>=1000,4,IF(Q262>=100,3,IF(Q262>=10,2,1)))))))","v":7},1,{"$f":"IF(OR(P262<=0,P262>1000000000),\"\",P260/P262/S259)","v":10000000},{"$f":"IF(OR(Q262=\"\",S262<=0,T260>1),\"\",IF(S262=\"Freilos\",T259/(1-(1/Q262))/Q262,IF(S262>1000000000,\"\",S262/Q262/S260)))","v":2E-3},10000,{"$f":"IFERROR(IF(R262<R281,R281/R262,R262/R281),\"\")","v":13.908333333333335},{"$f":"IFERROR(R262/IF((Q262*S260)<150,150,Q262*S260)^0.25*34.9964,\"\")","v":1.4801675073548542E-3}]
[6,50,{"$f":"IF(OR(B263<=0,B263>1000000000),\"\",B260/B263/E259)","v":120000},{"$f":"IF(OR(C263=\"\",E263<=0,F260>1),\"\",IF(E263=\"Freilos\",F259/(1-(1/C263))/C263,IF(E263>1000000000,\"\",E263/C263/E260)))","v":5.5555555555555558E-3},1000,{"$f":"IFERROR(IF(D263<D281,D281/D263,D263/D281),\"\")","v":6.264444444444444},{"$f":"IFERROR(D263/IF((C263*E260)<150,150,C263*E260)^0.25*34.9964,\"\")","v":9.4391467996545412E-3},6,50,{"$f":"IF(OR(I263<=0,I263>1000000000),\"\",I260/I263/L259)","v":120000},{"$f":"IF(OR(J263=\"\",L263<=0,M260>1),\"\",IF(L263=\"Freilos\",M259/(1-(1/J263))/J263,IF(L263>1000000000,\"\",L263/J263/L260)))","v":5.5555555555555558E-3},500,{"$f":"IFERROR(IF(K263<K281,K281/K263,K263/K281),\"\")","v":6.264444444444444},{"$f":"IFERROR(K263/IF((J263*L260)<150,150,J263*L260)^0.25*34.9964,\"\")","v":1.1225100533704346E-2},7,5,{"$f":"IF(OR(P263<=0,P263>1000000000),\"\",P260/P263/S259)","v":2000000},{"$f":"IF(OR(Q263=\"\",S263<=0,T260>1),\"\",IF(S263=\"Freilos\",T259/(1-(1/Q263))/Q263,IF(S263>1000000000,\"\",S263/Q263/S260)))","v":5.0000000000000001E-3},5000,{"$f":"IFERROR(IF(R263<R281,R281/R263,R263/R281),\"\")","v":5.5633333333333335},{"$f":"IFERROR(R263/IF((Q263*S260)<150,150,Q263*S260)^0.25*34.9964,\"\")","v":5.5334166953158346E-3}]
[5,125,{"$f":"IF(OR(B264<=0,B264>1000000000),\"\",B260/B264/E259)","v":48000},{"$f":"IF(OR(C264=\"\",E264<=0,F260>1),\"\",IF(E264=\"Freilos\",F259/(1-(1/C264))/C264,IF(E264>1000000000,\"\",E264/C264/E260)))","v":2.7777777777777779E-3},200,{"$f":"IFERROR(IF(D264<D281,D281/D264,D264/D281),\"\")","v":12.528888888888888},{"$f":"IFERROR(D264/IF((C264*E260)<150,150,C264*E260)^0.25*34.9964,\"\")","v":5.9345493667851551E-3},5,125,{"$f":"IF(OR(I264<=0,I264>1000000000),\"\",I260/I264/L259)","v":48000},{"$f":"IF(OR(J264=\"\",L264<=0,M260>1),\"\",IF(L264=\"Freilos\",M259/(1-(1/J264))/J264,IF(L264>1000000000,\"\",L264/J264/L260)))","v":2.7777777777777779E-3},100,{"$f":"IFERROR(IF(K264<K281,K281/K264,K264/K281),\"\")","v":12.528888888888888},{"$f":"IFERROR(K264/IF((J264*L260)<150,150,J264*L260)^0.25*34.9964,\"\")","v":7.0574083313158006E-3},6,50,{"$f":"IF(OR(P264<=0,P264>1000000000),\"\",P260/P264/S259)","v":200000},{"$f":"IF(OR(Q264=\"\",S264<=0,T260>1),\"\",IF(S264=\"Freilos\",T259/(1-(1/Q264))/Q264,IF(S264>1000000000,\"\",S264/Q264/S260)))","v":5.0000000000000001E-3},500,{"$f":"IFERROR(IF(R264<R281,R281/R264,R264/R281),\"\")","v":5.5633333333333335},{"$f":"IFERROR(R264/IF((Q264*S260)<150,150,Q264*S260)^0.25*34.9964,\"\")","v":9.8399609764457663E-3}]
[4,800,{"$f":"IF(OR(B265<=0,B265>1000000000),\"\",B260/B265/E259)","v":7500},{"$f":"IF(OR(C265=\"\",E265<=0,F260>1),\"\",IF(E265=\"Freilos\",F259/(1-(1/C265))/C265,IF(E265>1000000000,\"\",E265/C265/E260)))","v":8.8888888888888889E-3},100,{"$f":"IFERROR(IF(D265<D281,D281/D265,D265/D281),\"\")","v":3.9152777777777779},{"$f":"IFERROR(D265/IF((C265*E260)<150,150,C265*E260)^0.25*34.9964,\"\")","v":3.0205269758894534E-2},4,800,{"$f":"IF(OR(I265<=0,I265>1000000000),\"\",I260/I265/L259)","v":7500},{"$f":"IF(OR(J265=\"\",L265<=0,M260>1),\"\",IF(L265=\"Freilos\",M259/(1-(1/J265))/J265,IF(L265>1000000000,\"\",L265/J265/L260)))","v":8.8888888888888889E-3},50,{"$f":"IFERROR(IF(K265<K281,K281/K265,K265/K281),\"\")","v":3.9152777777777779},{"$f":"IFERROR(K265/IF((J265*L260)<150,150,J265*L260)^0.25*34.9964,\"\")","v":3.5920321707853906E-2},6,100,{"$f":"IF(OR(P265<=0,P265>1000000000),\"\",P260/P265/S259)","v":100000},{"$f":"IF(OR(Q265=\"\",S265<=0,T260>1),\"\",IF(S265=\"Freilos\",T259/(1-(1/Q265))/Q265,IF(S265>1000000000,\"\",S265/Q265/S260)))","v":5.0000000000000001E-3},250,{"$f":"IFERROR(IF(R265<R281,R281/R265,R265/R281),\"\")","v":5.5633333333333335},{"$f":"IFERROR(R265/IF((Q265*S260)<150,150,Q265*S260)^0.25*34.9964,\"\")","v":1.1701751604538428E-2}]
[4,1000,{"$f":"IF(OR(B266<=0,B266>1000000000),\"\",B260/B266/E259)","v":6000},{"$f":"IF(OR(C266=\"\",E266<=0,F260>1),\"\",IF(E266=\"Freilos\",F259/(1-(1/C266))/C266,IF(E266>1000000000,\"\",E266/C266/E260)))","v":1.3333333333333333E-3},12,{"$f":"IFERROR(IF(D266<D281,D281/D266,D266/D281),\"\")","v":26.101851851851851},{"$f":"IFERROR(D266/IF((C266*E260)<150,150,C266*E260)^0.25*34.9964,\"\")","v":4.7907276371288053E-3},4,1000,{"$f":"IF(OR(I266<=0,I266>1000000000),\"\",I260/I266/L259)","v":6000},{"$f":"IF(OR(J266=\"\",L266<=0,M260>1),\"\",IF(L266=\"Freilos\",M259/(1-(1/J266))/J266,IF(L266>1000000000,\"\",L266/J266/L260)))","v":1.3333333333333333E-3},6,{"$f":"IFERROR(IF(K266<K281,K281/K266,K266/K281),\"\")","v":26.101851851851851},{"$f":"IFERROR(K266/IF((J266*L260)<150,150,J266*L260)^0.25*34.9964,\"\")","v":5.6971673921137498E-3},5,550,{"$f":"IF(OR(P266<=0,P266>1000000000),\"\",P260/P266/S259)","v":18181.81818181818},{"$f":"IF(OR(Q266=\"\",S266<=0,T260>1),\"\",IF(S266=\"Freilos\",T259/(1-(1/Q266))/Q266,IF(S266>1000000000,\"\",S266/Q266/S260)))","v":8.2500000000000004E-3},75,{"$f":"IFERROR(IF(R266<R281,R281/R266,R266/R281),\"\")","v":3.3717171717171719},{"$f":"IFERROR(R266/IF((Q266*S260)<150,150,Q266*S260)^0.25*34.9964,\"\")","v":2.9568241154656776E-2}]
[4,1000,{"$f":"IF(OR(B267<=0,B267>1000000000),\"\",B260/B267/E259)","v":6000},{"$f":"IF(OR(C267=\"\",E267<=0,F260>1),\"\",IF(E267=\"Freilos\",F259/(1-(1/C267))/C267,IF(E267>1000000000,\"\",E267/C267/E260)))","v":1.6666666666666668E-3},15,{"$f":"IFERROR(IF(D267<D281,D281/D267,D267/D281),\"\")","v":20.88148148148148},{"$f":"IFERROR(D267/IF((C267*E260)<150,150,C267*E260)^0.25*34.9964,\"\")","v":5.9884095464110068E-3},4,1000,{"$f":"IF(OR(I267<=0,I267>1000000000),\"\",I260/I267/L259)","v":6000},{"$f":"IF(OR(J267=\"\",L267<=0,M260>1),\"\",IF(L267=\"Freilos\",M259/(1-(1/J267))/J267,IF(L267>1000000000,\"\",L267/J267/L260)))","v":1.6666666666666668E-3},7.5,{"$f":"IFERROR(IF(K267<K281,K281/K267,K267/K281),\"\")","v":20.88148148148148},{"$f":"IFERROR(K267/IF((J267*L260)<150,150,J267*L260)^0.25*34.9964,\"\")","v":7.1214592401421875E-3},5,1000,{"$f":"IF(OR(P267<=0,P267>1000000000),\"\",P260/P267/S259)","v":10000},{"$f":"IF(OR(Q267=\"\",S267<=0,T260>1),\"\",IF(S267=\"Freilos\",T259/(1-(1/Q267))/Q267,IF(S267>1000000000,\"\",S267/Q267/S260)))","v":5.0000000000000001E-3},25,{"$f":"IFERROR(IF(R267<R281,R281/R267,R267/R281),\"\")","v":5.5633333333333335},{"$f":"IFERROR(R267/IF((Q267*S260)<150,150,Q267*S260)^0.25*34.9964,\"\")","v":2.0808983939740611E-2}]
[4,2000,{"$f":"IF(OR(B268<=0,B268>1000000000),\"\",B260/B268/E259)","v":3000},{"$f":"IF(OR(C268=\"\",E268<=0,F260>1),\"\",IF(E268=\"Freilos\",F259/(1-(1/C268))/C268,IF(E268>1000000000,\"\",E268/C268/E260)))","v":8.8888888888888889E-3},40,{"$f":"IFERROR(IF(D268<D281,D281/D268,D268/D281),\"\")","v":3.9152777777777779},{"$f":"IFERROR(D268/IF((C268*E260)<150,150,C268*E260)^0.25*34.9964,\"\")","v":3.7981115947425002E-2},4,2000,{"$f":"IF(OR(I268<=0,I268>1000000000),\"\",I260/I268/L259)","v":3000},{"$f":"IF(OR(J268=\"\",L268<=0,M260>1),\"\",IF(L268=\"Freilos\",M259/(1-(1/J268))/J268,IF(L268>1000000000,\"\",L268/J268/L260)))","v":8.8888888888888889E-3},20,{"$f":"IFERROR(IF(K268<K281,K281/K268,K268/K281),\"\")","v":3.9152777777777779},{"$f":"IFERROR(K268/IF((J268*L260)<150,150,J268*L260)^0.25*34.9964,\"\")","v":4.5167413320421131E-2},4,10000,{"$f":"IF(OR(P268<=0,P268>1000000000),\"\",P260/P268/S259)","v":1000},{"$f":"IF(OR(Q268=\"\",S268<=0,T260>1),\"\",IF(S268=\"Freilos\",T259/(1-(1/Q268))/Q268,IF(S268>1000000000,\"\",S268/Q268/S260)))","v":0.02},10,{"$f":"IFERROR(IF(R268<R281,R281/R268,R268/R281),\"\")","v":1.3908333333333334},{"$f":"IFERROR(R268/IF((Q268*S260)<150,150,Q268*S260)^0.25*34.9964,\"\")","v":0.14801675073548548}]
[4,2000,{"$f":"IF(OR(B269<=0,B269>1000000000),\"\",B260/B269/E259)","v":3000},{"$f":"IF(OR(C269=\"\",E269<=0,F260>1),\"\",IF(E269=\"Freilos\",F259/(1-(1/C269))/C269,IF(E269>1000000000,\"\",E269/C269/E260)))","v":2.3333333333333335E-3},10.5,{"$f":"IFERROR(IF(D269<D281,D281/D269,D269/D281),\"\")","v":14.915343915343914},{"$f":"IFERROR(D269/IF((C269*E260)<150,150,C269*E260)^0.25*34.9964,\"\")","v":9.9700429361990629E-3},4,2000,{"$f":"IF(OR(I269<=0,I269>1000000000),\"\",I260/I269/L259)","v":3000},{"$f":"IF(OR(J269=\"\",L269<=0,M260>1),\"\",IF(L269=\"Freilos\",M259/(1-(1/J269))/J269,IF(L269>1000000000,\"\",L269/J269/L260)))","v":2.3333333333333335E-3},5.25,{"$f":"IFERROR(IF(K269<K281,K281/K269,K269/K281),\"\")","v":14.915343915343914},{"$f":"IFERROR(K269/IF((J269*L260)<150,150,J269*L260)^0.25*34.9964,\"\")","v":1.1856445996610546E-2},3,50000,{"$f":"IF(OR(P269<=0,P269>1000000000),\"\",P260/P269/S259)","v":200},{"$f":"IF(OR(Q269=\"\",S269<=0,T260>1),\"\",IF(S269=\"Freilos\",T259/(1-(1/Q269))/Q269,IF(S269>1000000000,\"\",S269/Q269/S260)))","v":0.05},5,{"$f":"IFERROR(IF(R269<R281,R281/R269,R269/R281),\"\")","v":1.7974835230677051},{"$f":"IFERROR(R269/IF((Q269*S260)<150,150,Q269*S260)^0.25*34.9964,\"\")","v":0.50000064126955546}]
[4,2000,{"$f":"IF(OR(B270<=0,B270>1000000000),\"\",B260/B270/E259)","v":3000},{"$f":"IF(OR(C270=\"\",E270<=0,F260>1),\"\",IF(E270=\"Freilos\",F259/(1-(1/C270))/C270,IF(E270>1000000000,\"\",E270/C270/E260)))","v":1.5555555555555557E-3},7,{"$f":"IFERROR(IF(D270<D281,D281/D270,D270/D281),\"\")","v":22.37301587301587},{"$f":"IFERROR(D270/IF((C270*E260)<150,150,C270*E260)^0.25*34.9964,\"\")","v":6.6466952907993761E-3},4,2000,{"$f":"IF(OR(I270<=0,I270>1000000000),\"\",I260/I270/L259)","v":3000},{"$f":"IF(OR(J270=\"\",L270<=0,M260>1),\"\",IF(L270=\"Freilos\",M259/(1-(1/J270))/J270,IF(L270>1000000000,\"\",L270/J270/L260)))","v":1.5555555555555557E-3},3.5,{"$f":"IFERROR(IF(K270<K281,K281/K270,K270/K281),\"\")","v":22.37301587301587},{"$f":"IFERROR(K270/IF((J270*L260)<150,150,J270*L260)^0.25*34.9964,\"\")","v":7.9042973310736991E-3},3,100000,{"$f":"IF(OR(P270<=0,P270>1000000000),\"\",P260/P270/S259)","v":100},{"$f":"IF(OR(Q270=\"\",S270<=0,T260>1),\"\",IF(S270=\"Freilos\",T259/(1-(1/Q270))/Q270,IF(S270>1000000000,\"\",S270/Q270/S260)))","v":0.06},3,{"$f":"IFERROR(IF(R270<R281,R281/R270,R270/R281),\"\")","v":2.1569802276812458},{"$f":"IFERROR(R270/IF((Q270*S260)<150,150,Q270*S260)^0.25*34.9964,\"\")","v":0.60000076952346648}]
[4,2000,{"$f":"IF(OR(B271<=0,B271>1000000000),\"\",B260/B271/E259)","v":3000},{"$f":"IF(OR(C271=\"\",E271<=0,F260>1),\"\",IF(E271=\"Freilos\",F259/(1-(1/C271))/C271,IF(E271>1000000000,\"\",E271/C271/E260)))","v":1.3333333333333333E-3},6,{"$f":"IFERROR(IF(D271<D281,D281/D271,D271/D281),\"\")","v":26.101851851851851},{"$f":"IFERROR(D271/IF((C271*E260)<150,150,C271*E260)^0.25*34.9964,\"\")","v":5.6971673921137498E-3},4,2000,{"$f":"IF(OR(I271<=0,I271>1000000000),\"\",I260/I271/L259)","v":3000},{"$f":"IF(OR(J271=\"\",L271<=0,M260>1),\"\",IF(L271=\"Freilos\",M259/(1-(1/J271))/J271,IF(L271>1000000000,\"\",L271/J271/L260)))","v":1.3333333333333333E-3},3,{"$f":"IFERROR(IF(K271<K281,K281/K271,K271/K281),\"\")","v":26.101851851851851},{"$f":"IFERROR(K271/IF((J271*L260)<150,150,J271*L260)^0.25*34.9964,\"\")","v":6.7751119980631698E-3},2,200000,{"$f":"IF(OR(P271<=0,P271>1000000000),\"\",P260/P271/S259)","v":50},{"$f":"IF(OR(Q271=\"\",S271<=0,T260>1),\"\",IF(S271=\"Freilos\",T259/(1-(1/Q271))/Q271,IF(S271>1000000000,\"\",S271/Q271/S260)))","v":0.1},2.5,{"$f":"IFERROR(IF(R271<R281,R281/R271,R271/R281),\"\")","v":3.5949670461354102},{"$f":"IFERROR(R271/IF((Q271*S260)<150,150,Q271*S260)^0.25*34.9964,\"\")","v":1.0000012825391109}]
[4,2000,{"$f":"IF(OR(B272<=0,B272>1000000000),\"\",B260/B272/E259)","v":3000},{"$f":"IF(OR(C272=\"\",E272<=0,F260>1),\"\",IF(E272=\"Freilos\",F259/(1-(1/C272))/C272,IF(E272>1000000000,\"\",E272/C272/E260)))","v":1.2222222222222222E-3},5.5,{"$f":"IFERROR(IF(D272<D281,D281/D272,D272/D281),\"\")","v":28.474747474747474},{"$f":"IFERROR(D272/IF((C272*E260)<150,150,C272*E260)^0.25*34.9964,\"\")","v":5.2224034427709376E-3},4,2000,{"$f":"IF(OR(I272<=0,I272>1000000000),\"\",I260/I272/L259)","v":3000},{"$f":"IF(OR(J272=\"\",L272<=0,M260>1),\"\",IF(L272=\"Freilos\",M259/(1-(1/J272))/J272,IF(L272>1000000000,\"\",L272/J272/L260)))","v":1.2222222222222222E-3},2.75,{"$f":"IFERROR(IF(K272<K281,K281/K272,K272/K281),\"\")","v":28.474747474747474},{"$f":"IFERROR(K272/IF((J272*L260)<150,150,J272*L260)^0.25*34.9964,\"\")","v":6.2105193315579047E-3},2,200000,{"$f":"IF(OR(P272<=0,P272>1000000000),\"\",P260/P272/S259)","v":50},{"$f":"IF(OR(Q272=\"\",S272<=0,T260>1),\"\",IF(S272=\"Freilos\",T259/(1-(1/Q272))/Q272,IF(S272>1000000000,\"\",S272/Q272/S260)))","v":0.05},1.25,{"$f":"IFERROR(IF(R272<R281,R281/R272,R272/R281),\"\")","v":1.7974835230677051},{"$f":"IFERROR(R272/IF((Q272*S260)<150,150,Q272*S260)^0.25*34.9964,\"\")","v":0.50000064126955546}]
[3,8000,{"$f":"IF(OR(B273<=0,B273>1000000000),\"\",B260/B273/E259)","v":750},{"$f":"IF(OR(C273=\"\",E273<=0,F260>1),\"\",IF(E273=\"Freilos\",F259/(1-(1/C273))/C273,IF(E273>1000000000,\"\",E273/C273/E260)))","v":1.7777777777777778E-2},20,{"$f":"IFERROR(IF(D273<D281,D281/D273,D273/D281),\"\")","v":1.9576388888888889},{"$f":"IFERROR(D273/IF((C273*E260)<150,150,C273*E260)^0.25*34.9964,\"\")","v":0.10742681857382695},3,8000,{"$f":"IF(OR(I273<=0,I273>1000000000),\"\",I260/I273/L259)","v":750},{"$f":"IF(OR(J273=\"\",L273<=0,M260>1),\"\",IF(L273=\"Freilos\",M259/(1-(1/J273))/J273,IF(L273>1000000000,\"\",L273/J273/L260)))","v":1.7777777777777778E-2},10,{"$f":"IFERROR(IF(K273<K281,K281/K273,K273/K281),\"\")","v":1.9576388888888889},{"$f":"IFERROR(K273/IF((J273*L260)<150,150,J273*L260)^0.25*34.9964,\"\")","v":0.12775273699010148},2,200000,{"$f":"IF(OR(P273<=0,P273>1000000000),\"\",P260/P273/S259)","v":50},{"$f":"IF(OR(Q273=\"\",S273<=0,T260>1),\"\",IF(S273=\"Freilos\",T259/(1-(1/Q273))/Q273,IF(S273>1000000000,\"\",S273/Q273/S260)))","v":0.04},1,{"$f":"IFERROR(IF(R273<R281,R281/R273,R273/R281),\"\")","v":1.437986818454164},{"$f":"IFERROR(R273/IF((Q273*S260)<150,150,Q273*S260)^0.25*34.9964,\"\")","v":0.40000051301564438}]
[3,8000,{"$f":"IF(OR(B274<=0,B274>1000000000),\"\",B260/B274/E259)","v":750},{"$f":"IF(OR(C274=\"\",E274<=0,F260>1),\"\",IF(E274=\"Freilos\",F259/(1-(1/C274))/C274,IF(E274>1000000000,\"\",E274/C274/E260)))","v":9.7777777777777776E-3},11,{"$f":"IFERROR(IF(D274<D281,D281/D274,D274/D281),\"\")","v":3.5593434343434343},{"$f":"IFERROR(D274/IF((C274*E260)<150,150,C274*E260)^0.25*34.9964,\"\")","v":5.9084750215604824E-2},3,8000,{"$f":"IF(OR(I274<=0,I274>1000000000),\"\",I260/I274/L259)","v":750},{"$f":"IF(OR(J274=\"\",L274<=0,M260>1),\"\",IF(L274=\"Freilos\",M259/(1-(1/J274))/J274,IF(L274>1000000000,\"\",L274/J274/L260)))","v":9.7777777777777776E-3},5.5,{"$f":"IFERROR(IF(K274<K281,K281/K274,K274/K281),\"\")","v":3.5593434343434343},{"$f":"IFERROR(K274/IF((J274*L260)<150,150,J274*L260)^0.25*34.9964,\"\")","v":7.0264005344555819E-2},2,275000,{"$f":"IF(OR(P274<=0,P274>1000000000),\"\",P260/P274/S259)","v":36.363636363636367},{"$f":"IF(OR(Q274=\"\",S274<=0,T260>1),\"\",IF(S274=\"Freilos\",T259/(1-(1/Q274))/Q274,IF(S274>1000000000,\"\",S274/Q274/S260)))","v":4.1249999999999995E-2},0.75,{"$f":"IFERROR(IF(R274<R281,R281/R274,R274/R281),\"\")","v":1.4829239065308564},{"$f":"IFERROR(R274/IF((Q274*S260)<150,150,Q274*S260)^0.25*34.9964,\"\")","v":0.41250052904738316}]
[2,80000,{"$f":"IF(OR(B275<=0,B275>1000000000),\"\",B260/B275/E259)","v":75},{"$f":"IF(OR(C275=\"\",E275<=0,F260>1),\"\",IF(E275=\"Freilos\",F259/(1-(1/C275))/C275,IF(E275>1000000000,\"\",E275/C275/E260)))","v":8.8888888888888892E-2},10,{"$f":"IFERROR(IF(D275<D281,D281/D275,D275/D281),\"\")","v":2.5540971975877973},{"$f":"IFERROR(D275/IF((C275*E260)<150,150,C275*E260)^0.25*34.9964,\"\")","v":0.8888900289236541},2,80000,{"$f":"IF(OR(I275<=0,I275>1000000000),\"\",I260/I275/L259)","v":75},{"$f":"IF(OR(J275=\"\",L275<=0,M260>1),\"\",IF(L275=\"Freilos\",M259/(1-(1/J275))/J275,IF(L275>1000000000,\"\",L275/J275/L260)))","v":8.8888888888888892E-2},5,{"$f":"IFERROR(IF(K275<K281,K281/K275,K275/K281),\"\")","v":2.5540971975877973},{"$f":"IFERROR(K275/IF((J275*L260)<150,150,J275*L260)^0.25*34.9964,\"\")","v":0.8888900289236541},2,310000,{"$f":"IF(OR(P275<=0,P275>1000000000),\"\",P260/P275/S259)","v":32.258064516129032},{"$f":"IF(OR(Q275=\"\",S275<=0,T260>1),\"\",IF(S275=\"Freilos\",T259/(1-(1/Q275))/Q275,IF(S275>1000000000,\"\",S275/Q275/S260)))","v":3.7199999999999997E-2},0.6,{"$f":"IFERROR(IF(R275<R281,R281/R275,R275/R281),\"\")","v":1.3373277411623723},{"$f":"IFERROR(R275/IF((Q275*S260)<150,150,Q275*S260)^0.25*34.9964,\"\")","v":0.3720004771045492}]
[2,130000,{"$f":"IF(OR(B276<=0,B276>1000000000),\"\",B260/B276/E259)","v":46.153846153846153},{"$f":"IF(OR(C276=\"\",E276<=0,F260>1),\"\",IF(E276=\"Freilos\",F259/(1-(1/C276))/C276,IF(E276>1000000000,\"\",E276/C276/E260)))","v":3.6111111111111115E-2},2.5,{"$f":"IFERROR(IF(D276<D281,D281/D276,D276/D281),\"\")","v":1.0376019865200428},{"$f":"IFERROR(D276/IF((C276*E260)<150,150,C276*E260)^0.25*34.9964,\"\")","v":0.36111157425023455},2,130000,{"$f":"IF(OR(I276<=0,I276>1000000000),\"\",I260/I276/L259)","v":46.153846153846153},{"$f":"IF(OR(J276=\"\",L276<=0,M260>1),\"\",IF(L276=\"Freilos\",M259/(1-(1/J276))/J276,IF(L276>1000000000,\"\",L276/J276/L260)))","v":3.6111111111111115E-2},1.25,{"$f":"IFERROR(IF(K276<K281,K281/K276,K276/K281),\"\")","v":1.0376019865200428},{"$f":"IFERROR(K276/IF((J276*L260)<150,150,J276*L260)^0.25*34.9964,\"\")","v":0.36111157425023455},2,400000,{"$f":"IF(OR(P276<=0,P276>1000000000),\"\",P260/P276/S259)","v":25},{"$f":"IF(OR(Q276=\"\",S276<=0,T260>1),\"\",IF(S276=\"Freilos\",T259/(1-(1/Q276))/Q276,IF(S276>1000000000,\"\",S276/Q276/S260)))","v":2.4E-2},0.3,{"$f":"IFERROR(IF(R276<R281,R281/R276,R276/R281),\"\")","v":1.159027777777778},{"$f":"IFERROR(R276/IF((Q276*S260)<150,150,Q276*S260)^0.25*34.9964,\"\")","v":0.24000030780938661}]
[2,500000,{"$f":"IF(OR(B277<=0,B277>1000000000),\"\",B260/B277/E259)","v":12},{"$f":"IF(OR(C277=\"\",E277<=0,F260>1),\"\",IF(E277=\"Freilos\",F259/(1-(1/C277))/C277,IF(E277>1000000000,\"\",E277/C277/E260)))","v":8.3333333333333329E-2},1.5,{"$f":"IFERROR(IF(D277<D281,D281/D277,D277/D281),\"\")","v":2.3944661227385597},{"$f":"IFERROR(D277/IF((C277*E260)<150,150,C277*E260)^0.25*34.9964,\"\")","v":0.83333440211592569},2,500000,{"$f":"IF(OR(I277<=0,I277>1000000000),\"\",I260/I277/L259)","v":12},{"$f":"IF(OR(J277=\"\",L277<=0,M260>1),\"\",IF(L277=\"Freilos\",M259/(1-(1/J277))/J277,IF(L277>1000000000,\"\",L277/J277/L260)))","v":8.3333333333333329E-2},0.75,{"$f":"IFERROR(IF(K277<K281,K281/K277,K277/K281),\"\")","v":2.3944661227385597},{"$f":"IFERROR(K277/IF((J277*L260)<150,150,J277*L260)^0.25*34.9964,\"\")","v":0.83333440211592569},2,400000,{"$f":"IF(OR(P277<=0,P277>1000000000),\"\",P260/P277/S259)","v":25},{"$f":"IF(OR(Q277=\"\",S277<=0,T260>1),\"\",IF(S277=\"Freilos\",T259/(1-(1/Q277))/Q277,IF(S277>1000000000,\"\",S277/Q277/S260)))","v":0.02},0.25,{"$f":"IFERROR(IF(R277<R281,R281/R277,R277/R281),\"\")","v":1.3908333333333334},{"$f":"IFERROR(R277/IF((Q277*S260)<150,150,Q277*S260)^0.25*34.9964,\"\")","v":0.20000025650782219}]
[2,535000,{"$f":"IF(OR(B278<=0,B278>1000000000),\"\",B260/B278/E259)","v":11.214953271028037},{"$f":"IF(OR(C278=\"\",E278<=0,F260>1),\"\",IF(E278=\"Freilos\",F259/(1-(1/C278))/C278,IF(E278>1000000000,\"\",E278/C278/E260)))","v":0.17833333333333334},3,{"$f":"IFERROR(IF(D278<D281,D281/D278,D278/D281),\"\")","v":5.1241575026605179},{"$f":"IFERROR(D278/IF((C278*E260)<150,150,C278*E260)^0.25*34.9964,\"\")","v":1.7833356205280813},2,535000,{"$f":"IF(OR(I278<=0,I278>1000000000),\"\",I260/I278/L259)","v":11.214953271028037},{"$f":"IF(OR(J278=\"\",L278<=0,M260>1),\"\",IF(L278=\"Freilos\",M259/(1-(1/J278))/J278,IF(L278>1000000000,\"\",L278/J278/L260)))","v":0.17833333333333334},1.5,{"$f":"IFERROR(IF(K278<K281,K281/K278,K278/K281),\"\")","v":5.1241575026605179},{"$f":"IFERROR(K278/IF((J278*L260)<150,150,J278*L260)^0.25*34.9964,\"\")","v":1.7833356205280813},2,400000,{"$f":"IF(OR(P278<=0,P278>1000000000),\"\",P260/P278/S259)","v":25},{"$f":"IF(OR(Q278=\"\",S278<=0,T260>1),\"\",IF(S278=\"Freilos\",T259/(1-(1/Q278))/Q278,IF(S278>1000000000,\"\",S278/Q278/S260)))","v":1.6E-2},0.2,{"$f":"IFERROR(IF(R278<R281,R281/R278,R278/R281),\"\")","v":1.7385416666666669},{"$f":"IFERROR(R278/IF((Q278*S260)<150,150,Q278*S260)^0.25*34.9964,\"\")","v":0.16000020520625774}]
[1,1500000,{"$f":"IF(OR(B279<=0,B279>1000000000),\"\",B260/B279/E259)","v":4},{"$f":"IF(OR(C279=\"\",E279<=0,F260>1),\"\",IF(E279=\"Freilos\",F259/(1-(1/C279))/C279,IF(E279>1000000000,\"\",E279/C279/E260)))","v":0.16666666666666666},1,{"$f":"IFERROR(IF(D279<D281,D281/D279,D279/D281),\"\")","v":4.7889322454771195},{"$f":"IFERROR(D279/IF((C279*E260)<150,150,C279*E260)^0.25*34.9964,\"\")","v":1.6666688042318514},1,1500000,{"$f":"IF(OR(I279<=0,I279>1000000000),\"\",I260/I279/L259)","v":4},{"$f":"IF(OR(J279=\"\",L279<=0,M260>1),\"\",IF(L279=\"Freilos\",M259/(1-(1/J279))/J279,IF(L279>1000000000,\"\",L279/J279/L260)))","v":0.16666666666666666},0.5,{"$f":"IFERROR(IF(K279<K281,K281/K279,K279/K281),\"\")","v":4.7889322454771195},{"$f":"IFERROR(K279/IF((J279*L260)<150,150,J279*L260)^0.25*34.9964,\"\")","v":1.6666688042318514},2,400000,{"$f":"IF(OR(P279<=0,P279>1000000000),\"\",P260/P279/S259)","v":25},{"$f":"IF(OR(Q279=\"\",S279<=0,T260>1),\"\",IF(S279=\"Freilos\",T259/(1-(1/Q279))/Q279,IF(S279>1000000000,\"\",S279/Q279/S260)))","v":1.2E-2},0.15,{"$f":"IFERROR(IF(R279<R281,R281/R279,R279/R281),\"\")","v":2.318055555555556},{"$f":"IFERROR(R279/IF((Q279*S260)<150,150,Q279*S260)^0.25*34.9964,\"\")","v":0.1200001539046933}]
[null,{"$f":"IF(SUM(B262:B279)=0,\"\",SUM(B262:B279))","v":2773981},{"$f":"IF(OR(B280<=0,B280>1000000000),\"\",B260/B280/E259)","v":2.1629564153467524},{"$f":"IF(SUM(D262:D279)=0,\"\",SUM(D262:D279))","v":0.62644444444444447},{"$f":"IFERROR(E260*D280,\"\")","v":0.93966666666666665},{"$f":"IFERROR(AVERAGE(F262:F279),\"\")","v":10.576036979387661},{"$f":"IF(SUM(G262:G279)=0,\"\",SUM(G262:G279))","v":5.8317275397827517},null,{"$f":"IF(SUM(I262:I279)=0,\"\",SUM(I262:I279))","v":2773981},{"$f":"IF(OR(I280<=0,I280>1000000000),\"\",I260/I280/L259)","v":2.1629564153467524},{"$f":"IF(SUM(K262:K279)=0,\"\",SUM(K262:K279))","v":0.62644444444444447},{"$f":"IFERROR(L260*K280,\"\")","v":0.46983333333333333},{"$f":"IFERROR(AVERAGE(M262:M279),\"\")","v":10.576036979387661},{"$f":"IF(SUM(N262:N279)=0,\"\",SUM(N262:N279))","v":5.8881845039693346},null,{"$f":"IF(SUM(P262:P279)=0,\"\",SUM(P262:P279))","v":2946706},{"$f":"IF(OR(P280<=0,P280>1000000000),\"\",P260/P280/S259)","v":3.3936198589204354},{"$f":"IF(SUM(R262:R279)=0,\"\",SUM(R262:R279))","v":0.50070000000000003},{"$f":"IFERROR(S260*R280,\"\")","v":0.25035000000000002},{"$f":"IFERROR(AVERAGE(T262:T279),\"\")","v":3.3964349050638862},{"$f":"IF(SUM(U262:U279)=0,\"\",SUM(U262:U279))","v":4.7314550498109629}]
[null,null,null,{"$f":"AVERAGE(D262:D279)","v":3.4802469135802469E-2},null,null,null,null,null,null,{"$f":"AVERAGE(K262:K279)","v":3.4802469135802469E-2},null,null,null,null,null,null,{"$f":"AVERAGE(R262:R279)","v":2.781666666666667E-2}]
[]
[null,"Rubbel den Ra",null,null,1,{"$f":"IFERROR(SUMIF(E286:E317,\"<>Freilos\",D286:D317),\"\")","v":0.50520000000000009},null,null,"Rubbel EuroJackpot",null,null,1,{"$f":"IFERROR(SUMIF(L286:L317,\"<>Freilos\",K286:K317),\"\")","v":0.58850286645648098},null,null,"Rubbel EuroMillions",null,null,1,{"$f":"IFERROR(SUMIF(S286:S312,\"<>Freilos\",R286:R312),\"\")","v":0.5805914017556677}]
[null,5000000,null,null,{"$f":"E283*2","v":2},{"$f":"IFERROR(COUNTIF(E286:E317,\"Freilos\"),\"\")","v":0},null,null,9534420,null,null,{"$f":"L283*2","v":2},{"$f":"IFERROR(COUNTIF(L286:L317,\"Freilos\"),\"\")","v":0},null,null,13983816,null,null,{"$f":"S283*3","v":3},{"$f":"IFERROR(COUNTIF(S286:S312,\"Freilos\"),\"\")","v":0}]
[null,"Losanzahl",{"$f":"IF(E283=1,\"Chancen 1:\",\"Ø Gewinne 1:\")","v":"Chancen 1:"},"Ø AQ","(Ø) Gewinn",null,null,null,"Losanzahl",{"$f":"IF(L283=1,\"Chancen 1:\",\"Ø Gewinne 1:\")","v":"Chancen 1:"},"Ø AQ","(Ø) Gewinn",null,null,null,"Losanzahl",{"$f":"IF(S283=1,\"Chancen 1:\",\"Ø Gewinne 1:\")","v":"Chancen 1:"},"Ø AQ","(Ø) Gewinn"]
[7,1,{"$f":"IF(OR(B286<=0,B286>1000000000),\"\",B284/B286/E283)","v":5000000},{"$f":"IF(OR(C286=\"\",E286<=0,F284>1),\"\",IF(E286=\"Freilos\",F283/(1-(1/C286))/C286,IF(E286>1000000000,\"\",E286/C286/E284)))","v":0.02},200000,{"$f":"IFERROR(IF(D286<D319,D319/D286,D286/D319),\"\")","v":1.2668250197941406},{"$f":"IFERROR(D286/IF((C286*E284)<150,150,C286*E284)^0.25*34.9964,\"\")","v":1.2446675509097232E-2},7,1,{"$f":"IF(OR(I286<=0,I286>1000000000),\"\",I284/I286/L283)","v":9534420},{"$f":"IF(OR(J286=\"\",L286<=0,M284>1),\"\",IF(L286=\"Freilos\",M283/(1-(1/J286))/J286,IF(L286=\"Freispiel\",Lotterien!$E$45/J286/L284,IF(L286>1000000000,\"\",L286/J286/L284))))","v":1.0489206475066128E-2},200017,{"$f":"IFERROR(IF(K286<K319,K319/K286,K286/K319),\"\")","v":1.7532989383402418},{"$f":"IFERROR(K286/IF((J286*L284)<150,150,J286*L284)^0.25*34.9964,\"\")","v":5.5550111814753915E-3},7,1,{"$f":"IF(OR(P286<=0,P286>1000000000),\"\",P284/P286/S283)","v":13983816},{"$f":"IF(OR(Q286=\"\",S286<=0,T284>1),\"\",IF(S286=\"Freilos\",T283/(1-(1/Q286))/Q286,IF(S286=\"Freispiel\",Lotterien!$L$46/Q286/S284,IF(S286>1000000000,\"\",S286/Q286/S284))))","v":7.1511238420185162E-3},300000,{"$f":"IFERROR(IF(R286<R314,R314/R286,R286/R314),\"\")","v":3.0069938271604943},{"$f":"IFERROR(R286/IF((Q286*S284)<150,150,Q286*S284)^0.25*34.9964,\"\")","v":3.1096458565696844E-3}]
[7,1,{"$f":"IF(OR(B287<=0,B287>1000000000),\"\",B284/B287/E283)","v":5000000},{"$f":"IF(OR(C287=\"\",E287<=0,F284>1),\"\",IF(E287=\"Freilos\",F283/(1-(1/C287))/C287,IF(E287>1000000000,\"\",E287/C287/E284)))","v":0.01},100000,{"$f":"IFERROR(IF(D287<D319,D319/D287,D287/D319),\"\")","v":1.5787500000000003},{"$f":"IFERROR(D287/IF((C287*E284)<150,150,C287*E284)^0.25*34.9964,\"\")","v":6.2233377545486161E-3},7,2,{"$f":"IF(OR(I287<=0,I287>1000000000),\"\",I284/I287/L283)","v":4767210},{"$f":"IF(OR(J287=\"\",L287<=0,M284>1),\"\",IF(L287=\"Freilos\",M283/(1-(1/J287))/J287,IF(L287=\"Freispiel\",Lotterien!$E$45/J287/L284,IF(L287>1000000000,\"\",L287/J287/L284))))","v":2.0976629936587648E-3},20000,{"$f":"IFERROR(IF(K287<K319,K319/K287,K287/K319),\"\")","v":8.7672398437500014},{"$f":"IFERROR(K287/IF((J287*L284)<150,150,J287*L284)^0.25*34.9964,\"\")","v":1.3210994707310304E-3},7,3,{"$f":"IF(OR(P287<=0,P287>1000000000),\"\",P284/P287/S283)","v":4661272},{"$f":"IF(OR(Q287=\"\",S287<=0,T284>1),\"\",IF(S287=\"Freilos\",T283/(1-(1/Q287))/Q287,IF(S287=\"Freispiel\",Lotterien!$L$46/Q287/S284,IF(S287>1000000000,\"\",S287/Q287/S284))))","v":1.716269722084444E-3},24000,{"$f":"IFERROR(IF(R287<R314,R314/R287,R287/R314),\"\")","v":12.529140946502059},{"$f":"IFERROR(R287/IF((Q287*S284)<150,150,Q287*S284)^0.25*34.9964,\"\")","v":9.8220578431602152E-4}]
[7,1,{"$f":"IF(OR(B288<=0,B288>1000000000),\"\",B284/B288/E283)","v":5000000},{"$f":"IF(OR(C288=\"\",E288<=0,F284>1),\"\",IF(E288=\"Freilos\",F283/(1-(1/C288))/C288,IF(E288>1000000000,\"\",E288/C288/E284)))","v":5.0000000000000001E-3},50000,{"$f":"IFERROR(IF(D288<D319,D319/D288,D288/D319),\"\")","v":3.1575000000000006},{"$f":"IFERROR(D288/IF((C288*E284)<150,150,C288*E284)^0.25*34.9964,\"\")","v":3.111668877274308E-3},6,21,{"$f":"IF(OR(I288<=0,I288>1000000000),\"\",I284/I288/L283)","v":454020},{"$f":"IF(OR(J288=\"\",L288<=0,M284>1),\"\",IF(L288=\"Freilos\",M283/(1-(1/J288))/J288,IF(L288=\"Freispiel\",Lotterien!$E$45/J288/L284,IF(L288>1000000000,\"\",L288/J288/L284))))","v":2.2025461433417032E-3},2000,{"$f":"IFERROR(IF(K288<K319,K319/K288,K288/K319),\"\")","v":8.3497522321428583},{"$f":"IFERROR(K288/IF((J288*L284)<150,150,J288*L284)^0.25*34.9964,\"\")","v":2.4970206988106582E-3},6,30,{"$f":"IF(OR(P288<=0,P288>1000000000),\"\",P284/P288/S283)","v":466127.2},{"$f":"IF(OR(Q288=\"\",S288<=0,T284>1),\"\",IF(S288=\"Freilos\",T283/(1-(1/Q288))/Q288,IF(S288=\"Freispiel\",Lotterien!$L$46/Q288/S284,IF(S288>1000000000,\"\",S288/Q288/S284))))","v":1.5017360068238885E-3},2100,{"$f":"IFERROR(IF(R288<R314,R314/R288,R288/R314),\"\")","v":14.319018224573782},{"$f":"IFERROR(R288/IF((Q288*S284)<150,150,Q288*S284)^0.25*34.9964,\"\")","v":1.5283067823365231E-3}]
[7,2,{"$f":"IF(OR(B289<=0,B289>1000000000),\"\",B284/B289/E283)","v":2500000},{"$f":"IF(OR(C289=\"\",E289<=0,F284>1),\"\",IF(E289=\"Freilos\",F283/(1-(1/C289))/C289,IF(E289>1000000000,\"\",E289/C289/E284)))","v":6.0000000000000001E-3},30000,{"$f":"IFERROR(IF(D289<D319,D319/D289,D289/D319),\"\")","v":2.6312500000000005},{"$f":"IFERROR(D289/IF((C289*E284)<150,150,C289*E284)^0.25*34.9964,\"\")","v":4.4405025220645624E-3},5,140,{"$f":"IF(OR(I289<=0,I289>1000000000),\"\",I284/I289/L283)","v":68103},{"$f":"IF(OR(J289=\"\",L289<=0,M284>1),\"\",IF(L289=\"Freilos\",M283/(1-(1/J289))/J289,IF(L289=\"Freispiel\",Lotterien!$E$45/J289/L284,IF(L289>1000000000,\"\",L289/J289/L284))))","v":1.4683640955611354E-3},200,{"$f":"IFERROR(IF(K289<K319,K319/K289,K289/K319),\"\")","v":12.524628348214287},{"$f":"IFERROR(K289/IF((J289*L284)<150,150,J289*L284)^0.25*34.9964,\"\")","v":2.6749031894900215E-3},5,200,{"$f":"IF(OR(P289<=0,P289>1000000000),\"\",P284/P289/S283)","v":69919.08},{"$f":"IF(OR(Q289=\"\",S289<=0,T284>1),\"\",IF(S289=\"Freilos\",T283/(1-(1/Q289))/Q289,IF(S289=\"Freispiel\",Lotterien!$L$46/Q289/S284,IF(S289>1000000000,\"\",S289/Q289/S284))))","v":1.287202291563333E-3},270,{"$f":"IFERROR(IF(R289<R314,R314/R289,R289/R314),\"\")","v":16.705521262002744},{"$f":"IFERROR(R289/IF((Q289*S284)<150,150,Q289*S284)^0.25*34.9964,\"\")","v":2.104945888791464E-3}]
[7,4,{"$f":"IF(OR(B290<=0,B290>1000000000),\"\",B284/B290/E283)","v":1250000},{"$f":"IF(OR(C290=\"\",E290<=0,F284>1),\"\",IF(E290=\"Freilos\",F283/(1-(1/C290))/C290,IF(E290>1000000000,\"\",E290/C290/E284)))","v":8.0000000000000002E-3},20000,{"$f":"IFERROR(IF(D290<D319,D319/D290,D290/D319),\"\")","v":1.9734375000000004},{"$f":"IFERROR(D290/IF((C290*E284)<150,150,C290*E284)^0.25*34.9964,\"\")","v":7.0409029245689404E-3},5,490,{"$f":"IF(OR(I290<=0,I290>1000000000),\"\",I284/I290/L283)","v":19458},{"$f":"IF(OR(J290=\"\",L290<=0,M284>1),\"\",IF(L290=\"Freilos\",M283/(1-(1/J290))/J290,IF(L290=\"Freispiel\",Lotterien!$E$45/J290/L284,IF(L290>1000000000,\"\",L290/J290/L284))))","v":2.569637167231987E-3},100,{"$f":"IFERROR(IF(K290<K319,K319/K290,K290/K319),\"\")","v":7.1569304846938788},{"$f":"IFERROR(K290/IF((J290*L284)<150,150,J290*L284)^0.25*34.9964,\"\")","v":6.4026996318837523E-3},5,700,{"$f":"IF(OR(P290<=0,P290>1000000000),\"\",P284/P290/S283)","v":19976.88},{"$f":"IF(OR(Q290=\"\",S290<=0,T284>1),\"\",IF(S290=\"Freilos\",T283/(1-(1/Q290))/Q290,IF(S290=\"Freispiel\",Lotterien!$L$46/Q290/S284,IF(S290>1000000000,\"\",S290/Q290/S284))))","v":2.0023146757651845E-3},120,{"$f":"IFERROR(IF(R290<R314,R314/R290,R290/R314),\"\")","v":10.739263668430336},{"$f":"IFERROR(R290/IF((Q290*S284)<150,150,Q290*S284)^0.25*34.9964,\"\")","v":4.4786123501189233E-3}]
[6,6,{"$f":"IF(OR(B291<=0,B291>1000000000),\"\",B284/B291/E283)","v":833333.33333333337},{"$f":"IF(OR(C291=\"\",E291<=0,F284>1),\"\",IF(E291=\"Freilos\",F283/(1-(1/C291))/C291,IF(E291>1000000000,\"\",E291/C291/E284)))","v":3.0000000000000001E-3},5000,{"$f":"IFERROR(IF(D291<D319,D319/D291,D291/D319),\"\")","v":5.2625000000000011},{"$f":"IFERROR(D291/IF((C291*E284)<150,150,C291*E284)^0.25*34.9964,\"\")","v":2.9220149868695866E-3},5,700,{"$f":"IF(OR(I291<=0,I291>1000000000),\"\",I284/I291/L283)","v":13620.6},{"$f":"IF(OR(J291=\"\",L291<=0,M284>1),\"\",IF(L291=\"Freilos\",M283/(1-(1/J291))/J291,IF(L291=\"Freispiel\",Lotterien!$E$45/J291/L284,IF(L291>1000000000,\"\",L291/J291/L284))))","v":4.6253469010175763E-3},126,{"$f":"IFERROR(IF(K291<K319,K319/K291,K291/K319),\"\")","v":3.9760724914965997},{"$f":"IFERROR(K291/IF((J291*L284)<150,150,J291*L284)^0.25*34.9964,\"\")","v":1.2599726656509278E-2},5,1000,{"$f":"IF(OR(P291<=0,P291>1000000000),\"\",P284/P291/S283)","v":13983.816000000001},{"$f":"IF(OR(Q291=\"\",S291<=0,T284>1),\"\",IF(S291=\"Freilos\",T283/(1-(1/Q291))/Q291,IF(S291=\"Freispiel\",Lotterien!$L$46/Q291/S284,IF(S291>1000000000,\"\",S291/Q291/S284))))","v":3.7185843978496283E-3},156,{"$f":"IFERROR(IF(R291<R314,R314/R291,R291/R314),\"\")","v":5.7826804368471043},{"$f":"IFERROR(R291/IF((Q291*S284)<150,150,Q291*S284)^0.25*34.9964,\"\")","v":9.0931483336515878E-3}]
[6,10,{"$f":"IF(OR(B292<=0,B292>1000000000),\"\",B284/B292/E283)","v":500000},{"$f":"IF(OR(C292=\"\",E292<=0,F284>1),\"\",IF(E292=\"Freilos\",F283/(1-(1/C292))/C292,IF(E292>1000000000,\"\",E292/C292/E284)))","v":0.01},10000,{"$f":"IFERROR(IF(D292<D319,D319/D292,D292/D319),\"\")","v":1.5787500000000003},{"$f":"IFERROR(D292/IF((C292*E284)<150,150,C292*E284)^0.25*34.9964,\"\")","v":1.1066833390631669E-2},4,1330,{"$f":"IF(OR(I292<=0,I292>1000000000),\"\",I284/I292/L283)","v":7168.7368421052633},{"$f":"IF(OR(J292=\"\",L292<=0,M284>1),\"\",IF(L292=\"Freilos\",M283/(1-(1/J292))/J292,IF(L292=\"Freispiel\",Lotterien!$E$45/J292/L284,IF(L292>1000000000,\"\",L292/J292/L284))))","v":2.7898917815661569E-3},40,{"$f":"IFERROR(IF(K292<K319,K319/K292,K292/K319),\"\")","v":6.591909656954889},{"$f":"IFERROR(K292/IF((J292*L284)<150,150,J292*L284)^0.25*34.9964,\"\")","v":8.9226235622235656E-3},4,1900,{"$f":"IF(OR(P292<=0,P292>1000000000),\"\",P284/P292/S283)","v":7359.903157894737},{"$f":"IF(OR(Q292=\"\",S292<=0,T284>1),\"\",IF(S292=\"Freilos\",T283/(1-(1/Q292))/Q292,IF(S292=\"Freispiel\",Lotterien!$L$46/Q292/S284,IF(S292>1000000000,\"\",S292/Q292/S284))))","v":1.3587135299835181E-3},30,{"$f":"IFERROR(IF(R292<R314,R314/R292,R292/R314),\"\")","v":15.826283300844706},{"$f":"IFERROR(R292/IF((Q292*S284)<150,150,Q292*S284)^0.25*34.9964,\"\")","v":3.9007932570194193E-3}]
[6,10,{"$f":"IF(OR(B293<=0,B293>1000000000),\"\",B284/B293/E283)","v":500000},{"$f":"IF(OR(C293=\"\",E293<=0,F284>1),\"\",IF(E293=\"Freilos\",F283/(1-(1/C293))/C293,IF(E293>1000000000,\"\",E293/C293/E284)))","v":4.0000000000000001E-3},4000,{"$f":"IFERROR(IF(D293<D319,D319/D293,D293/D319),\"\")","v":3.9468750000000008},{"$f":"IFERROR(D293/IF((C293*E284)<150,150,C293*E284)^0.25*34.9964,\"\")","v":4.4267333562526675E-3},4,1400,{"$f":"IF(OR(I293<=0,I293>1000000000),\"\",I284/I293/L283)","v":6810.3},{"$f":"IF(OR(J293=\"\",L293<=0,M284>1),\"\",IF(L293=\"Freilos\",M283/(1-(1/J293))/J293,IF(L293=\"Freispiel\",Lotterien!$E$45/J293/L284,IF(L293>1000000000,\"\",L293/J293/L284))))","v":1.7620369146733623E-3},24,{"$f":"IFERROR(IF(K293<K319,K319/K293,K293/K319),\"\")","v":10.437190290178576},{"$f":"IFERROR(K293/IF((J293*L284)<150,150,J293*L284)^0.25*34.9964,\"\")","v":5.7080703188610565E-3},4,2000,{"$f":"IF(OR(P293<=0,P293>1000000000),\"\",P284/P293/S283)","v":6991.9080000000004},{"$f":"IF(OR(Q293=\"\",S293<=0,T284>1),\"\",IF(S293=\"Freilos\",T283/(1-(1/Q293))/Q293,IF(S293=\"Freispiel\",Lotterien!$L$46/Q293/S284,IF(S293>1000000000,\"\",S293/Q293/S284))))","v":1.0011573378825923E-3},21,{"$f":"IFERROR(IF(R293<R314,R314/R293,R293/R314),\"\")","v":21.478527336860672},{"$f":"IFERROR(R293/IF((Q293*S284)<150,150,Q293*S284)^0.25*34.9964,\"\")","v":2.9113637258875087E-3}]
[6,12,{"$f":"IF(OR(B294<=0,B294>1000000000),\"\",B284/B294/E283)","v":416666.66666666669},{"$f":"IF(OR(C294=\"\",E294<=0,F284>1),\"\",IF(E294=\"Freilos\",F283/(1-(1/C294))/C294,IF(E294>1000000000,\"\",E294/C294/E284)))","v":3.5999999999999999E-3},3000,{"$f":"IFERROR(IF(D294<D319,D319/D294,D294/D319),\"\")","v":4.3854166666666679},{"$f":"IFERROR(D294/IF((C294*E284)<150,150,C294*E284)^0.25*34.9964,\"\")","v":4.1698572150358744E-3},4,1400,{"$f":"IF(OR(I294<=0,I294>1000000000),\"\",I284/I294/L283)","v":6810.3},{"$f":"IF(OR(J294=\"\",L294<=0,M284>1),\"\",IF(L294=\"Freilos\",M283/(1-(1/J294))/J294,IF(L294=\"Freispiel\",Lotterien!$E$45/J294/L284,IF(L294>1000000000,\"\",L294/J294/L284))))","v":1.6152005051172488E-3},22,{"$f":"IFERROR(IF(K294<K319,K319/K294,K294/K319),\"\")","v":11.386025771103899},{"$f":"IFERROR(K294/IF((J294*L284)<150,150,J294*L284)^0.25*34.9964,\"\")","v":5.2323977922893025E-3},4,4000,{"$f":"IF(OR(P294<=0,P294>1000000000),\"\",P284/P294/S283)","v":3495.9540000000002},{"$f":"IF(OR(Q294=\"\",S294<=0,T284>1),\"\",IF(S294=\"Freilos\",T283/(1-(1/Q294))/Q294,IF(S294=\"Freispiel\",Lotterien!$L$46/Q294/S284,IF(S294>1000000000,\"\",S294/Q294/S284))))","v":3.1464944904881467E-3},33,{"$f":"IFERROR(IF(R294<R314,R314/R294,R294/R314),\"\")","v":6.8340768799102145},{"$f":"IFERROR(R294/IF((Q294*S284)<150,150,Q294*S284)^0.25*34.9964,\"\")","v":1.0881245436871093E-2}]
[6,15,{"$f":"IF(OR(B295<=0,B295>1000000000),\"\",B284/B295/E283)","v":333333.33333333331},{"$f":"IF(OR(C295=\"\",E295<=0,F284>1),\"\",IF(E295=\"Freilos\",F283/(1-(1/C295))/C295,IF(E295>1000000000,\"\",E295/C295/E284)))","v":3.0000000000000001E-3},2000,{"$f":"IFERROR(IF(D295<D319,D319/D295,D295/D319),\"\")","v":5.2625000000000011},{"$f":"IFERROR(D295/IF((C295*E284)<150,150,C295*E284)^0.25*34.9964,\"\")","v":3.6742393265243615E-3},4,2800,{"$f":"IF(OR(I295<=0,I295>1000000000),\"\",I284/I295/L283)","v":3405.15},{"$f":"IF(OR(J295=\"\",L295<=0,M284>1),\"\",IF(L295=\"Freilos\",M283/(1-(1/J295))/J295,IF(L295=\"Freispiel\",Lotterien!$E$45/J295/L284,IF(L295>1000000000,\"\",L295/J295/L284))))","v":4.9924379249078601E-3},34,{"$f":"IFERROR(IF(K295<K319,K319/K295,K295/K319),\"\")","v":3.6837142200630262},{"$f":"IFERROR(K295/IF((J295*L284)<150,150,J295*L284)^0.25*34.9964,\"\")","v":1.9232887202355362E-2},4,4000,{"$f":"IF(OR(P295<=0,P295>1000000000),\"\",P284/P295/S283)","v":3495.9540000000002},{"$f":"IF(OR(Q295=\"\",S295<=0,T284>1),\"\",IF(S295=\"Freilos\",T283/(1-(1/Q295))/Q295,IF(S295=\"Freispiel\",Lotterien!$L$46/Q295/S284,IF(S295>1000000000,\"\",S295/Q295/S284))))","v":3.4325394441688875E-3},36,{"$f":"IFERROR(IF(R295<R314,R314/R295,R295/R314),\"\")","v":6.2645704732510303},{"$f":"IFERROR(R295/IF((Q295*S284)<150,150,Q295*S284)^0.25*34.9964,\"\")","v":1.187044956749574E-2}]
[6,50,{"$f":"IF(OR(B296<=0,B296>1000000000),\"\",B284/B296/E283)","v":100000},{"$f":"IF(OR(C296=\"\",E296<=0,F284>1),\"\",IF(E296=\"Freilos\",F283/(1-(1/C296))/C296,IF(E296>1000000000,\"\",E296/C296/E284)))","v":5.0000000000000001E-3},1000,{"$f":"IFERROR(IF(D296<D319,D319/D296,D296/D319),\"\")","v":3.1575000000000006},{"$f":"IFERROR(D296/IF((C296*E284)<150,150,C296*E284)^0.25*34.9964,\"\")","v":8.2743879113296864E-3},4,2800,{"$f":"IF(OR(I296<=0,I296>1000000000),\"\",I284/I296/L283)","v":3405.15},{"$f":"IF(OR(J296=\"\",L296<=0,M284>1),\"\",IF(L296=\"Freilos\",M283/(1-(1/J296))/J296,IF(L296=\"Freispiel\",Lotterien!$E$45/J296/L284,IF(L296>1000000000,\"\",L296/J296/L284))))","v":4.5519286962395194E-3},31,{"$f":"IFERROR(IF(K296<K319,K319/K296,K296/K319),\"\")","v":4.0402026929723514},{"$f":"IFERROR(K296/IF((J296*L284)<150,150,J296*L284)^0.25*34.9964,\"\")","v":1.7535867743324003E-2},4,4600,{"$f":"IF(OR(P296<=0,P296>1000000000),\"\",P284/P296/S283)","v":3039.96},{"$f":"IF(OR(Q296=\"\",S296<=0,T284>1),\"\",IF(S296=\"Freilos\",T283/(1-(1/Q296))/Q296,IF(S296=\"Freispiel\",Lotterien!$L$46/Q296/S284,IF(S296>1000000000,\"\",S296/Q296/S284))))","v":2.9605652705956657E-3},27,{"$f":"IFERROR(IF(R296<R314,R314/R296,R296/R314),\"\")","v":7.2632701139142375},{"$f":"IFERROR(R296/IF((Q296*S284)<150,150,Q296*S284)^0.25*34.9964,\"\")","v":1.0602315680505039E-2}]
[5,60,{"$f":"IF(OR(B297<=0,B297>1000000000),\"\",B284/B297/E283)","v":83333.333333333328},{"$f":"IF(OR(C297=\"\",E297<=0,F284>1),\"\",IF(E297=\"Freilos\",F283/(1-(1/C297))/C297,IF(E297>1000000000,\"\",E297/C297/E284)))","v":3.0000000000000001E-3},500,{"$f":"IFERROR(IF(D297<D319,D319/D297,D297/D319),\"\")","v":5.2625000000000011},{"$f":"IFERROR(D297/IF((C297*E284)<150,150,C297*E284)^0.25*34.9964,\"\")","v":5.1961590869753398E-3},4,2940,{"$f":"IF(OR(I297<=0,I297>1000000000),\"\",I284/I297/L283)","v":3243},{"$f":"IF(OR(J297=\"\",L297<=0,M284>1),\"\",IF(L297=\"Freilos\",M283/(1-(1/J297))/J297,IF(L297=\"Freispiel\",Lotterien!$E$45/J297/L284,IF(L297>1000000000,\"\",L297/J297/L284))))","v":3.8544557508479803E-3},25,{"$f":"IFERROR(IF(K297<K319,K319/K297,K297/K319),\"\")","v":4.7712869897959198},{"$f":"IFERROR(K297/IF((J297*L284)<150,150,J297*L284)^0.25*34.9964,\"\")","v":1.5031149697053258E-2},4,5300,{"$f":"IF(OR(P297<=0,P297>1000000000),\"\",P284/P297/S283)","v":2638.4558490566037},{"$f":"IF(OR(Q297=\"\",S297<=0,T284>1),\"\",IF(S297=\"Freilos\",T283/(1-(1/Q297))/Q297,IF(S297=\"Freispiel\",Lotterien!$L$46/Q297/S284,IF(S297>1000000000,\"\",S297/Q297/S284))))","v":4.7376195453372669E-3},37.5,{"$f":"IFERROR(IF(R297<R314,R314/R297,R297/R314),\"\")","v":4.5388586070347081},{"$f":"IFERROR(R297/IF((Q297*S284)<150,150,Q297*S284)^0.25*34.9964,\"\")","v":1.7577851129777892E-2}]
[5,60,{"$f":"IF(OR(B298<=0,B298>1000000000),\"\",B284/B298/E283)","v":83333.333333333328},{"$f":"IF(OR(C298=\"\",E298<=0,F284>1),\"\",IF(E298=\"Freilos\",F283/(1-(1/C298))/C298,IF(E298>1000000000,\"\",E298/C298/E284)))","v":2.4000000000000002E-3},400,{"$f":"IFERROR(IF(D298<D319,D319/D298,D298/D319),\"\")","v":6.5781250000000009},{"$f":"IFERROR(D298/IF((C298*E284)<150,150,C298*E284)^0.25*34.9964,\"\")","v":4.1569272695802717E-3},4,3710,{"$f":"IF(OR(I298<=0,I298>1000000000),\"\",I284/I298/L283)","v":2569.9245283018868},{"$f":"IF(OR(J298=\"\",L298<=0,M284>1),\"\",IF(L298=\"Freilos\",M283/(1-(1/J298))/J298,IF(L298=\"Freispiel\",Lotterien!$E$45/J298/L284,IF(L298>1000000000,\"\",L298/J298/L284))))","v":6.8095384931647655E-3},35,{"$f":"IFERROR(IF(K298<K319,K319/K298,K298/K319),\"\")","v":2.7007284847901429},{"$f":"IFERROR(K298/IF((J298*L284)<150,150,J298*L284)^0.25*34.9964,\"\")","v":2.8145143008311835E-2},4,6000,{"$f":"IF(OR(P298<=0,P298>1000000000),\"\",P284/P298/S283)","v":2330.636},{"$f":"IF(OR(Q298=\"\",S298<=0,T284>1),\"\",IF(S298=\"Freilos\",T283/(1-(1/Q298))/Q298,IF(S298=\"Freispiel\",Lotterien!$L$46/Q298/S284,IF(S298>1000000000,\"\",S298/Q298/S284))))","v":3.4325394441688879E-3},24,{"$f":"IFERROR(IF(R298<R314,R314/R298,R298/R314),\"\")","v":6.2645704732510294},{"$f":"IFERROR(R298/IF((Q298*S284)<150,150,Q298*S284)^0.25*34.9964,\"\")","v":1.3136811915062042E-2}]
[5,100,{"$f":"IF(OR(B299<=0,B299>1000000000),\"\",B284/B299/E283)","v":50000},{"$f":"IF(OR(C299=\"\",E299<=0,F284>1),\"\",IF(E299=\"Freilos\",F283/(1-(1/C299))/C299,IF(E299>1000000000,\"\",E299/C299/E284)))","v":3.0000000000000001E-3},300,{"$f":"IFERROR(IF(D299<D319,D319/D299,D299/D319),\"\")","v":5.2625000000000011},{"$f":"IFERROR(D299/IF((C299*E284)<150,150,C299*E284)^0.25*34.9964,\"\")","v":5.9039765858674605E-3},4,3850,{"$f":"IF(OR(I299<=0,I299>1000000000),\"\",I284/I299/L283)","v":2476.4727272727273},{"$f":"IF(OR(J299=\"\",L299<=0,M284>1),\"\",IF(L299=\"Freilos\",M283/(1-(1/J299))/J299,IF(L299=\"Freispiel\",Lotterien!$E$45/J299/L284,IF(L299>1000000000,\"\",L299/J299/L284))))","v":7.2684022730276198E-3},36,{"$f":"IFERROR(IF(K299<K319,K319/K299,K299/K319),\"\")","v":2.5302279491341997},{"$f":"IFERROR(K299/IF((J299*L284)<150,150,J299*L284)^0.25*34.9964,\"\")","v":3.0321203904447331E-2},4,9800,{"$f":"IF(OR(P299<=0,P299>1000000000),\"\",P284/P299/S283)","v":1426.92},{"$f":"IF(OR(Q299=\"\",S299<=0,T284>1),\"\",IF(S299=\"Freilos\",T283/(1-(1/Q299))/Q299,IF(S299=\"Freispiel\",Lotterien!$L$46/Q299/S284,IF(S299>1000000000,\"\",S299/Q299/S284))))","v":9.1105317747315895E-3},39,{"$f":"IFERROR(IF(R299<R314,R314/R299,R299/R314),\"\")","v":2.3602777293253485},{"$f":"IFERROR(R299/IF((Q299*S284)<150,150,Q299*S284)^0.25*34.9964,\"\")","v":3.9417300563985035E-2}]
[5,120,{"$f":"IF(OR(B300<=0,B300>1000000000),\"\",B284/B300/E283)","v":41666.666666666664},{"$f":"IF(OR(C300=\"\",E300<=0,F284>1),\"\",IF(E300=\"Freilos\",F283/(1-(1/C300))/C300,IF(E300>1000000000,\"\",E300/C300/E284)))","v":2.4000000000000002E-3},200,{"$f":"IFERROR(IF(D300<D319,D319/D300,D300/D319),\"\")","v":6.5781250000000009},{"$f":"IFERROR(D300/IF((C300*E284)<150,150,C300*E284)^0.25*34.9964,\"\")","v":4.9434474855336941E-3},4,5600,{"$f":"IF(OR(I300<=0,I300>1000000000),\"\",I284/I300/L283)","v":1702.575},{"$f":"IF(OR(J300=\"\",L300<=0,M284>1),\"\",IF(L300=\"Freilos\",M283/(1-(1/J300))/J300,IF(L300=\"Freispiel\",Lotterien!$E$45/J300/L284,IF(L300>1000000000,\"\",L300/J300/L284))))","v":7.6354932969179036E-3},26,{"$f":"IFERROR(IF(K300<K319,K319/K300,K300/K319),\"\")","v":2.4085823746565942},{"$f":"IFERROR(K300/IF((J300*L284)<150,150,J300*L284)^0.25*34.9964,\"\")","v":3.4980531992954714E-2},4,10000,{"$f":"IF(OR(P300<=0,P300>1000000000),\"\",P284/P300/S283)","v":1398.3815999999999},{"$f":"IF(OR(Q300=\"\",S300<=0,T284>1),\"\",IF(S300=\"Freilos\",T283/(1-(1/Q300))/Q300,IF(S300=\"Freispiel\",Lotterien!$L$46/Q300/S284,IF(S300>1000000000,\"\",S300/Q300/S284))))","v":6.0784552657157384E-3},25.5,{"$f":"IFERROR(IF(R300<R314,R314/R300,R300/R314),\"\")","v":3.5376397966594051},{"$f":"IFERROR(R300/IF((Q300*S284)<150,150,Q300*S284)^0.25*34.9964,\"\")","v":2.6431989780842321E-2}]
[5,430,{"$f":"IF(OR(B301<=0,B301>1000000000),\"\",B284/B301/E283)","v":11627.906976744185},{"$f":"IF(OR(C301=\"\",E301<=0,F284>1),\"\",IF(E301=\"Freilos\",F283/(1-(1/C301))/C301,IF(E301>1000000000,\"\",E301/C301/E284)))","v":4.3E-3},100,{"$f":"IFERROR(IF(D301<D319,D319/D301,D301/D319),\"\")","v":3.6715116279069773},{"$f":"IFERROR(D301/IF((C301*E284)<150,150,C301*E284)^0.25*34.9964,\"\")","v":1.2185937356345544E-2},4,5600,{"$f":"IF(OR(I301<=0,I301>1000000000),\"\",I284/I301/L283)","v":1702.575},{"$f":"IF(OR(J301=\"\",L301<=0,M284>1),\"\",IF(L301=\"Freilos\",M283/(1-(1/J301))/J301,IF(L301=\"Freispiel\",Lotterien!$E$45/J301/L284,IF(L301>1000000000,\"\",L301/J301/L284))))","v":4.1114194675711787E-3},14,{"$f":"IFERROR(IF(K301<K319,K319/K301,K301/K319),\"\")","v":4.4730815529336745},{"$f":"IFERROR(K301/IF((J301*L284)<150,150,J301*L284)^0.25*34.9964,\"\")","v":1.8835671073129459E-2},3,27000,{"$f":"IF(OR(P301<=0,P301>1000000000),\"\",P284/P301/S283)","v":517.91911111111108},{"$f":"IF(OR(Q301=\"\",S301<=0,T284>1),\"\",IF(S301=\"Freilos\",T283/(1-(1/Q301))/Q301,IF(S301=\"Freispiel\",Lotterien!$L$46/Q301/S284,IF(S301>1000000000,\"\",S301/Q301/S284))))","v":1.1584820624069998E-2},18,{"$f":"IFERROR(IF(R301<R314,R314/R301,R301/R314),\"\")","v":1.8561690291114159},{"$f":"IFERROR(R301/IF((Q301*S284)<150,150,Q301*S284)^0.25*34.9964,\"\")","v":6.4575367673697148E-2}]
[4,2000,{"$f":"IF(OR(B302<=0,B302>1000000000),\"\",B284/B302/E283)","v":2500},{"$f":"IF(OR(C302=\"\",E302<=0,F284>1),\"\",IF(E302=\"Freilos\",F283/(1-(1/C302))/C302,IF(E302>1000000000,\"\",E302/C302/E284)))","v":6.0000000000000001E-3},30,{"$f":"IFERROR(IF(D302<D319,D319/D302,D302/D319),\"\")","v":2.6312500000000005},{"$f":"IFERROR(D302/IF((C302*E284)<150,150,C302*E284)^0.25*34.9964,\"\")","v":2.4970780727688737E-2},4,6300,{"$f":"IF(OR(I302<=0,I302>1000000000),\"\",I284/I302/L283)","v":1513.4},{"$f":"IF(OR(J302=\"\",L302<=0,M284>1),\"\",IF(L302=\"Freilos\",M283/(1-(1/J302))/J302,IF(L302=\"Freispiel\",Lotterien!$E$45/J302/L284,IF(L302>1000000000,\"\",L302/J302/L284))))","v":6.6076384300251083E-3},20,{"$f":"IFERROR(IF(K302<K319,K319/K302,K302/K319),\"\")","v":2.7832507440476202},{"$f":"IFERROR(K302/IF((J302*L284)<150,150,J302*L284)^0.25*34.9964,\"\")","v":3.1176238186505719E-2},3,28000,{"$f":"IF(OR(P302<=0,P302>1000000000),\"\",P284/P302/S283)","v":499.42200000000003},{"$f":"IF(OR(Q302=\"\",S302<=0,T284>1),\"\",IF(S302=\"Freilos\",T283/(1-(1/Q302))/Q302,IF(S302=\"Freispiel\",Lotterien!$L$46/Q302/S284,IF(S302>1000000000,\"\",S302/Q302/S284))))","v":1.0011573378825923E-2},15,{"$f":"IFERROR(IF(R302<R314,R314/R302,R302/R314),\"\")","v":2.1478527336860673},{"$f":"IFERROR(R302/IF((Q302*S284)<150,150,Q302*S284)^0.25*34.9964,\"\")","v":5.6315568876303887E-2}]
[4,2400,{"$f":"IF(OR(B303<=0,B303>1000000000),\"\",B284/B303/E283)","v":2083.3333333333335},{"$f":"IF(OR(C303=\"\",E303<=0,F284>1),\"\",IF(E303=\"Freilos\",F283/(1-(1/C303))/C303,IF(E303>1000000000,\"\",E303/C303/E284)))","v":5.9999999999999993E-3},25,{"$f":"IFERROR(IF(D303<D319,D319/D303,D303/D319),\"\")","v":2.631250000000001},{"$f":"IFERROR(D303/IF((C303*E284)<150,150,C303*E284)^0.25*34.9964,\"\")","v":2.6135296567654197E-2},4,7700,{"$f":"IF(OR(I303<=0,I303>1000000000),\"\",I284/I303/L283)","v":1238.2363636363636},{"$f":"IF(OR(J303=\"\",L303<=0,M284>1),\"\",IF(L303=\"Freilos\",M283/(1-(1/J303))/J303,IF(L303=\"Freispiel\",Lotterien!$E$45/J303/L284,IF(L303>1000000000,\"\",L303/J303/L284))))","v":1.0902603409541431E-2},27,{"$f":"IFERROR(IF(K303<K319,K319/K303,K303/K319),\"\")","v":1.686818632756133},{"$f":"IFERROR(K303/IF((J303*L284)<150,150,J303*L284)^0.25*34.9964,\"\")","v":5.4087287127925578E-2},3,30000,{"$f":"IF(OR(P303<=0,P303>1000000000),\"\",P284/P303/S283)","v":466.12720000000002},{"$f":"IF(OR(Q303=\"\",S303<=0,T284>1),\"\",IF(S303=\"Freilos\",T283/(1-(1/Q303))/Q303,IF(S303=\"Freispiel\",Lotterien!$L$46/Q303/S284,IF(S303>1000000000,\"\",S303/Q303/S284))))","v":8.5813486104222188E-3},12,{"$f":"IFERROR(IF(R303<R314,R314/R303,R303/R314),\"\")","v":2.505828189300412},{"$f":"IFERROR(R303/IF((Q303*S284)<150,150,Q303*S284)^0.25*34.9964,\"\")","v":4.9110289215801066E-2}]
[4,4400,{"$f":"IF(OR(B304<=0,B304>1000000000),\"\",B284/B304/E283)","v":1136.3636363636363},{"$f":"IF(OR(C304=\"\",E304<=0,F284>1),\"\",IF(E304=\"Freilos\",F283/(1-(1/C304))/C304,IF(E304>1000000000,\"\",E304/C304/E284)))","v":2.2000000000000002E-2},50,{"$f":"IFERROR(IF(D304<D319,D319/D304,D304/D319),\"\")","v":1.3935075217735549},{"$f":"IFERROR(D304/IF((C304*E284)<150,150,C304*E284)^0.25*34.9964,\"\")","v":0.11150882041715711},4,8400,{"$f":"IF(OR(I304<=0,I304>1000000000),\"\",I284/I304/L283)","v":1135.05},{"$f":"IF(OR(J304=\"\",L304<=0,M284>1),\"\",IF(L304=\"Freilos\",M283/(1-(1/J304))/J304,IF(L304=\"Freispiel\",Lotterien!$E$45/J304/L284,IF(L304>1000000000,\"\",L304/J304/L284))))","v":7.0481476586934499E-3},16,{"$f":"IFERROR(IF(K304<K319,K319/K304,K304/K319),\"\")","v":2.6092975725446435},{"$f":"IFERROR(K304/IF((J304*L284)<150,150,J304*L284)^0.25*34.9964,\"\")","v":3.573445135209382E-2},3,75000,{"$f":"IF(OR(P304<=0,P304>1000000000),\"\",P284/P304/S283)","v":186.45088000000001},{"$f":"IF(OR(Q304=\"\",S304<=0,T284>1),\"\",IF(S304=\"Freilos\",T283/(1-(1/Q304))/Q304,IF(S304=\"Freispiel\",Lotterien!$L$46/Q304/S284,IF(S304>1000000000,\"\",S304/Q304/S284))))","v":2.413504296681249E-2},13.5,{"$f":"IFERROR(IF(R304<R314,R314/R304,R304/R314),\"\")","v":1.1223834147963696},{"$f":"IFERROR(R304/IF((Q304*S284)<150,150,Q304*S284)^0.25*34.9964,\"\")","v":0.17368008581628452}]
[4,5000,{"$f":"IF(OR(B305<=0,B305>1000000000),\"\",B284/B305/E283)","v":1000},{"$f":"IF(OR(C305=\"\",E305<=0,F284>1),\"\",IF(E305=\"Freilos\",F283/(1-(1/C305))/C305,IF(E305>1000000000,\"\",E305/C305/E284)))","v":7.4999999999999997E-3},15,{"$f":"IFERROR(IF(D305<D319,D319/D305,D305/D319),\"\")","v":2.1050000000000004},{"$f":"IFERROR(D305/IF((C305*E284)<150,150,C305*E284)^0.25*34.9964,\"\")","v":3.924886806534774E-2},3,18000,{"$f":"IF(OR(I305<=0,I305>1000000000),\"\",I284/I305/L283)","v":529.69000000000005},{"$f":"IF(OR(J305=\"\",L305<=0,M284>1),\"\",IF(L305=\"Freilos\",M283/(1-(1/J305))/J305,IF(L305=\"Freispiel\",Lotterien!$E$45/J305/L284,IF(L305>1000000000,\"\",L305/J305/L284))))","v":1.1327380165757328E-2},12,{"$f":"IFERROR(IF(K305<K319,K319/K305,K305/K319),\"\")","v":1.6235629340277784},{"$f":"IFERROR(K305/IF((J305*L284)<150,150,J305*L284)^0.25*34.9964,\"\")","v":6.9484815030194977E-2},2,180000,{"$f":"IF(OR(P305<=0,P305>1000000000),\"\",P284/P305/S283)","v":77.687866666666665},{"$f":"IF(OR(Q305=\"\",S305<=0,T284>1),\"\",IF(S305=\"Freilos\",T283/(1-(1/Q305))/Q305,IF(S305=\"Freispiel\",Lotterien!$L$46/Q305/S284,IF(S305>1000000000,\"\",S305/Q305/S284))))","v":4.5052080204716655E-2},10.5,{"$f":"IFERROR(IF(R305<R314,R314/R305,R305/R314),\"\")","v":2.0951157076198901},{"$f":"IFERROR(R305/IF((Q305*S284)<150,150,Q305*S284)^0.25*34.9964,\"\")","v":0.40352422096659596}]
[3,5500,{"$f":"IF(OR(B306<=0,B306>1000000000),\"\",B284/B306/E283)","v":909.09090909090912},{"$f":"IF(OR(C306=\"\",E306<=0,F284>1),\"\",IF(E306=\"Freilos\",F283/(1-(1/C306))/C306,IF(E306>1000000000,\"\",E306/C306/E284)))","v":1.0999999999999999E-2},20,{"$f":"IFERROR(IF(D306<D319,D319/D306,D306/D319),\"\")","v":1.435227272727273},{"$f":"IFERROR(D306/IF((C306*E284)<150,150,C306*E284)^0.25*34.9964,\"\")","v":5.8953111164628182E-2},3,21000,{"$f":"IF(OR(I306<=0,I306>1000000000),\"\",I284/I306/L283)","v":454.02},{"$f":"IF(OR(J306=\"\",L306<=0,M284>1),\"\",IF(L306=\"Freilos\",M283/(1-(1/J306))/J306,IF(L306=\"Freispiel\",Lotterien!$E$45/J306/L284,IF(L306>1000000000,\"\",L306/J306/L284))))","v":1.8721642218404475E-2},17,{"$f":"IFERROR(IF(K306<K319,K319/K306,K306/K319),\"\")","v":1.0179942785941305},{"$f":"IFERROR(K306/IF((J306*L284)<150,150,J306*L284)^0.25*34.9964,\"\")","v":0.11935512394773794},2,250000,{"$f":"IF(OR(P306<=0,P306>1000000000),\"\",P284/P306/S283)","v":55.935263999999997},{"$f":"IF(OR(Q306=\"\",S306<=0,T284>1),\"\",IF(S306=\"Freilos\",T283/(1-(1/Q306))/Q306,IF(S306=\"Freispiel\",Lotterien!$L$46/Q306/S284,IF(S306>1000000000,\"\",S306/Q306/S284))))","v":5.3633428815138877E-2},9,{"$f":"IFERROR(IF(R306<R314,R314/R306,R306/R314),\"\")","v":2.4941853662141549},{"$f":"IFERROR(R306/IF((Q306*S284)<150,150,Q306*S284)^0.25*34.9964,\"\")","v":0.52150346409302828}]
[3,10000,{"$f":"IF(OR(B307<=0,B307>1000000000),\"\",B284/B307/E283)","v":500},{"$f":"IF(OR(C307=\"\",E307<=0,F284>1),\"\",IF(E307=\"Freilos\",F283/(1-(1/C307))/C307,IF(E307>1000000000,\"\",E307/C307/E284)))","v":8.0000000000000002E-3},8,{"$f":"IFERROR(IF(D307<D319,D319/D307,D307/D319),\"\")","v":1.9734375000000004},{"$f":"IFERROR(D307/IF((C307*E284)<150,150,C307*E284)^0.25*34.9964,\"\")","v":4.9786702036388936E-2},3,24000,{"$f":"IF(OR(I307<=0,I307>1000000000),\"\",I284/I307/L283)","v":397.26749999999998},{"$f":"IF(OR(J307=\"\",L307<=0,M284>1),\"\",IF(L307=\"Freilos\",M283/(1-(1/J307))/J307,IF(L307=\"Freispiel\",Lotterien!$E$45/J307/L284,IF(L307>1000000000,\"\",L307/J307/L284))))","v":1.3844575758147848E-2},11,{"$f":"IFERROR(IF(K307<K319,K319/K307,K307/K319),\"\")","v":1.3283696732954549},{"$f":"IFERROR(K307/IF((J307*L284)<150,150,J307*L284)^0.25*34.9964,\"\")","v":9.1258802494160948E-2},2,400000,{"$f":"IF(OR(P307<=0,P307>1000000000),\"\",P284/P307/S283)","v":34.959539999999997},{"$f":"IF(OR(Q307=\"\",S307<=0,T284>1),\"\",IF(S307=\"Freilos\",T283/(1-(1/Q307))/Q307,IF(S307=\"Freispiel\",Lotterien!$L$46/Q307/S284,IF(S307>1000000000,\"\",S307/Q307/S284))))","v":7.1511238420185169E-2},7.5,{"$f":"IFERROR(IF(R307<R314,R314/R307,R307/R314),\"\")","v":3.32558048828554},{"$f":"IFERROR(R307/IF((Q307*S284)<150,150,Q307*S284)^0.25*34.9964,\"\")","v":0.71511330136145301}]
[3,10000,{"$f":"IF(OR(B308<=0,B308>1000000000),\"\",B284/B308/E283)","v":500},{"$f":"IF(OR(C308=\"\",E308<=0,F284>1),\"\",IF(E308=\"Freilos\",F283/(1-(1/C308))/C308,IF(E308>1000000000,\"\",E308/C308/E284)))","v":6.0000000000000001E-3},6,{"$f":"IFERROR(IF(D308<D319,D319/D308,D308/D319),\"\")","v":2.6312500000000005},{"$f":"IFERROR(D308/IF((C308*E284)<150,150,C308*E284)^0.25*34.9964,\"\")","v":3.7340026527291702E-2},3,25000,{"$f":"IF(OR(I308<=0,I308>1000000000),\"\",I284/I308/L283)","v":381.3768},{"$f":"IF(OR(J308=\"\",L308<=0,M284>1),\"\",IF(L308=\"Freilos\",M283/(1-(1/J308))/J308,IF(L308=\"Freispiel\",Lotterien!$E$45/J308/L284,IF(L308>1000000000,\"\",L308/J308/L284))))","v":7.8662362262203675E-3},6,{"$f":"IFERROR(IF(K308<K319,K319/K308,K308/K319),\"\")","v":2.3379306250000007},{"$f":"IFERROR(K308/IF((J308*L284)<150,150,J308*L284)^0.25*34.9964,\"\")","v":5.2383473118657362E-2},2,440000,{"$f":"IF(OR(P308<=0,P308>1000000000),\"\",P284/P308/S283)","v":31.781400000000001},{"$f":"IF(OR(Q308=\"\",S308<=0,T284>1),\"\",IF(S308=\"Freilos\",T283/(1-(1/Q308))/Q308,IF(S308=\"Freispiel\",Lotterien!$L$46/Q308/S284,IF(S308>1000000000,\"\",S308/Q308/S284))))","v":6.292988980976294E-2},6,{"$f":"IFERROR(IF(R308<R314,R314/R308,R308/R314),\"\")","v":2.9265108296912747},{"$f":"IFERROR(R308/IF((Q308*S284)<150,150,Q308*S284)^0.25*34.9964,\"\")","v":0.62929970519807865}]
[3,21000,{"$f":"IF(OR(B309<=0,B309>1000000000),\"\",B284/B309/E283)","v":238.0952380952381},{"$f":"IF(OR(C309=\"\",E309<=0,F284>1),\"\",IF(E309=\"Freilos\",F283/(1-(1/C309))/C309,IF(E309>1000000000,\"\",E309/C309/E284)))","v":2.0999999999999998E-2},10,{"$f":"IFERROR(IF(D309<D319,D319/D309,D309/D319),\"\")","v":1.3301662707838475},{"$f":"IFERROR(D309/IF((C309*E284)<150,150,C309*E284)^0.25*34.9964,\"\")","v":0.15732490934993276},3,56000,{"$f":"IF(OR(I309<=0,I309>1000000000),\"\",I284/I309/L283)","v":170.25749999999999},{"$f":"IF(OR(J309=\"\",L309<=0,M284>1),\"\",IF(L309=\"Freilos\",M283/(1-(1/J309))/J309,IF(L309=\"Freispiel\",Lotterien!$E$45/J309/L284,IF(L309>1000000000,\"\",L309/J309/L284))))","v":4.4050922866834062E-2},15,{"$f":"IFERROR(IF(K309<K319,K319/K309,K309/K319),\"\")","v":2.395280655515601},{"$f":"IFERROR(K309/IF((J309*L284)<150,150,J309*L284)^0.25*34.9964,\"\")","v":0.35887592189584144},2,600000,{"$f":"IF(OR(P309<=0,P309>1000000000),\"\",P284/P309/S283)","v":23.306360000000002},{"$f":"IF(OR(Q309=\"\",S309<=0,T284>1),\"\",IF(S309=\"Freilos\",T283/(1-(1/Q309))/Q309,IF(S309=\"Freispiel\",Lotterien!$L$46/Q309/S284,IF(S309>1000000000,\"\",S309/Q309/S284))))","v":4.290674305211109E-2},3,{"$f":"IFERROR(IF(R309<R314,R314/R309,R309/R314),\"\")","v":1.9953482929713235},{"$f":"IFERROR(R309/IF((Q309*S284)<150,150,Q309*S284)^0.25*34.9964,\"\")","v":0.42906798081687175}]
[2,100000,{"$f":"IF(OR(B310<=0,B310>1000000000),\"\",B284/B310/E283)","v":50},{"$f":"IF(OR(C310=\"\",E310<=0,F284>1),\"\",IF(E310=\"Freilos\",F283/(1-(1/C310))/C310,IF(E310>1000000000,\"\",E310/C310/E284)))","v":0.04},4,{"$f":"IFERROR(IF(D310<D319,D319/D310,D310/D319),\"\")","v":2.5336500395882813},{"$f":"IFERROR(D310/IF((C310*E284)<150,150,C310*E284)^0.25*34.9964,\"\")","v":0.40000051301564438},3,56000,{"$f":"IF(OR(I310<=0,I310>1000000000),\"\",I284/I310/L283)","v":170.25749999999999},{"$f":"IF(OR(J310=\"\",L310<=0,M284>1),\"\",IF(L310=\"Freilos\",M283/(1-(1/J310))/J310,IF(L310=\"Freispiel\",Lotterien!$E$45/J310/L284,IF(L310>1000000000,\"\",L310/J310/L284))))","v":1.1746912764489083E-2},4,{"$f":"IFERROR(IF(K310<K319,K319/K310,K310/K319),\"\")","v":1.5655785435267859},{"$f":"IFERROR(K310/IF((J310*L284)<150,150,J310*L284)^0.25*34.9964,\"\")","v":9.5700245838891043E-2},2,800000,{"$f":"IF(OR(P310<=0,P310>1000000000),\"\",P284/P310/S283)","v":17.479769999999998},{"$f":"IF(OR(Q310=\"\",S310<=0,T284>1),\"\",IF(S310=\"Freilos\",T283/(1-(1/Q310))/Q310,IF(S310=\"Freispiel\",Lotterien!$L$46/Q310/S284,IF(S310>1000000000,\"\",S310/Q310/S284))))","v":8.5813486104222195E-2},4.5,{"$f":"IFERROR(IF(R310<R314,R314/R310,R310/R314),\"\")","v":3.9906965859426475},{"$f":"IFERROR(R310/IF((Q310*S284)<150,150,Q310*S284)^0.25*34.9964,\"\")","v":0.85813596163374362}]
[2,100000,{"$f":"IF(OR(B311<=0,B311>1000000000),\"\",B284/B311/E283)","v":50},{"$f":"IF(OR(C311=\"\",E311<=0,F284>1),\"\",IF(E311=\"Freilos\",F283/(1-(1/C311))/C311,IF(E311>1000000000,\"\",E311/C311/E284)))","v":1.4999999999999999E-2},1.5,{"$f":"IFERROR(IF(D311<D319,D319/D311,D311/D319),\"\")","v":1.0525000000000002},{"$f":"IFERROR(D311/IF((C311*E284)<150,150,C311*E284)^0.25*34.9964,\"\")","v":0.15000019238086662},3,70000,{"$f":"IF(OR(I311<=0,I311>1000000000),\"\",I284/I311/L283)","v":136.20599999999999},{"$f":"IF(OR(J311=\"\",L311<=0,M284>1),\"\",IF(L311=\"Freilos\",M283/(1-(1/J311))/J311,IF(L311=\"Freispiel\",Lotterien!$E$45/J311/L284,IF(L311>1000000000,\"\",L311/J311/L284))))","v":3.6709102389028386E-2},10,{"$f":"IFERROR(IF(K311<K319,K319/K311,K311/K319),\"\")","v":1.9960672129296677},{"$f":"IFERROR(K311/IF((J311*L284)<150,150,J311*L284)^0.25*34.9964,\"\")","v":0.31622090579450252},1,1400000,{"$f":"IF(OR(P311<=0,P311>1000000000),\"\",P284/P311/S283)","v":9.9884400000000007},{"$f":"IF(OR(Q311=\"\",S311<=0,T284>1),\"\",IF(S311=\"Freilos\",T283/(1-(1/Q311))/Q311,IF(S311=\"Freispiel\",Lotterien!$L$46/Q311/S284,IF(S311>1000000000,\"\",S311/Q311/S284))))","v":3.6709102389028428E-2},"Freispiel",{"$f":"IFERROR(IF(R311<R314,R314/R311,R311/R314),\"\")","v":1.7071313173199125},{"$f":"IFERROR(R311/IF((Q311*S284)<150,150,Q311*S284)^0.25*34.9964,\"\")","v":0.36709149469887964}]
[2,120000,{"$f":"IF(OR(B312<=0,B312>1000000000),\"\",B284/B312/E283)","v":41.666666666666664},{"$f":"IF(OR(C312=\"\",E312<=0,F284>1),\"\",IF(E312=\"Freilos\",F283/(1-(1/C312))/C312,IF(E312>1000000000,\"\",E312/C312/E284)))","v":3.6000000000000004E-2},3,{"$f":"IFERROR(IF(D312<D319,D319/D312,D312/D319),\"\")","v":2.2802850356294537},{"$f":"IFERROR(D312/IF((C312*E284)<150,150,C312*E284)^0.25*34.9964,\"\")","v":0.36000046171407996},3,70000,{"$f":"IF(OR(I312<=0,I312>1000000000),\"\",I284/I312/L283)","v":136.20599999999999},{"$f":"IF(OR(J312=\"\",L312<=0,M284>1),\"\",IF(L312=\"Freilos\",M283/(1-(1/J312))/J312,IF(L312=\"Freispiel\",Lotterien!$E$45/J312/L284,IF(L312>1000000000,\"\",L312/J312/L284))))","v":2.5696371672319869E-2},7,{"$f":"IFERROR(IF(K312<K319,K319/K312,K312/K319),\"\")","v":1.3972470490507674},{"$f":"IFERROR(K312/IF((J312*L284)<150,150,J312*L284)^0.25*34.9964,\"\")","v":0.22135463405615174},1,2100000,{"$f":"IF(OR(P312<=0,P312>1000000000),\"\",P284/P312/S283)","v":6.6589600000000004},{"$f":"IF(OR(Q312=\"\",S312<=0,T284>1),\"\",IF(S312=\"Freilos\",T283/(1-(1/Q312))/Q312,IF(S312=\"Freispiel\",Lotterien!$L$46/Q312/S284,IF(S312>1000000000,\"\",S312/Q312/S284))))","v":7.5086800341194415E-2},1.5,{"$f":"IFERROR(IF(R312<R314,R314/R312,R312/R314),\"\")","v":3.4918595126998166},{"$f":"IFERROR(R312/IF((Q312*S284)<150,150,Q312*S284)^0.25*34.9964,\"\")","v":0.75086896642952561}]
[2,170000,{"$f":"IF(OR(B313<=0,B313>1000000000),\"\",B284/B313/E283)","v":29.411764705882351},{"$f":"IF(OR(C313=\"\",E313<=0,F284>1),\"\",IF(E313=\"Freilos\",F283/(1-(1/C313))/C313,IF(E313>1000000000,\"\",E313/C313/E284)))","v":3.4000000000000002E-2},2,{"$f":"IFERROR(IF(D313<D319,D319/D313,D313/D319),\"\")","v":2.1536025336500395},{"$f":"IFERROR(D313/IF((C313*E284)<150,150,C313*E284)^0.25*34.9964,\"\")","v":0.34000043606329772},2,260000,{"$f":"IF(OR(I313<=0,I313>1000000000),\"\",I284/I313/L283)","v":36.670846153846156},{"$f":"IF(OR(J313=\"\",L313<=0,M284>1),\"\",IF(L313=\"Freilos\",M283/(1-(1/J313))/J313,IF(L313=\"Freispiel\",Lotterien!$E$45/J313/L284,IF(L313>1000000000,\"\",L313/J313/L284))))","v":6.8174047293909856E-2},5,{"$f":"IFERROR(IF(K313<K319,K319/K313,K313/K319),\"\")","v":3.7069819668693826},{"$f":"IFERROR(K313/IF((J313*L284)<150,150,J313*L284)^0.25*34.9964,\"\")","v":0.68174134729791858},null,{"$f":"IF(SUM(P286:P312)=0,\"\",SUM(P286:P312))","v":6379534},{"$f":"IF(OR(P313<=0,P313>1000000000),\"\",P284/P313/S283)","v":2.1919807935814748},{"$f":"IF(SUM(R286:R312)=0,\"\",SUM(R286:R312))","v":0.5805914017556677},{"$f":"IFERROR(S284*R313,\"\")","v":1.7417742052670031},{"$f":"IFERROR(AVERAGE(T286:T312),\"\")","v":6.1892353534891393},{"$f":"IF(SUM(U286:U312)=0,\"\",SUM(U286:U312))","v":5.1763133928334923}]
[2,180000,{"$f":"IF(OR(B314<=0,B314>1000000000),\"\",B284/B314/E283)","v":27.777777777777779},{"$f":"IF(OR(C314=\"\",E314<=0,F284>1),\"\",IF(E314=\"Freilos\",F283/(1-(1/C314))/C314,IF(E314>1000000000,\"\",E314/C314/E284)))","v":0.09},5,{"$f":"IFERROR(IF(D314<D319,D319/D314,D314/D319),\"\")","v":5.7007125890736328},{"$f":"IFERROR(D314/IF((C314*E284)<150,150,C314*E284)^0.25*34.9964,\"\")","v":0.90000115428519967},2,420000,{"$f":"IF(OR(I314<=0,I314>1000000000),\"\",I284/I314/L283)","v":22.701000000000001},{"$f":"IF(OR(J314=\"\",L314<=0,M284>1),\"\",IF(L314=\"Freilos\",M283/(1-(1/J314))/J314,IF(L314=\"Freispiel\",Lotterien!$E$45/J314/L284,IF(L314>1000000000,\"\",L314/J314/L284))))","v":6.607638430025109E-2},3,{"$f":"IFERROR(IF(K314<K319,K319/K314,K314/K319),\"\")","v":3.5929209832734013},{"$f":"IFERROR(K314/IF((J314*L284)<150,150,J314*L284)^0.25*34.9964,\"\")","v":0.66076469045798258},null,null,null,{"$f":"AVERAGE(R286:R312)","v":2.1503385250209915E-2}]
[2,180000,{"$f":"IF(OR(B315<=0,B315>1000000000),\"\",B284/B315/E283)","v":27.777777777777779},{"$f":"IF(OR(C315=\"\",E315<=0,F284>1),\"\",IF(E315=\"Freilos\",F283/(1-(1/C315))/C315,IF(E315>1000000000,\"\",E315/C315/E284)))","v":4.4999999999999998E-2},2.5,{"$f":"IFERROR(IF(D315<D319,D319/D315,D315/D319),\"\")","v":2.8503562945368164},{"$f":"IFERROR(D315/IF((C315*E284)<150,150,C315*E284)^0.25*34.9964,\"\")","v":0.45000057714259983},2,560000,{"$f":"IF(OR(I315<=0,I315>1000000000),\"\",I284/I315/L283)","v":17.025749999999999},{"$f":"IF(OR(J315=\"\",L315<=0,M284>1),\"\",IF(L315=\"Freilos\",M283/(1-(1/J315))/J315,IF(L315=\"Freispiel\",Lotterien!$E$45/J315/L284,IF(L315>1000000000,\"\",L315/J315/L284))))","v":5.8734563822445421E-2},2,{"$f":"IFERROR(IF(K315<K319,K319/K315,K315/K319),\"\")","v":3.1937075406874684},{"$f":"IFERROR(K315/IF((J315*L284)<150,150,J315*L284)^0.25*34.9964,\"\")","v":0.58734639151820678}]
[2,300000,{"$f":"IF(OR(B316<=0,B316>1000000000),\"\",B284/B316/E283)","v":16.666666666666668},{"$f":"IF(OR(C316=\"\",E316<=0,F284>1),\"\",IF(E316=\"Freilos\",F283/(1-(1/C316))/C316,IF(E316>1000000000,\"\",E316/C316/E284)))","v":0.03},1,{"$f":"IFERROR(IF(D316<D319,D319/D316,D316/D319),\"\")","v":1.9002375296912111},{"$f":"IFERROR(D316/IF((C316*E284)<150,150,C316*E284)^0.25*34.9964,\"\")","v":0.30000038476173324},1,980000,{"$f":"IF(OR(I316<=0,I316>1000000000),\"\",I284/I316/L283)","v":9.7289999999999992},{"$f":"IF(OR(J316=\"\",L316<=0,M284>1),\"\",IF(L316=\"Freilos\",M283/(1-(1/J316))/J316,IF(L316=\"Freispiel\",Lotterien!$E$45/J316/L284,IF(L316>1000000000,\"\",L316/J316/L284))))","v":5.1392743344639787E-2},"Freispiel",{"$f":"IFERROR(IF(K316<K319,K319/K316,K316/K319),\"\")","v":2.7944940981015374},{"$f":"IFERROR(K316/IF((J316*L284)<150,150,J316*L284)^0.25*34.9964,\"\")","v":0.51392809257843142},null,"Rubbel Lotto",null,null,1,{"$f":"IFERROR(SUMIF(S319:S354,\"<>Freilos\",R319:R354),\"\")","v":0.57583645265355332}]
[1,700000,{"$f":"IF(OR(B317<=0,B317>1000000000),\"\",B284/B317/E283)","v":7.1428571428571432},{"$f":"IF(OR(C317=\"\",E317<=0,F284>1),\"\",IF(E317=\"Freilos\",F283/(1-(1/C317))/C317,IF(E317>1000000000,\"\",E317/C317/E284)))","v":3.4999999999999996E-2},0.5,{"$f":"IFERROR(IF(D317<D319,D319/D317,D317/D319),\"\")","v":2.2169437846397462},{"$f":"IFERROR(D317/IF((C317*E284)<150,150,C317*E284)^0.25*34.9964,\"\")","v":0.35000044888868875},1,1540000,{"$f":"IF(OR(I317<=0,I317>1000000000),\"\",I284/I317/L283)","v":6.1911818181818186},{"$f":"IF(OR(J317=\"\",L317<=0,M284>1),\"\",IF(L317=\"Freilos\",M283/(1-(1/J317))/J317,IF(L317=\"Freispiel\",Lotterien!$E$45/J317/L284,IF(L317>1000000000,\"\",L317/J317/L284))))","v":8.0760025255862442E-2},1,{"$f":"IFERROR(IF(K317<K319,K319/K317,K317/K319),\"\")","v":4.3913478684452683},{"$f":"IFERROR(K317/IF((J317*L284)<150,150,J317*L284)^0.25*34.9964,\"\")","v":0.8076012883375342},null,13983816,null,null,{"$f":"S316*1","v":1},{"$f":"IFERROR(COUNTIF(S319:S354,\"Freilos\"),\"\")","v":0}]
[null,{"$f":"IF(SUM(B286:B317)=0,\"\",SUM(B286:B317))","v":1911182},{"$f":"IF(OR(B318<=0,B318>1000000000),\"\",B284/B318/E283)","v":2.6161820276666483},{"$f":"IF(SUM(D286:D317)=0,\"\",SUM(D286:D317))","v":0.50520000000000009},{"$f":"IFERROR(E284*D318,\"\")","v":1.0104000000000002},{"$f":"IFERROR(AVERAGE(F286:F317),\"\")","v":3.0741700683269269},{"$f":"IF(SUM(G286:G317)=0,\"\",SUM(G286:G317))","v":3.8554562846666993},null,{"$f":"IF(SUM(I286:I317)=0,\"\",SUM(I286:I317))","v":4155184},{"$f":"IF(OR(I318<=0,I318>1000000000),\"\",I284/I318/L283)","v":2.2945843072172014},{"$f":"IF(SUM(K286:K317)=0,\"\",SUM(K286:K317))","v":0.58850286645648098},{"$f":"IFERROR(L284*K318,\"\")","v":1.177005732912962},{"$f":"IFERROR(AVERAGE(M286:M317),\"\")","v":4.1866163343714629},{"$f":"IF(SUM(N286:N317)=0,\"\",SUM(N286:N317))","v":4.9120097161565868},null,"Losanzahl",{"$f":"IF(S316=1,\"Chancen 1:\",\"Ø Gewinne 1:\")","v":"Chancen 1:"},"Ø AQ","(Ø) Gewinn"]
[null,null,null,{"$f":"AVERAGE(D286:D317)","v":1.5787500000000003E-2},null,null,null,null,null,null,{"$f":"AVERAGE(K286:K317)","v":1.8390714576765031E-2},null,null,null,7,1,{"$f":"IF(OR(P319<=0,P319>1000000000),\"\",P317/P319/S316)","v":13983816},{"$f":"IF(OR(Q319=\"\",S319<=0,T317>1),\"\",IF(S319=\"Freilos\",T316/(1-(1/Q319))/Q319,IF(S319=\"Freispiel\",Lotterien!$L$85/Q319/S317,IF(S319>1000000000,\"\",S319/Q319/S317))))","v":7.1519104656411385E-3},100011,{"$f":"IFERROR(IF(R319<R356,R356/R319,R319/R356),\"\")","v":2.236529259559227},{"$f":"IFERROR(R319/IF((Q319*S317)<150,150,Q319*S317)^0.25*34.9964,\"\")","v":4.0929742789679018E-3}]
[null,null,null,null,null,null,null,null,null,null,null,null,null,null,7,3,{"$f":"IF(OR(P320<=0,P320>1000000000),\"\",P317/P320/S316)","v":4661272},{"$f":"IF(OR(Q320=\"\",S320<=0,T317>1),\"\",IF(S320=\"Freilos\",T316/(1-(1/Q320))/Q320,IF(S320=\"Freispiel\",Lotterien!$L$85/Q320/S317,IF(S320>1000000000,\"\",S320/Q320/S317))))","v":1.0726685763027774E-2},50000,{"$f":"IFERROR(IF(R320<R356,R356/R320,R320/R356),\"\")","v":1.4911835185185189},{"$f":"IFERROR(R320/IF((Q320*S317)<150,150,Q320*S317)^0.25*34.9964,\"\")","v":8.0790969256871042E-3}]
[null,"PowerBall",null,null,1,{"$f":"IFERROR(SUMIF(E324:E340,\"<>Freilos\",D324:D340),\"\")","v":0.40648511164000273},null,null,"MegaBall",null,null,1,{"$f":"IFERROR(SUMIF(L324:L340,\"<>Freilos\",K324:K340),\"\")","v":0.40385337972292107},null,7,3,{"$f":"IF(OR(P321<=0,P321>1000000000),\"\",P317/P321/S316)","v":4661272},{"$f":"IF(OR(Q321=\"\",S321<=0,T317>1),\"\",IF(S321=\"Freilos\",T316/(1-(1/Q321))/Q321,IF(S321=\"Freispiel\",Lotterien!$L$85/Q321/S317,IF(S321>1000000000,\"\",S321/Q321/S317))))","v":2.1453371526055547E-3},10000,{"$f":"IFERROR(IF(R321<R356,R356/R321,R321/R356),\"\")","v":7.4559175925925949},{"$f":"IFERROR(R321/IF((Q321*S317)<150,150,Q321*S317)^0.25*34.9964,\"\")","v":1.6158193851374208E-3}]
[null,20000000,null,null,{"$f":"E321*4","v":4},{"$f":"IFERROR(COUNTIF(E324:E340,\"Freilos\"),\"\")","v":0},null,null,20000000,null,null,{"$f":"L321*4","v":4},{"$f":"IFERROR(COUNTIF(L324:L340,\"Freilos\"),\"\")","v":0},null,7,5,{"$f":"IF(OR(P322<=0,P322>1000000000),\"\",P317/P322/S316)","v":2796763.2},{"$f":"IF(OR(Q322=\"\",S322<=0,T317>1),\"\",IF(S322=\"Freilos\",T316/(1-(1/Q322))/Q322,IF(S322=\"Freispiel\",Lotterien!$L$85/Q322/S317,IF(S322>1000000000,\"\",S322/Q322/S317))))","v":5.720899073614813E-6},16,{"$f":"IFERROR(IF(R322<R356,R356/R322,R322/R356),\"\")","v":2795.9690972222229},{"$f":"IFERROR(R322/IF((Q322*S317)<150,150,Q322*S317)^0.25*34.9964,\"\")","v":4.8958007416179857E-6}]
[null,"Losanzahl",{"$f":"IF(E321=1,\"Chancen 1:\",\"Ø Gewinne 1:\")","v":"Chancen 1:"},"Ø AQ","(Ø) Gewinn",null,null,null,"Losanzahl",{"$f":"IF(L321=1,\"Chancen 1:\",\"Ø Gewinne 1:\")","v":"Chancen 1:"},"Ø AQ","(Ø) Gewinn",null,null,6,30,{"$f":"IF(OR(P323<=0,P323>1000000000),\"\",P317/P323/S316)","v":466127.2},{"$f":"IF(OR(Q323=\"\",S323<=0,T317>1),\"\",IF(S323=\"Freilos\",T316/(1-(1/Q323))/Q323,IF(S323=\"Freispiel\",Lotterien!$L$85/Q323/S317,IF(S323>1000000000,\"\",S323/Q323/S317))))","v":2.1453371526055547E-3},1000,{"$f":"IFERROR(IF(R323<R356,R356/R323,R323/R356),\"\")","v":7.4559175925925949},{"$f":"IFERROR(R323/IF((Q323*S317)<150,150,Q323*S317)^0.25*34.9964,\"\")","v":2.8733783429316273E-3}]
[7,1,{"$f":"IF(OR(B324<=0,B324>1000000000),\"\",B322/B324/E321)","v":20000000},{"$f":"IF(OR(C324=\"\",E324<=0,F322>1),\"\",IF(E324=\"Freilos\",F321/(1-(1/C324))/C324,IF(E324=\"Freispiel\",Lotterien!$E$224/C324/E322,IF(E324>1000000000,\"\",E324/C324/E322))))","v":1.2500062500000001E-2},1000005,{"$f":"IFERROR(IF(D324<D342,D342/D324,D324/D342),\"\")","v":1.9128615492922663},{"$f":"IFERROR(D324/IF((C324*E322)<150,150,C324*E322)^0.25*34.9964,\"\")","v":4.6255465881012234E-3},7,1,{"$f":"IF(OR(I324<=0,I324>1000000000),\"\",I322/I324/L321)","v":20000000},{"$f":"IF(OR(J324=\"\",L324<=0,M322>1),\"\",IF(L324=\"Freilos\",M321/(1-(1/J324))/J324,IF(L324=\"Freispiel\",Lotterien!$E$239/J324/L322,IF(L324>1000000000,\"\",L324/J324/L322))))","v":1.2500062500000001E-2},1000005,{"$f":"IFERROR(IF(K324<K342,K342/K324,K324/K342),\"\")","v":1.9004769904287941},{"$f":"IFERROR(K324/IF((J324*L322)<150,150,J324*L322)^0.25*34.9964,\"\")","v":4.6255465881012234E-3},5,200,{"$f":"IF(OR(P324<=0,P324>1000000000),\"\",P317/P324/S316)","v":69919.08},{"$f":"IF(OR(Q324=\"\",S324<=0,T317>1),\"\",IF(S324=\"Freilos\",T316/(1-(1/Q324))/Q324,IF(S324=\"Freispiel\",Lotterien!$L$85/Q324/S317,IF(S324>1000000000,\"\",S324/Q324/S317))))","v":1.4302247684037032E-3},100,{"$f":"IFERROR(IF(R324<R356,R356/R324,R324/R356),\"\")","v":11.183876388888892},{"$f":"IFERROR(R324/IF((Q324*S317)<150,150,Q324*S317)^0.25*34.9964,\"\")","v":3.0780717587884803E-3}]
[6,40,{"$f":"IF(OR(B325<=0,B325>1000000000),\"\",B322/B325/E321)","v":500000},{"$f":"IF(OR(C325=\"\",E325<=0,F322>1),\"\",IF(E325=\"Freilos\",F321/(1-(1/C325))/C325,IF(E325=\"Freispiel\",Lotterien!$E$224/C325/E322,IF(E325>1000000000,\"\",E325/C325/E322))))","v":2E-3},4000,{"$f":"IFERROR(IF(D325<D342,D342/D325,D325/D342),\"\")","v":11.955444460000081},{"$f":"IFERROR(D325/IF((C325*E322)<150,150,C325*E322)^0.25*34.9964,\"\")","v":1.8612121052784564E-3},6,40,{"$f":"IF(OR(I325<=0,I325>1000000000),\"\",I322/I325/L321)","v":500000},{"$f":"IF(OR(J325=\"\",L325<=0,M322>1),\"\",IF(L325=\"Freilos\",M321/(1-(1/J325))/J325,IF(L325=\"Freispiel\",Lotterien!$E$239/J325/L322,IF(L325>1000000000,\"\",L325/J325/L322))))","v":2E-3},4000,{"$f":"IFERROR(IF(K325<K342,K342/K325,K325/K342),\"\")","v":11.878040580085914},{"$f":"IFERROR(K325/IF((J325*L322)<150,150,J325*L322)^0.25*34.9964,\"\")","v":1.8612121052784564E-3},5,500,{"$f":"IF(OR(P325<=0,P325>1000000000),\"\",P317/P325/S316)","v":27967.632000000001},{"$f":"IF(OR(Q325=\"\",S325<=0,T317>1),\"\",IF(S325=\"Freilos\",T316/(1-(1/Q325))/Q325,IF(S325=\"Freispiel\",Lotterien!$L$85/Q325/S317,IF(S325>1000000000,\"\",S325/Q325/S317))))","v":2.4313821062862955E-3},68,{"$f":"IFERROR(IF(R325<R356,R356/R325,R325/R356),\"\")","v":6.5787508169934661},{"$f":"IFERROR(R325/IF((Q325*S317)<150,150,Q325*S317)^0.25*34.9964,\"\")","v":6.5797995583880952E-3}]
[{"$f":"IF(C326=\"\",0,IF(C326>=1000000,7,IF(C326>=100000,6,IF(C326>=10000,5,IF(C326>=1000,4,IF(C326>=100,3,IF(C326>=10,2,1)))))))","v":5},600,{"$f":"IF(OR(B326<=0,B326>1000000000),\"\",B322/B326/E321)","v":33333.333333333336},{"$f":"IF(OR(C326=\"\",E326<=0,F322>1),\"\",IF(E326=\"Freilos\",F321/(1-(1/C326))/C326,IF(E326=\"Freispiel\",Lotterien!$E$224/C326/E322,IF(E326>1000000000,\"\",E326/C326/E322))))","v":7.4999999999999997E-3},1000,{"$f":"IFERROR(IF(D326<D342,D342/D326,D326/D342),\"\")","v":3.1881185226666884},{"$f":"IFERROR(D326/IF((C326*E322)<150,150,C326*E322)^0.25*34.9964,\"\")","v":1.3735673247083203E-2},{"$f":"IF(J326=\"\",0,IF(J326>=1000000,7,IF(J326>=100000,6,IF(J326>=10000,5,IF(J326>=1000,4,IF(J326>=100,3,IF(J326>=10,2,1)))))))","v":5},600,{"$f":"IF(OR(I326<=0,I326>1000000000),\"\",I322/I326/L321)","v":33333.333333333336},{"$f":"IF(OR(J326=\"\",L326<=0,M322>1),\"\",IF(L326=\"Freilos\",M321/(1-(1/J326))/J326,IF(L326=\"Freispiel\",Lotterien!$E$239/J326/L322,IF(L326>1000000000,\"\",L326/J326/L322))))","v":7.4999999999999997E-3},1000,{"$f":"IFERROR(IF(K326<K342,K342/K326,K326/K342),\"\")","v":3.1674774880229108},{"$f":"IFERROR(K326/IF((J326*L322)<150,150,J326*L322)^0.25*34.9964,\"\")","v":1.3735673247083203E-2},{"$f":"IF(Q326=\"\",0,IF(Q326>=1000000,7,IF(Q326>=100000,6,IF(Q326>=10000,5,IF(Q326>=1000,4,IF(Q326>=100,3,IF(Q326>=10,2,1)))))))","v":5},700,{"$f":"IF(OR(P326<=0,P326>1000000000),\"\",P317/P326/S316)","v":19976.88},{"$f":"IF(OR(Q326=\"\",S326<=0,T317>1),\"\",IF(S326=\"Freilos\",T316/(1-(1/Q326))/Q326,IF(S326=\"Freispiel\",Lotterien!$L$85/Q326/S317,IF(S326>1000000000,\"\",S326/Q326/S317))))","v":2.5028933447064808E-3},50,{"$f":"IFERROR(IF(R326<R356,R356/R326,R326/R356),\"\")","v":6.3907865079365092},{"$f":"IFERROR(R326/IF((Q326*S317)<150,150,Q326*S317)^0.25*34.9964,\"\")","v":7.3677316600995043E-3}]
[5,1400,{"$f":"IF(OR(B327<=0,B327>1000000000),\"\",B322/B327/E321)","v":14285.714285714286},{"$f":"IF(OR(C327=\"\",E327<=0,F322>1),\"\",IF(E327=\"Freilos\",F321/(1-(1/C327))/C327,IF(E327=\"Freispiel\",Lotterien!$E$224/C327/E322,IF(E327>1000000000,\"\",E327/C327/E322))))","v":4.3749999999999995E-3},250,{"$f":"IFERROR(IF(D327<D342,D342/D327,D327/D342),\"\")","v":5.46534603885718},{"$f":"IFERROR(D327/IF((C327*E322)<150,150,C327*E322)^0.25*34.9964,\"\")","v":9.9028668854431387E-3},5,1400,{"$f":"IF(OR(I327<=0,I327>1000000000),\"\",I322/I327/L321)","v":14285.714285714286},{"$f":"IF(OR(J327=\"\",L327<=0,M322>1),\"\",IF(L327=\"Freilos\",M321/(1-(1/J327))/J327,IF(L327=\"Freispiel\",Lotterien!$E$239/J327/L322,IF(L327>1000000000,\"\",L327/J327/L322))))","v":4.3749999999999995E-3},250,{"$f":"IFERROR(IF(K327<K342,K342/K327,K327/K342),\"\")","v":5.4299614080392757},{"$f":"IFERROR(K327/IF((J327*L322)<150,150,J327*L322)^0.25*34.9964,\"\")","v":9.9028668854431387E-3},5,1000,{"$f":"IF(OR(P327<=0,P327>1000000000),\"\",P317/P327/S316)","v":13983.816000000001},{"$f":"IF(OR(Q327=\"\",S327<=0,T317>1),\"\",IF(S327=\"Freilos\",T316/(1-(1/Q327))/Q327,IF(S327=\"Freispiel\",Lotterien!$L$85/Q327/S317,IF(S327>1000000000,\"\",S327/Q327/S317))))","v":4.5052080204716653E-3},63,{"$f":"IFERROR(IF(R327<R356,R356/R327,R327/R356),\"\")","v":3.5504369488536165},{"$f":"IFERROR(R327/IF((Q327*S317)<150,150,Q327*S317)^0.25*34.9964,\"\")","v":1.4498791186999815E-2}]
[4,2200,{"$f":"IF(OR(B328<=0,B328>1000000000),\"\",B322/B328/E321)","v":9090.9090909090901},{"$f":"IF(OR(C328=\"\",E328<=0,F322>1),\"\",IF(E328=\"Freilos\",F321/(1-(1/C328))/C328,IF(E328=\"Freispiel\",Lotterien!$E$224/C328/E322,IF(E328>1000000000,\"\",E328/C328/E322))))","v":2.7500000000000003E-3},100,{"$f":"IFERROR(IF(D328<D342,D342/D328,D328/D342),\"\")","v":8.6948686981818764},{"$f":"IFERROR(D328/IF((C328*E322)<150,150,C328*E322)^0.25*34.9964,\"\")","v":6.9693012760723184E-3},4,2200,{"$f":"IF(OR(I328<=0,I328>1000000000),\"\",I322/I328/L321)","v":9090.9090909090901},{"$f":"IF(OR(J328=\"\",L328<=0,M322>1),\"\",IF(L328=\"Freilos\",M321/(1-(1/J328))/J328,IF(L328=\"Freispiel\",Lotterien!$E$239/J328/L322,IF(L328>1000000000,\"\",L328/J328/L322))))","v":2.7500000000000003E-3},100,{"$f":"IFERROR(IF(K328<K342,K342/K328,K328/K342),\"\")","v":8.6385749673352095},{"$f":"IFERROR(K328/IF((J328*L322)<150,150,J328*L322)^0.25*34.9964,\"\")","v":6.9693012760723184E-3},4,1900,{"$f":"IF(OR(P328<=0,P328>1000000000),\"\",P317/P328/S316)","v":7359.903157894737},{"$f":"IF(OR(Q328=\"\",S328<=0,T317>1),\"\",IF(S328=\"Freilos\",T316/(1-(1/Q328))/Q328,IF(S328=\"Freispiel\",Lotterien!$L$85/Q328/S317,IF(S328>1000000000,\"\",S328/Q328/S317))))","v":2.7174270599670362E-3},20,{"$f":"IFERROR(IF(R328<R356,R356/R328,R328/R356),\"\")","v":5.8862507309941536},{"$f":"IFERROR(R328/IF((Q328*S317)<150,150,Q328*S317)^0.25*34.9964,\"\")","v":1.0267465270927138E-2}]
[4,3800,{"$f":"IF(OR(B329<=0,B329>1000000000),\"\",B322/B329/E321)","v":5263.1578947368425},{"$f":"IF(OR(C329=\"\",E329<=0,F322>1),\"\",IF(E329=\"Freilos\",F321/(1-(1/C329))/C329,IF(E329=\"Freispiel\",Lotterien!$E$224/C329/E322,IF(E329>1000000000,\"\",E329/C329/E322))))","v":2.3749999999999999E-3},50,{"$f":"IFERROR(IF(D329<D342,D342/D329,D329/D342),\"\")","v":10.067742703157963},{"$f":"IFERROR(D329/IF((C329*E322)<150,150,C329*E322)^0.25*34.9964,\"\")","v":6.9001794934757856E-3},4,3800,{"$f":"IF(OR(I329<=0,I329>1000000000),\"\",I322/I329/L321)","v":5263.1578947368425},{"$f":"IF(OR(J329=\"\",L329<=0,M322>1),\"\",IF(L329=\"Freilos\",M321/(1-(1/J329))/J329,IF(L329=\"Freispiel\",Lotterien!$E$239/J329/L322,IF(L329>1000000000,\"\",L329/J329/L322))))","v":2.3749999999999999E-3},50,{"$f":"IFERROR(IF(K329<K342,K342/K329,K329/K342),\"\")","v":10.002560488493401},{"$f":"IFERROR(K329/IF((J329*L322)<150,150,J329*L322)^0.25*34.9964,\"\")","v":6.9001794934757856E-3},4,2000,{"$f":"IF(OR(P329<=0,P329>1000000000),\"\",P317/P329/S316)","v":6991.9080000000004},{"$f":"IF(OR(Q329=\"\",S329<=0,T317>1),\"\",IF(S329=\"Freilos\",T316/(1-(1/Q329))/Q329,IF(S329=\"Freispiel\",Lotterien!$L$85/Q329/S317,IF(S329>1000000000,\"\",S329/Q329/S317))))","v":1.7162697220844438E-3},12,{"$f":"IFERROR(IF(R329<R356,R356/R329,R329/R356),\"\")","v":9.3198969907407445},{"$f":"IFERROR(R329/IF((Q329*S317)<150,150,Q329*S317)^0.25*34.9964,\"\")","v":6.56840595753102E-3}]
[4,10000,{"$f":"IF(OR(B330<=0,B330>1000000000),\"\",B322/B330/E321)","v":2000},{"$f":"IF(OR(C330=\"\",E330<=0,F322>1),\"\",IF(E330=\"Freilos\",F321/(1-(1/C330))/C330,IF(E330=\"Freispiel\",Lotterien!$E$224/C330/E322,IF(E330>1000000000,\"\",E330/C330/E322))))","v":1.5E-3},12,{"$f":"IFERROR(IF(D330<D342,D342/D330,D330/D342),\"\")","v":15.94059261333344},{"$f":"IFERROR(D330/IF((C330*E322)<150,150,C330*E322)^0.25*34.9964,\"\")","v":5.5506281525807034E-3},4,10000,{"$f":"IF(OR(I330<=0,I330>1000000000),\"\",I322/I330/L321)","v":2000},{"$f":"IF(OR(J330=\"\",L330<=0,M322>1),\"\",IF(L330=\"Freilos\",M321/(1-(1/J330))/J330,IF(L330=\"Freispiel\",Lotterien!$E$239/J330/L322,IF(L330>1000000000,\"\",L330/J330/L322))))","v":1.5E-3},12,{"$f":"IFERROR(IF(K330<K342,K342/K330,K330/K342),\"\")","v":15.837387440114552},{"$f":"IFERROR(K330/IF((J330*L322)<150,150,J330*L322)^0.25*34.9964,\"\")","v":5.5506281525807034E-3},4,2000,{"$f":"IF(OR(P330<=0,P330>1000000000),\"\",P317/P330/S316)","v":6991.9080000000004},{"$f":"IF(OR(Q330=\"\",S330<=0,T317>1),\"\",IF(S330=\"Freilos\",T316/(1-(1/Q330))/Q330,IF(S330=\"Freispiel\",Lotterien!$L$85/Q330/S317,IF(S330>1000000000,\"\",S330/Q330/S317))))","v":1.5732472452440736E-3},11,{"$f":"IFERROR(IF(R330<R356,R356/R330,R330/R356),\"\")","v":10.167160353535357},{"$f":"IFERROR(R330/IF((Q330*S317)<150,150,Q330*S317)^0.25*34.9964,\"\")","v":6.0210387944034357E-3}]
[3,50000,{"$f":"IF(OR(B331<=0,B331>1000000000),\"\",B322/B331/E321)","v":400},{"$f":"IF(OR(C331=\"\",E331<=0,F322>1),\"\",IF(E331=\"Freilos\",F321/(1-(1/C331))/C331,IF(E331=\"Freispiel\",Lotterien!$E$224/C331/E322,IF(E331>1000000000,\"\",E331/C331/E322))))","v":8.1250000000000003E-3},13,{"$f":"IFERROR(IF(D331<D342,D342/D331,D331/D342),\"\")","v":2.9428786363077122},{"$f":"IFERROR(D331/IF((C331*E322)<150,150,C331*E322)^0.25*34.9964,\"\")","v":4.4959010649441154E-2},3,50000,{"$f":"IF(OR(I331<=0,I331>1000000000),\"\",I322/I331/L321)","v":400},{"$f":"IF(OR(J331=\"\",L331<=0,M322>1),\"\",IF(L331=\"Freilos\",M321/(1-(1/J331))/J331,IF(L331=\"Freispiel\",Lotterien!$E$239/J331/L322,IF(L331>1000000000,\"\",L331/J331/L322))))","v":8.1250000000000003E-3},13,{"$f":"IFERROR(IF(K331<K342,K342/K331,K331/K342),\"\")","v":2.9238253735596098},{"$f":"IFERROR(K331/IF((J331*L322)<150,150,J331*L322)^0.25*34.9964,\"\")","v":4.4959010649441154E-2},4,4000,{"$f":"IF(OR(P331<=0,P331>1000000000),\"\",P317/P331/S316)","v":3495.9540000000002},{"$f":"IF(OR(Q331=\"\",S331<=0,T317>1),\"\",IF(S331=\"Freilos\",T316/(1-(1/Q331))/Q331,IF(S331=\"Freispiel\",Lotterien!$L$85/Q331/S317,IF(S331>1000000000,\"\",S331/Q331/S317))))","v":4.8627642125725909E-3},17,{"$f":"IFERROR(IF(R331<R356,R356/R331,R331/R356),\"\")","v":3.289375408496733},{"$f":"IFERROR(R331/IF((Q331*S317)<150,150,Q331*S317)^0.25*34.9964,\"\")","v":2.2131719446946082E-2}]
[3,100000,{"$f":"IF(OR(B332<=0,B332>1000000000),\"\",B322/B332/E321)","v":200},{"$f":"IF(OR(C332=\"\",E332<=0,F322>1),\"\",IF(E332=\"Freilos\",F321/(1-(1/C332))/C332,IF(E332=\"Freispiel\",Lotterien!$E$224/C332/E322,IF(E332>1000000000,\"\",E332/C332/E322))))","v":2.1874999999999999E-2},17.5,{"$f":"IFERROR(IF(D332<D342,D342/D332,D332/D342),\"\")","v":1.0930692077714359},{"$f":"IFERROR(D332/IF((C332*E322)<150,150,C332*E322)^0.25*34.9964,\"\")","v":0.14394577978253445},3,100000,{"$f":"IF(OR(I332<=0,I332>1000000000),\"\",I322/I332/L321)","v":200},{"$f":"IF(OR(J332=\"\",L332<=0,M322>1),\"\",IF(L332=\"Freilos\",M321/(1-(1/J332))/J332,IF(L332=\"Freispiel\",Lotterien!$E$239/J332/L322,IF(L332>1000000000,\"\",L332/J332/L322))))","v":2.1874999999999999E-2},17.5,{"$f":"IFERROR(IF(K332<K342,K342/K332,K332/K342),\"\")","v":1.0859922816078551},{"$f":"IFERROR(K332/IF((J332*L322)<150,150,J332*L322)^0.25*34.9964,\"\")","v":0.14394577978253445},4,4000,{"$f":"IF(OR(P332<=0,P332>1000000000),\"\",P317/P332/S316)","v":3495.9540000000002},{"$f":"IF(OR(Q332=\"\",S332<=0,T317>1),\"\",IF(S332=\"Freilos\",T316/(1-(1/Q332))/Q332,IF(S332=\"Freispiel\",Lotterien!$L$85/Q332/S317,IF(S332>1000000000,\"\",S332/Q332/S317))))","v":4.43369678205148E-3},15.5,{"$f":"IFERROR(IF(R332<R356,R356/R332,R332/R356),\"\")","v":3.6077020609319006},{"$f":"IFERROR(R332/IF((Q332*S317)<150,150,Q332*S317)^0.25*34.9964,\"\")","v":2.0178920672215547E-2}]
[3,100000,{"$f":"IF(OR(B333<=0,B333>1000000000),\"\",B322/B333/E321)","v":200},{"$f":"IF(OR(C333=\"\",E333<=0,F322>1),\"\",IF(E333=\"Freilos\",F321/(1-(1/C333))/C333,IF(E333=\"Freispiel\",Lotterien!$E$224/C333/E322,IF(E333>1000000000,\"\",E333/C333/E322))))","v":8.7500000000000008E-3},7,{"$f":"IFERROR(IF(D333<D342,D342/D333,D333/D342),\"\")","v":2.7326730194285895},{"$f":"IFERROR(D333/IF((C333*E322)<150,150,C333*E322)^0.25*34.9964,\"\")","v":5.7578311913013797E-2},3,100000,{"$f":"IF(OR(I333<=0,I333>1000000000),\"\",I322/I333/L321)","v":200},{"$f":"IF(OR(J333=\"\",L333<=0,M322>1),\"\",IF(L333=\"Freilos\",M321/(1-(1/J333))/J333,IF(L333=\"Freispiel\",Lotterien!$E$239/J333/L322,IF(L333>1000000000,\"\",L333/J333/L322))))","v":8.7500000000000008E-3},7,{"$f":"IFERROR(IF(K333<K342,K342/K333,K333/K342),\"\")","v":2.7149807040196374},{"$f":"IFERROR(K333/IF((J333*L322)<150,150,J333*L322)^0.25*34.9964,\"\")","v":5.7578311913013797E-2},4,4200,{"$f":"IF(OR(P333<=0,P333>1000000000),\"\",P317/P333/S316)","v":3329.48},{"$f":"IF(OR(Q333=\"\",S333<=0,T317>1),\"\",IF(S333=\"Freilos\",T316/(1-(1/Q333))/Q333,IF(S333=\"Freispiel\",Lotterien!$L$85/Q333/S317,IF(S333>1000000000,\"\",S333/Q333/S317))))","v":3.7543400170597209E-3},12.5,{"$f":"IFERROR(IF(R333<R356,R356/R333,R333/R356),\"\")","v":4.2605243386243403},{"$f":"IFERROR(R333/IF((Q333*S317)<150,150,Q333*S317)^0.25*34.9964,\"\")","v":1.7296684817009241E-2}]
[3,100000,{"$f":"IF(OR(B334<=0,B334>1000000000),\"\",B322/B334/E321)","v":200},{"$f":"IF(OR(C334=\"\",E334<=0,F322>1),\"\",IF(E334=\"Freilos\",F321/(1-(1/C334))/C334,IF(E334=\"Freispiel\",Lotterien!$E$224/C334/E322,IF(E334>1000000000,\"\",E334/C334/E322))))","v":7.4999999999999997E-3},6,{"$f":"IFERROR(IF(D334<D342,D342/D334,D334/D342),\"\")","v":3.1881185226666884},{"$f":"IFERROR(D334/IF((C334*E322)<150,150,C334*E322)^0.25*34.9964,\"\")","v":4.9352838782583251E-2},3,100000,{"$f":"IF(OR(I334<=0,I334>1000000000),\"\",I322/I334/L321)","v":200},{"$f":"IF(OR(J334=\"\",L334<=0,M322>1),\"\",IF(L334=\"Freilos\",M321/(1-(1/J334))/J334,IF(L334=\"Freispiel\",Lotterien!$E$239/J334/L322,IF(L334>1000000000,\"\",L334/J334/L322))))","v":7.4999999999999997E-3},6,{"$f":"IFERROR(IF(K334<K342,K342/K334,K334/K342),\"\")","v":3.1674774880229108},{"$f":"IFERROR(K334/IF((J334*L322)<150,150,J334*L322)^0.25*34.9964,\"\")","v":4.9352838782583251E-2},4,5300,{"$f":"IF(OR(P334<=0,P334>1000000000),\"\",P317/P334/S316)","v":2638.4558490566037},{"$f":"IF(OR(Q334=\"\",S334<=0,T317>1),\"\",IF(S334=\"Freilos\",T316/(1-(1/Q334))/Q334,IF(S334=\"Freispiel\",Lotterien!$L$85/Q334/S317,IF(S334>1000000000,\"\",S334/Q334/S317))))","v":6.6326673634721743E-3},17.5,{"$f":"IFERROR(IF(R334<R356,R356/R334,R334/R356),\"\")","v":2.4116175501647206},{"$f":"IFERROR(R334/IF((Q334*S317)<150,150,Q334*S317)^0.25*34.9964,\"\")","v":3.2387254305627604E-2}]
[2,400000,{"$f":"IF(OR(B335<=0,B335>1000000000),\"\",B322/B335/E321)","v":50},{"$f":"IF(OR(C335=\"\",E335<=0,F322>1),\"\",IF(E335=\"Freilos\",F321/(1-(1/C335))/C335,IF(E335=\"Freispiel\",Lotterien!$E$224/C335/E322,IF(E335>1000000000,\"\",E335/C335/E322))))","v":7.0000000000000007E-2},14,{"$f":"IFERROR(IF(D335<D342,D342/D335,D335/D342),\"\")","v":2.927536497459482},{"$f":"IFERROR(D335/IF((C335*E322)<150,150,C335*E322)^0.25*34.9964,\"\")","v":0.65142423684745965},2,400000,{"$f":"IF(OR(I335<=0,I335>1000000000),\"\",I322/I335/L321)","v":50},{"$f":"IF(OR(J335=\"\",L335<=0,M322>1),\"\",IF(L335=\"Freilos\",M321/(1-(1/J335))/J335,IF(L335=\"Freispiel\",Lotterien!$E$239/J335/L322,IF(L335>1000000000,\"\",L335/J335/L322))))","v":7.0000000000000007E-2},14,{"$f":"IFERROR(IF(K335<K342,K342/K335,K335/K342),\"\")","v":2.9466139439428356},{"$f":"IFERROR(K335/IF((J335*L322)<150,150,J335*L322)^0.25*34.9964,\"\")","v":0.65142423684745965},4,5500,{"$f":"IF(OR(P335<=0,P335>1000000000),\"\",P317/P335/S316)","v":2542.5120000000002},{"$f":"IF(OR(Q335=\"\",S335<=0,T317>1),\"\",IF(S335=\"Freilos\",T316/(1-(1/Q335))/Q335,IF(S335=\"Freispiel\",Lotterien!$L$85/Q335/S317,IF(S335>1000000000,\"\",S335/Q335/S317))))","v":7.0796126035983309E-3},18,{"$f":"IFERROR(IF(R335<R356,R356/R335,R335/R356),\"\")","v":2.2593689674523016},{"$f":"IFERROR(R335/IF((Q335*S317)<150,150,Q335*S317)^0.25*34.9964,\"\")","v":3.4891296925231956E-2}]
[2,1000000,{"$f":"IF(OR(B336<=0,B336>1000000000),\"\",B322/B336/E321)","v":20},{"$f":"IF(OR(C336=\"\",E336<=0,F322>1),\"\",IF(E336=\"Freilos\",F321/(1-(1/C336))/C336,IF(E336=\"Freispiel\",Lotterien!$E$224/C336/E322,IF(E336>1000000000,\"\",E336/C336/E322))))","v":6.25E-2},5,{"$f":"IFERROR(IF(D336<D342,D342/D336,D336/D342),\"\")","v":2.6138718727316799},{"$f":"IFERROR(D336/IF((C336*E322)<150,150,C336*E322)^0.25*34.9964,\"\")","v":0.62500080158694427},2,1000000,{"$f":"IF(OR(I336<=0,I336>1000000000),\"\",I322/I336/L321)","v":20},{"$f":"IF(OR(J336=\"\",L336<=0,M322>1),\"\",IF(L336=\"Freilos\",M321/(1-(1/J336))/J336,IF(L336=\"Freispiel\",Lotterien!$E$239/J336/L322,IF(L336>1000000000,\"\",L336/J336/L322))))","v":6.25E-2},5,{"$f":"IFERROR(IF(K336<K342,K342/K336,K336/K342),\"\")","v":2.6309053070918171},{"$f":"IFERROR(K336/IF((J336*L322)<150,150,J336*L322)^0.25*34.9964,\"\")","v":0.62500080158694427},4,8000,{"$f":"IF(OR(P336<=0,P336>1000000000),\"\",P317/P336/S316)","v":1747.9770000000001},{"$f":"IF(OR(Q336=\"\",S336<=0,T317>1),\"\",IF(S336=\"Freilos\",T316/(1-(1/Q336))/Q336,IF(S336=\"Freispiel\",Lotterien!$L$85/Q336/S317,IF(S336>1000000000,\"\",S336/Q336/S317))))","v":7.4371687956992566E-3},13,{"$f":"IFERROR(IF(R336<R356,R356/R336,R336/R356),\"\")","v":2.1507454594017101},{"$f":"IFERROR(R336/IF((Q336*S317)<150,150,Q336*S317)^0.25*34.9964,\"\")","v":4.0252891416021279E-2}]
[2,1000000,{"$f":"IF(OR(B337<=0,B337>1000000000),\"\",B322/B337/E321)","v":20},{"$f":"IF(OR(C337=\"\",E337<=0,F322>1),\"\",IF(E337=\"Freilos\",F321/(1-(1/C337))/C337,IF(E337=\"Freispiel\",Lotterien!$E$224/C337/E322,IF(E337>1000000000,\"\",E337/C337/E322))))","v":4.6875E-2},3.75,{"$f":"IFERROR(IF(D337<D342,D342/D337,D337/D342),\"\")","v":1.96040390454876},{"$f":"IFERROR(D337/IF((C337*E322)<150,150,C337*E322)^0.25*34.9964,\"\")","v":0.46875060119020823},2,1000000,{"$f":"IF(OR(I337<=0,I337>1000000000),\"\",I322/I337/L321)","v":20},{"$f":"IF(OR(J337=\"\",L337<=0,M322>1),\"\",IF(L337=\"Freilos\",M321/(1-(1/J337))/J337,IF(L337=\"Freispiel\",Lotterien!$E$239/J337/L322,IF(L337>1000000000,\"\",L337/J337/L322))))","v":4.6875E-2},3.75,{"$f":"IFERROR(IF(K337<K342,K342/K337,K337/K342),\"\")","v":1.9731789803188629},{"$f":"IFERROR(K337/IF((J337*L322)<150,150,J337*L322)^0.25*34.9964,\"\")","v":0.46875060119020823},4,8000,{"$f":"IF(OR(P337<=0,P337>1000000000),\"\",P317/P337/S316)","v":1747.9770000000001},{"$f":"IF(OR(Q337=\"\",S337<=0,T317>1),\"\",IF(S337=\"Freilos\",T316/(1-(1/Q337))/Q337,IF(S337=\"Freispiel\",Lotterien!$L$85/Q337/S317,IF(S337>1000000000,\"\",S337/Q337/S317))))","v":4.0046293515303691E-3},7,{"$f":"IFERROR(IF(R337<R356,R356/R337,R337/R356),\"\")","v":3.9942415674603184},{"$f":"IFERROR(R337/IF((Q337*S317)<150,150,Q337*S317)^0.25*34.9964,\"\")","v":2.1674633839396072E-2}]
[2,2000000,{"$f":"IF(OR(B338<=0,B338>1000000000),\"\",B322/B338/E321)","v":10},{"$f":"IF(OR(C338=\"\",E338<=0,F322>1),\"\",IF(E338=\"Freilos\",F321/(1-(1/C338))/C338,IF(E338=\"Freispiel\",Lotterien!$E$224/C338/E322,IF(E338>1000000000,\"\",E338/C338/E322))))","v":6.25E-2},2.5,{"$f":"IFERROR(IF(D338<D342,D342/D338,D338/D342),\"\")","v":2.6138718727316799},{"$f":"IFERROR(D338/IF((C338*E322)<150,150,C338*E322)^0.25*34.9964,\"\")","v":0.62500080158694427},2,2000000,{"$f":"IF(OR(I338<=0,I338>1000000000),\"\",I322/I338/L321)","v":10},{"$f":"IF(OR(J338=\"\",L338<=0,M322>1),\"\",IF(L338=\"Freilos\",M321/(1-(1/J338))/J338,IF(L338=\"Freispiel\",Lotterien!$E$239/J338/L322,IF(L338>1000000000,\"\",L338/J338/L322))))","v":6.25E-2},2.5,{"$f":"IFERROR(IF(K338<K342,K342/K338,K338/K342),\"\")","v":2.6309053070918171},{"$f":"IFERROR(K338/IF((J338*L322)<150,150,J338*L322)^0.25*34.9964,\"\")","v":0.62500080158694427},4,9000,{"$f":"IF(OR(P338<=0,P338>1000000000),\"\",P317/P338/S316)","v":1553.7573333333332},{"$f":"IF(OR(Q338=\"\",S338<=0,T317>1),\"\",IF(S338=\"Freilos\",T316/(1-(1/Q338))/Q338,IF(S338=\"Freispiel\",Lotterien!$L$85/Q338/S317,IF(S338>1000000000,\"\",S338/Q338/S317))))","v":6.4360114578166649E-3},10,{"$f":"IFERROR(IF(R338<R356,R356/R338,R338/R356),\"\")","v":2.4853058641975316},{"$f":"IFERROR(R338/IF((Q338*S317)<150,150,Q338*S317)^0.25*34.9964,\"\")","v":3.5875204263165074E-2}]
[1,4000000,{"$f":"IF(OR(B339<=0,B339>1000000000),\"\",B322/B339/E321)","v":5},{"$f":"IF(OR(C339=\"\",E339<=0,F322>1),\"\",IF(E339=\"Freilos\",F321/(1-(1/C339))/C339,IF(E339=\"Freispiel\",Lotterien!$E$224/C339/E322,IF(E339>1000000000,\"\",E339/C339/E322))))","v":2.286004914000269E-2},"Freispiel",{"$f":"IFERROR(IF(D339<D342,D342/D339,D339/D342),\"\")","v":1.0459683954991423},{"$f":"IFERROR(D339/IF((C339*E322)<150,150,C339*E322)^0.25*34.9964,\"\")","v":0.22860078458909788},1,4000000,{"$f":"IF(OR(I339<=0,I339>1000000000),\"\",I322/I339/L321)","v":5},{"$f":"IF(OR(J339=\"\",L339<=0,M322>1),\"\",IF(L339=\"Freilos\",M321/(1-(1/J339))/J339,IF(L339=\"Freispiel\",Lotterien!$E$239/J339/L322,IF(L339>1000000000,\"\",L339/J339/L322))))","v":2.0228317222921031E-2},"Freispiel",{"$f":"IFERROR(IF(K339<K342,K342/K339,K339/K342),\"\")","v":1.1743973014845461},{"$f":"IFERROR(K339/IF((J339*L322)<150,150,J339*L322)^0.25*34.9964,\"\")","v":0.20228343166529014},4,11000,{"$f":"IF(OR(P339<=0,P339>1000000000),\"\",P317/P339/S316)","v":1271.2560000000001},{"$f":"IF(OR(Q339=\"\",S339<=0,T317>1),\"\",IF(S339=\"Freilos\",T316/(1-(1/Q339))/Q339,IF(S339=\"Freispiel\",Lotterien!$L$85/Q339/S317,IF(S339>1000000000,\"\",S339/Q339/S317))))","v":1.0619418905397495E-2},13.5,{"$f":"IFERROR(IF(R339<R356,R356/R339,R339/R356),\"\")","v":1.5062459783015345},{"$f":"IFERROR(R339/IF((Q339*S317)<150,150,Q339*S317)^0.25*34.9964,\"\")","v":6.2239467832737601E-2}]
[1,4000000,{"$f":"IF(OR(B340<=0,B340>1000000000),\"\",B322/B340/E321)","v":5},{"$f":"IF(OR(C340=\"\",E340<=0,F322>1),\"\",IF(E340=\"Freilos\",F321/(1-(1/C340))/C340,IF(E340=\"Freispiel\",Lotterien!$E$224/C340/E322,IF(E340>1000000000,\"\",E340/C340/E322))))","v":6.25E-2},1.25,{"$f":"IFERROR(IF(D340<D342,D342/D340,D340/D342),\"\")","v":2.6138718727316799},{"$f":"IFERROR(D340/IF((C340*E322)<150,150,C340*E322)^0.25*34.9964,\"\")","v":0.62500080158694427},1,4000000,{"$f":"IF(OR(I340<=0,I340>1000000000),\"\",I322/I340/L321)","v":5},{"$f":"IF(OR(J340=\"\",L340<=0,M322>1),\"\",IF(L340=\"Freilos\",M321/(1-(1/J340))/J340,IF(L340=\"Freispiel\",Lotterien!$E$239/J340/L322,IF(L340>1000000000,\"\",L340/J340/L322))))","v":6.25E-2},1.25,{"$f":"IFERROR(IF(K340<K342,K342/K340,K340/K342),\"\")","v":2.6309053070918171},{"$f":"IFERROR(K340/IF((J340*L322)<150,150,J340*L322)^0.25*34.9964,\"\")","v":0.62500080158694427},4,12000,{"$f":"IF(OR(P340<=0,P340>1000000000),\"\",P317/P340/S316)","v":1165.318},{"$f":"IF(OR(Q340=\"\",S340<=0,T317>1),\"\",IF(S340=\"Freilos\",T316/(1-(1/Q340))/Q340,IF(S340=\"Freispiel\",Lotterien!$L$85/Q340/S317,IF(S340>1000000000,\"\",S340/Q340/S317))))","v":6.8650788883377759E-3},8,{"$f":"IFERROR(IF(R340<R356,R356/R340,R340/R356),\"\")","v":2.3299742476851857},{"$f":"IFERROR(R340/IF((Q340*S317)<150,150,Q340*S317)^0.25*34.9964,\"\")","v":4.112044351917326E-2}]
[null,{"$f":"IF(SUM(B324:B340)=0,\"\",SUM(B324:B340))","v":12768041},{"$f":"IF(OR(B341<=0,B341>1000000000),\"\",B322/B341/E321)","v":1.5664110101150208},{"$f":"IF(SUM(D324:D340)=0,\"\",SUM(D324:D340))","v":0.40648511164000273},{"$f":"IFERROR(E322*D341,\"\")","v":1.6259404465600109},{"$f":"IFERROR(AVERAGE(F324:F340),\"\")","v":4.7621904933744901},{"$f":"IF(SUM(G324:G340)=0,\"\",SUM(G324:G340))","v":3.5691593762632063},null,{"$f":"IF(SUM(I324:I340)=0,\"\",SUM(I324:I340))","v":12768041},{"$f":"IF(OR(I341<=0,I341>1000000000),\"\",I322/I341/L321)","v":1.5664110101150208},{"$f":"IF(SUM(K324:K340)=0,\"\",SUM(K324:K340))","v":0.40385337972292107},{"$f":"IFERROR(L322*K341,\"\")","v":1.6154135188916843},{"$f":"IFERROR(AVERAGE(M324:M340),\"\")","v":4.7490389033383407},{"$f":"IF(SUM(N324:N340)=0,\"\",SUM(N324:N340))","v":3.5428420233393987},4,12300,{"$f":"IF(OR(P341<=0,P341>1000000000),\"\",P317/P341/S316)","v":1136.8956097560977},{"$f":"IF(OR(Q341=\"\",S341<=0,T317>1),\"\",IF(S341=\"Freilos\",T316/(1-(1/Q341))/Q341,IF(S341=\"Freispiel\",Lotterien!$L$85/Q341/S317,IF(S341>1000000000,\"\",S341/Q341/S317))))","v":1.6272382302513131E-2},18.5,{"$f":"IFERROR(IF(R341<R356,R356/R341,R341/R356),\"\")","v":1.0173127459906004},{"$f":"IFERROR(R341/IF((Q341*S317)<150,150,Q341*S317)^0.25*34.9964,\"\")","v":9.8071849009501472E-2}]
[null,null,null,{"$f":"AVERAGE(D324:D340)","v":2.3910888920000161E-2},null,null,null,null,null,null,{"$f":"AVERAGE(K324:K340)","v":2.3756081160171829E-2},null,null,null,3,25000,{"$f":"IF(OR(P342<=0,P342>1000000000),\"\",P317/P342/S316)","v":559.35263999999995},{"$f":"IF(OR(Q342=\"\",S342<=0,T317>1),\"\",IF(S342=\"Freilos\",T316/(1-(1/Q342))/Q342,IF(S342=\"Freispiel\",Lotterien!$L$85/Q342/S317,IF(S342>1000000000,\"\",S342/Q342/S317))))","v":1.0726685763027776E-2},6,{"$f":"IFERROR(IF(R342<R356,R356/R342,R342/R356),\"\")","v":1.4911835185185187},{"$f":"IFERROR(R342/IF((Q342*S317)<150,150,Q342*S317)^0.25*34.9964,\"\")","v":7.7191149251682023E-2}]
[null,null,null,null,null,null,null,null,null,null,null,null,null,null,3,30000,{"$f":"IF(OR(P343<=0,P343>1000000000),\"\",P317/P343/S316)","v":466.12720000000002},{"$f":"IF(OR(Q343=\"\",S343<=0,T317>1),\"\",IF(S343=\"Freilos\",T316/(1-(1/Q343))/Q343,IF(S343=\"Freispiel\",Lotterien!$L$85/Q343/S317,IF(S343>1000000000,\"\",S343/Q343/S317))))","v":1.8235365797147216E-2},8.5,{"$f":"IFERROR(IF(R343<R356,R356/R343,R343/R356),\"\")","v":1.140034059448926},{"$f":"IFERROR(R343/IF((Q343*S317)<150,150,Q343*S317)^0.25*34.9964,\"\")","v":0.13734464773668079}]
[null,"Royal 7",null,null,1,{"$f":"IFERROR(SUMIF(E347:E380,\"<>Freilos\",D347:D380),\"\")","v":0.67219714285714294},null,null,"Diamant 7",null,null,1,{"$f":"IFERROR(SUMIF(L347:L380,\"<>Freilos\",K347:K380),\"\")","v":0.6374907428571428},null,3,30000,{"$f":"IF(OR(P344<=0,P344>1000000000),\"\",P317/P344/S316)","v":466.12720000000002},{"$f":"IF(OR(Q344=\"\",S344<=0,T317>1),\"\",IF(S344=\"Freilos\",T316/(1-(1/Q344))/Q344,IF(S344=\"Freispiel\",Lotterien!$L$85/Q344/S317,IF(S344>1000000000,\"\",S344/Q344/S317))))","v":1.1799354339330551E-2},5.5,{"$f":"IFERROR(IF(R344<R356,R356/R344,R344/R356),\"\")","v":1.3556213804713808},{"$f":"IFERROR(R344/IF((Q344*S317)<150,150,Q344*S317)^0.25*34.9964,\"\")","v":8.8870066182558147E-2}]
[null,7000000,null,null,{"$f":"E344*10","v":10},{"$f":"IFERROR(COUNTIF(E347:E380,\"Freilos\"),\"\")","v":0},null,null,7000000,null,null,{"$f":"L344*5","v":5},{"$f":"IFERROR(COUNTIF(L347:L380,\"Freilos\"),\"\")","v":0},null,3,30000,{"$f":"IF(OR(P345<=0,P345>1000000000),\"\",P317/P345/S316)","v":466.12720000000002},{"$f":"IF(OR(Q345=\"\",S345<=0,T317>1),\"\",IF(S345=\"Freilos\",T316/(1-(1/Q345))/Q345,IF(S345=\"Freispiel\",Lotterien!$L$85/Q345/S317,IF(S345>1000000000,\"\",S345/Q345/S317))))","v":6.4360114578166641E-3},3,{"$f":"IFERROR(IF(R345<R356,R356/R345,R345/R356),\"\")","v":2.4853058641975316},{"$f":"IFERROR(R345/IF((Q345*S317)<150,150,Q345*S317)^0.25*34.9964,\"\")","v":4.8474581554122619E-2}]
[null,"Losanzahl",{"$f":"IF(E344=1,\"Chancen 1:\",\"Ø Gewinne 1:\")","v":"Chancen 1:"},"Ø AQ","(Ø) Gewinn",null,null,null,"Losanzahl",{"$f":"IF(L344=1,\"Chancen 1:\",\"Ø Gewinne 1:\")","v":"Chancen 1:"},"Ø AQ","(Ø) Gewinn",null,null,3,80000,{"$f":"IF(OR(P346<=0,P346>1000000000),\"\",P317/P346/S316)","v":174.79769999999999},{"$f":"IF(OR(Q346=\"\",S346<=0,T317>1),\"\",IF(S346=\"Freilos\",T316/(1-(1/Q346))/Q346,IF(S346=\"Freispiel\",Lotterien!$L$85/Q346/S317,IF(S346>1000000000,\"\",S346/Q346/S317))))","v":4.2906743052111097E-2},7.5,{"$f":"IFERROR(IF(R346<R356,R356/R346,R346/R356),\"\")","v":2.6824330810562969},{"$f":"IFERROR(R346/IF((Q346*S317)<150,150,Q346*S317)^0.25*34.9964,\"\")","v":0.41296666153640277}]
[7,1,{"$f":"IF(OR(B347<=0,B347>1000000000),\"\",B345/B347/E344)","v":7000000},{"$f":"IF(OR(C347=\"\",E347<=0,F345>1),\"\",IF(E347=\"Freilos\",F344/(1-(1/C347))/C347,IF(E347>1000000000,\"\",E347/C347/E345)))","v":0.02},1400000,{"$f":"IFERROR(IF(D347<D382,D382/D347,D347/D382),\"\")","v":1.011607989152842},{"$f":"IFERROR(D347/IF((C347*E345)<150,150,C347*E345)^0.25*34.9964,\"\")","v":7.6520686466216275E-3},7,1,{"$f":"IF(OR(I347<=0,I347>1000000000),\"\",I345/I347/L344)","v":7000000},{"$f":"IF(OR(J347=\"\",L347<=0,M345>1),\"\",IF(L347=\"Freilos\",M344/(1-(1/J347))/J347,IF(L347>1000000000,\"\",L347/J347/L345)))","v":2.2222200000000001E-2},777777,{"$f":"IFERROR(IF(K347<K382,K382/K347,K347/K382),\"\")","v":1.1852012103167349},{"$f":"IFERROR(K347/IF((J347*L345)<150,150,J347*L345)^0.25*34.9964,\"\")","v":1.0110983754619112E-2},3,80000,{"$f":"IF(OR(P347<=0,P347>1000000000),\"\",P317/P347/S316)","v":174.79769999999999},{"$f":"IF(OR(Q347=\"\",S347<=0,T317>1),\"\",IF(S347=\"Freilos\",T316/(1-(1/Q347))/Q347,IF(S347=\"Freispiel\",Lotterien!$L$85/Q347/S317,IF(S347>1000000000,\"\",S347/Q347/S317))))","v":1.1441798147229627E-2},2,{"$f":"IFERROR(IF(R347<R356,R356/R347,R347/R356),\"\")","v":1.3979845486111113},{"$f":"IFERROR(R347/IF((Q347*S317)<150,150,Q347*S317)^0.25*34.9964,\"\")","v":0.11012444307637409}]
[7,1,{"$f":"IF(OR(B348<=0,B348>1000000000),\"\",B345/B348/E344)","v":7000000},{"$f":"IF(OR(C348=\"\",E348<=0,F345>1),\"\",IF(E348=\"Freilos\",F344/(1-(1/C348))/C348,IF(E348>1000000000,\"\",E348/C348/E345)))","v":2.8571428571428571E-3},200000,{"$f":"IFERROR(IF(D348<D382,D382/D348,D348/D382),\"\")","v":6.9196764705882359},{"$f":"IFERROR(D348/IF((C348*E345)<150,150,C348*E345)^0.25*34.9964,\"\")","v":1.0931526638030895E-3},7,1,{"$f":"IF(OR(I348<=0,I348>1000000000),\"\",I345/I348/L344)","v":7000000},{"$f":"IF(OR(J348=\"\",L348<=0,M345>1),\"\",IF(L348=\"Freilos\",M344/(1-(1/J348))/J348,IF(L348>1000000000,\"\",L348/J348/L345)))","v":3.1746000000000005E-3},111111,{"$f":"IFERROR(IF(K348<K382,K382/K348,K348/K382),\"\")","v":5.9061701414642576},{"$f":"IFERROR(K348/IF((J348*L345)<150,150,J348*L345)^0.25*34.9964,\"\")","v":1.444426250659873E-3},3,100000,{"$f":"IF(OR(P348<=0,P348>1000000000),\"\",P317/P348/S316)","v":139.83815999999999},{"$f":"IF(OR(Q348=\"\",S348<=0,T317>1),\"\",IF(S348=\"Freilos\",T316/(1-(1/Q348))/Q348,IF(S348=\"Freispiel\",Lotterien!$L$85/Q348/S317,IF(S348>1000000000,\"\",S348/Q348/S317))))","v":3.5755619210092585E-2},5,{"$f":"IFERROR(IF(R348<R356,R356/R348,R348/R356),\"\")","v":2.2353609008802473},{"$f":"IFERROR(R348/IF((Q348*S317)<150,150,Q348*S317)^0.25*34.9964,\"\")","v":0.35755665068072651}]
[7,1,{"$f":"IF(OR(B349<=0,B349>1000000000),\"\",B345/B349/E344)","v":7000000},{"$f":"IF(OR(C349=\"\",E349<=0,F345>1),\"\",IF(E349=\"Freilos\",F344/(1-(1/C349))/C349,IF(E349>1000000000,\"\",E349/C349/E345)))","v":2E-3},140000,{"$f":"IFERROR(IF(D349<D382,D382/D349,D349/D382),\"\")","v":9.8852521008403365},{"$f":"IFERROR(D349/IF((C349*E345)<150,150,C349*E345)^0.25*34.9964,\"\")","v":7.6520686466216266E-4},7,1,{"$f":"IF(OR(I349<=0,I349>1000000000),\"\",I345/I349/L344)","v":7000000},{"$f":"IF(OR(J349=\"\",L349<=0,M345>1),\"\",IF(L349=\"Freilos\",M344/(1-(1/J349))/J349,IF(L349>1000000000,\"\",L349/J349/L345)))","v":2.2221999999999997E-3},77777,{"$f":"IFERROR(IF(K349<K382,K382/K349,K349/K382),\"\")","v":8.4374618536101327},{"$f":"IFERROR(K349/IF((J349*L345)<150,150,J349*L345)^0.25*34.9964,\"\")","v":1.0110892755674319E-3},3,100000,{"$f":"IF(OR(P349<=0,P349>1000000000),\"\",P317/P349/S316)","v":139.83815999999999},{"$f":"IF(OR(Q349=\"\",S349<=0,T317>1),\"\",IF(S349=\"Freilos\",T316/(1-(1/Q349))/Q349,IF(S349=\"Freispiel\",Lotterien!$L$85/Q349/S317,IF(S349>1000000000,\"\",S349/Q349/S317))))","v":2.5028933447064809E-2},3.5,{"$f":"IFERROR(IF(R349<R356,R356/R349,R349/R356),\"\")","v":1.5647526306161732},{"$f":"IFERROR(R349/IF((Q349*S317)<150,150,Q349*S317)^0.25*34.9964,\"\")","v":0.25028965547650855}]
[7,1,{"$f":"IF(OR(B350<=0,B350>1000000000),\"\",B345/B350/E344)","v":7000000},{"$f":"IF(OR(C350=\"\",E350<=0,F345>1),\"\",IF(E350=\"Freilos\",F344/(1-(1/C350))/C350,IF(E350>1000000000,\"\",E350/C350/E345)))","v":2.8571428571428574E-4},20000,{"$f":"IFERROR(IF(D350<D382,D382/D350,D350/D382),\"\")","v":69.196764705882359},{"$f":"IFERROR(D350/IF((C350*E345)<150,150,C350*E345)^0.25*34.9964,\"\")","v":1.0931526638030897E-4},7,1,{"$f":"IF(OR(I350<=0,I350>1000000000),\"\",I345/I350/L344)","v":7000000},{"$f":"IF(OR(J350=\"\",L350<=0,M345>1),\"\",IF(L350=\"Freilos\",M344/(1-(1/J350))/J350,IF(L350>1000000000,\"\",L350/J350/L345)))","v":3.1745714285714283E-4},11111,{"$f":"IFERROR(IF(K350<K382,K382/K350,K350/K382),\"\")","v":59.062232975270923},{"$f":"IFERROR(K350/IF((J350*L345)<150,150,J350*L345)^0.25*34.9964,\"\")","v":1.4444132508106169E-4},2,200000,{"$f":"IF(OR(P350<=0,P350>1000000000),\"\",P317/P350/S316)","v":69.919079999999994},{"$f":"IF(OR(Q350=\"\",S350<=0,T317>1),\"\",IF(S350=\"Freilos\",T316/(1-(1/Q350))/Q350,IF(S350=\"Freispiel\",Lotterien!$L$85/Q350/S317,IF(S350>1000000000,\"\",S350/Q350/S317))))","v":3.5755619210092585E-2},2.5,{"$f":"IFERROR(IF(R350<R356,R356/R350,R350/R356),\"\")","v":2.2353609008802473},{"$f":"IFERROR(R350/IF((Q350*S317)<150,150,Q350*S317)^0.25*34.9964,\"\")","v":0.35755665068072651}]
[7,2,{"$f":"IF(OR(B351<=0,B351>1000000000),\"\",B345/B351/E344)","v":3500000},{"$f":"IF(OR(C351=\"\",E351<=0,F345>1),\"\",IF(E351=\"Freilos\",F344/(1-(1/C351))/C351,IF(E351>1000000000,\"\",E351/C351/E345)))","v":1E-3},35000,{"$f":"IFERROR(IF(D351<D382,D382/D351,D351/D382),\"\")","v":19.770504201680673},{"$f":"IFERROR(D351/IF((C351*E345)<150,150,C351*E345)^0.25*34.9964,\"\")","v":4.5499472395258393E-4},7,2,{"$f":"IF(OR(I351<=0,I351>1000000000),\"\",I345/I351/L344)","v":3500000},{"$f":"IF(OR(J351=\"\",L351<=0,M345>1),\"\",IF(L351=\"Freilos\",M344/(1-(1/J351))/J351,IF(L351>1000000000,\"\",L351/J351/L345)))","v":1E-3},17500,{"$f":"IFERROR(IF(K351<K382,K382/K351,K351/K382),\"\")","v":18.749727731092435},{"$f":"IFERROR(K351/IF((J351*L345)<150,150,J351*L345)^0.25*34.9964,\"\")","v":5.4108296301311198E-4},2,600000,{"$f":"IF(OR(P351<=0,P351>1000000000),\"\",P317/P351/S316)","v":23.306360000000002},{"$f":"IF(OR(Q351=\"\",S351<=0,T317>1),\"\",IF(S351=\"Freilos\",T316/(1-(1/Q351))/Q351,IF(S351=\"Freispiel\",Lotterien!$L$85/Q351/S317,IF(S351>1000000000,\"\",S351/Q351/S317))))","v":6.4360114578166636E-2},1.5,{"$f":"IFERROR(IF(R351<R356,R356/R351,R351/R356),\"\")","v":4.0236496215844442},{"$f":"IFERROR(R351/IF((Q351*S317)<150,150,Q351*S317)^0.25*34.9964,\"\")","v":0.6436019712253076}]
[7,2,{"$f":"IF(OR(B352<=0,B352>1000000000),\"\",B345/B352/E344)","v":3500000},{"$f":"IF(OR(C352=\"\",E352<=0,F345>1),\"\",IF(E352=\"Freilos\",F344/(1-(1/C352))/C352,IF(E352>1000000000,\"\",E352/C352/E345)))","v":8.0000000000000004E-4},28000,{"$f":"IFERROR(IF(D352<D382,D382/D352,D352/D382),\"\")","v":24.713130252100839},{"$f":"IFERROR(D352/IF((C352*E345)<150,150,C352*E345)^0.25*34.9964,\"\")","v":3.6399577916206716E-4},7,2,{"$f":"IF(OR(I352<=0,I352>1000000000),\"\",I345/I352/L344)","v":3500000},{"$f":"IF(OR(J352=\"\",L352<=0,M345>1),\"\",IF(L352=\"Freilos\",M344/(1-(1/J352))/J352,IF(L352>1000000000,\"\",L352/J352/L345)))","v":8.0000000000000004E-4},14000,{"$f":"IFERROR(IF(K352<K382,K382/K352,K352/K382),\"\")","v":23.43715966386554},{"$f":"IFERROR(K352/IF((J352*L345)<150,150,J352*L345)^0.25*34.9964,\"\")","v":4.3286637041048957E-4},2,800000,{"$f":"IF(OR(P352<=0,P352>1000000000),\"\",P317/P352/S316)","v":17.479769999999998},{"$f":"IF(OR(Q352=\"\",S352<=0,T317>1),\"\",IF(S352=\"Freilos\",T316/(1-(1/Q352))/Q352,IF(S352=\"Freispiel\",Lotterien!$L$85/Q352/S317,IF(S352>1000000000,\"\",S352/Q352/S317))))","v":5.7208990736148137E-2},1,{"$f":"IFERROR(IF(R352<R356,R356/R352,R352/R356),\"\")","v":3.576577441408396},{"$f":"IFERROR(R352/IF((Q352*S317)<150,150,Q352*S317)^0.25*34.9964,\"\")","v":0.57209064108916252}]
[7,5,{"$f":"IF(OR(B353<=0,B353>1000000000),\"\",B345/B353/E344)","v":1400000},{"$f":"IF(OR(C353=\"\",E353<=0,F345>1),\"\",IF(E353=\"Freilos\",F344/(1-(1/C353))/C353,IF(E353>1000000000,\"\",E353/C353/E345)))","v":1.1E-4},1540,{"$f":"IFERROR(IF(D353<D382,D382/D353,D353/D382),\"\")","v":179.73185637891521},{"$f":"IFERROR(D353/IF((C353*E345)<150,150,C353*E345)^0.25*34.9964,\"\")","v":6.2933813385007204E-5},7,5,{"$f":"IF(OR(I353<=0,I353>1000000000),\"\",I345/I353/L344)","v":1400000},{"$f":"IF(OR(J353=\"\",L353<=0,M345>1),\"\",IF(L353=\"Freilos\",M344/(1-(1/J353))/J353,IF(L353>1000000000,\"\",L353/J353/L345)))","v":1.1E-4},770,{"$f":"IFERROR(IF(K353<K382,K382/K353,K353/K382),\"\")","v":170.4520702826585},{"$f":"IFERROR(K353/IF((J353*L345)<150,150,J353*L345)^0.25*34.9964,\"\")","v":7.4841338651704048E-5},1,1400000,{"$f":"IF(OR(P353<=0,P353>1000000000),\"\",P317/P353/S316)","v":9.9884400000000007},{"$f":"IF(OR(Q353=\"\",S353<=0,T317>1),\"\",IF(S353=\"Freilos\",T316/(1-(1/Q353))/Q353,IF(S353=\"Freispiel\",Lotterien!$L$85/Q353/S317,IF(S353>1000000000,\"\",S353/Q353/S317))))","v":6.0069440272955639E-2},"Freispiel",{"$f":"IFERROR(IF(R353<R356,R356/R353,R353/R356),\"\")","v":3.7554063134788218},{"$f":"IFERROR(R353/IF((Q353*S317)<150,150,Q353*S317)^0.25*34.9964,\"\")","v":0.60069517314362153}]
[7,7,{"$f":"IF(OR(B354<=0,B354>1000000000),\"\",B345/B354/E344)","v":1000000},{"$f":"IF(OR(C354=\"\",E354<=0,F345>1),\"\",IF(E354=\"Freilos\",F344/(1-(1/C354))/C354,IF(E354>1000000000,\"\",E354/C354/E345)))","v":4.0000000000000002E-4},4000,{"$f":"IFERROR(IF(D354<D382,D382/D354,D354/D382),\"\")","v":49.426260504201679},{"$f":"IFERROR(D354/IF((C354*E345)<150,150,C354*E345)^0.25*34.9964,\"\")","v":2.4893351018194461E-4},7,7,{"$f":"IF(OR(I354<=0,I354>1000000000),\"\",I345/I354/L344)","v":1000000},{"$f":"IF(OR(J354=\"\",L354<=0,M345>1),\"\",IF(L354=\"Freilos\",M344/(1-(1/J354))/J354,IF(L354>1000000000,\"\",L354/J354/L345)))","v":4.0000000000000002E-4},2000,{"$f":"IFERROR(IF(K354<K382,K382/K354,K354/K382),\"\")","v":46.874319327731079},{"$f":"IFERROR(K354/IF((J354*L345)<150,150,J354*L345)^0.25*34.9964,\"\")","v":2.9603350147097083E-4},1,2200000,{"$f":"IF(OR(P354<=0,P354>1000000000),\"\",P317/P354/S316)","v":6.3562799999999999},{"$f":"IF(OR(Q354=\"\",S354<=0,T317>1),\"\",IF(S354=\"Freilos\",T316/(1-(1/Q354))/Q354,IF(S354=\"Freispiel\",Lotterien!$L$85/Q354/S317,IF(S354>1000000000,\"\",S354/Q354/S317))))","v":7.8662362262203675E-2},0.5,{"$f":"IFERROR(IF(R354<R356,R356/R354,R354/R356),\"\")","v":4.9177939819365442},{"$f":"IFERROR(R354/IF((Q354*S317)<150,150,Q354*S317)^0.25*34.9964,\"\")","v":0.7866246314975982}]
[7,7,{"$f":"IF(OR(B355<=0,B355>1000000000),\"\",B345/B355/E344)","v":1000000},{"$f":"IF(OR(C355=\"\",E355<=0,F345>1),\"\",IF(E355=\"Freilos\",F344/(1-(1/C355))/C355,IF(E355>1000000000,\"\",E355/C355/E345)))","v":3.5E-4},3500,{"$f":"IFERROR(IF(D355<D382,D382/D355,D355/D382),\"\")","v":56.487154861944781},{"$f":"IFERROR(D355/IF((C355*E345)<150,150,C355*E345)^0.25*34.9964,\"\")","v":2.1781682140920155E-4},7,7,{"$f":"IF(OR(I355<=0,I355>1000000000),\"\",I345/I355/L344)","v":1000000},{"$f":"IF(OR(J355=\"\",L355<=0,M345>1),\"\",IF(L355=\"Freilos\",M344/(1-(1/J355))/J355,IF(L355>1000000000,\"\",L355/J355/L345)))","v":3.5E-4},1750,{"$f":"IFERROR(IF(K355<K382,K382/K355,K355/K382),\"\")","v":53.5706506602641},{"$f":"IFERROR(K355/IF((J355*L345)<150,150,J355*L345)^0.25*34.9964,\"\")","v":2.5902931378709947E-4},null,{"$f":"IF(SUM(P319:P354)=0,\"\",SUM(P319:P354))","v":5766642},{"$f":"IF(OR(P355<=0,P355>1000000000),\"\",P317/P355/S316)","v":2.4249495633680747},{"$f":"IF(SUM(R319:R354)=0,\"\",SUM(R319:R354))","v":0.57583645265355332},{"$f":"IFERROR(S317*R355,\"\")","v":0.57583645265355332},{"$f":"IFERROR(AVERAGE(T319:T354),\"\")","v":81.384991176534001},{"$f":"IF(SUM(U319:U354)=0,\"\",SUM(U319:U354))","v":4.9405547580990996}]
[6,10,{"$f":"IF(OR(B356<=0,B356>1000000000),\"\",B345/B356/E344)","v":700000},{"$f":"IF(OR(C356=\"\",E356<=0,F345>1),\"\",IF(E356=\"Freilos\",F344/(1-(1/C356))/C356,IF(E356>1000000000,\"\",E356/C356/E345)))","v":4.0000000000000002E-4},2800,{"$f":"IFERROR(IF(D356<D382,D382/D356,D356/D382),\"\")","v":49.426260504201679},{"$f":"IFERROR(D356/IF((C356*E345)<150,150,C356*E345)^0.25*34.9964,\"\")","v":2.721503223698329E-4},6,10,{"$f":"IF(OR(I356<=0,I356>1000000000),\"\",I345/I356/L344)","v":700000},{"$f":"IF(OR(J356=\"\",L356<=0,M345>1),\"\",IF(L356=\"Freilos\",M344/(1-(1/J356))/J356,IF(L356>1000000000,\"\",L356/J356/L345)))","v":4.0000000000000002E-4},1400,{"$f":"IFERROR(IF(K356<K382,K382/K356,K356/K382),\"\")","v":46.874319327731079},{"$f":"IFERROR(K356/IF((J356*L345)<150,150,J356*L345)^0.25*34.9964,\"\")","v":3.2364309971248944E-4},null,null,null,{"$f":"AVERAGE(R319:R354)","v":1.599545701815426E-2}]
[6,10,{"$f":"IF(OR(B357<=0,B357>1000000000),\"\",B345/B357/E344)","v":700000},{"$f":"IF(OR(C357=\"\",E357<=0,F345>1),\"\",IF(E357=\"Freilos\",F344/(1-(1/C357))/C357,IF(E357>1000000000,\"\",E357/C357/E345)))","v":2.0000000000000001E-4},1400,{"$f":"IFERROR(IF(D357<D382,D382/D357,D357/D382),\"\")","v":98.852521008403357},{"$f":"IFERROR(D357/IF((C357*E345)<150,150,C357*E345)^0.25*34.9964,\"\")","v":1.3607516118491645E-4},6,10,{"$f":"IF(OR(I357<=0,I357>1000000000),\"\",I345/I357/L344)","v":700000},{"$f":"IF(OR(J357=\"\",L357<=0,M345>1),\"\",IF(L357=\"Freilos\",M344/(1-(1/J357))/J357,IF(L357>1000000000,\"\",L357/J357/L345)))","v":2.0000000000000001E-4},700,{"$f":"IFERROR(IF(K357<K382,K382/K357,K357/K382),\"\")","v":93.748638655462159},{"$f":"IFERROR(K357/IF((J357*L345)<150,150,J357*L345)^0.25*34.9964,\"\")","v":1.6182154985624472E-4}]
[6,10,{"$f":"IF(OR(B358<=0,B358>1000000000),\"\",B345/B358/E344)","v":700000},{"$f":"IF(OR(C358=\"\",E358<=0,F345>1),\"\",IF(E358=\"Freilos\",F344/(1-(1/C358))/C358,IF(E358>1000000000,\"\",E358/C358/E345)))","v":1.1999999999999999E-4},840,{"$f":"IFERROR(IF(D358<D382,D382/D358,D358/D382),\"\")","v":164.75420168067228},{"$f":"IFERROR(D358/IF((C358*E345)<150,150,C358*E345)^0.25*34.9964,\"\")","v":8.1645096710949858E-5},6,10,{"$f":"IF(OR(I358<=0,I358>1000000000),\"\",I345/I358/L344)","v":700000},{"$f":"IF(OR(J358=\"\",L358<=0,M345>1),\"\",IF(L358=\"Freilos\",M344/(1-(1/J358))/J358,IF(L358>1000000000,\"\",L358/J358/L345)))","v":1.1999999999999999E-4},420,{"$f":"IFERROR(IF(K358<K382,K382/K358,K358/K382),\"\")","v":156.24773109243696},{"$f":"IFERROR(K358/IF((J358*L345)<150,150,J358*L345)^0.25*34.9964,\"\")","v":9.7092929913746834E-5},null,"Rubbel MiniLotto",null,null,1,{"$f":"IFERROR(SUMIF(S361:S380,\"<>Freilos\",R361:R380),\"\")","v":0.63539183126423915}]
[6,10,{"$f":"IF(OR(B359<=0,B359>1000000000),\"\",B345/B359/E344)","v":700000},{"$f":"IF(OR(C359=\"\",E359<=0,F345>1),\"\",IF(E359=\"Freilos\",F344/(1-(1/C359))/C359,IF(E359>1000000000,\"\",E359/C359/E345)))","v":8.0000000000000007E-5},560,{"$f":"IFERROR(IF(D359<D382,D382/D359,D359/D382),\"\")","v":247.13130252100839},{"$f":"IFERROR(D359/IF((C359*E345)<150,150,C359*E345)^0.25*34.9964,\"\")","v":5.4430064473966583E-5},6,10,{"$f":"IF(OR(I359<=0,I359>1000000000),\"\",I345/I359/L344)","v":700000},{"$f":"IF(OR(J359=\"\",L359<=0,M345>1),\"\",IF(L359=\"Freilos\",M344/(1-(1/J359))/J359,IF(L359>1000000000,\"\",L359/J359/L345)))","v":8.0000000000000007E-5},280,{"$f":"IFERROR(IF(K359<K382,K382/K359,K359/K382),\"\")","v":234.3715966386554},{"$f":"IFERROR(K359/IF((J359*L345)<150,150,J359*L345)^0.25*34.9964,\"\")","v":6.4728619942497898E-5},null,10100000,null,null,{"$f":"S358*0.5","v":0.5},{"$f":"IFERROR(COUNTIF(S361:S380,\"Freilos\"),\"\")","v":0}]
[6,14,{"$f":"IF(OR(B360<=0,B360>1000000000),\"\",B345/B360/E344)","v":500000},{"$f":"IF(OR(C360=\"\",E360<=0,F345>1),\"\",IF(E360=\"Freilos\",F344/(1-(1/C360))/C360,IF(E360>1000000000,\"\",E360/C360/E345)))","v":8.0000000000000007E-5},400,{"$f":"IFERROR(IF(D360<D382,D382/D360,D360/D382),\"\")","v":247.13130252100839},{"$f":"IFERROR(D360/IF((C360*E345)<150,150,C360*E345)^0.25*34.9964,\"\")","v":5.920670029419417E-5},6,14,{"$f":"IF(OR(I360<=0,I360>1000000000),\"\",I345/I360/L344)","v":500000},{"$f":"IF(OR(J360=\"\",L360<=0,M345>1),\"\",IF(L360=\"Freilos\",M344/(1-(1/J360))/J360,IF(L360>1000000000,\"\",L360/J360/L345)))","v":8.0000000000000007E-5},200,{"$f":"IFERROR(IF(K360<K382,K382/K360,K360/K382),\"\")","v":234.3715966386554},{"$f":"IFERROR(K360/IF((J360*L345)<150,150,J360*L345)^0.25*34.9964,\"\")","v":7.0409029245689403E-5},null,"Losanzahl",{"$f":"IF(S358=1,\"Chancen 1:\",\"Ø Gewinne 1:\")","v":"Chancen 1:"},"Ø AQ","(Ø) Gewinn"]
[6,35,{"$f":"IF(OR(B361<=0,B361>1000000000),\"\",B345/B361/E344)","v":200000},{"$f":"IF(OR(C361=\"\",E361<=0,F345>1),\"\",IF(E361=\"Freilos\",F344/(1-(1/C361))/C361,IF(E361>1000000000,\"\",E361/C361/E345)))","v":1E-4},200,{"$f":"IFERROR(IF(D361<D382,D382/D361,D361/D382),\"\")","v":197.70504201680671},{"$f":"IFERROR(D361/IF((C361*E345)<150,150,C361*E345)^0.25*34.9964,\"\")","v":9.3060605263922824E-5},6,35,{"$f":"IF(OR(I361<=0,I361>1000000000),\"\",I345/I361/L344)","v":200000},{"$f":"IF(OR(J361=\"\",L361<=0,M345>1),\"\",IF(L361=\"Freilos\",M344/(1-(1/J361))/J361,IF(L361>1000000000,\"\",L361/J361/L345)))","v":1E-4},100,{"$f":"IFERROR(IF(K361<K382,K382/K361,K361/K382),\"\")","v":187.49727731092432},{"$f":"IFERROR(K361/IF((J361*L345)<150,150,J361*L345)^0.25*34.9964,\"\")","v":1.106683339063167E-4},7,1,{"$f":"IF(OR(P361<=0,P361>1000000000),\"\",P359/P361/S358)","v":10100000},{"$f":"IF(OR(Q361=\"\",S361<=0,T359>1),\"\",IF(S361=\"Freilos\",T358/(1-(1/Q361))/Q361,IF(S361=\"Freispiel\",Lotterien!$L$95/Q361/S359,IF(S361>1000000000,\"\",S361/Q361/S359))))","v":9.901782178217822E-3},50004,{"$f":"IFERROR(IF(R361<R382,R382/R361,R361/R382),\"\")","v":3.2084720701187979},{"$f":"IFERROR(R361/IF((Q361*S359)<150,150,Q361*S359)^0.25*34.9964,\"\")","v":7.3099414027110662E-3}]
[6,70,{"$f":"IF(OR(B362<=0,B362>1000000000),\"\",B345/B362/E344)","v":100000},{"$f":"IF(OR(C362=\"\",E362<=0,F345>1),\"\",IF(E362=\"Freilos\",F344/(1-(1/C362))/C362,IF(E362>1000000000,\"\",E362/C362/E345)))","v":5.0000000000000001E-3},5000,{"$f":"IFERROR(IF(D362<D382,D382/D362,D362/D382),\"\")","v":3.9541008403361344},{"$f":"IFERROR(D362/IF((C362*E345)<150,150,C362*E345)^0.25*34.9964,\"\")","v":5.5334166953158346E-3},6,70,{"$f":"IF(OR(I362<=0,I362>1000000000),\"\",I345/I362/L344)","v":100000},{"$f":"IF(OR(J362=\"\",L362<=0,M345>1),\"\",IF(L362=\"Freilos\",M344/(1-(1/J362))/J362,IF(L362>1000000000,\"\",L362/J362/L345)))","v":5.0000000000000001E-3},2500,{"$f":"IFERROR(IF(K362<K382,K382/K362,K362/K382),\"\")","v":3.7499455462184867},{"$f":"IFERROR(K362/IF((J362*L345)<150,150,J362*L345)^0.25*34.9964,\"\")","v":6.5803785043444347E-3},7,3,{"$f":"IF(OR(P362<=0,P362>1000000000),\"\",P359/P362/S358)","v":3366666.6666666665},{"$f":"IF(OR(Q362=\"\",S362<=0,T359>1),\"\",IF(S362=\"Freilos\",T358/(1-(1/Q362))/Q362,IF(S362=\"Freispiel\",Lotterien!$L$95/Q362/S359,IF(S362>1000000000,\"\",S362/Q362/S359))))","v":2.9702970297029703E-3},5000,{"$f":"IFERROR(IF(R362<R382,R382/R362,R362/R382),\"\")","v":10.695762492948026},{"$f":"IFERROR(R362/IF((Q362*S359)<150,150,Q362*S359)^0.25*34.9964,\"\")","v":2.885896303189802E-3}]
[6,70,{"$f":"IF(OR(B363<=0,B363>1000000000),\"\",B345/B363/E344)","v":100000},{"$f":"IF(OR(C363=\"\",E363<=0,F345>1),\"\",IF(E363=\"Freilos\",F344/(1-(1/C363))/C363,IF(E363>1000000000,\"\",E363/C363/E345)))","v":5.0000000000000001E-4},500,{"$f":"IFERROR(IF(D363<D382,D382/D363,D363/D382),\"\")","v":39.541008403361346},{"$f":"IFERROR(D363/IF((C363*E345)<150,150,C363*E345)^0.25*34.9964,\"\")","v":5.5334166953158344E-4},6,70,{"$f":"IF(OR(I363<=0,I363>1000000000),\"\",I345/I363/L344)","v":100000},{"$f":"IF(OR(J363=\"\",L363<=0,M345>1),\"\",IF(L363=\"Freilos\",M344/(1-(1/J363))/J363,IF(L363>1000000000,\"\",L363/J363/L345)))","v":5.0000000000000001E-4},250,{"$f":"IFERROR(IF(K363<K382,K382/K363,K363/K382),\"\")","v":37.499455462184869},{"$f":"IFERROR(K363/IF((J363*L345)<150,150,J363*L345)^0.25*34.9964,\"\")","v":6.5803785043444345E-4},6,30,{"$f":"IF(OR(P363<=0,P363>1000000000),\"\",P359/P363/S358)","v":336666.66666666669},{"$f":"IF(OR(Q363=\"\",S363<=0,T359>1),\"\",IF(S363=\"Freilos\",T358/(1-(1/Q363))/Q363,IF(S363=\"Freispiel\",Lotterien!$L$95/Q363/S359,IF(S363>1000000000,\"\",S363/Q363/S359))))","v":2.9702970297029703E-3},500,{"$f":"IFERROR(IF(R363<R382,R382/R363,R363/R382),\"\")","v":10.695762492948026},{"$f":"IFERROR(R363/IF((Q363*S359)<150,150,Q363*S359)^0.25*34.9964,\"\")","v":5.1319299754698676E-3}]
[5,100,{"$f":"IF(OR(B364<=0,B364>1000000000),\"\",B345/B364/E344)","v":70000},{"$f":"IF(OR(C364=\"\",E364<=0,F345>1),\"\",IF(E364=\"Freilos\",F344/(1-(1/C364))/C364,IF(E364>1000000000,\"\",E364/C364/E345)))","v":4.0000000000000002E-4},280,{"$f":"IFERROR(IF(D364<D382,D382/D364,D364/D382),\"\")","v":49.426260504201679},{"$f":"IFERROR(D364/IF((C364*E345)<150,150,C364*E345)^0.25*34.9964,\"\")","v":4.8395931470572898E-4},5,100,{"$f":"IF(OR(I364<=0,I364>1000000000),\"\",I345/I364/L344)","v":70000},{"$f":"IF(OR(J364=\"\",L364<=0,M345>1),\"\",IF(L364=\"Freilos\",M344/(1-(1/J364))/J364,IF(L364>1000000000,\"\",L364/J364/L345)))","v":4.0000000000000002E-4},140,{"$f":"IFERROR(IF(K364<K382,K382/K364,K364/K382),\"\")","v":46.874319327731079},{"$f":"IFERROR(K364/IF((J364*L345)<150,150,J364*L345)^0.25*34.9964,\"\")","v":5.7552786041989402E-4},5,900,{"$f":"IF(OR(P364<=0,P364>1000000000),\"\",P359/P364/S358)","v":11222.222222222223},{"$f":"IF(OR(Q364=\"\",S364<=0,T359>1),\"\",IF(S364=\"Freilos\",T358/(1-(1/Q364))/Q364,IF(S364=\"Freispiel\",Lotterien!$L$95/Q364/S359,IF(S364>1000000000,\"\",S364/Q364/S359))))","v":1.782178217821782E-2},100,{"$f":"IFERROR(IF(R364<R382,R382/R364,R364/R382),\"\")","v":1.7826270821580044},{"$f":"IFERROR(R364/IF((Q364*S359)<150,150,Q364*S359)^0.25*34.9964,\"\")","v":7.2062991366195206E-2}]
[5,500,{"$f":"IF(OR(B365<=0,B365>1000000000),\"\",B345/B365/E344)","v":14000},{"$f":"IF(OR(C365=\"\",E365<=0,F345>1),\"\",IF(E365=\"Freilos\",F344/(1-(1/C365))/C365,IF(E365>1000000000,\"\",E365/C365/E345)))","v":3.0000000000000001E-3},420,{"$f":"IFERROR(IF(D365<D382,D382/D365,D365/D382),\"\")","v":6.590168067226891},{"$f":"IFERROR(D365/IF((C365*E345)<150,150,C365*E345)^0.25*34.9964,\"\")","v":5.4276597855440183E-3},5,500,{"$f":"IF(OR(I365<=0,I365>1000000000),\"\",I345/I365/L344)","v":14000},{"$f":"IF(OR(J365=\"\",L365<=0,M345>1),\"\",IF(L365=\"Freilos\",M344/(1-(1/J365))/J365,IF(L365>1000000000,\"\",L365/J365/L345)))","v":3.0000000000000001E-3},210,{"$f":"IFERROR(IF(K365<K382,K382/K365,K365/K382),\"\")","v":6.2499092436974779},{"$f":"IFERROR(K365/IF((J365*L345)<150,150,J365*L345)^0.25*34.9964,\"\")","v":6.4546116347830897E-3},4,1875,{"$f":"IF(OR(P365<=0,P365>1000000000),\"\",P359/P365/S358)","v":5386.666666666667},{"$f":"IF(OR(Q365=\"\",S365<=0,T359>1),\"\",IF(S365=\"Freilos\",T358/(1-(1/Q365))/Q365,IF(S365=\"Freispiel\",Lotterien!$L$95/Q365/S359,IF(S365>1000000000,\"\",S365/Q365/S359))))","v":1.8564356435643563E-2},50,{"$f":"IFERROR(IF(R365<R382,R382/R365,R365/R382),\"\")","v":1.7113219988716841},{"$f":"IFERROR(R365/IF((Q365*S359)<150,150,Q365*S359)^0.25*34.9964,\"\")","v":9.0184259474681297E-2}]
[5,700,{"$f":"IF(OR(B366<=0,B366>1000000000),\"\",B345/B366/E344)","v":10000},{"$f":"IF(OR(C366=\"\",E366<=0,F345>1),\"\",IF(E366=\"Freilos\",F344/(1-(1/C366))/C366,IF(E366>1000000000,\"\",E366/C366/E345)))","v":2.1999999999999997E-3},220,{"$f":"IFERROR(IF(D366<D382,D382/D366,D366/D382),\"\")","v":8.9865928189457627},{"$f":"IFERROR(D366/IF((C366*E345)<150,150,C366*E345)^0.25*34.9964,\"\")","v":4.3295828296361361E-3},5,700,{"$f":"IF(OR(I366<=0,I366>1000000000),\"\",I345/I366/L344)","v":10000},{"$f":"IF(OR(J366=\"\",L366<=0,M345>1),\"\",IF(L366=\"Freilos\",M344/(1-(1/J366))/J366,IF(L366>1000000000,\"\",L366/J366/L345)))","v":2.1999999999999997E-3},110,{"$f":"IFERROR(IF(K366<K382,K382/K366,K366/K382),\"\")","v":8.5226035141329248},{"$f":"IFERROR(K366/IF((J366*L345)<150,150,J366*L345)^0.25*34.9964,\"\")","v":5.1487707059969081E-3},4,6950,{"$f":"IF(OR(P366<=0,P366>1000000000),\"\",P359/P366/S358)","v":1453.2374100719423},{"$f":"IF(OR(Q366=\"\",S366<=0,T359>1),\"\",IF(S366=\"Freilos\",T358/(1-(1/Q366))/Q366,IF(S366=\"Freispiel\",Lotterien!$L$95/Q366/S359,IF(S366>1000000000,\"\",S366/Q366/S359))))","v":3.4405940594059409E-2},25,{"$f":"IFERROR(IF(R366<R382,R382/R366,R366/R382),\"\")","v":1.0829834096419499},{"$f":"IFERROR(R366/IF((Q366*S359)<150,150,Q366*S359)^0.25*34.9964,\"\")","v":0.23191570718370558}]
[5,700,{"$f":"IF(OR(B367<=0,B367>1000000000),\"\",B345/B367/E344)","v":10000},{"$f":"IF(OR(C367=\"\",E367<=0,F345>1),\"\",IF(E367=\"Freilos\",F344/(1-(1/C367))/C367,IF(E367>1000000000,\"\",E367/C367/E345)))","v":1.2000000000000001E-3},120,{"$f":"IFERROR(IF(D367<D382,D382/D367,D367/D382),\"\")","v":16.475420168067227},{"$f":"IFERROR(D367/IF((C367*E345)<150,150,C367*E345)^0.25*34.9964,\"\")","v":2.361590634346984E-3},5,700,{"$f":"IF(OR(I367<=0,I367>1000000000),\"\",I345/I367/L344)","v":10000},{"$f":"IF(OR(J367=\"\",L367<=0,M345>1),\"\",IF(L367=\"Freilos\",M344/(1-(1/J367))/J367,IF(L367>1000000000,\"\",L367/J367/L345)))","v":1.2000000000000001E-3},60,{"$f":"IFERROR(IF(K367<K382,K382/K367,K367/K382),\"\")","v":15.624773109243693},{"$f":"IFERROR(K367/IF((J367*L345)<150,150,J367*L345)^0.25*34.9964,\"\")","v":2.8084203850892229E-3},4,7500,{"$f":"IF(OR(P367<=0,P367>1000000000),\"\",P359/P367/S358)","v":1346.6666666666667},{"$f":"IF(OR(Q367=\"\",S367<=0,T359>1),\"\",IF(S367=\"Freilos\",T358/(1-(1/Q367))/Q367,IF(S367=\"Freispiel\",Lotterien!$L$95/Q367/S359,IF(S367>1000000000,\"\",S367/Q367/S359))))","v":7.4999999999999997E-3},5.05,{"$f":"IFERROR(IF(R367<R382,R382/R367,R367/R382),\"\")","v":4.2359455417615939},{"$f":"IFERROR(R367/IF((Q367*S359)<150,150,Q367*S359)^0.25*34.9964,\"\")","v":5.1526080356114105E-2}]
[5,700,{"$f":"IF(OR(B368<=0,B368>1000000000),\"\",B345/B368/E344)","v":10000},{"$f":"IF(OR(C368=\"\",E368<=0,F345>1),\"\",IF(E368=\"Freilos\",F344/(1-(1/C368))/C368,IF(E368>1000000000,\"\",E368/C368/E345)))","v":8.0000000000000004E-4},80,{"$f":"IFERROR(IF(D368<D382,D382/D368,D368/D382),\"\")","v":24.713130252100839},{"$f":"IFERROR(D368/IF((C368*E345)<150,150,C368*E345)^0.25*34.9964,\"\")","v":1.5743937562313227E-3},5,700,{"$f":"IF(OR(I368<=0,I368>1000000000),\"\",I345/I368/L344)","v":10000},{"$f":"IF(OR(J368=\"\",L368<=0,M345>1),\"\",IF(L368=\"Freilos\",M344/(1-(1/J368))/J368,IF(L368>1000000000,\"\",L368/J368/L345)))","v":8.0000000000000004E-4},40,{"$f":"IFERROR(IF(K368<K382,K382/K368,K368/K382),\"\")","v":23.43715966386554},{"$f":"IFERROR(K368/IF((J368*L345)<150,150,J368*L345)^0.25*34.9964,\"\")","v":1.8722802567261486E-3},4,10000,{"$f":"IF(OR(P368<=0,P368>1000000000),\"\",P359/P368/S358)","v":1010},{"$f":"IF(OR(Q368=\"\",S368<=0,T359>1),\"\",IF(S368=\"Freilos\",T358/(1-(1/Q368))/Q368,IF(S368=\"Freispiel\",Lotterien!$L$95/Q368/S359,IF(S368>1000000000,\"\",S368/Q368/S359))))","v":9.9009900990099011E-3},5,{"$f":"IFERROR(IF(R368<R382,R382/R368,R368/R382),\"\")","v":3.2087287478844075},{"$f":"IFERROR(R368/IF((Q368*S359)<150,150,Q368*S359)^0.25*34.9964,\"\")","v":7.3093566541787294E-2}]
[5,700,{"$f":"IF(OR(B369<=0,B369>1000000000),\"\",B345/B369/E344)","v":10000},{"$f":"IF(OR(C369=\"\",E369<=0,F345>1),\"\",IF(E369=\"Freilos\",F344/(1-(1/C369))/C369,IF(E369>1000000000,\"\",E369/C369/E345)))","v":6.0000000000000006E-4},60,{"$f":"IFERROR(IF(D369<D382,D382/D369,D369/D382),\"\")","v":32.950840336134455},{"$f":"IFERROR(D369/IF((C369*E345)<150,150,C369*E345)^0.25*34.9964,\"\")","v":1.180795317173492E-3},5,700,{"$f":"IF(OR(I369<=0,I369>1000000000),\"\",I345/I369/L344)","v":10000},{"$f":"IF(OR(J369=\"\",L369<=0,M345>1),\"\",IF(L369=\"Freilos\",M344/(1-(1/J369))/J369,IF(L369>1000000000,\"\",L369/J369/L345)))","v":6.0000000000000006E-4},30,{"$f":"IFERROR(IF(K369<K382,K382/K369,K369/K382),\"\")","v":31.249546218487385},{"$f":"IFERROR(K369/IF((J369*L345)<150,150,J369*L345)^0.25*34.9964,\"\")","v":1.4042101925446115E-3},3,18400,{"$f":"IF(OR(P369<=0,P369>1000000000),\"\",P359/P369/S358)","v":548.91304347826087},{"$f":"IF(OR(Q369=\"\",S369<=0,T359>1),\"\",IF(S369=\"Freilos\",T358/(1-(1/Q369))/Q369,IF(S369=\"Freispiel\",Lotterien!$L$95/Q369/S359,IF(S369>1000000000,\"\",S369/Q369/S359))))","v":3.6435643564356433E-2},10,{"$f":"IFERROR(IF(R369<R382,R382/R369,R369/R382),\"\")","v":1.1468716395632734},{"$f":"IFERROR(R369/IF((Q369*S359)<150,150,Q369*S359)^0.25*34.9964,\"\")","v":0.31327910390217234}]
[4,1000,{"$f":"IF(OR(B370<=0,B370>1000000000),\"\",B345/B370/E344)","v":7000},{"$f":"IF(OR(C370=\"\",E370<=0,F345>1),\"\",IF(E370=\"Freilos\",F344/(1-(1/C370))/C370,IF(E370>1000000000,\"\",E370/C370/E345)))","v":2E-3},140,{"$f":"IFERROR(IF(D370<D382,D382/D370,D370/D382),\"\")","v":9.8852521008403365},{"$f":"IFERROR(D370/IF((C370*E345)<150,150,C370*E345)^0.25*34.9964,\"\")","v":4.3030744231887267E-3},4,1000,{"$f":"IF(OR(I370<=0,I370>1000000000),\"\",I345/I370/L344)","v":7000},{"$f":"IF(OR(J370=\"\",L370<=0,M345>1),\"\",IF(L370=\"Freilos\",M344/(1-(1/J370))/J370,IF(L370>1000000000,\"\",L370/J370/L345)))","v":2E-3},70,{"$f":"IFERROR(IF(K370<K382,K382/K370,K370/K382),\"\")","v":9.3748638655462173},{"$f":"IFERROR(K370/IF((J370*L345)<150,150,J370*L345)^0.25*34.9964,\"\")","v":5.1172467204422646E-3},3,40000,{"$f":"IF(OR(P370<=0,P370>1000000000),\"\",P359/P370/S358)","v":252.5},{"$f":"IF(OR(Q370=\"\",S370<=0,T359>1),\"\",IF(S370=\"Freilos\",T358/(1-(1/Q370))/Q370,IF(S370=\"Freispiel\",Lotterien!$L$95/Q370/S359,IF(S370>1000000000,\"\",S370/Q370/S359))))","v":2.9702970297029702E-2},3.75,{"$f":"IFERROR(IF(R370<R382,R382/R370,R370/R382),\"\")","v":1.0695762492948027},{"$f":"IFERROR(R370/IF((Q370*S359)<150,150,Q370*S359)^0.25*34.9964,\"\")","v":0.29703008392250813}]
[4,5000,{"$f":"IF(OR(B371<=0,B371>1000000000),\"\",B345/B371/E344)","v":1400},{"$f":"IF(OR(C371=\"\",E371<=0,F345>1),\"\",IF(E371=\"Freilos\",F344/(1-(1/C371))/C371,IF(E371>1000000000,\"\",E371/C371/E345)))","v":1.4999999999999999E-2},210,{"$f":"IFERROR(IF(D371<D382,D382/D371,D371/D382),\"\")","v":1.3180336134453783},{"$f":"IFERROR(D371/IF((C371*E345)<150,150,C371*E345)^0.25*34.9964,\"\")","v":4.8259478206646E-2},4,5000,{"$f":"IF(OR(I371<=0,I371>1000000000),\"\",I345/I371/L344)","v":1400},{"$f":"IF(OR(J371=\"\",L371<=0,M345>1),\"\",IF(L371=\"Freilos\",M344/(1-(1/J371))/J371,IF(L371>1000000000,\"\",L371/J371/L345)))","v":1.4999999999999999E-2},105,{"$f":"IFERROR(IF(K371<K382,K382/K371,K371/K382),\"\")","v":1.2499818487394956},{"$f":"IFERROR(K371/IF((J371*L345)<150,150,J371*L345)^0.25*34.9964,\"\")","v":5.7390514849662191E-2},3,50000,{"$f":"IF(OR(P371<=0,P371>1000000000),\"\",P359/P371/S358)","v":202},{"$f":"IF(OR(Q371=\"\",S371<=0,T359>1),\"\",IF(S371=\"Freilos\",T358/(1-(1/Q371))/Q371,IF(S371=\"Freispiel\",Lotterien!$L$95/Q371/S359,IF(S371>1000000000,\"\",S371/Q371/S359))))","v":2.6237623762376237E-2},2.65,{"$f":"IFERROR(IF(R371<R382,R382/R371,R371/R382),\"\")","v":1.2108410369375124},{"$f":"IFERROR(R371/IF((Q371*S359)<150,150,Q371*S359)^0.25*34.9964,\"\")","v":0.26237657413154891}]
[4,7000,{"$f":"IF(OR(B372<=0,B372>1000000000),\"\",B345/B372/E344)","v":1000},{"$f":"IF(OR(C372=\"\",E372<=0,F345>1),\"\",IF(E372=\"Freilos\",F344/(1-(1/C372))/C372,IF(E372>1000000000,\"\",E372/C372/E345)))","v":4.0000000000000001E-3},40,{"$f":"IFERROR(IF(D372<D382,D382/D372,D372/D382),\"\")","v":4.9426260504201682},{"$f":"IFERROR(D372/IF((C372*E345)<150,150,C372*E345)^0.25*34.9964,\"\")","v":1.3998559999999997E-2},4,7000,{"$f":"IF(OR(I372<=0,I372>1000000000),\"\",I345/I372/L344)","v":1000},{"$f":"IF(OR(J372=\"\",L372<=0,M345>1),\"\",IF(L372=\"Freilos\",M344/(1-(1/J372))/J372,IF(L372>1000000000,\"\",L372/J372/L345)))","v":4.0000000000000001E-3},20,{"$f":"IFERROR(IF(K372<K382,K382/K372,K372/K382),\"\")","v":4.6874319327731087},{"$f":"IFERROR(K372/IF((J372*L345)<150,150,J372*L345)^0.25*34.9964,\"\")","v":1.6647187151792489E-2},3,50000,{"$f":"IF(OR(P372<=0,P372>1000000000),\"\",P359/P372/S358)","v":202},{"$f":"IF(OR(Q372=\"\",S372<=0,T359>1),\"\",IF(S372=\"Freilos\",T358/(1-(1/Q372))/Q372,IF(S372=\"Freispiel\",Lotterien!$L$95/Q372/S359,IF(S372>1000000000,\"\",S372/Q372/S359))))","v":2.5247524752475246E-2},2.5499999999999998,{"$f":"IFERROR(IF(R372<R382,R382/R372,R372/R382),\"\")","v":1.258324999170356},{"$f":"IFERROR(R372/IF((Q372*S359)<150,150,Q372*S359)^0.25*34.9964,\"\")","v":0.2524755713341319}]
[4,7000,{"$f":"IF(OR(B373<=0,B373>1000000000),\"\",B345/B373/E344)","v":1000},{"$f":"IF(OR(C373=\"\",E373<=0,F345>1),\"\",IF(E373=\"Freilos\",F344/(1-(1/C373))/C373,IF(E373>1000000000,\"\",E373/C373/E345)))","v":3.0000000000000001E-3},30,{"$f":"IFERROR(IF(D373<D382,D382/D373,D373/D382),\"\")","v":6.590168067226891},{"$f":"IFERROR(D373/IF((C373*E345)<150,150,C373*E345)^0.25*34.9964,\"\")","v":1.049892E-2},4,7000,{"$f":"IF(OR(I373<=0,I373>1000000000),\"\",I345/I373/L344)","v":1000},{"$f":"IF(OR(J373=\"\",L373<=0,M345>1),\"\",IF(L373=\"Freilos\",M344/(1-(1/J373))/J373,IF(L373>1000000000,\"\",L373/J373/L345)))","v":3.0000000000000001E-3},15,{"$f":"IFERROR(IF(K373<K382,K382/K373,K373/K382),\"\")","v":6.2499092436974779},{"$f":"IFERROR(K373/IF((J373*L345)<150,150,J373*L345)^0.25*34.9964,\"\")","v":1.2485390363844369E-2},3,50000,{"$f":"IF(OR(P373<=0,P373>1000000000),\"\",P359/P373/S358)","v":202},{"$f":"IF(OR(Q373=\"\",S373<=0,T359>1),\"\",IF(S373=\"Freilos\",T358/(1-(1/Q373))/Q373,IF(S373=\"Freispiel\",Lotterien!$L$95/Q373/S359,IF(S373>1000000000,\"\",S373/Q373/S359))))","v":2.4752475247524754E-2},2.5,{"$f":"IFERROR(IF(R373<R382,R382/R373,R373/R382),\"\")","v":1.2834914991537629},{"$f":"IFERROR(R373/IF((Q373*S359)<150,150,Q373*S359)^0.25*34.9964,\"\")","v":0.24752506993542348}]
[3,50000,{"$f":"IF(OR(B374<=0,B374>1000000000),\"\",B345/B374/E344)","v":140},{"$f":"IF(OR(C374=\"\",E374<=0,F345>1),\"\",IF(E374=\"Freilos\",F344/(1-(1/C374))/C374,IF(E374>1000000000,\"\",E374/C374/E345)))","v":7.4999999999999997E-2},105,{"$f":"IFERROR(IF(D374<D382,D382/D374,D374/D382),\"\")","v":3.7935299593231573},{"$f":"IFERROR(D374/IF((C374*E345)<150,150,C374*E345)^0.25*34.9964,\"\")","v":0.4290941821705036},3,50000,{"$f":"IF(OR(I374<=0,I374>1000000000),\"\",I345/I374/L344)","v":140},{"$f":"IF(OR(J374=\"\",L374<=0,M345>1),\"\",IF(L374=\"Freilos\",M344/(1-(1/J374))/J374,IF(L374>1000000000,\"\",L374/J374/L345)))","v":7.4999999999999997E-2},52.5,{"$f":"IFERROR(IF(K374<K382,K382/K374,K374/K382),\"\")","v":4.0000580848770646},{"$f":"IFERROR(K374/IF((J374*L345)<150,150,J374*L345)^0.25*34.9964,\"\")","v":0.51028185444343666},3,50000,{"$f":"IF(OR(P374<=0,P374>1000000000),\"\",P359/P374/S358)","v":202},{"$f":"IF(OR(Q374=\"\",S374<=0,T359>1),\"\",IF(S374=\"Freilos\",T358/(1-(1/Q374))/Q374,IF(S374=\"Freispiel\",Lotterien!$L$95/Q374/S359,IF(S374>1000000000,\"\",S374/Q374/S359))))","v":1.0891089108910892E-2},1.1000000000000001,{"$f":"IFERROR(IF(R374<R382,R382/R374,R374/R382),\"\")","v":2.9170261344403703},{"$f":"IFERROR(R374/IF((Q374*S359)<150,150,Q374*S359)^0.25*34.9964,\"\")","v":0.10891103077158634}]
[3,70000,{"$f":"IF(OR(B375<=0,B375>1000000000),\"\",B345/B375/E344)","v":100},{"$f":"IF(OR(C375=\"\",E375<=0,F345>1),\"\",IF(E375=\"Freilos\",F344/(1-(1/C375))/C375,IF(E375>1000000000,\"\",E375/C375/E345)))","v":0.02},20,{"$f":"IFERROR(IF(D375<D382,D382/D375,D375/D382),\"\")","v":1.011607989152842},{"$f":"IFERROR(D375/IF((C375*E345)<150,150,C375*E345)^0.25*34.9964,\"\")","v":0.12446675509097233},3,70000,{"$f":"IF(OR(I375<=0,I375>1000000000),\"\",I345/I375/L344)","v":100},{"$f":"IF(OR(J375=\"\",L375<=0,M345>1),\"\",IF(L375=\"Freilos\",M344/(1-(1/J375))/J375,IF(L375>1000000000,\"\",L375/J375/L345)))","v":0.02},10,{"$f":"IFERROR(IF(K375<K382,K382/K375,K375/K382),\"\")","v":1.0666821559672173},{"$f":"IFERROR(K375/IF((J375*L345)<150,150,J375*L345)^0.25*34.9964,\"\")","v":0.14801675073548548},3,100000,{"$f":"IF(OR(P375<=0,P375>1000000000),\"\",P359/P375/S358)","v":101},{"$f":"IF(OR(Q375=\"\",S375<=0,T359>1),\"\",IF(S375=\"Freilos\",T358/(1-(1/Q375))/Q375,IF(S375=\"Freispiel\",Lotterien!$L$95/Q375/S359,IF(S375>1000000000,\"\",S375/Q375/S359))))","v":1.0891089108910892E-2},0.55000000000000004,{"$f":"IFERROR(IF(R375<R382,R382/R375,R375/R382),\"\")","v":2.9170261344403703},{"$f":"IFERROR(R375/IF((Q375*S359)<150,150,Q375*S359)^0.25*34.9964,\"\")","v":0.10891103077158634}]
[3,70000,{"$f":"IF(OR(B376<=0,B376>1000000000),\"\",B345/B376/E344)","v":100},{"$f":"IF(OR(C376=\"\",E376<=0,F345>1),\"\",IF(E376=\"Freilos\",F344/(1-(1/C376))/C376,IF(E376>1000000000,\"\",E376/C376/E345)))","v":1.4999999999999999E-2},15,{"$f":"IFERROR(IF(D376<D382,D382/D376,D376/D382),\"\")","v":1.3180336134453783},{"$f":"IFERROR(D376/IF((C376*E345)<150,150,C376*E345)^0.25*34.9964,\"\")","v":9.3350066318229258E-2},3,70000,{"$f":"IF(OR(I376<=0,I376>1000000000),\"\",I345/I376/L344)","v":100},{"$f":"IF(OR(J376=\"\",L376<=0,M345>1),\"\",IF(L376=\"Freilos\",M344/(1-(1/J376))/J376,IF(L376>1000000000,\"\",L376/J376/L345)))","v":1.4999999999999999E-2},7.5,{"$f":"IFERROR(IF(K376<K382,K382/K376,K376/K382),\"\")","v":1.2499818487394956},{"$f":"IFERROR(K376/IF((J376*L345)<150,150,J376*L345)^0.25*34.9964,\"\")","v":0.1110125630516141},2,250000,{"$f":"IF(OR(P376<=0,P376>1000000000),\"\",P359/P376/S358)","v":40.4},{"$f":"IF(OR(Q376=\"\",S376<=0,T359>1),\"\",IF(S376=\"Freilos\",T358/(1-(1/Q376))/Q376,IF(S376=\"Freispiel\",Lotterien!$L$95/Q376/S359,IF(S376>1000000000,\"\",S376/Q376/S359))))","v":5.1980198019801985E-2},1.05,{"$f":"IFERROR(IF(R376<R382,R382/R376,R376/R382),\"\")","v":1.6361619857899963},{"$f":"IFERROR(R376/IF((Q376*S359)<150,150,Q376*S359)^0.25*34.9964,\"\")","v":0.51980264686438937}]
[2,110000,{"$f":"IF(OR(B377<=0,B377>1000000000),\"\",B345/B377/E344)","v":63.636363636363633},{"$f":"IF(OR(C377=\"\",E377<=0,F345>1),\"\",IF(E377=\"Freilos\",F344/(1-(1/C377))/C377,IF(E377>1000000000,\"\",E377/C377/E345)))","v":0.11000000000000001},70,{"$f":"IFERROR(IF(D377<D382,D382/D377,D377/D382),\"\")","v":5.5638439403406315},{"$f":"IFERROR(D377/IF((C377*E345)<150,150,C377*E345)^0.25*34.9964,\"\")","v":0.76646039422614909},2,110000,{"$f":"IF(OR(I377<=0,I377>1000000000),\"\",I345/I377/L344)","v":63.636363636363633},{"$f":"IF(OR(J377=\"\",L377<=0,M345>1),\"\",IF(L377=\"Freilos\",M344/(1-(1/J377))/J377,IF(L377>1000000000,\"\",L377/J377/L345)))","v":0.11000000000000001},35,{"$f":"IFERROR(IF(K377<K382,K382/K377,K377/K382),\"\")","v":5.866751857819696},{"$f":"IFERROR(K377/IF((J377*L345)<150,150,J377*L345)^0.25*34.9964,\"\")","v":0.91148015418152706},2,251000,{"$f":"IF(OR(P377<=0,P377>1000000000),\"\",P359/P377/S358)","v":40.239043824701199},{"$f":"IF(OR(Q377=\"\",S377<=0,T359>1),\"\",IF(S377=\"Freilos\",T358/(1-(1/Q377))/Q377,IF(S377=\"Freispiel\",Lotterien!$L$95/Q377/S359,IF(S377>1000000000,\"\",S377/Q377/S359))))","v":4.9702970297029699E-2},1,{"$f":"IFERROR(IF(R377<R382,R382/R377,R377/R382),\"\")","v":1.5644825083172913},{"$f":"IFERROR(R377/IF((Q377*S359)<150,150,Q377*S359)^0.25*34.9964,\"\")","v":0.49703034043033029}]
[2,200000,{"$f":"IF(OR(B378<=0,B378>1000000000),\"\",B345/B378/E344)","v":35},{"$f":"IF(OR(C378=\"\",E378<=0,F345>1),\"\",IF(E378=\"Freilos\",F344/(1-(1/C378))/C378,IF(E378>1000000000,\"\",E378/C378/E345)))","v":0.1},35,{"$f":"IFERROR(IF(D378<D382,D382/D378,D378/D382),\"\")","v":5.05803994576421},{"$f":"IFERROR(D378/IF((C378*E345)<150,150,C378*E345)^0.25*34.9964,\"\")","v":0.80910774928122364},2,125000,{"$f":"IF(OR(I378<=0,I378>1000000000),\"\",I345/I378/L344)","v":56},{"$f":"IF(OR(J378=\"\",L378<=0,M345>1),\"\",IF(L378=\"Freilos\",M344/(1-(1/J378))/J378,IF(L378>1000000000,\"\",L378/J378/L345)))","v":6.25E-2},17.5,{"$f":"IFERROR(IF(K378<K382,K382/K378,K378/K382),\"\")","v":3.3333817373975543},{"$f":"IFERROR(K378/IF((J378*L345)<150,150,J378*L345)^0.25*34.9964,\"\")","v":0.53470455194814914},2,600000,{"$f":"IF(OR(P378<=0,P378>1000000000),\"\",P359/P378/S358)","v":16.833333333333332},{"$f":"IF(OR(Q378=\"\",S378<=0,T359>1),\"\",IF(S378=\"Freilos\",T358/(1-(1/Q378))/Q378,IF(S378=\"Freispiel\",Lotterien!$L$95/Q378/S359,IF(S378>1000000000,\"\",S378/Q378/S359))))","v":9.5049504950495065E-2},0.8,{"$f":"IFERROR(IF(R378<R382,R382/R378,R378/R382),\"\")","v":2.9918390597302791},{"$f":"IFERROR(R378/IF((Q378*S359)<150,150,Q378*S359)^0.25*34.9964,\"\")","v":0.95049626855202629}]
[1,1200000,{"$f":"IF(OR(B379<=0,B379>1000000000),\"\",B345/B379/E344)","v":5.833333333333333},{"$f":"IF(OR(C379=\"\",E379<=0,F345>1),\"\",IF(E379=\"Freilos\",F344/(1-(1/C379))/C379,IF(E379>1000000000,\"\",E379/C379/E345)))","v":8.5714285714285715E-2},5,{"$f":"IFERROR(IF(D379<D382,D382/D379,D379/D382),\"\")","v":4.335462810655037},{"$f":"IFERROR(D379/IF((C379*E345)<150,150,C379*E345)^0.25*34.9964,\"\")","v":0.85714395646209496},1,1200000,{"$f":"IF(OR(I379<=0,I379>1000000000),\"\",I345/I379/L344)","v":5.833333333333333},{"$f":"IF(OR(J379=\"\",L379<=0,M345>1),\"\",IF(L379=\"Freilos\",M344/(1-(1/J379))/J379,IF(L379>1000000000,\"\",L379/J379/L345)))","v":8.5714285714285715E-2},2.5,{"$f":"IFERROR(IF(K379<K382,K382/K379,K379/K382),\"\")","v":4.5714949541452174},{"$f":"IFERROR(K379/IF((J379*L345)<150,150,J379*L345)^0.25*34.9964,\"\")","v":0.85714395646209496},1,1400000,{"$f":"IF(OR(P379<=0,P379>1000000000),\"\",P359/P379/S358)","v":7.2142857142857144},{"$f":"IF(OR(Q379=\"\",S379<=0,T359>1),\"\",IF(S379=\"Freilos\",T358/(1-(1/Q379))/Q379,IF(S379=\"Freispiel\",Lotterien!$L$95/Q379/S359,IF(S379>1000000000,\"\",S379/Q379/S359))))","v":7.1455395620674794E-2},"Freispiel",{"$f":"IFERROR(IF(R379<R382,R382/R379,R379/R382),\"\")","v":2.2491757716966552},{"$f":"IFERROR(R379/IF((Q379*S359)<150,150,Q379*S359)^0.25*34.9964,\"\")","v":0.71455487265014361}]
[1,1400000,{"$f":"IF(OR(B380<=0,B380>1000000000),\"\",B345/B380/E344)","v":5},{"$f":"IF(OR(C380=\"\",E380<=0,F345>1),\"\",IF(E380=\"Freilos\",F344/(1-(1/C380))/C380,IF(E380>1000000000,\"\",E380/C380/E345)))","v":0.2},10,{"$f":"IFERROR(IF(D380<D382,D382/D380,D380/D382),\"\")","v":10.11607989152842},{"$f":"IFERROR(D380/IF((C380*E345)<150,150,C380*E345)^0.25*34.9964,\"\")","v":2.0000025650782218},1,1400000,{"$f":"IF(OR(I380<=0,I380>1000000000),\"\",I345/I380/L344)","v":5},{"$f":"IF(OR(J380=\"\",L380<=0,M345>1),\"\",IF(L380=\"Freilos\",M344/(1-(1/J380))/J380,IF(L380>1000000000,\"\",L380/J380/L345)))","v":0.2},5,{"$f":"IFERROR(IF(K380<K382,K382/K380,K380/K382),\"\")","v":10.666821559672174},{"$f":"IFERROR(K380/IF((J380*L345)<150,150,J380*L345)^0.25*34.9964,\"\")","v":2.0000025650782218},1,2000000,{"$f":"IF(OR(P380<=0,P380>1000000000),\"\",P359/P380/S358)","v":5.05},{"$f":"IF(OR(Q380=\"\",S380<=0,T359>1),\"\",IF(S380=\"Freilos\",T358/(1-(1/Q380))/Q380,IF(S380=\"Freispiel\",Lotterien!$L$95/Q380/S359,IF(S380>1000000000,\"\",S380/Q380/S359))))","v":9.9009900990099015E-2},0.25,{"$f":"IFERROR(IF(R380<R382,R382/R380,R380/R382),\"\")","v":3.1164990205523737},{"$f":"IFERROR(R380/IF((Q380*S359)<150,150,Q380*S359)^0.25*34.9964,\"\")","v":0.9901002797416939}]
[null,{"$f":"IF(SUM(B347:B380)=0,\"\",SUM(B347:B380))","v":3123656},{"$f":"IF(OR(B381<=0,B381>1000000000),\"\",B345/B381/E344)","v":2.2409637937083979},{"$f":"IF(SUM(D347:D380)=0,\"\",SUM(D347:D380))","v":0.67219714285714294},{"$f":"IFERROR(E345*D381,\"\")","v":6.7219714285714289},{"$f":"IFERROR(AVERAGE(F347:F380),\"\")","v":48.785677561468383},{"$f":"IF(SUM(G347:G380)=0,\"\",SUM(G347:G380))","v":5.1897954272995701},null,{"$f":"IF(SUM(I347:I380)=0,\"\",SUM(I347:I380))","v":3048656},{"$f":"IF(OR(I381<=0,I381>1000000000),\"\",I345/I381/L344)","v":2.2960937541001676},{"$f":"IF(SUM(K347:K380)=0,\"\",SUM(K347:K380))","v":0.6374907428571428},{"$f":"IFERROR(L345*K381,\"\")","v":3.1874537142857138},{"$f":"IFERROR(AVERAGE(M347:M380),\"\")","v":46.06797719661985},{"$f":"IF(SUM(N347:N380)=0,\"\",SUM(N347:N380))","v":5.2049281300324477},null,{"$f":"IF(SUM(P361:P380)=0,\"\",SUM(P361:P380))","v":4886659},{"$f":"IF(OR(P381<=0,P381>1000000000),\"\",P359/P381/S358)","v":2.0668518102040681},{"$f":"IF(SUM(R361:R380)=0,\"\",SUM(R361:R380))","v":0.63539183126423915},{"$f":"IFERROR(S359*R381,\"\")","v":0.31769591563211957},{"$f":"IFERROR(AVERAGE(T361:T380),\"\")","v":2.9991459937709766},{"$f":"IF(SUM(U361:U380)=0,\"\",SUM(U361:U380))","v":5.7966032456113954}]
[null,null,null,{"$f":"AVERAGE(D347:D380)","v":1.9770504201680673E-2},null,null,null,null,null,null,{"$f":"AVERAGE(K347:K380)","v":1.8749727731092434E-2},null,null,null,null,null,null,{"$f":"AVERAGE(R361:R380)","v":3.1769591563211956E-2}]
[]
[null,"Wer wird Millionär",null,null,1,{"$f":"IFERROR(SUMIF(E387:E415,\"<>Freilos\",D387:D415),\"\")","v":0.40496695131953492},null,null,"Kiss & Cash",null,null,1,{"$f":"IFERROR(SUMIF(L387:L415,\"<>Freilos\",K387:K415),\"\")","v":0.65033333333333321},null,null,"Rubbel SuperLotto",null,null,1,{"$f":"IFERROR(SUMIF(S387:S423,\"<>Freilos\",R387:R423),\"\")","v":0.50321477604143583}]
[null,95344200,null,null,{"$f":"E384*4","v":4},{"$f":"IFERROR(COUNTIF(E387:E415,\"Freilos\"),\"\")","v":0},null,null,6000000,null,null,{"$f":"L384*1","v":1},{"$f":"IFERROR(COUNTIF(L387:L415,\"Freilos\"),\"\")","v":0},null,null,35000000,null,null,{"$f":"S384*1.5","v":1.5},{"$f":"IFERROR(COUNTIF(S387:S423,\"Freilos\"),\"\")","v":0}]
[null,"Losanzahl",{"$f":"IF(E384=1,\"Chancen 1:\",\"Ø Gewinne 1:\")","v":"Chancen 1:"},"Ø AQ","(Ø) Gewinn",null,null,null,"Losanzahl",{"$f":"IF(L384=1,\"Chancen 1:\",\"Ø Gewinne 1:\")","v":"Chancen 1:"},"Ø AQ","(Ø) Gewinn",null,null,null,"Losanzahl",{"$f":"IF(S384=1,\"Chancen 1:\",\"Ø Gewinne 1:\")","v":"Chancen 1:"},"Ø AQ","(Ø) Gewinn"]
[7,3,{"$f":"IF(OR(B387<=0,B387>1000000000),\"\",B385/B387/E384)","v":31781400},{"$f":"IF(OR(C387=\"\",E387<=0,F385>1),\"\",IF(E387=\"Freilos\",F384/(1-(1/C387))/C387,IF(E387>1000000000,\"\",E387/C387/E385)))","v":7.8662362262203675E-3},1000000,{"$f":"IFERROR(IF(D387<D417,D417/D387,D387/D417),\"\")","v":1.7752298850574715},{"$f":"IFERROR(D387/IF((C387*E385)<150,150,C387*E385)^0.25*34.9964,\"\")","v":2.592579616311391E-3},7,1,{"$f":"IF(OR(I387<=0,I387>1000000000),\"\",I385/I387/L384)","v":6000000},{"$f":"IF(OR(J387=\"\",L387<=0,M385>1),\"\",IF(L387=\"Freilos\",M384/(1-(1/J387))/J387,IF(L387>1000000000,\"\",L387/J387/L385)))","v":2.0833333333333332E-2},125000,{"$f":"IFERROR(IF(K387<K417,K417/K387,K387/K417),\"\")","v":1.0764137931034481},{"$f":"IFERROR(K387/IF((J387*L385)<150,150,J387*L385)^0.25*34.9964,\"\")","v":1.4731410168305202E-2},{"$f":"IF(Q387=\"\",0,IF(Q387>=1000000,7,IF(Q387>=100000,6,IF(Q387>=10000,5,IF(Q387>=1000,4,IF(Q387>=100,3,IF(Q387>=10,2,1)))))))","v":7},1,{"$f":"IF(OR(P387<=0,P387>1000000000),\"\",P385/P387/S384)","v":35000000},{"$f":"IF(OR(Q387=\"\",S387<=0,T385>1),\"\",IF(S387=\"Freilos\",T384/(1-(1/Q387))/Q387,IF(S387=\"Freispiel\",Lotterien!$S$215/Q387/S385,IF(S387>1000000000,\"\",S387/Q387/S385))))","v":1.9047619047619046E-2},1000000,{"$f":"IFERROR(IF(R387<R425,R425/R387,R387/R425),\"\")","v":1.4005190990335168},{"$f":"IFERROR(R387/IF((Q387*S385)<150,150,Q387*S385)^0.25*34.9964,\"\")","v":7.8311265561040594E-3}]
[7,5,{"$f":"IF(OR(B388<=0,B388>1000000000),\"\",B385/B388/E384)","v":19068840},{"$f":"IF(OR(C388=\"\",E388<=0,F385>1),\"\",IF(E388=\"Freilos\",F384/(1-(1/C388))/C388,IF(E388>1000000000,\"\",E388/C388/E385)))","v":1.311039371036728E-3},100000,{"$f":"IFERROR(IF(D388<D417,D417/D388,D388/D417),\"\")","v":10.651379310344828},{"$f":"IFERROR(D388/IF((C388*E385)<150,150,C388*E385)^0.25*34.9964,\"\")","v":4.9095652819364666E-4},7,1,{"$f":"IF(OR(I388<=0,I388>1000000000),\"\",I385/I388/L384)","v":6000000},{"$f":"IF(OR(J388=\"\",L388<=0,M385>1),\"\",IF(L388=\"Freilos\",M384/(1-(1/J388))/J388,IF(L388>1000000000,\"\",L388/J388/L385)))","v":1.2500000000000001E-2},75000,{"$f":"IFERROR(IF(K388<K417,K417/K388,K388/K417),\"\")","v":1.7940229885057468},{"$f":"IFERROR(K388/IF((J388*L385)<150,150,J388*L385)^0.25*34.9964,\"\")","v":8.8388461009831221E-3},7,1,{"$f":"IF(OR(P388<=0,P388>1000000000),\"\",P385/P388/S384)","v":35000000},{"$f":"IF(OR(Q388=\"\",S388<=0,T385>1),\"\",IF(S388=\"Freilos\",T384/(1-(1/Q388))/Q388,IF(S388=\"Freispiel\",Lotterien!$S$215/Q388/S385,IF(S388>1000000000,\"\",S388/Q388/S385))))","v":2.8571428571428571E-3},150000,{"$f":"IFERROR(IF(R388<R425,R425/R388,R388/R425),\"\")","v":4.7601397733649335},{"$f":"IFERROR(R388/IF((Q388*S385)<150,150,Q388*S385)^0.25*34.9964,\"\")","v":1.174668983415609E-3}]
[7,10,{"$f":"IF(OR(B389<=0,B389>1000000000),\"\",B385/B389/E384)","v":9534420},{"$f":"IF(OR(C389=\"\",E389<=0,F385>1),\"\",IF(E389=\"Freilos\",F384/(1-(1/C389))/C389,IF(E389>1000000000,\"\",E389/C389/E385)))","v":1.311039371036728E-3},50000,{"$f":"IFERROR(IF(D389<D417,D417/D389,D389/D417),\"\")","v":10.651379310344828},{"$f":"IFERROR(D389/IF((C389*E385)<150,150,C389*E385)^0.25*34.9964,\"\")","v":5.8384899648491887E-4},7,1,{"$f":"IF(OR(I389<=0,I389>1000000000),\"\",I385/I389/L384)","v":6000000},{"$f":"IF(OR(J389=\"\",L389<=0,M385>1),\"\",IF(L389=\"Freilos\",M384/(1-(1/J389))/J389,IF(L389>1000000000,\"\",L389/J389/L385)))","v":8.3333333333333332E-3},50000,{"$f":"IFERROR(IF(K389<K417,K417/K389,K389/K417),\"\")","v":2.6910344827586203},{"$f":"IFERROR(K389/IF((J389*L385)<150,150,J389*L385)^0.25*34.9964,\"\")","v":5.8925640673220805E-3},6,50,{"$f":"IF(OR(P389<=0,P389>1000000000),\"\",P385/P389/S384)","v":700000},{"$f":"IF(OR(Q389=\"\",S389<=0,T385>1),\"\",IF(S389=\"Freilos\",T384/(1-(1/Q389))/Q389,IF(S389=\"Freispiel\",Lotterien!$S$215/Q389/S385,IF(S389>1000000000,\"\",S389/Q389/S385))))","v":1.1428571428571427E-3},1200,{"$f":"IFERROR(IF(R389<R425,R425/R389,R389/R425),\"\")","v":11.900349433412336},{"$f":"IFERROR(R389/IF((Q389*S385)<150,150,Q389*S385)^0.25*34.9964,\"\")","v":1.2494474469535548E-3}]
[{"$f":"IF(C390=\"\",0,IF(C390>=1000000,7,IF(C390>=100000,6,IF(C390>=10000,5,IF(C390>=1000,4,IF(C390>=100,3,IF(C390>=10,2,1)))))))","v":7},10,{"$f":"IF(OR(B390<=0,B390>1000000000),\"\",B385/B390/E384)","v":9534420},{"$f":"IF(OR(C390=\"\",E390<=0,F385>1),\"\",IF(E390=\"Freilos\",F384/(1-(1/C390))/C390,IF(E390>1000000000,\"\",E390/C390/E385)))","v":7.8662362262203679E-4},30000,{"$f":"IFERROR(IF(D390<D417,D417/D390,D390/D417),\"\")","v":17.752298850574714},{"$f":"IFERROR(D390/IF((C390*E385)<150,150,C390*E385)^0.25*34.9964,\"\")","v":3.5030939789095134E-4},{"$f":"IF(J390=\"\",0,IF(J390>=1000000,7,IF(J390>=100000,6,IF(J390>=10000,5,IF(J390>=1000,4,IF(J390>=100,3,IF(J390>=10,2,1)))))))","v":7},2,{"$f":"IF(OR(I390<=0,I390>1000000000),\"\",I385/I390/L384)","v":3000000},{"$f":"IF(OR(J390=\"\",L390<=0,M385>1),\"\",IF(L390=\"Freilos\",M384/(1-(1/J390))/J390,IF(L390>1000000000,\"\",L390/J390/L385)))","v":8.3333333333333332E-3},25000,{"$f":"IFERROR(IF(K390<K417,K417/K390,K390/K417),\"\")","v":2.6910344827586203},{"$f":"IFERROR(K390/IF((J390*L385)<150,150,J390*L385)^0.25*34.9964,\"\")","v":7.0074791144687926E-3},6,125,{"$f":"IF(OR(P390<=0,P390>1000000000),\"\",P385/P390/S384)","v":280000},{"$f":"IF(OR(Q390=\"\",S390<=0,T385>1),\"\",IF(S390=\"Freilos\",T384/(1-(1/Q390))/Q390,IF(S390=\"Freispiel\",Lotterien!$S$215/Q390/S385,IF(S390>1000000000,\"\",S390/Q390/S385))))","v":1.0714285714285715E-3},450,{"$f":"IFERROR(IF(R390<R425,R425/R390,R390/R425),\"\")","v":12.693706062306489},{"$f":"IFERROR(R390/IF((Q390*S385)<150,150,Q390*S385)^0.25*34.9964,\"\")","v":1.4729034266544334E-3}]
[7,10,{"$f":"IF(OR(B391<=0,B391>1000000000),\"\",B385/B391/E384)","v":9534420},{"$f":"IF(OR(C391=\"\",E391<=0,F385>1),\"\",IF(E391=\"Freilos\",F384/(1-(1/C391))/C391,IF(E391>1000000000,\"\",E391/C391/E385)))","v":5.244157484146912E-4},20000,{"$f":"IFERROR(IF(D391<D417,D417/D391,D391/D417),\"\")","v":26.62844827586207},{"$f":"IFERROR(D391/IF((C391*E385)<150,150,C391*E385)^0.25*34.9964,\"\")","v":2.3353959859396755E-4},7,6,{"$f":"IF(OR(I391<=0,I391>1000000000),\"\",I385/I391/L384)","v":1000000},{"$f":"IF(OR(J391=\"\",L391<=0,M385>1),\"\",IF(L391=\"Freilos\",M384/(1-(1/J391))/J391,IF(L391>1000000000,\"\",L391/J391/L385)))","v":5.0000000000000001E-3},5000,{"$f":"IFERROR(IF(K391<K417,K417/K391,K391/K417),\"\")","v":4.4850574712643674},{"$f":"IFERROR(K391/IF((J391*L385)<150,150,J391*L385)^0.25*34.9964,\"\")","v":5.5334166953158346E-3},5,400,{"$f":"IF(OR(P391<=0,P391>1000000000),\"\",P385/P391/S384)","v":87500},{"$f":"IF(OR(Q391=\"\",S391<=0,T385>1),\"\",IF(S391=\"Freilos\",T384/(1-(1/Q391))/Q391,IF(S391=\"Freispiel\",Lotterien!$S$215/Q391/S385,IF(S391>1000000000,\"\",S391/Q391/S385))))","v":7.8857142857142858E-3},1035,{"$f":"IFERROR(IF(R391<R425,R425/R391,R391/R425),\"\")","v":1.7246883236829469},{"$f":"IFERROR(R391/IF((Q391*S385)<150,150,Q391*S385)^0.25*34.9964,\"\")","v":1.4499051132837872E-2}]
[7,10,{"$f":"IF(OR(B392<=0,B392>1000000000),\"\",B385/B392/E384)","v":9534420},{"$f":"IF(OR(C392=\"\",E392<=0,F385>1),\"\",IF(E392=\"Freilos\",F384/(1-(1/C392))/C392,IF(E392>1000000000,\"\",E392/C392/E385)))","v":2.622078742073456E-4},10000,{"$f":"IFERROR(IF(D392<D417,D417/D392,D392/D417),\"\")","v":53.256896551724139},{"$f":"IFERROR(D392/IF((C392*E385)<150,150,C392*E385)^0.25*34.9964,\"\")","v":1.1676979929698378E-4},6,10,{"$f":"IF(OR(I392<=0,I392>1000000000),\"\",I385/I392/L384)","v":600000},{"$f":"IF(OR(J392=\"\",L392<=0,M385>1),\"\",IF(L392=\"Freilos\",M384/(1-(1/J392))/J392,IF(L392>1000000000,\"\",L392/J392/L385)))","v":5.0000000000000001E-3},3000,{"$f":"IFERROR(IF(K392<K417,K417/K392,K392/K417),\"\")","v":4.4850574712643674},{"$f":"IFERROR(K392/IF((J392*L385)<150,150,J392*L385)^0.25*34.9964,\"\")","v":6.2871752119524416E-3},5,400,{"$f":"IF(OR(P392<=0,P392>1000000000),\"\",P385/P392/S384)","v":87500},{"$f":"IF(OR(Q392=\"\",S392<=0,T385>1),\"\",IF(S392=\"Freilos\",T384/(1-(1/Q392))/Q392,IF(S392=\"Freispiel\",Lotterien!$S$215/Q392/S385,IF(S392>1000000000,\"\",S392/Q392/S385))))","v":3.4685714285714285E-3},455.25,{"$f":"IFERROR(IF(R392<R425,R425/R392,R392/R425),\"\")","v":3.9210377045839651},{"$f":"IFERROR(R392/IF((Q392*S385)<150,150,Q392*S385)^0.25*34.9964,\"\")","v":6.3774811866902804E-3}]
[6,100,{"$f":"IF(OR(B393<=0,B393>1000000000),\"\",B385/B393/E384)","v":953442},{"$f":"IF(OR(C393=\"\",E393<=0,F385>1),\"\",IF(E393=\"Freilos\",F384/(1-(1/C393))/C393,IF(E393>1000000000,\"\",E393/C393/E385)))","v":1.311039371036728E-3},5000,{"$f":"IFERROR(IF(D393<D417,D417/D393,D393/D417),\"\")","v":10.651379310344828},{"$f":"IFERROR(D393/IF((C393*E385)<150,150,C393*E385)^0.25*34.9964,\"\")","v":1.0382466490210186E-3},6,20,{"$f":"IF(OR(I393<=0,I393>1000000000),\"\",I385/I393/L384)","v":300000},{"$f":"IF(OR(J393=\"\",L393<=0,M385>1),\"\",IF(L393=\"Freilos\",M384/(1-(1/J393))/J393,IF(L393>1000000000,\"\",L393/J393/L385)))","v":6.6666666666666671E-3},2000,{"$f":"IFERROR(IF(K393<K417,K417/K393,K393/K417),\"\")","v":3.3637931034482751},{"$f":"IFERROR(K393/IF((J393*L385)<150,150,J393*L385)^0.25*34.9964,\"\")","v":9.9690046604301117E-3},5,1000,{"$f":"IF(OR(P393<=0,P393>1000000000),\"\",P385/P393/S384)","v":35000},{"$f":"IF(OR(Q393=\"\",S393<=0,T385>1),\"\",IF(S393=\"Freilos\",T384/(1-(1/Q393))/Q393,IF(S393=\"Freispiel\",Lotterien!$S$215/Q393/S385,IF(S393>1000000000,\"\",S393/Q393/S385))))","v":8.571428571428571E-4},45,{"$f":"IFERROR(IF(R393<R425,R425/R393,R393/R425),\"\")","v":15.867132577883114},{"$f":"IFERROR(R393/IF((Q393*S385)<150,150,Q393*S385)^0.25*34.9964,\"\")","v":1.9816947383818006E-3}]
[6,100,{"$f":"IF(OR(B394<=0,B394>1000000000),\"\",B385/B394/E384)","v":953442},{"$f":"IF(OR(C394=\"\",E394<=0,F385>1),\"\",IF(E394=\"Freilos\",F384/(1-(1/C394))/C394,IF(E394>1000000000,\"\",E394/C394/E385)))","v":7.8662362262203679E-4},3000,{"$f":"IFERROR(IF(D394<D417,D417/D394,D394/D417),\"\")","v":17.752298850574714},{"$f":"IFERROR(D394/IF((C394*E385)<150,150,C394*E385)^0.25*34.9964,\"\")","v":6.2294798941261108E-4},6,20,{"$f":"IF(OR(I394<=0,I394>1000000000),\"\",I385/I394/L384)","v":300000},{"$f":"IF(OR(J394=\"\",L394<=0,M385>1),\"\",IF(L394=\"Freilos\",M384/(1-(1/J394))/J394,IF(L394>1000000000,\"\",L394/J394/L385)))","v":3.3333333333333335E-3},1000,{"$f":"IFERROR(IF(K394<K417,K417/K394,K394/K417),\"\")","v":6.7275862068965502},{"$f":"IFERROR(K394/IF((J394*L385)<150,150,J394*L385)^0.25*34.9964,\"\")","v":4.9845023302150559E-3},5,1200,{"$f":"IF(OR(P394<=0,P394>1000000000),\"\",P385/P394/S384)","v":29166.666666666668},{"$f":"IF(OR(Q394=\"\",S394<=0,T385>1),\"\",IF(S394=\"Freilos\",T384/(1-(1/Q394))/Q394,IF(S394=\"Freispiel\",Lotterien!$S$215/Q394/S385,IF(S394>1000000000,\"\",S394/Q394/S385))))","v":2.3828571428571427E-3},104.25,{"$f":"IFERROR(IF(R394<R425,R425/R394,R394/R425),\"\")","v":5.7076016467205442},{"$f":"IFERROR(R394/IF((Q394*S385)<150,150,Q394*S385)^0.25*34.9964,\"\")","v":5.7660295494939709E-3}]
[6,150,{"$f":"IF(OR(B395<=0,B395>1000000000),\"\",B385/B395/E384)","v":635628},{"$f":"IF(OR(C395=\"\",E395<=0,F385>1),\"\",IF(E395=\"Freilos\",F384/(1-(1/C395))/C395,IF(E395>1000000000,\"\",E395/C395/E385)))","v":3.933118113110184E-4},1000,{"$f":"IFERROR(IF(D395<D417,D417/D395,D395/D417),\"\")","v":35.504597701149429},{"$f":"IFERROR(D395/IF((C395*E385)<150,150,C395*E385)^0.25*34.9964,\"\")","v":3.4470263839830206E-4},6,20,{"$f":"IF(OR(I395<=0,I395>1000000000),\"\",I385/I395/L384)","v":300000},{"$f":"IF(OR(J395=\"\",L395<=0,M385>1),\"\",IF(L395=\"Freilos\",M384/(1-(1/J395))/J395,IF(L395>1000000000,\"\",L395/J395/L385)))","v":1.6666666666666668E-3},500,{"$f":"IFERROR(IF(K395<K417,K417/K395,K395/K417),\"\")","v":13.4551724137931},{"$f":"IFERROR(K395/IF((J395*L385)<150,150,J395*L385)^0.25*34.9964,\"\")","v":2.4922511651075279E-3},5,1200,{"$f":"IF(OR(P395<=0,P395>1000000000),\"\",P385/P395/S384)","v":29166.666666666668},{"$f":"IF(OR(Q395=\"\",S395<=0,T385>1),\"\",IF(S395=\"Freilos\",T384/(1-(1/Q395))/Q395,IF(S395=\"Freispiel\",Lotterien!$S$215/Q395/S385,IF(S395>1000000000,\"\",S395/Q395/S385))))","v":2.2628571428571428E-3},99,{"$f":"IFERROR(IF(R395<R425,R425/R395,R395/R425),\"\")","v":6.0102774916223911},{"$f":"IFERROR(R395/IF((Q395*S385)<150,150,Q395*S385)^0.25*34.9964,\"\")","v":5.4756539606705349E-3}]
[5,1000,{"$f":"IF(OR(B396<=0,B396>1000000000),\"\",B385/B396/E384)","v":95344.2},{"$f":"IF(OR(C396=\"\",E396<=0,F385>1),\"\",IF(E396=\"Freilos\",F384/(1-(1/C396))/C396,IF(E396>1000000000,\"\",E396/C396/E385)))","v":5.244157484146912E-3},2000,{"$f":"IFERROR(IF(D396<D417,D417/D396,D396/D417),\"\")","v":2.6628448275862069},{"$f":"IFERROR(D396/IF((C396*E385)<150,150,C396*E385)^0.25*34.9964,\"\")","v":7.3851705539839402E-3},6,20,{"$f":"IF(OR(I396<=0,I396>1000000000),\"\",I385/I396/L384)","v":300000},{"$f":"IF(OR(J396=\"\",L396<=0,M385>1),\"\",IF(L396=\"Freilos\",M384/(1-(1/J396))/J396,IF(L396>1000000000,\"\",L396/J396/L385)))","v":1E-3},300,{"$f":"IFERROR(IF(K396<K417,K417/K396,K396/K417),\"\")","v":22.425287356321835},{"$f":"IFERROR(K396/IF((J396*L385)<150,150,J396*L385)^0.25*34.9964,\"\")","v":1.4953506990645167E-3},5,1200,{"$f":"IF(OR(P396<=0,P396>1000000000),\"\",P385/P396/S384)","v":29166.666666666668},{"$f":"IF(OR(Q396=\"\",S396<=0,T385>1),\"\",IF(S396=\"Freilos\",T384/(1-(1/Q396))/Q396,IF(S396=\"Freispiel\",Lotterien!$S$215/Q396/S385,IF(S396>1000000000,\"\",S396/Q396/S385))))","v":1.3542857142857141E-3},59.25,{"$f":"IFERROR(IF(R396<R425,R425/R396,R396/R425),\"\")","v":10.042488973343742},{"$f":"IFERROR(R396/IF((Q396*S385)<150,150,Q396*S385)^0.25*34.9964,\"\")","v":3.2770959310073648E-3}]
[5,1000,{"$f":"IF(OR(B397<=0,B397>1000000000),\"\",B385/B397/E384)","v":95344.2},{"$f":"IF(OR(C397=\"\",E397<=0,F385>1),\"\",IF(E397=\"Freilos\",F384/(1-(1/C397))/C397,IF(E397>1000000000,\"\",E397/C397/E385)))","v":1.311039371036728E-3},500,{"$f":"IFERROR(IF(D397<D417,D417/D397,D397/D417),\"\")","v":10.651379310344828},{"$f":"IFERROR(D397/IF((C397*E385)<150,150,C397*E385)^0.25*34.9964,\"\")","v":1.8462926384959851E-3},6,45,{"$f":"IF(OR(I397<=0,I397>1000000000),\"\",I385/I397/L384)","v":133333.33333333334},{"$f":"IF(OR(J397=\"\",L397<=0,M385>1),\"\",IF(L397=\"Freilos\",M384/(1-(1/J397))/J397,IF(L397>1000000000,\"\",L397/J397/L385)))","v":1.4999999999999998E-3},200,{"$f":"IFERROR(IF(K397<K417,K417/K397,K397/K417),\"\")","v":14.950191570881225},{"$f":"IFERROR(K397/IF((J397*L385)<150,150,J397*L385)^0.25*34.9964,\"\")","v":2.7471346494166403E-3},5,1200,{"$f":"IF(OR(P397<=0,P397>1000000000),\"\",P385/P397/S384)","v":29166.666666666668},{"$f":"IF(OR(Q397=\"\",S397<=0,T385>1),\"\",IF(S397=\"Freilos\",T384/(1-(1/Q397))/Q397,IF(S397=\"Freispiel\",Lotterien!$S$215/Q397/S385,IF(S397>1000000000,\"\",S397/Q397/S385))))","v":1.1999999999999999E-3},52.5,{"$f":"IFERROR(IF(R397<R425,R425/R397,R397/R425),\"\")","v":11.333666127059367},{"$f":"IFERROR(R397/IF((Q397*S385)<150,150,Q397*S385)^0.25*34.9964,\"\")","v":2.9037558882343741E-3}]
[5,2000,{"$f":"IF(OR(B398<=0,B398>1000000000),\"\",B385/B398/E384)","v":47672.1},{"$f":"IF(OR(C398=\"\",E398<=0,F385>1),\"\",IF(E398=\"Freilos\",F384/(1-(1/C398))/C398,IF(E398>1000000000,\"\",E398/C398/E385)))","v":1.311039371036728E-3},250,{"$f":"IFERROR(IF(D398<D417,D417/D398,D398/D417),\"\")","v":10.651379310344828},{"$f":"IFERROR(D398/IF((C398*E385)<150,150,C398*E385)^0.25*34.9964,\"\")","v":2.1956243420765726E-3},5,100,{"$f":"IF(OR(I398<=0,I398>1000000000),\"\",I385/I398/L384)","v":60000},{"$f":"IF(OR(J398=\"\",L398<=0,M385>1),\"\",IF(L398=\"Freilos\",M384/(1-(1/J398))/J398,IF(L398>1000000000,\"\",L398/J398/L385)))","v":4.1666666666666666E-3},250,{"$f":"IFERROR(IF(K398<K417,K417/K398,K398/K417),\"\")","v":5.3820689655172407},{"$f":"IFERROR(K398/IF((J398*L385)<150,150,J398*L385)^0.25*34.9964,\"\")","v":9.3169618556017721E-3},5,1200,{"$f":"IF(OR(P398<=0,P398>1000000000),\"\",P385/P398/S384)","v":29166.666666666668},{"$f":"IF(OR(Q398=\"\",S398<=0,T385>1),\"\",IF(S398=\"Freilos\",T384/(1-(1/Q398))/Q398,IF(S398=\"Freispiel\",Lotterien!$S$215/Q398/S385,IF(S398>1000000000,\"\",S398/Q398/S385))))","v":7.5428571428571428E-4},33,{"$f":"IFERROR(IF(R398<R425,R425/R398,R398/R425),\"\")","v":18.030832474867172},{"$f":"IFERROR(R398/IF((Q398*S385)<150,150,Q398*S385)^0.25*34.9964,\"\")","v":1.8252179868901782E-3}]
[5,3000,{"$f":"IF(OR(B399<=0,B399>1000000000),\"\",B385/B399/E384)","v":31781.4},{"$f":"IF(OR(C399=\"\",E399<=0,F385>1),\"\",IF(E399=\"Freilos\",F384/(1-(1/C399))/C399,IF(E399>1000000000,\"\",E399/C399/E385)))","v":2.3598708678661102E-3},300,{"$f":"IFERROR(IF(D399<D417,D417/D399,D399/D417),\"\")","v":5.9174329501915715},{"$f":"IFERROR(D399/IF((C399*E385)<150,150,C399*E385)^0.25*34.9964,\"\")","v":4.3737439712941027E-3},5,100,{"$f":"IF(OR(I399<=0,I399>1000000000),\"\",I385/I399/L384)","v":60000},{"$f":"IF(OR(J399=\"\",L399<=0,M385>1),\"\",IF(L399=\"Freilos\",M384/(1-(1/J399))/J399,IF(L399>1000000000,\"\",L399/J399/L385)))","v":2.5000000000000001E-3},150,{"$f":"IFERROR(IF(K399<K417,K417/K399,K399/K417),\"\")","v":8.9701149425287348},{"$f":"IFERROR(K399/IF((J399*L385)<150,150,J399*L385)^0.25*34.9964,\"\")","v":5.5901771133610619E-3},5,1200,{"$f":"IF(OR(P399<=0,P399>1000000000),\"\",P385/P399/S384)","v":29166.666666666668},{"$f":"IF(OR(Q399=\"\",S399<=0,T385>1),\"\",IF(S399=\"Freilos\",T384/(1-(1/Q399))/Q399,IF(S399=\"Freispiel\",Lotterien!$S$215/Q399/S385,IF(S399>1000000000,\"\",S399/Q399/S385))))","v":4.2857142857142855E-4},18.75,{"$f":"IFERROR(IF(R399<R425,R425/R399,R399/R425),\"\")","v":31.734265155766227},{"$f":"IFERROR(R399/IF((Q399*S385)<150,150,Q399*S385)^0.25*34.9964,\"\")","v":1.0370556743694193E-3}]
[5,6000,{"$f":"IF(OR(B400<=0,B400>1000000000),\"\",B385/B400/E384)","v":15890.7},{"$f":"IF(OR(C400=\"\",E400<=0,F385>1),\"\",IF(E400=\"Freilos\",F384/(1-(1/C400))/C400,IF(E400>1000000000,\"\",E400/C400/E385)))","v":3.1464944904881472E-3},200,{"$f":"IFERROR(IF(D400<D417,D417/D400,D400/D417),\"\")","v":4.4380747126436786},{"$f":"IFERROR(D400/IF((C400*E385)<150,150,C400*E385)^0.25*34.9964,\"\")","v":6.9350499331509398E-3},5,200,{"$f":"IF(OR(I400<=0,I400>1000000000),\"\",I385/I400/L384)","v":30000},{"$f":"IF(OR(J400=\"\",L400<=0,M385>1),\"\",IF(L400=\"Freilos\",M384/(1-(1/J400))/J400,IF(L400>1000000000,\"\",L400/J400/L385)))","v":2E-3},60,{"$f":"IFERROR(IF(K400<K417,K417/K400,K400/K417),\"\")","v":11.212643678160918},{"$f":"IFERROR(K400/IF((J400*L385)<150,150,J400*L385)^0.25*34.9964,\"\")","v":5.3183027178674786E-3},5,2000,{"$f":"IF(OR(P400<=0,P400>1000000000),\"\",P385/P400/S384)","v":17500},{"$f":"IF(OR(Q400=\"\",S400<=0,T385>1),\"\",IF(S400=\"Freilos\",T384/(1-(1/Q400))/Q400,IF(S400=\"Freispiel\",Lotterien!$S$215/Q400/S385,IF(S400>1000000000,\"\",S400/Q400/S385))))","v":4.5714285714285713E-4},12,{"$f":"IFERROR(IF(R400<R425,R425/R400,R400/R425),\"\")","v":29.750873583530836},{"$f":"IFERROR(R400/IF((Q400*S385)<150,150,Q400*S385)^0.25*34.9964,\"\")","v":1.2568775907451167E-3}]
[5,6000,{"$f":"IF(OR(B401<=0,B401>1000000000),\"\",B385/B401/E384)","v":15890.7},{"$f":"IF(OR(C401=\"\",E401<=0,F385>1),\"\",IF(E401=\"Freilos\",F384/(1-(1/C401))/C401,IF(E401>1000000000,\"\",E401/C401/E385)))","v":2.3598708678661102E-3},150,{"$f":"IFERROR(IF(D401<D417,D417/D401,D401/D417),\"\")","v":5.9174329501915715},{"$f":"IFERROR(D401/IF((C401*E385)<150,150,C401*E385)^0.25*34.9964,\"\")","v":5.2012874498632046E-3},5,500,{"$f":"IF(OR(I401<=0,I401>1000000000),\"\",I385/I401/L384)","v":12000},{"$f":"IF(OR(J401=\"\",L401<=0,M385>1),\"\",IF(L401=\"Freilos\",M384/(1-(1/J401))/J401,IF(L401>1000000000,\"\",L401/J401/L385)))","v":8.3333333333333332E-3},100,{"$f":"IFERROR(IF(K401<K417,K417/K401,K401/K417),\"\")","v":2.6910344827586203},{"$f":"IFERROR(K401/IF((J401*L385)<150,150,J401*L385)^0.25*34.9964,\"\")","v":2.7864215110917426E-2},5,2030,{"$f":"IF(OR(P401<=0,P401>1000000000),\"\",P385/P401/S384)","v":17241.379310344826},{"$f":"IF(OR(Q401=\"\",S401<=0,T385>1),\"\",IF(S401=\"Freilos\",T384/(1-(1/Q401))/Q401,IF(S401=\"Freispiel\",Lotterien!$S$215/Q401/S385,IF(S401>1000000000,\"\",S401/Q401/S385))))","v":1.74E-4},4.5,{"$f":"IFERROR(IF(R401<R425,R425/R401,R401/R425),\"\")","v":78.163214669374938},{"$f":"IFERROR(R401/IF((Q401*S385)<150,150,Q401*S385)^0.25*34.9964,\"\")","v":4.801830255192303E-4}]
[4,40000,{"$f":"IF(OR(B402<=0,B402>1000000000),\"\",B385/B402/E384)","v":2383.605},{"$f":"IF(OR(C402=\"\",E402<=0,F385>1),\"\",IF(E402=\"Freilos\",F384/(1-(1/C402))/C402,IF(E402>1000000000,\"\",E402/C402/E385)))","v":2.622078742073456E-3},25,{"$f":"IFERROR(IF(D402<D417,D417/D402,D402/D417),\"\")","v":5.3256896551724138},{"$f":"IFERROR(D402/IF((C402*E385)<150,150,C402*E385)^0.25*34.9964,\"\")","v":9.2863603384894539E-3},5,500,{"$f":"IF(OR(I402<=0,I402>1000000000),\"\",I385/I402/L384)","v":12000},{"$f":"IF(OR(J402=\"\",L402<=0,M385>1),\"\",IF(L402=\"Freilos\",M384/(1-(1/J402))/J402,IF(L402>1000000000,\"\",L402/J402/L385)))","v":3.3333333333333335E-3},40,{"$f":"IFERROR(IF(K402<K417,K417/K402,K402/K417),\"\")","v":6.7275862068965502},{"$f":"IFERROR(K402/IF((J402*L385)<150,150,J402*L385)^0.25*34.9964,\"\")","v":1.1145686044366972E-2},4,4000,{"$f":"IF(OR(P402<=0,P402>1000000000),\"\",P385/P402/S384)","v":8750},{"$f":"IF(OR(Q402=\"\",S402<=0,T385>1),\"\",IF(S402=\"Freilos\",T384/(1-(1/Q402))/Q402,IF(S402=\"Freispiel\",Lotterien!$S$215/Q402/S385,IF(S402>1000000000,\"\",S402/Q402/S385))))","v":7.4285714285714287E-4},9.75,{"$f":"IFERROR(IF(R402<R425,R425/R402,R402/R425),\"\")","v":18.308229897557435},{"$f":"IFERROR(R402/IF((Q402*S385)<150,150,Q402*S385)^0.25*34.9964,\"\")","v":2.4288676321025529E-3}]
[4,60000,{"$f":"IF(OR(B403<=0,B403>1000000000),\"\",B385/B403/E384)","v":1589.07},{"$f":"IF(OR(C403=\"\",E403<=0,F385>1),\"\",IF(E403=\"Freilos\",F384/(1-(1/C403))/C403,IF(E403>1000000000,\"\",E403/C403/E385)))","v":1.5732472452440735E-2},100,{"$f":"IFERROR(IF(D403<D417,D417/D403,D403/D417),\"\")","v":1.1266146524652787},{"$f":"IFERROR(D403/IF((C403*E385)<150,150,C403*E385)^0.25*34.9964,\"\")","v":6.1662282518570602E-2},4,1000,{"$f":"IF(OR(I403<=0,I403>1000000000),\"\",I385/I403/L384)","v":6000},{"$f":"IF(OR(J403=\"\",L403<=0,M385>1),\"\",IF(L403=\"Freilos\",M384/(1-(1/J403))/J403,IF(L403>1000000000,\"\",L403/J403/L385)))","v":5.0000000000000001E-3},30,{"$f":"IFERROR(IF(K403<K417,K417/K403,K403/K417),\"\")","v":4.4850574712643674},{"$f":"IFERROR(K403/IF((J403*L385)<150,150,J403*L385)^0.25*34.9964,\"\")","v":1.9881793718321605E-2},4,4000,{"$f":"IF(OR(P403<=0,P403>1000000000),\"\",P385/P403/S384)","v":8750},{"$f":"IF(OR(Q403=\"\",S403<=0,T385>1),\"\",IF(S403=\"Freilos\",T384/(1-(1/Q403))/Q403,IF(S403=\"Freispiel\",Lotterien!$S$215/Q403/S385,IF(S403>1000000000,\"\",S403/Q403/S385))))","v":6.2857142857142853E-4},8.25,{"$f":"IFERROR(IF(R403<R425,R425/R403,R403/R425),\"\")","v":21.636998969840608},{"$f":"IFERROR(R403/IF((Q403*S385)<150,150,Q403*S385)^0.25*34.9964,\"\")","v":2.0551956887021601E-3}]
[4,84900,{"$f":"IF(OR(B404<=0,B404>1000000000),\"\",B385/B404/E384)","v":1123.017667844523},{"$f":"IF(OR(C404=\"\",E404<=0,F385>1),\"\",IF(E404=\"Freilos\",F384/(1-(1/C404))/C404,IF(E404>1000000000,\"\",E404/C404/E385)))","v":1.113072426010182E-2},50,{"$f":"IFERROR(IF(D404<D417,D417/D404,D404/D417),\"\")","v":1.2545794240688843},{"$f":"IFERROR(D404/IF((C404*E385)<150,150,C404*E385)^0.25*34.9964,\"\")","v":4.7581173719043808E-2},4,1400,{"$f":"IF(OR(I404<=0,I404>1000000000),\"\",I385/I404/L384)","v":4285.7142857142853},{"$f":"IF(OR(J404=\"\",L404<=0,M385>1),\"\",IF(L404=\"Freilos\",M384/(1-(1/J404))/J404,IF(L404>1000000000,\"\",L404/J404/L385)))","v":1.1666666666666667E-2},50,{"$f":"IFERROR(IF(K404<K417,K417/K404,K404/K417),\"\")","v":1.9221674876847286},{"$f":"IFERROR(K404/IF((J404*L385)<150,150,J404*L385)^0.25*34.9964,\"\")","v":5.0461988201898428E-2},4,4500,{"$f":"IF(OR(P404<=0,P404>1000000000),\"\",P385/P404/S384)","v":7777.7777777777774},{"$f":"IF(OR(Q404=\"\",S404<=0,T385>1),\"\",IF(S404=\"Freilos\",T384/(1-(1/Q404))/Q404,IF(S404=\"Freispiel\",Lotterien!$S$215/Q404/S385,IF(S404>1000000000,\"\",S404/Q404/S385))))","v":9.0000000000000008E-4},10.5,{"$f":"IFERROR(IF(R404<R425,R425/R404,R404/R425),\"\")","v":15.111554836079153},{"$f":"IFERROR(R404/IF((Q404*S385)<150,150,Q404*S385)^0.25*34.9964,\"\")","v":3.0306039419881934E-3}]
[4,90000,{"$f":"IF(OR(B405<=0,B405>1000000000),\"\",B385/B405/E384)","v":1059.3800000000001},{"$f":"IF(OR(C405=\"\",E405<=0,F385>1),\"\",IF(E405=\"Freilos\",F384/(1-(1/C405))/C405,IF(E405>1000000000,\"\",E405/C405/E385)))","v":7.0796126035983301E-3},30,{"$f":"IFERROR(IF(D405<D417,D417/D405,D405/D417),\"\")","v":1.9724776500638572},{"$f":"IFERROR(D405/IF((C405*E385)<150,150,C405*E385)^0.25*34.9964,\"\")","v":3.0708239935839876E-2},4,3000,{"$f":"IF(OR(I405<=0,I405>1000000000),\"\",I385/I405/L384)","v":2000},{"$f":"IF(OR(J405=\"\",L405<=0,M385>1),\"\",IF(L405=\"Freilos\",M384/(1-(1/J405))/J405,IF(L405>1000000000,\"\",L405/J405/L385)))","v":0.01},20,{"$f":"IFERROR(IF(K405<K417,K417/K405,K405/K417),\"\")","v":2.2425287356321837},{"$f":"IFERROR(K405/IF((J405*L385)<150,150,J405*L385)^0.25*34.9964,\"\")","v":5.233182408713033E-2},4,5000,{"$f":"IF(OR(P405<=0,P405>1000000000),\"\",P385/P405/S384)","v":7000},{"$f":"IF(OR(Q405=\"\",S405<=0,T385>1),\"\",IF(S405=\"Freilos\",T384/(1-(1/Q405))/Q405,IF(S405=\"Freispiel\",Lotterien!$S$215/Q405/S385,IF(S405>1000000000,\"\",S405/Q405/S385))))","v":2.2857142857142855E-3},24,{"$f":"IFERROR(IF(R405<R425,R425/R405,R405/R425),\"\")","v":5.9501747167061678},{"$f":"IFERROR(R405/IF((Q405*S385)<150,150,Q405*S385)^0.25*34.9964,\"\")","v":7.9021994981112852E-3}]
[3,200000,{"$f":"IF(OR(B406<=0,B406>1000000000),\"\",B385/B406/E384)","v":476.721},{"$f":"IF(OR(C406=\"\",E406<=0,F385>1),\"\",IF(E406=\"Freilos\",F384/(1-(1/C406))/C406,IF(E406>1000000000,\"\",E406/C406/E385)))","v":7.8662362262203675E-3},15,{"$f":"IFERROR(IF(D406<D417,D417/D406,D406/D417),\"\")","v":1.7752298850574715},{"$f":"IFERROR(D406/IF((C406*E385)<150,150,C406*E385)^0.25*34.9964,\"\")","v":4.1659042842423846E-2},3,10000,{"$f":"IF(OR(I406<=0,I406>1000000000),\"\",I385/I406/L384)","v":600},{"$f":"IF(OR(J406=\"\",L406<=0,M385>1),\"\",IF(L406=\"Freilos\",M384/(1-(1/J406))/J406,IF(L406>1000000000,\"\",L406/J406/L385)))","v":4.1666666666666664E-2},25,{"$f":"IFERROR(IF(K406<K417,K417/K406,K406/K417),\"\")","v":1.8580215274218352},{"$f":"IFERROR(K406/IF((J406*L385)<150,150,J406*L385)^0.25*34.9964,\"\")","v":0.29462820336610407},4,5000,{"$f":"IF(OR(P406<=0,P406>1000000000),\"\",P385/P406/S384)","v":7000},{"$f":"IF(OR(Q406=\"\",S406<=0,T385>1),\"\",IF(S406=\"Freilos\",T384/(1-(1/Q406))/Q406,IF(S406=\"Freispiel\",Lotterien!$S$215/Q406/S385,IF(S406>1000000000,\"\",S406/Q406/S385))))","v":2.0714285714285713E-3},21.75,{"$f":"IFERROR(IF(R406<R425,R425/R406,R406/R425),\"\")","v":6.5657100322274955},{"$f":"IFERROR(R406/IF((Q406*S385)<150,150,Q406*S385)^0.25*34.9964,\"\")","v":7.1613682951633525E-3}]
[3,400000,{"$f":"IF(OR(B407<=0,B407>1000000000),\"\",B385/B407/E384)","v":238.3605},{"$f":"IF(OR(C407=\"\",E407<=0,F385>1),\"\",IF(E407=\"Freilos\",F384/(1-(1/C407))/C407,IF(E407>1000000000,\"\",E407/C407/E385)))","v":2.0976629936587648E-2},20,{"$f":"IFERROR(IF(D407<D417,D417/D407,D407/D417),\"\")","v":1.5021528699537052},{"$f":"IFERROR(D407/IF((C407*E385)<150,150,C407*E385)^0.25*34.9964,\"\")","v":0.132109947073103},3,10000,{"$f":"IF(OR(I407<=0,I407>1000000000),\"\",I385/I407/L384)","v":600},{"$f":"IF(OR(J407=\"\",L407<=0,M385>1),\"\",IF(L407=\"Freilos\",M384/(1-(1/J407))/J407,IF(L407>1000000000,\"\",L407/J407/L385)))","v":2.5000000000000001E-2},15,{"$f":"IFERROR(IF(K407<K417,K417/K407,K407/K417),\"\")","v":1.1148129164531013},{"$f":"IFERROR(K407/IF((J407*L385)<150,150,J407*L385)^0.25*34.9964,\"\")","v":0.17677692201966247},4,5000,{"$f":"IF(OR(P407<=0,P407>1000000000),\"\",P385/P407/S384)","v":7000},{"$f":"IF(OR(Q407=\"\",S407<=0,T385>1),\"\",IF(S407=\"Freilos\",T384/(1-(1/Q407))/Q407,IF(S407=\"Freispiel\",Lotterien!$S$215/Q407/S385,IF(S407>1000000000,\"\",S407/Q407/S385))))","v":1.7142857142857142E-3},18,{"$f":"IFERROR(IF(R407<R425,R425/R407,R407/R425),\"\")","v":7.9335662889415568},{"$f":"IFERROR(R407/IF((Q407*S385)<150,150,Q407*S385)^0.25*34.9964,\"\")","v":5.9266496235834644E-3}]
[3,500000,{"$f":"IF(OR(B408<=0,B408>1000000000),\"\",B385/B408/E384)","v":190.6884},{"$f":"IF(OR(C408=\"\",E408<=0,F385>1),\"\",IF(E408=\"Freilos\",F384/(1-(1/C408))/C408,IF(E408>1000000000,\"\",E408/C408/E385)))","v":1.63879921379591E-2},12.5,{"$f":"IFERROR(IF(D408<D417,D417/D408,D408/D417),\"\")","v":1.1735569296513322},{"$f":"IFERROR(D408/IF((C408*E385)<150,150,C408*E385)^0.25*34.9964,\"\")","v":0.1091322356638695},3,24500,{"$f":"IF(OR(I408<=0,I408>1000000000),\"\",I385/I408/L384)","v":244.89795918367346},{"$f":"IF(OR(J408=\"\",L408<=0,M385>1),\"\",IF(L408=\"Freilos\",M384/(1-(1/J408))/J408,IF(L408>1000000000,\"\",L408/J408/L385)))","v":4.0833333333333333E-2},10,{"$f":"IFERROR(IF(K408<K417,K417/K408,K408/K417),\"\")","v":1.8208610968733985},{"$f":"IFERROR(K408/IF((J408*L385)<150,150,J408*L385)^0.25*34.9964,\"\")","v":0.36123673994132816},4,5550,{"$f":"IF(OR(P408<=0,P408>1000000000),\"\",P385/P408/S384)","v":6306.3063063063064},{"$f":"IF(OR(Q408=\"\",S408<=0,T385>1),\"\",IF(S408=\"Freilos\",T384/(1-(1/Q408))/Q408,IF(S408=\"Freispiel\",Lotterien!$S$215/Q408/S385,IF(S408>1000000000,\"\",S408/Q408/S385))))","v":1.5857142857142858E-3},15,{"$f":"IFERROR(IF(R408<R425,R425/R408,R408/R425),\"\")","v":8.5768284204773568},{"$f":"IFERROR(R408/IF((Q408*S385)<150,150,Q408*S385)^0.25*34.9964,\"\")","v":5.6270623906249538E-3}]
[2,1600000,{"$f":"IF(OR(B409<=0,B409>1000000000),\"\",B385/B409/E384)","v":59.590125},{"$f":"IF(OR(C409=\"\",E409<=0,F385>1),\"\",IF(E409=\"Freilos\",F384/(1-(1/C409))/C409,IF(E409>1000000000,\"\",E409/C409/E385)))","v":4.1953259873175296E-2},10,{"$f":"IFERROR(IF(D409<D417,D417/D409,D409/D417),\"\")","v":3.0043057399074105},{"$f":"IFERROR(D409/IF((C409*E385)<150,150,C409*E385)^0.25*34.9964,\"\")","v":0.37366335775034809},3,60000,{"$f":"IF(OR(I409<=0,I409>1000000000),\"\",I385/I409/L384)","v":100},{"$f":"IF(OR(J409=\"\",L409<=0,M385>1),\"\",IF(L409=\"Freilos\",M384/(1-(1/J409))/J409,IF(L409>1000000000,\"\",L409/J409/L385)))","v":0.03},3,{"$f":"IFERROR(IF(K409<K417,K417/K409,K409/K417),\"\")","v":1.3377754997437215},{"$f":"IFERROR(K409/IF((J409*L385)<150,150,J409*L385)^0.25*34.9964,\"\")","v":0.30000038476173324},4,5800,{"$f":"IF(OR(P409<=0,P409>1000000000),\"\",P385/P409/S384)","v":6034.4827586206893},{"$f":"IF(OR(Q409=\"\",S409<=0,T385>1),\"\",IF(S409=\"Freilos\",T384/(1-(1/Q409))/Q409,IF(S409=\"Freispiel\",Lotterien!$S$215/Q409/S385,IF(S409>1000000000,\"\",S409/Q409/S385))))","v":1.8228571428571428E-3},16.5,{"$f":"IFERROR(IF(R409<R425,R425/R409,R409/R425),\"\")","v":7.461034127531244},{"$f":"IFERROR(R409/IF((Q409*S385)<150,150,Q409*S385)^0.25*34.9964,\"\")","v":6.5402323683122401E-3}]
[2,2000000,{"$f":"IF(OR(B410<=0,B410>1000000000),\"\",B385/B410/E384)","v":47.6721},{"$f":"IF(OR(C410=\"\",E410<=0,F385>1),\"\",IF(E410=\"Freilos\",F384/(1-(1/C410))/C410,IF(E410>1000000000,\"\",E410/C410/E385)))","v":3.9331181131101838E-2},7.5,{"$f":"IFERROR(IF(D410<D417,D417/D410,D410/D417),\"\")","v":2.816536631163197},{"$f":"IFERROR(D410/IF((C410*E385)<150,150,C410*E385)^0.25*34.9964,\"\")","v":0.37040709064305843},2,100000,{"$f":"IF(OR(I410<=0,I410>1000000000),\"\",I385/I410/L384)","v":60},{"$f":"IF(OR(J410=\"\",L410<=0,M385>1),\"\",IF(L410=\"Freilos\",M384/(1-(1/J410))/J410,IF(L410>1000000000,\"\",L410/J410/L385)))","v":8.3333333333333329E-2},5,{"$f":"IFERROR(IF(K410<K417,K417/K410,K410/K417),\"\")","v":3.7160430548436705},{"$f":"IFERROR(K410/IF((J410*L385)<150,150,J410*L385)^0.25*34.9964,\"\")","v":0.83333440211592569},4,6000,{"$f":"IF(OR(P410<=0,P410>1000000000),\"\",P385/P410/S384)","v":5833.333333333333},{"$f":"IF(OR(Q410=\"\",S410<=0,T385>1),\"\",IF(S410=\"Freilos\",T384/(1-(1/Q410))/Q410,IF(S410=\"Freispiel\",Lotterien!$S$215/Q410/S385,IF(S410>1000000000,\"\",S410/Q410/S385))))","v":7.5428571428571428E-3},66,{"$f":"IFERROR(IF(R410<R425,R425/R410,R410/R425),\"\")","v":1.8030832474867173},{"$f":"IFERROR(R410/IF((Q410*S385)<150,150,Q410*S385)^0.25*34.9964,\"\")","v":2.729337492159277E-2}]
[2,3500000,{"$f":"IF(OR(B411<=0,B411>1000000000),\"\",B385/B411/E384)","v":27.241199999999999},{"$f":"IF(OR(C411=\"\",E411<=0,F385>1),\"\",IF(E411=\"Freilos\",F384/(1-(1/C411))/C411,IF(E411>1000000000,\"\",E411/C411/E385)))","v":2.753182679177129E-2},3,{"$f":"IFERROR(IF(D411<D417,D417/D411,D411/D417),\"\")","v":1.9715756418142381},{"$f":"IFERROR(D411/IF((C411*E385)<150,150,C411*E385)^0.25*34.9964,\"\")","v":0.27531862102415944},2,100000,{"$f":"IF(OR(I411<=0,I411>1000000000),\"\",I385/I411/L384)","v":60},{"$f":"IF(OR(J411=\"\",L411<=0,M385>1),\"\",IF(L411=\"Freilos\",M384/(1-(1/J411))/J411,IF(L411>1000000000,\"\",L411/J411/L385)))","v":4.1666666666666664E-2},2.5,{"$f":"IFERROR(IF(K411<K417,K417/K411,K411/K417),\"\")","v":1.8580215274218352},{"$f":"IFERROR(K411/IF((J411*L385)<150,150,J411*L385)^0.25*34.9964,\"\")","v":0.41666720105796284},4,6000,{"$f":"IF(OR(P411<=0,P411>1000000000),\"\",P385/P411/S384)","v":5833.333333333333},{"$f":"IF(OR(Q411=\"\",S411<=0,T385>1),\"\",IF(S411=\"Freilos\",T384/(1-(1/Q411))/Q411,IF(S411=\"Freispiel\",Lotterien!$S$215/Q411/S385,IF(S411>1000000000,\"\",S411/Q411/S385))))","v":2.4000000000000002E-3},21,{"$f":"IFERROR(IF(R411<R425,R425/R411,R411/R425),\"\")","v":5.6668330635296824},{"$f":"IFERROR(R411/IF((Q411*S385)<150,150,Q411*S385)^0.25*34.9964,\"\")","v":8.6842556568704262E-3}]
[2,4000000,{"$f":"IF(OR(B412<=0,B412>1000000000),\"\",B385/B412/E384)","v":23.83605},{"$f":"IF(OR(C412=\"\",E412<=0,F385>1),\"\",IF(E412=\"Freilos\",F384/(1-(1/C412))/C412,IF(E412>1000000000,\"\",E412/C412/E385)))","v":2.6220787420734561E-2},2.5,{"$f":"IFERROR(IF(D412<D417,D417/D412,D412/D417),\"\")","v":1.8776910874421315},{"$f":"IFERROR(D412/IF((C412*E385)<150,150,C412*E385)^0.25*34.9964,\"\")","v":0.26220821049919946},2,125000,{"$f":"IF(OR(I412<=0,I412>1000000000),\"\",I385/I412/L384)","v":48},{"$f":"IF(OR(J412=\"\",L412<=0,M385>1),\"\",IF(L412=\"Freilos\",M384/(1-(1/J412))/J412,IF(L412>1000000000,\"\",L412/J412/L385)))","v":4.1666666666666664E-2},2,{"$f":"IFERROR(IF(K412<K417,K417/K412,K412/K417),\"\")","v":1.8580215274218352},{"$f":"IFERROR(K412/IF((J412*L385)<150,150,J412*L385)^0.25*34.9964,\"\")","v":0.41666720105796284},4,7250,{"$f":"IF(OR(P412<=0,P412>1000000000),\"\",P385/P412/S384)","v":4827.5862068965516},{"$f":"IF(OR(Q412=\"\",S412<=0,T385>1),\"\",IF(S412=\"Freilos\",T384/(1-(1/Q412))/Q412,IF(S412=\"Freispiel\",Lotterien!$S$215/Q412/S385,IF(S412>1000000000,\"\",S412/Q412/S385))))","v":1.8642857142857144E-3},13.5,{"$f":"IFERROR(IF(R412<R425,R425/R412,R412/R425),\"\")","v":7.29523336914166},{"$f":"IFERROR(R412/IF((Q412*S385)<150,150,Q412*S385)^0.25*34.9964,\"\")","v":7.0726231661698523E-3}]
[2,4225000,{"$f":"IF(OR(B413<=0,B413>1000000000),\"\",B385/B413/E384)","v":22.566674556213016},{"$f":"IF(OR(C413=\"\",E413<=0,F385>1),\"\",IF(E413=\"Freilos\",F384/(1-(1/C413))/C413,IF(E413>1000000000,\"\",E413/C413/E385)))","v":2.2156565370520704E-2},2,{"$f":"IFERROR(IF(D413<D417,D417/D413,D413/D417),\"\")","v":1.5866489688886012},{"$f":"IFERROR(D413/IF((C413*E385)<150,150,C413*E385)^0.25*34.9964,\"\")","v":0.22156593787182355},2,200000,{"$f":"IF(OR(I413<=0,I413>1000000000),\"\",I385/I413/L384)","v":30},{"$f":"IF(OR(J413=\"\",L413<=0,M385>1),\"\",IF(L413=\"Freilos\",M384/(1-(1/J413))/J413,IF(L413>1000000000,\"\",L413/J413/L385)))","v":0.05},1.5,{"$f":"IFERROR(IF(K413<K417,K417/K413,K413/K417),\"\")","v":2.2296258329062026},{"$f":"IFERROR(K413/IF((J413*L385)<150,150,J413*L385)^0.25*34.9964,\"\")","v":0.50000064126955546},4,10000,{"$f":"IF(OR(P413<=0,P413>1000000000),\"\",P385/P413/S384)","v":3500},{"$f":"IF(OR(Q413=\"\",S413<=0,T385>1),\"\",IF(S413=\"Freilos\",T384/(1-(1/Q413))/Q413,IF(S413=\"Freispiel\",Lotterien!$S$215/Q413/S385,IF(S413>1000000000,\"\",S413/Q413/S385))))","v":3.8571428571428572E-3},20.25,{"$f":"IFERROR(IF(R413<R425,R425/R413,R413/R425),\"\")","v":3.5260294617518024},{"$f":"IFERROR(R413/IF((Q413*S385)<150,150,Q413*S385)^0.25*34.9964,\"\")","v":1.5858031276110723E-2}]
[2,8000000,{"$f":"IF(OR(B414<=0,B414>1000000000),\"\",B385/B414/E384)","v":11.918025},{"$f":"IF(OR(C414=\"\",E414<=0,F385>1),\"\",IF(E414=\"Freilos\",F384/(1-(1/C414))/C414,IF(E414>1000000000,\"\",E414/C414/E385)))","v":2.0976629936587648E-2},1,{"$f":"IFERROR(IF(D414<D417,D417/D414,D414/D417),\"\")","v":1.5021528699537052},{"$f":"IFERROR(D414/IF((C414*E385)<150,150,C414*E385)^0.25*34.9964,\"\")","v":0.20976656839935956},1,650000,{"$f":"IF(OR(I414<=0,I414>1000000000),\"\",I385/I414/L384)","v":9.2307692307692299},{"$f":"IF(OR(J414=\"\",L414<=0,M385>1),\"\",IF(L414=\"Freilos\",M384/(1-(1/J414))/J414,IF(L414>1000000000,\"\",L414/J414/L385)))","v":0.10833333333333334},1,{"$f":"IFERROR(IF(K414<K417,K417/K414,K414/K417),\"\")","v":4.8308559712967716},{"$f":"IFERROR(K414/IF((J414*L385)<150,150,J414*L385)^0.25*34.9964,\"\")","v":1.0833347227507035},4,10000,{"$f":"IF(OR(P414<=0,P414>1000000000),\"\",P385/P414/S384)","v":3500},{"$f":"IF(OR(Q414=\"\",S414<=0,T385>1),\"\",IF(S414=\"Freilos\",T384/(1-(1/Q414))/Q414,IF(S414=\"Freispiel\",Lotterien!$S$215/Q414/S385,IF(S414>1000000000,\"\",S414/Q414/S385))))","v":2.9999999999999996E-3},15.75,{"$f":"IFERROR(IF(R414<R425,R425/R414,R414/R425),\"\")","v":4.533466450823747},{"$f":"IFERROR(R414/IF((Q414*S385)<150,150,Q414*S385)^0.25*34.9964,\"\")","v":1.2334024325863894E-2}]
[2,8750000,{"$f":"IF(OR(B415<=0,B415>1000000000),\"\",B385/B415/E384)","v":10.89648},{"$f":"IF(OR(C415=\"\",E415<=0,F385>1),\"\",IF(E415=\"Freilos\",F384/(1-(1/C415))/C415,IF(E415>1000000000,\"\",E415/C415/E385)))","v":0.11471594496571369},5,{"$f":"IFERROR(IF(D415<D417,D417/D415,D415/D417),\"\")","v":8.2148985075593242},{"$f":"IFERROR(D415/IF((C415*E385)<150,150,C415*E385)^0.25*34.9964,\"\")","v":1.1471609209339975},1,800000,{"$f":"IF(OR(I415<=0,I415>1000000000),\"\",I385/I415/L384)","v":7.5},{"$f":"IF(OR(J415=\"\",L415<=0,M385>1),\"\",IF(L415=\"Freilos\",M384/(1-(1/J415))/J415,IF(L415>1000000000,\"\",L415/J415/L385)))","v":6.6666666666666666E-2},0.5,{"$f":"IFERROR(IF(K415<K417,K417/K415,K415/K417),\"\")","v":2.9728344438749366},{"$f":"IFERROR(K415/IF((J415*L385)<150,150,J415*L385)^0.25*34.9964,\"\")","v":0.66666752169274057},4,20000,{"$f":"IF(OR(P415<=0,P415>1000000000),\"\",P385/P415/S384)","v":1750},{"$f":"IF(OR(Q415=\"\",S415<=0,T385>1),\"\",IF(S415=\"Freilos\",T384/(1-(1/Q415))/Q415,IF(S415=\"Freispiel\",Lotterien!$S$215/Q415/S385,IF(S415>1000000000,\"\",S415/Q415/S385))))","v":2.5714285714285713E-3},6.75,{"$f":"IFERROR(IF(R415<R425,R425/R415,R415/R425),\"\")","v":5.2890441926277045},{"$f":"IFERROR(R415/IF((Q415*S385)<150,150,Q415*S385)^0.25*34.9964,\"\")","v":1.25723224156577E-2}]
[null,{"$f":"IF(SUM(B387:B415)=0,\"\",SUM(B387:B415))","v":33469298},{"$f":"IF(OR(B416<=0,B416>1000000000),\"\",B385/B416/E384)","v":2.8487062979331088},{"$f":"IF(SUM(D387:D415)=0,\"\",SUM(D387:D415))","v":0.40496695131953492},{"$f":"IFERROR(E385*D416,\"\")","v":1.6198678052781397},{"$f":"IFERROR(AVERAGE(F387:F415),\"\")","v":8.9643642282910783},{"$f":"IF(SUM(G387:G415)=0,\"\",SUM(G387:G415))","v":3.3265410593157543},null,{"$f":"IF(SUM(I387:I415)=0,\"\",SUM(I387:I415))","v":2086446},{"$f":"IF(OR(I416<=0,I416>1000000000),\"\",I385/I416/L384)","v":2.8757034689610945},{"$f":"IF(SUM(K387:K415)=0,\"\",SUM(K387:K415))","v":0.65033333333333321},{"$f":"IFERROR(L385*K416,\"\")","v":0.65033333333333321},{"$f":"IFERROR(AVERAGE(M387:M415),\"\")","v":5.0129216106792018},{"$f":"IF(SUM(N387:N415)=0,\"\",SUM(N387:N415))","v":5.3012040237457256},3,40000,{"$f":"IF(OR(P416<=0,P416>1000000000),\"\",P385/P416/S384)","v":875},{"$f":"IF(OR(Q416=\"\",S416<=0,T385>1),\"\",IF(S416=\"Freilos\",T384/(1-(1/Q416))/Q416,IF(S416=\"Freispiel\",Lotterien!$S$215/Q416/S385,IF(S416>1000000000,\"\",S416/Q416/S385))))","v":2.8571428571428571E-3},3.75,{"$f":"IFERROR(IF(R416<R425,R425/R416,R416/R425),\"\")","v":4.7601397733649335},{"$f":"IFERROR(R416/IF((Q416*S385)<150,150,Q416*S385)^0.25*34.9964,\"\")","v":1.6612328076453704E-2}]
[null,null,null,{"$f":"AVERAGE(D387:D415)","v":1.3964377631708101E-2},null,null,null,null,null,null,{"$f":"AVERAGE(K387:K415)","v":2.2425287356321835E-2},null,null,null,3,43000,{"$f":"IF(OR(P417<=0,P417>1000000000),\"\",P385/P417/S384)","v":813.95348837209303},{"$f":"IF(OR(Q417=\"\",S417<=0,T385>1),\"\",IF(S417=\"Freilos\",T384/(1-(1/Q417))/Q417,IF(S417=\"Freispiel\",Lotterien!$S$215/Q417/S385,IF(S417>1000000000,\"\",S417/Q417/S385))))","v":4.9142857142857139E-3},6,{"$f":"IFERROR(IF(R417<R425,R425/R417,R417/R425),\"\")","v":2.7675231240493803},{"$f":"IFERROR(R417/IF((Q417*S385)<150,150,Q417*S385)^0.25*34.9964,\"\")","v":2.9094511005906747E-2}]
[null,null,null,null,null,null,null,null,null,null,null,null,null,null,3,50000,{"$f":"IF(OR(P418<=0,P418>1000000000),\"\",P385/P418/S384)","v":700},{"$f":"IF(OR(Q418=\"\",S418<=0,T385>1),\"\",IF(S418=\"Freilos\",T384/(1-(1/Q418))/Q418,IF(S418=\"Freispiel\",Lotterien!$S$215/Q418/S385,IF(S418>1000000000,\"\",S418/Q418/S385))))","v":1.2142857142857143E-2},12.75,{"$f":"IFERROR(IF(R418<R425,R425/R418,R418/R425),\"\")","v":1.1200328878505725},{"$f":"IFERROR(R418/IF((Q418*S385)<150,150,Q418*S385)^0.25*34.9964,\"\")","v":7.4652942889278304E-2}]
[null,"Roter Rubin",null,null,1,{"$f":"IFERROR(SUMIF(E422:E439,\"<>Freilos\",D422:D439),\"\")","v":0.60004193548387108},null,null,"Goldenes Ass",null,null,1,{"$f":"IFERROR(SUMIF(L422:L439,\"<>Freilos\",K422:K439),\"\")","v":0.59996228571428578},null,3,52000,{"$f":"IF(OR(P419<=0,P419>1000000000),\"\",P385/P419/S384)","v":673.07692307692309},{"$f":"IF(OR(Q419=\"\",S419<=0,T385>1),\"\",IF(S419=\"Freilos\",T384/(1-(1/Q419))/Q419,IF(S419=\"Freispiel\",Lotterien!$S$215/Q419/S385,IF(S419>1000000000,\"\",S419/Q419/S385))))","v":7.4285714285714276E-3},7.5,{"$f":"IFERROR(IF(R419<R425,R425/R419,R419/R425),\"\")","v":1.830822989755744},{"$f":"IFERROR(R419/IF((Q419*S385)<150,150,Q419*S385)^0.25*34.9964,\"\")","v":4.61200410782759E-2}]
[null,1550000,null,null,{"$f":"E419*10","v":10},{"$f":"IFERROR(COUNTIF(E422:E439,\"Freilos\"),\"\")","v":0},null,null,1750000,null,null,{"$f":"L419*5","v":5},{"$f":"IFERROR(COUNTIF(L422:L439,\"Freilos\"),\"\")","v":0},null,3,130000,{"$f":"IF(OR(P420<=0,P420>1000000000),\"\",P385/P420/S384)","v":269.23076923076923},{"$f":"IF(OR(Q420=\"\",S420<=0,T385>1),\"\",IF(S420=\"Freilos\",T384/(1-(1/Q420))/Q420,IF(S420=\"Freispiel\",Lotterien!$S$215/Q420/S385,IF(S420>1000000000,\"\",S420/Q420/S385))))","v":5.5714285714285718E-3},2.25,{"$f":"IFERROR(IF(R420<R425,R425/R420,R420/R425),\"\")","v":2.4410973196743249},{"$f":"IFERROR(R420/IF((Q420*S385)<150,150,Q420*S385)^0.25*34.9964,\"\")","v":4.3494661072630753E-2}]
[null,"Losanzahl",{"$f":"IF(E419=1,\"Chancen 1:\",\"Ø Gewinne 1:\")","v":"Chancen 1:"},"Ø AQ","(Ø) Gewinn",null,null,null,"Losanzahl",{"$f":"IF(L419=1,\"Chancen 1:\",\"Ø Gewinne 1:\")","v":"Chancen 1:"},"Ø AQ","(Ø) Gewinn",null,null,2,1052000,{"$f":"IF(OR(P421<=0,P421>1000000000),\"\",P385/P421/S384)","v":33.269961977186313},{"$f":"IF(OR(Q421=\"\",S421<=0,T385>1),\"\",IF(S421=\"Freilos\",T384/(1-(1/Q421))/Q421,IF(S421=\"Freispiel\",Lotterien!$S$215/Q421/S385,IF(S421>1000000000,\"\",S421/Q421/S385))))","v":6.011428571428571E-2},3,{"$f":"IFERROR(IF(R421<R425,R425/R421,R421/R425),\"\")","v":4.4200382765497794},{"$f":"IFERROR(R421/IF((Q421*S385)<150,150,Q421*S385)^0.25*34.9964,\"\")","v":0.60114362813208255}]
[7,1,{"$f":"IF(OR(B422<=0,B422>1000000000),\"\",B420/B422/E419)","v":1550000},{"$f":"IF(OR(C422=\"\",E422<=0,F420>1),\"\",IF(E422=\"Freilos\",F419/(1-(1/C422))/C422,IF(E422>1000000000,\"\",E422/C422/E420)))","v":5.8064516129032262E-3},90000,{"$f":"IFERROR(IF(D422<D441,D441/D422,D422/D441),\"\")","v":5.7411419753086426},{"$f":"IFERROR(D422/IF((C422*E420)<150,150,C422*E420)^0.25*34.9964,\"\")","v":3.2385548617825232E-3},7,1,{"$f":"IF(OR(I422<=0,I422>1000000000),\"\",I420/I422/L419)","v":1750000},{"$f":"IF(OR(J422=\"\",L422<=0,M420>1),\"\",IF(L422=\"Freilos\",M419/(1-(1/J422))/J422,IF(L422>1000000000,\"\",L422/J422/L420)))","v":5.7142857142857143E-3},50000,{"$f":"IFERROR(IF(K422<K441,K441/K422,K422/K441),\"\")","v":5.8329666666666675},{"$f":"IFERROR(K422/IF((J422*L420)<150,150,J422*L420)^0.25*34.9964,\"\")","v":3.6769126252682665E-3},{"$f":"IF(Q422=\"\",0,IF(Q422>=1000000,7,IF(Q422>=100000,6,IF(Q422>=10000,5,IF(Q422>=1000,4,IF(Q422>=100,3,IF(Q422>=10,2,1)))))))","v":1},4500000,{"$f":"IF(OR(P422<=0,P422>1000000000),\"\",P385/P422/S384)","v":7.7777777777777777},{"$f":"IF(OR(Q422=\"\",S422<=0,T385>1),\"\",IF(S422=\"Freilos\",T384/(1-(1/Q422))/Q422,IF(S422=\"Freispiel\",Lotterien!$S$215/Q422/S385,IF(S422>1000000000,\"\",S422/Q422/S385))))","v":4.6140299850959625E-2},"Freispiel",{"$f":"IFERROR(IF(R422<R425,R425/R422,R422/R425),\"\")","v":3.3925694867611202},{"$f":"IFERROR(R422/IF((Q422*S385)<150,150,Q422*S385)^0.25*34.9964,\"\")","v":0.46140359027698769}]
[6,3,{"$f":"IF(OR(B423<=0,B423>1000000000),\"\",B420/B423/E419)","v":516666.66666666669},{"$f":"IF(OR(C423=\"\",E423<=0,F420>1),\"\",IF(E423=\"Freilos\",F419/(1-(1/C423))/C423,IF(E423>1000000000,\"\",E423/C423/E420)))","v":3.8709677419354839E-3},20000,{"$f":"IFERROR(IF(D423<D441,D441/D423,D423/D441),\"\")","v":8.6117129629629634},{"$f":"IFERROR(D423/IF((C423*E420)<150,150,C423*E420)^0.25*34.9964,\"\")","v":2.8414519287419527E-3},6,2,{"$f":"IF(OR(I423<=0,I423>1000000000),\"\",I420/I423/L419)","v":875000},{"$f":"IF(OR(J423=\"\",L423<=0,M420>1),\"\",IF(L423=\"Freilos\",M419/(1-(1/J423))/J423,IF(L423>1000000000,\"\",L423/J423/L420)))","v":2.2857142857142859E-3},10000,{"$f":"IFERROR(IF(K423<K441,K441/K423,K423/K441),\"\")","v":14.582416666666669},{"$f":"IFERROR(K423/IF((J423*L420)<150,150,J423*L420)^0.25*34.9964,\"\")","v":1.7490442620849431E-3},{"$f":"IF(Q423=\"\",0,IF(Q423>=1000000,7,IF(Q423>=100000,6,IF(Q423>=10000,5,IF(Q423>=1000,4,IF(Q423>=100,3,IF(Q423>=10,2,1)))))))","v":1},20000000,{"$f":"IF(OR(P423<=0,P423>1000000000),\"\",P385/P423/S384)","v":1.75},{"$f":"IF(OR(Q423=\"\",S423<=0,T385>1),\"\",IF(S423=\"Freilos\",T384/(1-(1/Q423))/Q423,IF(S423=\"Freispiel\",Lotterien!$S$215/Q423/S385,IF(S423>1000000000,\"\",S423/Q423/S385))))","v":0.2857142857142857},0.75,{"$f":"IFERROR(IF(R423<R425,R425/R423,R423/R425),\"\")","v":21.007786485502756},{"$f":"IFERROR(R423/IF((Q423*S385)<150,150,Q423*S385)^0.25*34.9964,\"\")","v":2.8571465215403165}]
[6,15,{"$f":"IF(OR(B424<=0,B424>1000000000),\"\",B420/B424/E419)","v":103333.33333333333},{"$f":"IF(OR(C424=\"\",E424<=0,F420>1),\"\",IF(E424=\"Freilos\",F419/(1-(1/C424))/C424,IF(E424>1000000000,\"\",E424/C424/E420)))","v":5.8064516129032262E-3},6000,{"$f":"IFERROR(IF(D424<D441,D441/D424,D424/D441),\"\")","v":5.7411419753086426},{"$f":"IFERROR(D424/IF((C424*E420)<150,150,C424*E420)^0.25*34.9964,\"\")","v":6.3734425178144493E-3},6,12,{"$f":"IF(OR(I424<=0,I424>1000000000),\"\",I420/I424/L419)","v":145833.33333333334},{"$f":"IF(OR(J424=\"\",L424<=0,M420>1),\"\",IF(L424=\"Freilos\",M419/(1-(1/J424))/J424,IF(L424>1000000000,\"\",L424/J424/L420)))","v":3.428571428571428E-3},2500,{"$f":"IFERROR(IF(K424<K441,K441/K424,K424/K441),\"\")","v":9.7216111111111143},{"$f":"IFERROR(K424/IF((J424*L420)<150,150,J424*L420)^0.25*34.9964,\"\")","v":4.1061033066822064E-3},null,{"$f":"IF(SUM(P387:P423)=0,\"\",SUM(P387:P423))","v":25978307},{"$f":"IF(OR(P424<=0,P424>1000000000),\"\",P385/P424/S384)","v":1.3472779423231853},{"$f":"IF(SUM(R387:R423)=0,\"\",SUM(R387:R423))","v":0.50321477604143583},{"$f":"IFERROR(S385*R424,\"\")","v":0.75482216406215374},{"$f":"IFERROR(AVERAGE(T387:T423),\"\")","v":10.930772716615774},{"$f":"IF(SUM(U387:U423)=0,\"\",SUM(U387:U423))","v":4.3107632783507537}]
[4,200,{"$f":"IF(OR(B425<=0,B425>1000000000),\"\",B420/B425/E419)","v":7750},{"$f":"IF(OR(C425=\"\",E425<=0,F420>1),\"\",IF(E425=\"Freilos\",F419/(1-(1/C425))/C425,IF(E425>1000000000,\"\",E425/C425/E420)))","v":6.4516129032258064E-3},500,{"$f":"IFERROR(IF(D425<D441,D441/D425,D425/D441),\"\")","v":5.1670277777777782},{"$f":"IFERROR(D425/IF((C425*E420)<150,150,C425*E420)^0.25*34.9964,\"\")","v":1.3532132700388151E-2},5,35,{"$f":"IF(OR(I425<=0,I425>1000000000),\"\",I420/I425/L419)","v":50000},{"$f":"IF(OR(J425=\"\",L425<=0,M420>1),\"\",IF(L425=\"Freilos\",M419/(1-(1/J425))/J425,IF(L425>1000000000,\"\",L425/J425/L420)))","v":2E-3},500,{"$f":"IFERROR(IF(K425<K441,K441/K425,K425/K441),\"\")","v":16.66561904761905},{"$f":"IFERROR(K425/IF((J425*L420)<150,150,J425*L420)^0.25*34.9964,\"\")","v":3.1301731747109462E-3},null,null,null,{"$f":"AVERAGE(R387:R423)","v":1.3600399352471239E-2}]
[4,900,{"$f":"IF(OR(B426<=0,B426>1000000000),\"\",B420/B426/E419)","v":1722.2222222222222},{"$f":"IF(OR(C426=\"\",E426<=0,F420>1),\"\",IF(E426=\"Freilos\",F419/(1-(1/C426))/C426,IF(E426>1000000000,\"\",E426/C426/E420)))","v":5.8064516129032262E-3},100,{"$f":"IFERROR(IF(D426<D441,D441/D426,D426/D441),\"\")","v":5.7411419753086426},{"$f":"IFERROR(D426/IF((C426*E420)<150,150,C426*E420)^0.25*34.9964,\"\")","v":1.7738295515163139E-2},4,500,{"$f":"IF(OR(I426<=0,I426>1000000000),\"\",I420/I426/L419)","v":3500},{"$f":"IF(OR(J426=\"\",L426<=0,M420>1),\"\",IF(L426=\"Freilos\",M419/(1-(1/J426))/J426,IF(L426>1000000000,\"\",L426/J426/L420)))","v":2.8571428571428571E-3},50,{"$f":"IFERROR(IF(K426<K441,K441/K426,K426/K441),\"\")","v":11.665933333333335},{"$f":"IFERROR(K426/IF((J426*L420)<150,150,J426*L420)^0.25*34.9964,\"\")","v":8.6935231559632543E-3}]
[3,10000,{"$f":"IF(OR(B427<=0,B427>1000000000),\"\",B420/B427/E419)","v":155},{"$f":"IF(OR(C427=\"\",E427<=0,F420>1),\"\",IF(E427=\"Freilos\",F419/(1-(1/C427))/C427,IF(E427>1000000000,\"\",E427/C427/E420)))","v":3.2258064516129031E-2},50,{"$f":"IFERROR(IF(D427<D441,D441/D427,D427/D441),\"\")","v":1.0334055555555557},{"$f":"IFERROR(D427/IF((C427*E420)<150,150,C427*E420)^0.25*34.9964,\"\")","v":0.17991971454347347},4,700,{"$f":"IF(OR(I427<=0,I427>1000000000),\"\",I420/I427/L419)","v":2500},{"$f":"IF(OR(J427=\"\",L427<=0,M420>1),\"\",IF(L427=\"Freilos\",M419/(1-(1/J427))/J427,IF(L427>1000000000,\"\",L427/J427/L420)))","v":8.0000000000000002E-3},100,{"$f":"IFERROR(IF(K427<K441,K441/K427,K427/K441),\"\")","v":4.1664047619047624},{"$f":"IFERROR(K427/IF((J427*L420)<150,150,J427*L420)^0.25*34.9964,\"\")","v":2.6478041316254995E-2},null,"CashBall",null,null,1,{"$f":"IFERROR(SUMIF(S430:S464,\"<>Freilos\",R430:R464),\"\")","v":0.58653250000000012}]
[2,30000,{"$f":"IF(OR(B428<=0,B428>1000000000),\"\",B420/B428/E419)","v":51.666666666666664},{"$f":"IF(OR(C428=\"\",E428<=0,F420>1),\"\",IF(E428=\"Freilos\",F419/(1-(1/C428))/C428,IF(E428>1000000000,\"\",E428/C428/E420)))","v":1.935483870967742E-2},10,{"$f":"IFERROR(IF(D428<D441,D441/D428,D428/D441),\"\")","v":1.7223425925925928},{"$f":"IFERROR(D428/IF((C428*E420)<150,150,C428*E420)^0.25*34.9964,\"\")","v":0.14207259643709769},3,5000,{"$f":"IF(OR(I428<=0,I428>1000000000),\"\",I420/I428/L419)","v":350},{"$f":"IF(OR(J428=\"\",L428<=0,M420>1),\"\",IF(L428=\"Freilos\",M419/(1-(1/J428))/J428,IF(L428>1000000000,\"\",L428/J428/L420)))","v":1.7142857142857144E-2},30,{"$f":"IFERROR(IF(K428<K441,K441/K428,K428/K441),\"\")","v":1.9443222222222225},{"$f":"IFERROR(K428/IF((J428*L420)<150,150,J428*L420)^0.25*34.9964,\"\")","v":9.2757079373676332E-2},null,10000000,null,null,{"$f":"S427*1","v":1},{"$f":"IFERROR(COUNTIF(S430:S464,\"Freilos\"),\"\")","v":0}]
[2,32450,{"$f":"IF(OR(B429<=0,B429>1000000000),\"\",B420/B429/E419)","v":47.765793528505391},{"$f":"IF(OR(C429=\"\",E429<=0,F420>1),\"\",IF(E429=\"Freilos\",F419/(1-(1/C429))/C429,IF(E429>1000000000,\"\",E429/C429/E420)))","v":7.7461290322580645E-2},37,{"$f":"IFERROR(IF(D429<D441,D441/D429,D429/D441),\"\")","v":2.3236763021939324},{"$f":"IFERROR(D429/IF((C429*E420)<150,150,C429*E420)^0.25*34.9964,\"\")","v":0.57986760833079265},3,12000,{"$f":"IF(OR(I429<=0,I429>1000000000),\"\",I420/I429/L419)","v":145.83333333333334},{"$f":"IF(OR(J429=\"\",L429<=0,M420>1),\"\",IF(L429=\"Freilos\",M419/(1-(1/J429))/J429,IF(L429>1000000000,\"\",L429/J429/L420)))","v":2.7428571428571424E-2},20,{"$f":"IFERROR(IF(K429<K441,K441/K429,K429/K441),\"\")","v":1.2152013888888893},{"$f":"IFERROR(K429/IF((J429*L420)<150,150,J429*L420)^0.25*34.9964,\"\")","v":0.18472252598785177},null,"Losanzahl",{"$f":"IF(S427=1,\"Chancen 1:\",\"Ø Gewinne 1:\")","v":"Chancen 1:"},"Ø AQ","(Ø) Gewinn"]
[2,35850,{"$f":"IF(OR(B430<=0,B430>1000000000),\"\",B420/B430/E419)","v":43.235704323570431},{"$f":"IF(OR(C430=\"\",E430<=0,F420>1),\"\",IF(E430=\"Freilos\",F419/(1-(1/C430))/C430,IF(E430>1000000000,\"\",E430/C430/E420)))","v":9.251612903225806E-2},40,{"$f":"IFERROR(IF(D430<D441,D441/D430,D430/D441),\"\")","v":2.7752898990930737},{"$f":"IFERROR(D430/IF((C430*E420)<150,150,C430*E420)^0.25*34.9964,\"\")","v":0.71003570842380337},3,14020,{"$f":"IF(OR(I430<=0,I430>1000000000),\"\",I420/I430/L419)","v":124.82168330955777},{"$f":"IF(OR(J430=\"\",L430<=0,M420>1),\"\",IF(L430=\"Freilos\",M419/(1-(1/J430))/J430,IF(L430>1000000000,\"\",L430/J430/L420)))","v":4.5665142857142862E-2},28.5,{"$f":"IFERROR(IF(K430<K441,K441/K430,K430/K441),\"\")","v":1.370040402539588},{"$f":"IFERROR(K430/IF((J430*L420)<150,150,J430*L420)^0.25*34.9964,\"\")","v":0.31973721111034786},{"$f":"IF(Q430=\"\",0,IF(Q430>=1000000,7,IF(Q430>=100000,6,IF(Q430>=10000,5,IF(Q430>=1000,4,IF(Q430>=100,3,IF(Q430>=10,2,1)))))))","v":7},1,{"$f":"IF(OR(P430<=0,P430>1000000000),\"\",P428/P430/S427)","v":10000000},{"$f":"IF(OR(Q430=\"\",S430<=0,T428>1),\"\",IF(S430=\"Freilos\",T427/(1-(1/Q430))/Q430,IF(S430>1000000000,\"\",S430/Q430/S428)))","v":3.6499999999999998E-2},365000,{"$f":"IFERROR(IF(R430<R466,R466/R430,R430/R466),\"\")","v":2.1780549244926748},{"$f":"IFERROR(R430/IF((Q430*S428)<150,150,Q430*S428)^0.25*34.9964,\"\")","v":2.2715182804102445E-2}]
[2,38000,{"$f":"IF(OR(B431<=0,B431>1000000000),\"\",B420/B431/E419)","v":40.789473684210527},{"$f":"IF(OR(C431=\"\",E431<=0,F420>1),\"\",IF(E431=\"Freilos\",F419/(1-(1/C431))/C431,IF(E431>1000000000,\"\",E431/C431/E420)))","v":1.7161290322580645E-2},7,{"$f":"IFERROR(IF(D431<D441,D441/D431,D431/D441),\"\")","v":1.9424916457811197},{"$f":"IFERROR(D431/IF((C431*E420)<150,150,C431*E420)^0.25*34.9964,\"\")","v":0.13363994395528497},2,50000,{"$f":"IF(OR(I431<=0,I431>1000000000),\"\",I420/I431/L419)","v":35},{"$f":"IF(OR(J431=\"\",L431<=0,M420>1),\"\",IF(L431=\"Freilos\",M419/(1-(1/J431))/J431,IF(L431>1000000000,\"\",L431/J431/L420)))","v":6.8571428571428575E-2},12,{"$f":"IFERROR(IF(K431<K441,K441/K431,K431/K441),\"\")","v":2.0572721713936302},{"$f":"IFERROR(K431/IF((J431*L420)<150,150,J431*L420)^0.25*34.9964,\"\")","v":0.65979201754221861},7,2,{"$f":"IF(OR(P431<=0,P431>1000000000),\"\",P428/P431/S427)","v":5000000},{"$f":"IF(OR(Q431=\"\",S431<=0,T428>1),\"\",IF(S431=\"Freilos\",T427/(1-(1/Q431))/Q431,IF(S431>1000000000,\"\",S431/Q431/S428)))","v":2.3999999999999998E-3},12000,{"$f":"IFERROR(IF(R431<R466,R466/R431,R431/R466),\"\")","v":6.9825297619047637},{"$f":"IFERROR(R431/IF((Q431*S428)<150,150,Q431*S428)^0.25*34.9964,\"\")","v":1.7762010088258249E-3}]
[2,40000,{"$f":"IF(OR(B432<=0,B432>1000000000),\"\",B420/B432/E419)","v":38.75},{"$f":"IF(OR(C432=\"\",E432<=0,F420>1),\"\",IF(E432=\"Freilos\",F419/(1-(1/C432))/C432,IF(E432>1000000000,\"\",E432/C432/E420)))","v":1.5483870967741935E-2},6,{"$f":"IFERROR(IF(D432<D441,D441/D432,D432/D441),\"\")","v":2.1529282407407409},{"$f":"IFERROR(D432/IF((C432*E420)<150,150,C432*E420)^0.25*34.9964,\"\")","v":0.12213355221392448},2,60000,{"$f":"IF(OR(I432<=0,I432>1000000000),\"\",I420/I432/L419)","v":29.166666666666668},{"$f":"IF(OR(J432=\"\",L432<=0,M420>1),\"\",IF(L432=\"Freilos\",M419/(1-(1/J432))/J432,IF(L432>1000000000,\"\",L432/J432/L420)))","v":3.0857142857142854E-2},4.5,{"$f":"IFERROR(IF(K432<K441,K441/K432,K432/K441),\"\")","v":1.0801790123456794},{"$f":"IFERROR(K432/IF((J432*L420)<150,150,J432*L420)^0.25*34.9964,\"\")","v":0.30857182432635416},6,50,{"$f":"IF(OR(P432<=0,P432>1000000000),\"\",P428/P432/S427)","v":200000},{"$f":"IF(OR(Q432=\"\",S432<=0,T428>1),\"\",IF(S432=\"Freilos\",T427/(1-(1/Q432))/Q432,IF(S432>1000000000,\"\",S432/Q432/S428)))","v":5.0000000000000001E-3},1000,{"$f":"IFERROR(IF(R432<R466,R466/R432,R432/R466),\"\")","v":3.3516142857142861},{"$f":"IFERROR(R432/IF((Q432*S428)<150,150,Q432*S428)^0.25*34.9964,\"\")","v":8.2743879113296864E-3}]
[2,40000,{"$f":"IF(OR(B433<=0,B433>1000000000),\"\",B420/B433/E419)","v":38.75},{"$f":"IF(OR(C433=\"\",E433<=0,F420>1),\"\",IF(E433=\"Freilos\",F419/(1-(1/C433))/C433,IF(E433>1000000000,\"\",E433/C433/E420)))","v":1.2903225806451613E-2},5,{"$f":"IFERROR(IF(D433<D441,D441/D433,D433/D441),\"\")","v":2.5835138888888891},{"$f":"IFERROR(D433/IF((C433*E420)<150,150,C433*E420)^0.25*34.9964,\"\")","v":0.1017779601782704},2,74700,{"$f":"IF(OR(I433<=0,I433>1000000000),\"\",I420/I433/L419)","v":23.427041499330656},{"$f":"IF(OR(J433=\"\",L433<=0,M420>1),\"\",IF(L433=\"Freilos\",M419/(1-(1/J433))/J433,IF(L433>1000000000,\"\",L433/J433/L420)))","v":6.8297142857142862E-2},8,{"$f":"IFERROR(IF(K433<K441,K441/K433,K433/K441),\"\")","v":2.0490430827080557},{"$f":"IFERROR(K433/IF((J433*L420)<150,150,J433*L420)^0.25*34.9964,\"\")","v":0.68297230450899737},5,125,{"$f":"IF(OR(P433<=0,P433>1000000000),\"\",P428/P433/S427)","v":80000},{"$f":"IF(OR(Q433=\"\",S433<=0,T428>1),\"\",IF(S433=\"Freilos\",T427/(1-(1/Q433))/Q433,IF(S433>1000000000,\"\",S433/Q433/S428)))","v":6.2500000000000003E-3},500,{"$f":"IFERROR(IF(R433<R466,R466/R433,R433/R466),\"\")","v":2.6812914285714289},{"$f":"IFERROR(R433/IF((Q433*S428)<150,150,Q433*S428)^0.25*34.9964,\"\")","v":1.3005614962337885E-2}]
[2,70000,{"$f":"IF(OR(B434<=0,B434>1000000000),\"\",B420/B434/E419)","v":22.142857142857142},{"$f":"IF(OR(C434=\"\",E434<=0,F420>1),\"\",IF(E434=\"Freilos\",F419/(1-(1/C434))/C434,IF(E434>1000000000,\"\",E434/C434/E420)))","v":9.9354838709677415E-2},22,{"$f":"IFERROR(IF(D434<D441,D441/D434,D434/D441),\"\")","v":2.9804368511878199},{"$f":"IFERROR(D434/IF((C434*E420)<150,150,C434*E420)^0.25*34.9964,\"\")","v":0.90137182724441212},2,90000,{"$f":"IF(OR(I434<=0,I434>1000000000),\"\",I420/I434/L419)","v":19.444444444444443},{"$f":"IF(OR(J434=\"\",L434<=0,M420>1),\"\",IF(L434=\"Freilos\",M419/(1-(1/J434))/J434,IF(L434>1000000000,\"\",L434/J434/L420)))","v":0.11314285714285714},11,{"$f":"IFERROR(IF(K434<K441,K441/K434,K434/K441),\"\")","v":3.3944990827994896},{"$f":"IFERROR(K434/IF((J434*L420)<150,150,J434*L420)^0.25*34.9964,\"\")","v":1.1314300225299654},5,400,{"$f":"IF(OR(P434<=0,P434>1000000000),\"\",P428/P434/S427)","v":25000},{"$f":"IF(OR(Q434=\"\",S434<=0,T428>1),\"\",IF(S434=\"Freilos\",T427/(1-(1/Q434))/Q434,IF(S434>1000000000,\"\",S434/Q434/S428)))","v":2.0459999999999999E-2},511.5,{"$f":"IFERROR(IF(R434<R466,R466/R434,R434/R466),\"\")","v":1.2209042124690446},{"$f":"IFERROR(R434/IF((Q434*S428)<150,150,Q434*S428)^0.25*34.9964,\"\")","v":5.6943479240928692E-2}]
[2,70000,{"$f":"IF(OR(B435<=0,B435>1000000000),\"\",B420/B435/E419)","v":22.142857142857142},{"$f":"IF(OR(C435=\"\",E435<=0,F420>1),\"\",IF(E435=\"Freilos\",F419/(1-(1/C435))/C435,IF(E435>1000000000,\"\",E435/C435/E420)))","v":1.806451612903226E-2},4,{"$f":"IFERROR(IF(D435<D441,D441/D435,D435/D441),\"\")","v":1.8453670634920636},{"$f":"IFERROR(D435/IF((C435*E420)<150,150,C435*E420)^0.25*34.9964,\"\")","v":0.16388578677171131},2,100000,{"$f":"IF(OR(I435<=0,I435>1000000000),\"\",I420/I435/L419)","v":17.5},{"$f":"IF(OR(J435=\"\",L435<=0,M420>1),\"\",IF(L435=\"Freilos\",M419/(1-(1/J435))/J435,IF(L435>1000000000,\"\",L435/J435/L420)))","v":2.8571428571428571E-2},2.5,{"$f":"IFERROR(IF(K435<K441,K441/K435,K435/K441),\"\")","v":1.1665933333333336},{"$f":"IFERROR(K435/IF((J435*L420)<150,150,J435*L420)^0.25*34.9964,\"\")","v":0.28571465215403163},5,800,{"$f":"IF(OR(P435<=0,P435>1000000000),\"\",P428/P435/S427)","v":12500},{"$f":"IF(OR(Q435=\"\",S435<=0,T428>1),\"\",IF(S435=\"Freilos\",T427/(1-(1/Q435))/Q435,IF(S435>1000000000,\"\",S435/Q435/S428)))","v":4.0000000000000001E-3},50,{"$f":"IFERROR(IF(R435<R466,R466/R435,R435/R466),\"\")","v":4.1895178571428575},{"$f":"IFERROR(R435/IF((Q435*S428)<150,150,Q435*S428)^0.25*34.9964,\"\")","v":1.3239020658127498E-2}]
[2,80000,{"$f":"IF(OR(B436<=0,B436>1000000000),\"\",B420/B436/E419)","v":19.375},{"$f":"IF(OR(C436=\"\",E436<=0,F420>1),\"\",IF(E436=\"Freilos\",F419/(1-(1/C436))/C436,IF(E436>1000000000,\"\",E436/C436/E420)))","v":1.5483870967741935E-2},3,{"$f":"IFERROR(IF(D436<D441,D441/D436,D436/D441),\"\")","v":2.1529282407407409},{"$f":"IFERROR(D436/IF((C436*E420)<150,150,C436*E420)^0.25*34.9964,\"\")","v":0.14524208927335536},2,100000,{"$f":"IF(OR(I436<=0,I436>1000000000),\"\",I420/I436/L419)","v":17.5},{"$f":"IF(OR(J436=\"\",L436<=0,M420>1),\"\",IF(L436=\"Freilos\",M419/(1-(1/J436))/J436,IF(L436>1000000000,\"\",L436/J436/L420)))","v":2.2857142857142857E-2},2,{"$f":"IFERROR(IF(K436<K441,K441/K436,K436/K441),\"\")","v":1.4582416666666669},{"$f":"IFERROR(K436/IF((J436*L420)<150,150,J436*L420)^0.25*34.9964,\"\")","v":0.22857172172322535},5,800,{"$f":"IF(OR(P436<=0,P436>1000000000),\"\",P428/P436/S427)","v":12500},{"$f":"IF(OR(Q436=\"\",S436<=0,T428>1),\"\",IF(S436=\"Freilos\",T427/(1-(1/Q436))/Q436,IF(S436>1000000000,\"\",S436/Q436/S428)))","v":1.1999999999999999E-3},15,{"$f":"IFERROR(IF(R436<R466,R466/R436,R436/R466),\"\")","v":13.965059523809527},{"$f":"IFERROR(R436/IF((Q436*S428)<150,150,Q436*S428)^0.25*34.9964,\"\")","v":3.9717061974382482E-3}]
[2,90000,{"$f":"IF(OR(B437<=0,B437>1000000000),\"\",B420/B437/E419)","v":17.222222222222221},{"$f":"IF(OR(C437=\"\",E437<=0,F420>1),\"\",IF(E437=\"Freilos\",F419/(1-(1/C437))/C437,IF(E437>1000000000,\"\",E437/C437/E420)))","v":8.7096774193548387E-2},15,{"$f":"IFERROR(IF(D437<D441,D441/D437,D437/D441),\"\")","v":2.612720616301011},{"$f":"IFERROR(D437/IF((C437*E420)<150,150,C437*E420)^0.25*34.9964,\"\")","v":0.84140123455597993},2,105000,{"$f":"IF(OR(I437<=0,I437>1000000000),\"\",I420/I437/L419)","v":16.666666666666668},{"$f":"IF(OR(J437=\"\",L437<=0,M420>1),\"\",IF(L437=\"Freilos\",M419/(1-(1/J437))/J437,IF(L437>1000000000,\"\",L437/J437/L420)))","v":7.1999999999999995E-2},6,{"$f":"IFERROR(IF(K437<K441,K441/K437,K437/K441),\"\")","v":2.1601357799633116},{"$f":"IFERROR(K437/IF((J437*L420)<150,150,J437*L420)^0.25*34.9964,\"\")","v":0.7200009234281598},5,800,{"$f":"IF(OR(P437<=0,P437>1000000000),\"\",P428/P437/S427)","v":12500},{"$f":"IF(OR(Q437=\"\",S437<=0,T428>1),\"\",IF(S437=\"Freilos\",T427/(1-(1/Q437))/Q437,IF(S437>1000000000,\"\",S437/Q437/S428)))","v":9.6000000000000002E-4},12,{"$f":"IFERROR(IF(R437<R466,R466/R437,R437/R466),\"\")","v":17.456324404761908},{"$f":"IFERROR(R437/IF((Q437*S428)<150,150,Q437*S428)^0.25*34.9964,\"\")","v":3.1773649579505993E-3}]
[2,90000,{"$f":"IF(OR(B438<=0,B438>1000000000),\"\",B420/B438/E419)","v":17.222222222222221},{"$f":"IF(OR(C438=\"\",E438<=0,F420>1),\"\",IF(E438=\"Freilos\",F419/(1-(1/C438))/C438,IF(E438>1000000000,\"\",E438/C438/E420)))","v":1.1612903225806452E-2},2,{"$f":"IFERROR(IF(D438<D441,D441/D438,D438/D441),\"\")","v":2.8705709876543213},{"$f":"IFERROR(D438/IF((C438*E420)<150,150,C438*E420)^0.25*34.9964,\"\")","v":0.11218683127413068},2,110000,{"$f":"IF(OR(I438<=0,I438>1000000000),\"\",I420/I438/L419)","v":15.909090909090908},{"$f":"IF(OR(J438=\"\",L438<=0,M420>1),\"\",IF(L438=\"Freilos\",M419/(1-(1/J438))/J438,IF(L438>1000000000,\"\",L438/J438/L420)))","v":1.2571428571428572E-2},1,{"$f":"IFERROR(IF(K438<K441,K441/K438,K438/K441),\"\")","v":2.6513484848484854},{"$f":"IFERROR(K438/IF((J438*L420)<150,150,J438*L420)^0.25*34.9964,\"\")","v":0.12571444694777395},4,1200,{"$f":"IF(OR(P438<=0,P438>1000000000),\"\",P428/P438/S427)","v":8333.3333333333339},{"$f":"IF(OR(Q438=\"\",S438<=0,T428>1),\"\",IF(S438=\"Freilos\",T427/(1-(1/Q438))/Q438,IF(S438>1000000000,\"\",S438/Q438/S428)))","v":8.0400000000000003E-3},67,{"$f":"IFERROR(IF(R438<R466,R466/R438,R438/R466),\"\")","v":2.0843372423596307},{"$f":"IFERROR(R438/IF((Q438*S428)<150,150,Q438*S428)^0.25*34.9964,\"\")","v":2.9449283441746389E-2}]
[2,95000,{"$f":"IF(OR(B439<=0,B439>1000000000),\"\",B420/B439/E419)","v":16.315789473684209},{"$f":"IF(OR(C439=\"\",E439<=0,F420>1),\"\",IF(E439=\"Freilos\",F419/(1-(1/C439))/C439,IF(E439>1000000000,\"\",E439/C439/E420)))","v":7.3548387096774206E-2},12,{"$f":"IFERROR(IF(D439<D441,D441/D439,D439/D441),\"\")","v":2.2062974093208538},{"$f":"IFERROR(D439/IF((C439*E420)<150,150,C439*E420)^0.25*34.9964,\"\")","v":0.72018571315855406},2,120000,{"$f":"IF(OR(I439<=0,I439>1000000000),\"\",I420/I439/L419)","v":14.583333333333334},{"$f":"IF(OR(J439=\"\",L439<=0,M420>1),\"\",IF(L439=\"Freilos\",M419/(1-(1/J439))/J439,IF(L439>1000000000,\"\",L439/J439/L420)))","v":6.8571428571428575E-2},5,{"$f":"IFERROR(IF(K439<K441,K441/K439,K439/K441),\"\")","v":2.0572721713936302},{"$f":"IFERROR(K439/IF((J439*L420)<150,150,J439*L420)^0.25*34.9964,\"\")","v":0.68571516516967601},4,1200,{"$f":"IF(OR(P439<=0,P439>1000000000),\"\",P428/P439/S427)","v":8333.3333333333339},{"$f":"IF(OR(Q439=\"\",S439<=0,T428>1),\"\",IF(S439=\"Freilos\",T427/(1-(1/Q439))/Q439,IF(S439>1000000000,\"\",S439/Q439/S428)))","v":7.5599999999999999E-3},63,{"$f":"IFERROR(IF(R439<R466,R466/R439,R439/R466),\"\")","v":2.2166761148904008},{"$f":"IFERROR(R439/IF((Q439*S428)<150,150,Q439*S428)^0.25*34.9964,\"\")","v":2.7691117266119739E-2}]
[null,{"$f":"IF(SUM(B422:B439)=0,\"\",SUM(B422:B439))","v":722419},{"$f":"IF(OR(B440<=0,B440>1000000000),\"\",B420/B440/E419)","v":2.145569261052104},{"$f":"IF(SUM(D422:D439)=0,\"\",SUM(D422:D439))","v":0.60004193548387108},{"$f":"IFERROR(E420*D440,\"\")","v":6.0004193548387104},{"$f":"IFERROR(AVERAGE(F422:F439),\"\")","v":3.3446742200116319},{"$f":"IF(SUM(G422:G439)=0,\"\",SUM(G422:G439))","v":4.8974444438846811},null,{"$f":"IF(SUM(I422:I439)=0,\"\",SUM(I422:I439))","v":841970},{"$f":"IF(OR(I440<=0,I440>1000000000),\"\",I420/I440/L419)","v":2.0784588524531751},{"$f":"IF(SUM(K422:K439)=0,\"\",SUM(K422:K439))","v":0.59996228571428578},{"$f":"IFERROR(L420*K440,\"\")","v":2.9998114285714288},{"$f":"IFERROR(AVERAGE(M422:M439),\"\")","v":4.7355055770224768},{"$f":"IF(SUM(N422:N439)=0,\"\",SUM(N422:N439))","v":5.473533692643243},4,1200,{"$f":"IF(OR(P440<=0,P440>1000000000),\"\",P428/P440/S427)","v":8333.3333333333339},{"$f":"IF(OR(Q440=\"\",S440<=0,T428>1),\"\",IF(S440=\"Freilos\",T427/(1-(1/Q440))/Q440,IF(S440>1000000000,\"\",S440/Q440/S428)))","v":7.4999999999999997E-3},62.5,{"$f":"IFERROR(IF(R440<R466,R466/R440,R440/R466),\"\")","v":2.2344095238095241},{"$f":"IFERROR(R440/IF((Q440*S428)<150,150,Q440*S428)^0.25*34.9964,\"\")","v":2.7471346494166406E-2}]
[null,null,null,{"$f":"AVERAGE(D422:D439)","v":3.3335663082437281E-2},null,null,null,null,null,null,{"$f":"AVERAGE(K422:K439)","v":3.3331238095238101E-2},null,null,null,4,2000,{"$f":"IF(OR(P441<=0,P441>1000000000),\"\",P428/P441/S427)","v":5000},{"$f":"IF(OR(Q441=\"\",S441<=0,T428>1),\"\",IF(S441=\"Freilos\",T427/(1-(1/Q441))/Q441,IF(S441>1000000000,\"\",S441/Q441/S428)))","v":2.0999999999999999E-3},10.5,{"$f":"IFERROR(IF(R441<R466,R466/R441,R441/R466),\"\")","v":7.9800340136054437},{"$f":"IFERROR(R441/IF((Q441*S428)<150,150,Q441*S428)^0.25*34.9964,\"\")","v":8.7397732546910557E-3}]
[null,null,null,null,null,null,null,null,null,null,null,null,null,null,4,2000,{"$f":"IF(OR(P442<=0,P442>1000000000),\"\",P428/P442/S427)","v":5000},{"$f":"IF(OR(Q442=\"\",S442<=0,T428>1),\"\",IF(S442=\"Freilos\",T427/(1-(1/Q442))/Q442,IF(S442>1000000000,\"\",S442/Q442/S428)))","v":2E-3},10,{"$f":"IFERROR(IF(R442<R466,R466/R442,R442/R466),\"\")","v":8.379035714285715},{"$f":"IFERROR(R442/IF((Q442*S428)<150,150,Q442*S428)^0.25*34.9964,\"\")","v":8.3235935758962445E-3}]
[null,"AstroLos",null,null,1,{"$f":"IFERROR(SUMIF(E446:E460,\"<>Freilos\",D446:D460),\"\")","v":0.62266666666666659},null,null,"Schnelle 100 €",null,null,1,{"$f":"IFERROR(SUMIF(L446:L460,\"<>Freilos\",K446:K460),\"\")","v":0.60000000000000009},null,4,2000,{"$f":"IF(OR(P443<=0,P443>1000000000),\"\",P428/P443/S427)","v":5000},{"$f":"IF(OR(Q443=\"\",S443<=0,T428>1),\"\",IF(S443=\"Freilos\",T427/(1-(1/Q443))/Q443,IF(S443>1000000000,\"\",S443/Q443/S428)))","v":1.4E-3},7,{"$f":"IFERROR(IF(R443<R466,R466/R443,R443/R466),\"\")","v":11.970051020408166},{"$f":"IFERROR(R443/IF((Q443*S428)<150,150,Q443*S428)^0.25*34.9964,\"\")","v":5.8265155031273714E-3}]
[null,6000000,null,null,{"$f":"E443*2","v":2},{"$f":"IFERROR(COUNTIF(E446:E460,\"Freilos\"),\"\")","v":0},null,null,10000,null,null,{"$f":"L443*1","v":1},{"$f":"IFERROR(COUNTIF(L446:L460,\"Freilos\"),\"\")","v":0},null,4,2000,{"$f":"IF(OR(P444<=0,P444>1000000000),\"\",P428/P444/S427)","v":5000},{"$f":"IF(OR(Q444=\"\",S444<=0,T428>1),\"\",IF(S444=\"Freilos\",T427/(1-(1/Q444))/Q444,IF(S444>1000000000,\"\",S444/Q444/S428)))","v":1.1999999999999999E-3},6,{"$f":"IFERROR(IF(R444<R466,R466/R444,R444/R466),\"\")","v":13.965059523809527},{"$f":"IFERROR(R444/IF((Q444*S428)<150,150,Q444*S428)^0.25*34.9964,\"\")","v":4.9941561455377464E-3}]
[null,"Losanzahl",{"$f":"IF(E443=1,\"Chancen 1:\",\"Ø Gewinne 1:\")","v":"Chancen 1:"},"Ø AQ","(Ø) Gewinn",null,null,null,"Losanzahl",{"$f":"IF(L443=1,\"Chancen 1:\",\"Ø Gewinne 1:\")","v":"Chancen 1:"},"Ø AQ","(Ø) Gewinn",null,null,4,2000,{"$f":"IF(OR(P445<=0,P445>1000000000),\"\",P428/P445/S427)","v":5000},{"$f":"IF(OR(Q445=\"\",S445<=0,T428>1),\"\",IF(S445=\"Freilos\",T427/(1-(1/Q445))/Q445,IF(S445>1000000000,\"\",S445/Q445/S428)))","v":1.1000000000000001E-3},5.5,{"$f":"IFERROR(IF(R445<R466,R466/R445,R445/R466),\"\")","v":15.234610389610392},{"$f":"IFERROR(R445/IF((Q445*S428)<150,150,Q445*S428)^0.25*34.9964,\"\")","v":4.5779764667429352E-3}]
[7,1,{"$f":"IF(OR(B446<=0,B446>1000000000),\"\",B444/B446/E443)","v":6000000},{"$f":"IF(OR(C446=\"\",E446<=0,F444>1),\"\",IF(E446=\"Freilos\",F443/(1-(1/C446))/C446,IF(E446>1000000000,\"\",E446/C446/E444)))","v":1.2500000000000001E-2},150000,{"$f":"IFERROR(IF(D446<D462,D462/D446,D446/D462),\"\")","v":3.3208888888888879},{"$f":"IFERROR(D446/IF((C446*E444)<150,150,C446*E444)^0.25*34.9964,\"\")","v":7.432554001295979E-3},5,1,{"$f":"IF(OR(I446<=0,I446>1000000000),\"\",I444/I446/L443)","v":10000},{"$f":"IF(OR(J446=\"\",L446<=0,M444>1),\"\",IF(L446=\"Freilos\",M443/(1-(1/J446))/J446,IF(L446>1000000000,\"\",L446/J446/L444)))","v":7.0000000000000001E-3},70,{"$f":"IFERROR(IF(K446<K462,K462/K446,K446/K462),\"\")","v":5.7142857142857153},{"$f":"IFERROR(K446/IF((J446*L444)<150,150,J446*L444)^0.25*34.9964,\"\")","v":2.4497479999999999E-2},4,4000,{"$f":"IF(OR(P446<=0,P446>1000000000),\"\",P428/P446/S427)","v":2500},{"$f":"IF(OR(Q446=\"\",S446<=0,T428>1),\"\",IF(S446=\"Freilos\",T427/(1-(1/Q446))/Q446,IF(S446>1000000000,\"\",S446/Q446/S428)))","v":6.7999999999999996E-3},17,{"$f":"IFERROR(IF(R446<R466,R466/R446,R446/R466),\"\")","v":2.4644222689075637},{"$f":"IFERROR(R446/IF((Q446*S428)<150,150,Q446*S428)^0.25*34.9964,\"\")","v":3.3654820789678977E-2}]
[7,2,{"$f":"IF(OR(B447<=0,B447>1000000000),\"\",B444/B447/E443)","v":3000000},{"$f":"IF(OR(C447=\"\",E447<=0,F444>1),\"\",IF(E447=\"Freilos\",F443/(1-(1/C447))/C447,IF(E447>1000000000,\"\",E447/C447/E444)))","v":3.3333333333333335E-3},20000,{"$f":"IFERROR(IF(D447<D462,D462/D447,D447/D462),\"\")","v":12.45333333333333},{"$f":"IFERROR(D447/IF((C447*E444)<150,150,C447*E444)^0.25*34.9964,\"\")","v":2.3570256269288326E-3},5,1,{"$f":"IF(OR(I447<=0,I447>1000000000),\"\",I444/I447/L443)","v":10000},{"$f":"IF(OR(J447=\"\",L447<=0,M444>1),\"\",IF(L447=\"Freilos\",M443/(1-(1/J447))/J447,IF(L447>1000000000,\"\",L447/J447/L444)))","v":6.0000000000000001E-3},60,{"$f":"IFERROR(IF(K447<K462,K462/K447,K447/K462),\"\")","v":6.6666666666666679},{"$f":"IFERROR(K447/IF((J447*L444)<150,150,J447*L444)^0.25*34.9964,\"\")","v":2.099784E-2},4,4500,{"$f":"IF(OR(P447<=0,P447>1000000000),\"\",P428/P447/S427)","v":2222.2222222222222},{"$f":"IF(OR(Q447=\"\",S447<=0,T428>1),\"\",IF(S447=\"Freilos\",T427/(1-(1/Q447))/Q447,IF(S447>1000000000,\"\",S447/Q447/S428)))","v":6.9750000000000003E-3},15.5,{"$f":"IFERROR(IF(R447<R466,R466/R447,R447/R466),\"\")","v":2.4025908858166924},{"$f":"IFERROR(R447/IF((Q447*S428)<150,150,Q447*S428)^0.25*34.9964,\"\")","v":3.5552546420898827E-2}]
[7,5,{"$f":"IF(OR(B448<=0,B448>1000000000),\"\",B444/B448/E443)","v":1200000},{"$f":"IF(OR(C448=\"\",E448<=0,F444>1),\"\",IF(E448=\"Freilos\",F443/(1-(1/C448))/C448,IF(E448>1000000000,\"\",E448/C448/E444)))","v":4.1666666666666666E-3},10000,{"$f":"IFERROR(IF(D448<D462,D462/D448,D448/D462),\"\")","v":9.9626666666666654},{"$f":"IFERROR(D448/IF((C448*E444)<150,150,C448*E444)^0.25*34.9964,\"\")","v":3.7047535223996165E-3},4,2,{"$f":"IF(OR(I448<=0,I448>1000000000),\"\",I444/I448/L443)","v":5000},{"$f":"IF(OR(J448=\"\",L448<=0,M444>1),\"\",IF(L448=\"Freilos\",M443/(1-(1/J448))/J448,IF(L448>1000000000,\"\",L448/J448/L444)))","v":0.01},50,{"$f":"IFERROR(IF(K448<K462,K462/K448,K448/K462),\"\")","v":4.0000000000000009},{"$f":"IFERROR(K448/IF((J448*L444)<150,150,J448*L444)^0.25*34.9964,\"\")","v":4.1617967879481223E-2},4,5000,{"$f":"IF(OR(P448<=0,P448>1000000000),\"\",P428/P448/S427)","v":2000},{"$f":"IF(OR(Q448=\"\",S448<=0,T428>1),\"\",IF(S448=\"Freilos\",T427/(1-(1/Q448))/Q448,IF(S448>1000000000,\"\",S448/Q448/S428)))","v":8.9999999999999993E-3},18,{"$f":"IFERROR(IF(R448<R466,R466/R448,R448/R466),\"\")","v":1.8620079365079369},{"$f":"IFERROR(R448/IF((Q448*S428)<150,150,Q448*S428)^0.25*34.9964,\"\")","v":4.7098641678417291E-2}]
[6,10,{"$f":"IF(OR(B449<=0,B449>1000000000),\"\",B444/B449/E443)","v":600000},{"$f":"IF(OR(C449=\"\",E449<=0,F444>1),\"\",IF(E449=\"Freilos\",F443/(1-(1/C449))/C449,IF(E449>1000000000,\"\",E449/C449/E444)))","v":4.1666666666666666E-3},5000,{"$f":"IFERROR(IF(D449<D462,D462/D449,D449/D462),\"\")","v":9.9626666666666654},{"$f":"IFERROR(D449/IF((C449*E444)<150,150,C449*E444)^0.25*34.9964,\"\")","v":4.4057192481690172E-3},4,7,{"$f":"IF(OR(I449<=0,I449>1000000000),\"\",I444/I449/L443)","v":1428.5714285714287},{"$f":"IF(OR(J449=\"\",L449<=0,M444>1),\"\",IF(L449=\"Freilos\",M443/(1-(1/J449))/J449,IF(L449>1000000000,\"\",L449/J449/L444)))","v":1.3999999999999999E-2},20,{"$f":"IFERROR(IF(K449<K462,K462/K449,K449/K462),\"\")","v":2.8571428571428581},{"$f":"IFERROR(K449/IF((J449*L444)<150,150,J449*L444)^0.25*34.9964,\"\")","v":7.9694053577320539E-2},4,5000,{"$f":"IF(OR(P449<=0,P449>1000000000),\"\",P428/P449/S427)","v":2000},{"$f":"IF(OR(Q449=\"\",S449<=0,T428>1),\"\",IF(S449=\"Freilos\",T427/(1-(1/Q449))/Q449,IF(S449>1000000000,\"\",S449/Q449/S428)))","v":8.7500000000000008E-3},17.5,{"$f":"IFERROR(IF(R449<R466,R466/R449,R449/R466),\"\")","v":1.9152081632653062},{"$f":"IFERROR(R449/IF((Q449*S428)<150,150,Q449*S428)^0.25*34.9964,\"\")","v":4.5790346076239039E-2}]
[5,100,{"$f":"IF(OR(B450<=0,B450>1000000000),\"\",B444/B450/E443)","v":60000},{"$f":"IF(OR(C450=\"\",E450<=0,F444>1),\"\",IF(E450=\"Freilos\",F443/(1-(1/C450))/C450,IF(E450>1000000000,\"\",E450/C450/E444)))","v":0.01},1200,{"$f":"IFERROR(IF(D450<D462,D462/D450,D450/D462),\"\")","v":4.1511111111111099},{"$f":"IFERROR(D450/IF((C450*E444)<150,150,C450*E444)^0.25*34.9964,\"\")","v":1.8803039581034704E-2},4,8,{"$f":"IF(OR(I450<=0,I450>1000000000),\"\",I444/I450/L443)","v":1250},{"$f":"IF(OR(J450=\"\",L450<=0,M444>1),\"\",IF(L450=\"Freilos\",M443/(1-(1/J450))/J450,IF(L450>1000000000,\"\",L450/J450/L444)))","v":1.2E-2},15,{"$f":"IFERROR(IF(K450<K462,K462/K450,K450/K462),\"\")","v":3.3333333333333339},{"$f":"IFERROR(K450/IF((J450*L444)<150,150,J450*L444)^0.25*34.9964,\"\")","v":7.0628033536284246E-2},4,5250,{"$f":"IF(OR(P450<=0,P450>1000000000),\"\",P428/P450/S427)","v":1904.7619047619048},{"$f":"IF(OR(Q450=\"\",S450<=0,T428>1),\"\",IF(S450=\"Freilos\",T427/(1-(1/Q450))/Q450,IF(S450>1000000000,\"\",S450/Q450/S428)))","v":6.5624999999999998E-3},12.5,{"$f":"IFERROR(IF(R450<R466,R466/R450,R450/R466),\"\")","v":2.5536108843537422},{"$f":"IFERROR(R450/IF((Q450*S428)<150,150,Q450*S428)^0.25*34.9964,\"\")","v":3.4764221953405117E-2}]
[4,1000,{"$f":"IF(OR(B451<=0,B451>1000000000),\"\",B444/B451/E443)","v":6000},{"$f":"IF(OR(C451=\"\",E451<=0,F444>1),\"\",IF(E451=\"Freilos\",F443/(1-(1/C451))/C451,IF(E451>1000000000,\"\",E451/C451/E444)))","v":1.6666666666666666E-2},200,{"$f":"IFERROR(IF(D451<D462,D462/D451,D451/D462),\"\")","v":2.4906666666666664},{"$f":"IFERROR(D451/IF((C451*E444)<150,150,C451*E444)^0.25*34.9964,\"\")","v":5.5728430221834852E-2},3,18,{"$f":"IF(OR(I451<=0,I451>1000000000),\"\",I444/I451/L443)","v":555.55555555555554},{"$f":"IF(OR(J451=\"\",L451<=0,M444>1),\"\",IF(L451=\"Freilos\",M443/(1-(1/J451))/J451,IF(L451>1000000000,\"\",L451/J451/L444)))","v":1.8000000000000002E-2},10,{"$f":"IFERROR(IF(K451<K462,K462/K451,K451/K462),\"\")","v":2.2222222222222223},{"$f":"IFERROR(K451/IF((J451*L444)<150,150,J451*L444)^0.25*34.9964,\"\")","v":0.12975198277505592},4,8000,{"$f":"IF(OR(P451<=0,P451>1000000000),\"\",P428/P451/S427)","v":1250},{"$f":"IF(OR(Q451=\"\",S451<=0,T428>1),\"\",IF(S451=\"Freilos\",T427/(1-(1/Q451))/Q451,IF(S451>1000000000,\"\",S451/Q451/S428)))","v":8.8000000000000005E-3},11,{"$f":"IFERROR(IF(R451<R466,R466/R451,R451/R466),\"\")","v":1.904326298701299},{"$f":"IFERROR(R451/IF((Q451*S428)<150,150,Q451*S428)^0.25*34.9964,\"\")","v":5.1793891259941771E-2}]
[4,1000,{"$f":"IF(OR(B452<=0,B452>1000000000),\"\",B444/B452/E443)","v":6000},{"$f":"IF(OR(C452=\"\",E452<=0,F444>1),\"\",IF(E452=\"Freilos\",F443/(1-(1/C452))/C452,IF(E452>1000000000,\"\",E452/C452/E444)))","v":8.3333333333333332E-3},100,{"$f":"IFERROR(IF(D452<D462,D462/D452,D452/D462),\"\")","v":4.9813333333333327},{"$f":"IFERROR(D452/IF((C452*E444)<150,150,C452*E444)^0.25*34.9964,\"\")","v":2.7864215110917426E-2},3,25,{"$f":"IF(OR(I452<=0,I452>1000000000),\"\",I444/I452/L443)","v":400},{"$f":"IF(OR(J452=\"\",L452<=0,M444>1),\"\",IF(L452=\"Freilos\",M443/(1-(1/J452))/J452,IF(L452>1000000000,\"\",L452/J452/L444)))","v":0.25},100,{"$f":"IFERROR(IF(K452<K462,K462/K452,K452/K462),\"\")","v":6.2499999999999991},{"$f":"IFERROR(K452/IF((J452*L444)<150,150,J452*L444)^0.25*34.9964,\"\")","v":1.9563582341943413},4,8000,{"$f":"IF(OR(P452<=0,P452>1000000000),\"\",P428/P452/S427)","v":1250},{"$f":"IF(OR(Q452=\"\",S452<=0,T428>1),\"\",IF(S452=\"Freilos\",T427/(1-(1/Q452))/Q452,IF(S452>1000000000,\"\",S452/Q452/S428)))","v":4.0000000000000001E-3},5,{"$f":"IFERROR(IF(R452<R466,R466/R452,R452/R466),\"\")","v":4.1895178571428575},{"$f":"IFERROR(R452/IF((Q452*S428)<150,150,Q452*S428)^0.25*34.9964,\"\")","v":2.354267784542808E-2}]
[4,4000,{"$f":"IF(OR(B453<=0,B453>1000000000),\"\",B444/B453/E443)","v":1500},{"$f":"IF(OR(C453=\"\",E453<=0,F444>1),\"\",IF(E453=\"Freilos\",F443/(1-(1/C453))/C453,IF(E453>1000000000,\"\",E453/C453/E444)))","v":0.01},30,{"$f":"IFERROR(IF(D453<D462,D462/D453,D453/D462),\"\")","v":4.1511111111111099},{"$f":"IFERROR(D453/IF((C453*E444)<150,150,C453*E444)^0.25*34.9964,\"\")","v":4.728714109768891E-2},3,60,{"$f":"IF(OR(I453<=0,I453>1000000000),\"\",I444/I453/L443)","v":166.66666666666666},{"$f":"IF(OR(J453=\"\",L453<=0,M444>1),\"\",IF(L453=\"Freilos\",M443/(1-(1/J453))/J453,IF(L453>1000000000,\"\",L453/J453/L444)))","v":3.0000000000000002E-2},5,{"$f":"IFERROR(IF(K453<K462,K462/K453,K453/K462),\"\")","v":1.3333333333333335},{"$f":"IFERROR(K453/IF((J453*L444)<150,150,J453*L444)^0.25*34.9964,\"\")","v":0.29220149868695866},4,8750,{"$f":"IF(OR(P453<=0,P453>1000000000),\"\",P428/P453/S427)","v":1142.8571428571429},{"$f":"IF(OR(Q453=\"\",S453<=0,T428>1),\"\",IF(S453=\"Freilos\",T427/(1-(1/Q453))/Q453,IF(S453>1000000000,\"\",S453/Q453/S428)))","v":1.1375E-2},13,{"$f":"IFERROR(IF(R453<R466,R466/R453,R453/R466),\"\")","v":1.4732370486656203},{"$f":"IFERROR(R453/IF((Q453*S428)<150,150,Q453*S428)^0.25*34.9964,\"\")","v":6.8466289222298041E-2}]
[{"$f":"IF(C454=\"\",0,IF(C454>=1000000,7,IF(C454>=100000,6,IF(C454>=10000,5,IF(C454>=1000,4,IF(C454>=100,3,IF(C454>=10,2,1)))))))","v":3},8000,{"$f":"IF(OR(B454<=0,B454>1000000000),\"\",B444/B454/E443)","v":750},{"$f":"IF(OR(C454=\"\",E454<=0,F444>1),\"\",IF(E454=\"Freilos\",F443/(1-(1/C454))/C454,IF(E454>1000000000,\"\",E454/C454/E444)))","v":1.6E-2},24,{"$f":"IFERROR(IF(D454<D462,D462/D454,D454/D462),\"\")","v":2.5944444444444437},{"$f":"IFERROR(D454/IF((C454*E444)<150,150,C454*E444)^0.25*34.9964,\"\")","v":8.9974727426414755E-2},{"$f":"IF(J454=\"\",0,IF(J454>=1000000,7,IF(J454>=100000,6,IF(J454>=10000,5,IF(J454>=1000,4,IF(J454>=100,3,IF(J454>=10,2,1)))))))","v":3},100,{"$f":"IF(OR(I454<=0,I454>1000000000),\"\",I444/I454/L443)","v":100},{"$f":"IF(OR(J454=\"\",L454<=0,M444>1),\"\",IF(L454=\"Freilos\",M443/(1-(1/J454))/J454,IF(L454>1000000000,\"\",L454/J454/L444)))","v":0.01},1,{"$f":"IFERROR(IF(K454<K462,K462/K454,K454/K462),\"\")","v":4.0000000000000009},{"$f":"IFERROR(K454/IF((J454*L444)<150,150,J454*L444)^0.25*34.9964,\"\")","v":0.10000012825391109},3,16000,{"$f":"IF(OR(P454<=0,P454>1000000000),\"\",P428/P454/S427)","v":625},{"$f":"IF(OR(Q454=\"\",S454<=0,T428>1),\"\",IF(S454=\"Freilos\",T427/(1-(1/Q454))/Q454,IF(S454>1000000000,\"\",S454/Q454/S428)))","v":2.1600000000000001E-2},13.5,{"$f":"IFERROR(IF(R454<R466,R466/R454,R454/R466),\"\")","v":1.2889311333984048},{"$f":"IFERROR(R454/IF((Q454*S428)<150,150,Q454*S428)^0.25*34.9964,\"\")","v":0.15118444800000003}]
[3,10000,{"$f":"IF(OR(B455<=0,B455>1000000000),\"\",B444/B455/E443)","v":600},{"$f":"IF(OR(C455=\"\",E455<=0,F444>1),\"\",IF(E455=\"Freilos\",F443/(1-(1/C455))/C455,IF(E455>1000000000,\"\",E455/C455/E444)))","v":1.6666666666666666E-2},20,{"$f":"IFERROR(IF(D455<D462,D462/D455,D455/D462),\"\")","v":2.4906666666666664},{"$f":"IFERROR(D455/IF((C455*E444)<150,150,C455*E444)^0.25*34.9964,\"\")","v":9.9100720017279723E-2},2,125,{"$f":"IF(OR(I455<=0,I455>1000000000),\"\",I444/I455/L443)","v":80},{"$f":"IF(OR(J455=\"\",L455<=0,M444>1),\"\",IF(L455=\"Freilos\",M443/(1-(1/J455))/J455,IF(L455>1000000000,\"\",L455/J455/L444)))","v":2.5000000000000001E-2},2,{"$f":"IFERROR(IF(K455<K462,K462/K455,K455/K462),\"\")","v":1.6000000000000003},{"$f":"IFERROR(K455/IF((J455*L444)<150,150,J455*L444)^0.25*34.9964,\"\")","v":0.25000032063477773},3,20000,{"$f":"IF(OR(P455<=0,P455>1000000000),\"\",P428/P455/S427)","v":500},{"$f":"IF(OR(Q455=\"\",S455<=0,T428>1),\"\",IF(S455=\"Freilos\",T427/(1-(1/Q455))/Q455,IF(S455>1000000000,\"\",S455/Q455/S428)))","v":1.6E-2},8,{"$f":"IFERROR(IF(R455<R466,R466/R455,R455/R466),\"\")","v":1.0473794642857144},{"$f":"IFERROR(R455/IF((Q455*S428)<150,150,Q455*S428)^0.25*34.9964,\"\")","v":0.11841340058838837}]
[2,100000,{"$f":"IF(OR(B456<=0,B456>1000000000),\"\",B444/B456/E443)","v":60},{"$f":"IF(OR(C456=\"\",E456<=0,F444>1),\"\",IF(E456=\"Freilos\",F443/(1-(1/C456))/C456,IF(E456>1000000000,\"\",E456/C456/E444)))","v":1.6666666666666666E-2},2,{"$f":"IFERROR(IF(D456<D462,D462/D456,D456/D462),\"\")","v":2.4906666666666664},{"$f":"IFERROR(D456/IF((C456*E444)<150,150,C456*E444)^0.25*34.9964,\"\")","v":0.16666688042318514},2,300,{"$f":"IF(OR(I456<=0,I456>1000000000),\"\",I444/I456/L443)","v":33.333333333333336},{"$f":"IF(OR(J456=\"\",L456<=0,M444>1),\"\",IF(L456=\"Freilos\",M443/(1-(1/J456))/J456,IF(L456>1000000000,\"\",L456/J456/L444)))","v":6.7499999999999991E-2},2.25,{"$f":"IFERROR(IF(K456<K462,K462/K456,K456/K462),\"\")","v":1.6874999999999993},{"$f":"IFERROR(K456/IF((J456*L444)<150,150,J456*L444)^0.25*34.9964,\"\")","v":0.67500086571389972},3,35000,{"$f":"IF(OR(P456<=0,P456>1000000000),\"\",P428/P456/S427)","v":285.71428571428572},{"$f":"IF(OR(Q456=\"\",S456<=0,T428>1),\"\",IF(S456=\"Freilos\",T427/(1-(1/Q456))/Q456,IF(S456>1000000000,\"\",S456/Q456/S428)))","v":1.0499999999999999E-2},3,{"$f":"IFERROR(IF(R456<R466,R466/R456,R456/R466),\"\")","v":1.5960068027210887},{"$f":"IFERROR(R456/IF((Q456*S428)<150,150,Q456*S428)^0.25*34.9964,\"\")","v":8.9377804415568696E-2}]
[2,155000,{"$f":"IF(OR(B457<=0,B457>1000000000),\"\",B444/B457/E443)","v":38.70967741935484},{"$f":"IF(OR(C457=\"\",E457<=0,F444>1),\"\",IF(E457=\"Freilos\",F443/(1-(1/C457))/C457,IF(E457>1000000000,\"\",E457/C457/E444)))","v":0.155},12,{"$f":"IFERROR(IF(D457<D462,D462/D457,D457/D462),\"\")","v":3.733940042826553},{"$f":"IFERROR(D457/IF((C457*E444)<150,150,C457*E444)^0.25*34.9964,\"\")","v":1.5500019879356217},2,500,{"$f":"IF(OR(I457<=0,I457>1000000000),\"\",I444/I457/L443)","v":20},{"$f":"IF(OR(J457=\"\",L457<=0,M444>1),\"\",IF(L457=\"Freilos\",M443/(1-(1/J457))/J457,IF(L457>1000000000,\"\",L457/J457/L444)))","v":5.5000000000000007E-2},1.1000000000000001,{"$f":"IFERROR(IF(K457<K462,K462/K457,K457/K462),\"\")","v":1.375},{"$f":"IFERROR(K457/IF((J457*L444)<150,150,J457*L444)^0.25*34.9964,\"\")","v":0.55000070539651102},3,40000,{"$f":"IF(OR(P457<=0,P457>1000000000),\"\",P428/P457/S427)","v":250},{"$f":"IF(OR(Q457=\"\",S457<=0,T428>1),\"\",IF(S457=\"Freilos\",T427/(1-(1/Q457))/Q457,IF(S457>1000000000,\"\",S457/Q457/S428)))","v":0.03},7.5,{"$f":"IFERROR(IF(R457<R466,R466/R457,R457/R466),\"\")","v":1.7901821297200067},{"$f":"IFERROR(R457/IF((Q457*S428)<150,150,Q457*S428)^0.25*34.9964,\"\")","v":0.2640338596713353}]
[2,490000,{"$f":"IF(OR(B458<=0,B458>1000000000),\"\",B444/B458/E443)","v":12.244897959183673},{"$f":"IF(OR(C458=\"\",E458<=0,F444>1),\"\",IF(E458=\"Freilos\",F443/(1-(1/C458))/C458,IF(E458>1000000000,\"\",E458/C458/E444)))","v":0.24500000000000002},6,{"$f":"IFERROR(IF(D458<D462,D462/D458,D458/D462),\"\")","v":5.9020342612419716},{"$f":"IFERROR(D458/IF((C458*E444)<150,150,C458*E444)^0.25*34.9964,\"\")","v":2.4500031422208215},2,775,{"$f":"IF(OR(I458<=0,I458>1000000000),\"\",I444/I458/L443)","v":12.903225806451612},{"$f":"IF(OR(J458=\"\",L458<=0,M444>1),\"\",IF(L458=\"Freilos\",M443/(1-(1/J458))/J458,IF(L458>1000000000,\"\",L458/J458/L444)))","v":1.5500000000000002E-2},0.2,{"$f":"IFERROR(IF(K458<K462,K462/K458,K458/K462),\"\")","v":2.580645161290323},{"$f":"IFERROR(K458/IF((J458*L444)<150,150,J458*L444)^0.25*34.9964,\"\")","v":0.15500019879356219},3,50000,{"$f":"IF(OR(P458<=0,P458>1000000000),\"\",P428/P458/S427)","v":200},{"$f":"IF(OR(Q458=\"\",S458<=0,T428>1),\"\",IF(S458=\"Freilos\",T427/(1-(1/Q458))/Q458,IF(S458>1000000000,\"\",S458/Q458/S428)))","v":4.2500000000000003E-2},8.5,{"$f":"IFERROR(IF(R458<R466,R466/R458,R458/R466),\"\")","v":2.5360913504366764},{"$f":"IFERROR(R458/IF((Q458*S428)<150,150,Q458*S428)^0.25*34.9964,\"\")","v":0.395507572371672}]
[1,750000,{"$f":"IF(OR(B459<=0,B459>1000000000),\"\",B444/B459/E443)","v":8},{"$f":"IF(OR(C459=\"\",E459<=0,F444>1),\"\",IF(E459=\"Freilos\",F443/(1-(1/C459))/C459,IF(E459>1000000000,\"\",E459/C459/E444)))","v":6.25E-2},1,{"$f":"IFERROR(IF(D459<D462,D462/D459,D459/D462),\"\")","v":1.505620985010707},{"$f":"IFERROR(D459/IF((C459*E444)<150,150,C459*E444)^0.25*34.9964,\"\")","v":0.62500080158694427},2,800,{"$f":"IF(OR(I459<=0,I459>1000000000),\"\",I444/I459/L443)","v":12.5},{"$f":"IF(OR(J459=\"\",L459<=0,M444>1),\"\",IF(L459=\"Freilos\",M443/(1-(1/J459))/J459,IF(L459>1000000000,\"\",L459/J459/L444)))","v":0.04},0.5,{"$f":"IFERROR(IF(K459<K462,K462/K459,K459/K462),\"\")","v":0.99999999999999978},{"$f":"IFERROR(K459/IF((J459*L444)<150,150,J459*L444)^0.25*34.9964,\"\")","v":0.40000051301564438},3,80000,{"$f":"IF(OR(P459<=0,P459>1000000000),\"\",P428/P459/S427)","v":125},{"$f":"IF(OR(Q459=\"\",S459<=0,T428>1),\"\",IF(S459=\"Freilos\",T427/(1-(1/Q459))/Q459,IF(S459>1000000000,\"\",S459/Q459/S428)))","v":1.6E-2},2,{"$f":"IFERROR(IF(R459<R466,R466/R459,R459/R466),\"\")","v":1.0473794642857144},{"$f":"IFERROR(R459/IF((Q459*S428)<150,150,Q459*S428)^0.25*34.9964,\"\")","v":0.16000020520625774}]
[1,1000000,{"$f":"IF(OR(B460<=0,B460>1000000000),\"\",B444/B460/E443)","v":6},{"$f":"IF(OR(C460=\"\",E460<=0,F444>1),\"\",IF(E460=\"Freilos\",F443/(1-(1/C460))/C460,IF(E460>1000000000,\"\",E460/C460/E444)))","v":4.1666666666666664E-2},0.5,{"$f":"IFERROR(IF(D460<D462,D462/D460,D460/D462),\"\")","v":1.0037473233404712},{"$f":"IFERROR(D460/IF((C460*E444)<150,150,C460*E444)^0.25*34.9964,\"\")","v":0.41666720105796284},1,1600,{"$f":"IF(OR(I460<=0,I460>1000000000),\"\",I444/I460/L443)","v":6.25},{"$f":"IF(OR(J460=\"\",L460<=0,M444>1),\"\",IF(L460=\"Freilos\",M443/(1-(1/J460))/J460,IF(L460>1000000000,\"\",L460/J460/L444)))","v":0.04},0.25,{"$f":"IFERROR(IF(K460<K462,K462/K460,K460/K462),\"\")","v":0.99999999999999978},{"$f":"IFERROR(K460/IF((J460*L444)<150,150,J460*L444)^0.25*34.9964,\"\")","v":0.40000051301564438},3,100000,{"$f":"IF(OR(P460<=0,P460>1000000000),\"\",P428/P460/S427)","v":100},{"$f":"IF(OR(Q460=\"\",S460<=0,T428>1),\"\",IF(S460=\"Freilos\",T427/(1-(1/Q460))/Q460,IF(S460>1000000000,\"\",S460/Q460/S428)))","v":3.5000000000000003E-2},3.5,{"$f":"IFERROR(IF(R460<R466,R466/R460,R460/R466),\"\")","v":2.0885458180066747},{"$f":"IFERROR(R460/IF((Q460*S428)<150,150,Q460*S428)^0.25*34.9964,\"\")","v":0.35000044888868881}]
[null,{"$f":"IF(SUM(B446:B460)=0,\"\",SUM(B446:B460))","v":2519118},{"$f":"IF(OR(B461<=0,B461>1000000000),\"\",B444/B461/E443)","v":2.3817860060545},{"$f":"IF(SUM(D446:D460)=0,\"\",SUM(D446:D460))","v":0.62266666666666659},{"$f":"IFERROR(E444*D461,\"\")","v":1.2453333333333332},{"$f":"IFERROR(AVERAGE(F446:F460),\"\")","v":4.7463265445316836},{"$f":"IF(SUM(G446:G460)=0,\"\",SUM(G446:G460))","v":5.5649983390784987},null,{"$f":"IF(SUM(I446:I460)=0,\"\",SUM(I446:I460))","v":4322},{"$f":"IF(OR(I461<=0,I461>1000000000),\"\",I444/I461/L443)","v":2.3137436372049978},{"$f":"IF(SUM(K446:K460)=0,\"\",SUM(K446:K460))","v":0.60000000000000009},{"$f":"IFERROR(L444*K461,\"\")","v":0.60000000000000009},{"$f":"IFERROR(AVERAGE(M446:M460),\"\")","v":3.0413419525516305},{"$f":"IF(SUM(N446:N460)=0,\"\",SUM(N446:N460))","v":5.1457503354733927},2,130000,{"$f":"IF(OR(P461<=0,P461>1000000000),\"\",P428/P461/S427)","v":76.92307692307692},{"$f":"IF(OR(Q461=\"\",S461<=0,T428>1),\"\",IF(S461=\"Freilos\",T427/(1-(1/Q461))/Q461,IF(S461>1000000000,\"\",S461/Q461/S428)))","v":3.2500000000000001E-2},2.5,{"$f":"IFERROR(IF(R461<R466,R466/R461,R461/R466),\"\")","v":1.9393639738633406},{"$f":"IFERROR(R461/IF((Q461*S428)<150,150,Q461*S428)^0.25*34.9964,\"\")","v":0.32500041682521102}]
[null,null,null,{"$f":"AVERAGE(D446:D460)","v":4.1511111111111103E-2},null,null,null,null,null,null,{"$f":"AVERAGE(K446:K460)","v":4.0000000000000008E-2},null,null,null,2,500000,{"$f":"IF(OR(P462<=0,P462>1000000000),\"\",P428/P462/S427)","v":20},{"$f":"IF(OR(Q462=\"\",S462<=0,T428>1),\"\",IF(S462=\"Freilos\",T427/(1-(1/Q462))/Q462,IF(S462>1000000000,\"\",S462/Q462/S428)))","v":7.4999999999999997E-2},1.5,{"$f":"IFERROR(IF(R462<R466,R466/R462,R462/R466),\"\")","v":4.4754553243000164},{"$f":"IFERROR(R462/IF((Q462*S428)<150,150,Q462*S428)^0.25*34.9964,\"\")","v":0.75000096190433307}]
[null,null,null,null,null,null,null,null,null,null,null,null,null,null,2,500000,{"$f":"IF(OR(P463<=0,P463>1000000000),\"\",P428/P463/S427)","v":20},{"$f":"IF(OR(Q463=\"\",S463<=0,T428>1),\"\",IF(S463=\"Freilos\",T427/(1-(1/Q463))/Q463,IF(S463>1000000000,\"\",S463/Q463/S428)))","v":0.05},1,{"$f":"IFERROR(IF(R463<R466,R466/R463,R463/R466),\"\")","v":2.9836368828666782},{"$f":"IFERROR(R463/IF((Q463*S428)<150,150,Q463*S428)^0.25*34.9964,\"\")","v":0.50000064126955546}]
[null,"Knack das Sparschwein",null,null,1,{"$f":"IFERROR(SUMIF(E467:E476,\"<>Freilos\",D467:D476),\"\")","v":0.51124999999999998},null,null,"Oktobeerfest",null,null,1,{"$f":"IFERROR(SUMIF(L467:L476,\"<>Freilos\",K467:K476),\"\")","v":0.55483333333333329},null,1,1750000,{"$f":"IF(OR(P464<=0,P464>1000000000),\"\",P428/P464/S427)","v":5.7142857142857144},{"$f":"IF(OR(Q464=\"\",S464<=0,T428>1),\"\",IF(S464=\"Freilos\",T427/(1-(1/Q464))/Q464,IF(S464>1000000000,\"\",S464/Q464/S428)))","v":8.7499999999999994E-2},0.5,{"$f":"IFERROR(IF(R464<R466,R466/R464,R464/R466),\"\")","v":5.2213645450166863},{"$f":"IFERROR(R464/IF((Q464*S428)<150,150,Q464*S428)^0.25*34.9964,\"\")","v":0.87500112222172188}]
[null,160000,null,null,{"$f":"E464*0.5","v":0.5},{"$f":"IFERROR(COUNTIF(E467:E476,\"Freilos\"),\"\")","v":0},null,null,30000000,null,null,{"$f":"L464*2","v":2},{"$f":"IFERROR(COUNTIF(L467:L476,\"Freilos\"),\"\")","v":0},null,null,{"$f":"IF(SUM(P430:P464)=0,\"\",SUM(P430:P464))","v":3286078},{"$f":"IF(OR(P465<=0,P465>1000000000),\"\",P428/P465/S427)","v":3.0431413983478177},{"$f":"IF(SUM(R430:R464)=0,\"\",SUM(R430:R464))","v":0.58653250000000012},{"$f":"IFERROR(S428*R465,\"\")","v":0.58653250000000012},{"$f":"IFERROR(AVERAGE(T430:T464),\"\")","v":4.596250519254494},{"$f":"IF(SUM(U430:U464)=0,\"\",SUM(U430:U464))","v":4.5593610364981076}]
[null,"Losanzahl",{"$f":"IF(E464=1,\"Chancen 1:\",\"Ø Gewinne 1:\")","v":"Chancen 1:"},"Ø AQ","(Ø) Gewinn",null,null,null,"Losanzahl",{"$f":"IF(L464=1,\"Chancen 1:\",\"Ø Gewinne 1:\")","v":"Chancen 1:"},"Ø AQ","(Ø) Gewinn",null,null,null,null,null,{"$f":"AVERAGE(R430:R464)","v":1.6758071428571431E-2}]
[{"$f":"IF(C467=\"\",0,IF(C467>=1000000,7,IF(C467>=100000,6,IF(C467>=10000,5,IF(C467>=1000,4,IF(C467>=100,3,IF(C467>=10,2,1)))))))","v":6},1,{"$f":"IF(OR(B467<=0,B467>1000000000),\"\",B465/B467/E464)","v":160000},{"$f":"IF(OR(C467=\"\",E467<=0,F465>1),\"\",IF(E467=\"Freilos\",F464/(1-(1/C467))/C467,IF(E467>1000000000,\"\",E467/C467/E465)))","v":6.25E-2},5000,{"$f":"IFERROR(IF(D467<D478,D478/D467,D467/D478),\"\")","v":1.2224938875305624},{"$f":"IFERROR(D467/IF((C467*E465)<150,150,C467*E465)^0.25*34.9964,\"\")","v":0.13005614962337886},{"$f":"IF(J467=\"\",0,IF(J467>=1000000,7,IF(J467>=100000,6,IF(J467>=10000,5,IF(J467>=1000,4,IF(J467>=100,3,IF(J467>=10,2,1)))))))","v":7},1,{"$f":"IF(OR(I467<=0,I467>1000000000),\"\",I465/I467/L464)","v":30000000},{"$f":"IF(OR(J467=\"\",L467<=0,M465>1),\"\",IF(L467=\"Freilos\",M464/(1-(1/J467))/J467,IF(L467>1000000000,\"\",L467/J467/L465)))","v":8.3333333333333332E-3},500000,{"$f":"IFERROR(IF(K467<K478,K478/K467,K467/K478),\"\")","v":6.6579999999999995},{"$f":"IFERROR(K467/IF((J467*L465)<150,150,J467*L465)^0.25*34.9964,\"\")","v":3.3136322863869328E-3}]
[5,2,{"$f":"IF(OR(B468<=0,B468>1000000000),\"\",B465/B468/E464)","v":80000},{"$f":"IF(OR(C468=\"\",E468<=0,F465>1),\"\",IF(E468=\"Freilos\",F464/(1-(1/C468))/C468,IF(E468>1000000000,\"\",E468/C468/E465)))","v":2.5000000000000001E-2},1000,{"$f":"IFERROR(IF(D468<D478,D478/D468,D468/D478),\"\")","v":2.0449999999999999},{"$f":"IFERROR(D468/IF((C468*E465)<150,150,C468*E465)^0.25*34.9964,\"\")","v":6.1865479392792251E-2},6,100,{"$f":"IF(OR(I468<=0,I468>1000000000),\"\",I465/I468/L464)","v":300000},{"$f":"IF(OR(J468=\"\",L468<=0,M465>1),\"\",IF(L468=\"Freilos\",M464/(1-(1/J468))/J468,IF(L468>1000000000,\"\",L468/J468/L465)))","v":8.3333333333333332E-3},5000,{"$f":"IFERROR(IF(K468<K478,K478/K468,K468/K478),\"\")","v":6.6579999999999995},{"$f":"IFERROR(K468/IF((J468*L465)<150,150,J468*L465)^0.25*34.9964,\"\")","v":1.0478625353254068E-2},null,"Bälle Bingo",null,null,1,{"$f":"IFERROR(SUMIF(S471:S493,\"<>Freilos\",R471:R493),\"\")","v":0.52224999999999999}]
[5,5,{"$f":"IF(OR(B469<=0,B469>1000000000),\"\",B465/B469/E464)","v":32000},{"$f":"IF(OR(C469=\"\",E469<=0,F465>1),\"\",IF(E469=\"Freilos\",F464/(1-(1/C469))/C469,IF(E469>1000000000,\"\",E469/C469/E465)))","v":2.5000000000000001E-2},400,{"$f":"IFERROR(IF(D469<D478,D478/D469,D469/D478),\"\")","v":2.0449999999999999},{"$f":"IFERROR(D469/IF((C469*E465)<150,150,C469*E465)^0.25*34.9964,\"\")","v":7.779172193185771E-2},6,200,{"$f":"IF(OR(I469<=0,I469>1000000000),\"\",I465/I469/L464)","v":150000},{"$f":"IF(OR(J469=\"\",L469<=0,M465>1),\"\",IF(L469=\"Freilos\",M464/(1-(1/J469))/J469,IF(L469>1000000000,\"\",L469/J469/L465)))","v":1.6666666666666668E-3},500,{"$f":"IFERROR(IF(K469<K478,K478/K469,K469/K478),\"\")","v":33.289999999999992},{"$f":"IFERROR(K469/IF((J469*L465)<150,150,J469*L465)^0.25*34.9964,\"\")","v":2.4922511651075279E-3},null,20000000,null,null,{"$f":"S468*2","v":2},{"$f":"IFERROR(COUNTIF(S473:S493,\"Freilos\"),\"\")","v":1}]
[5,10,{"$f":"IF(OR(B470<=0,B470>1000000000),\"\",B465/B470/E464)","v":16000},{"$f":"IF(OR(C470=\"\",E470<=0,F465>1),\"\",IF(E470=\"Freilos\",F464/(1-(1/C470))/C470,IF(E470>1000000000,\"\",E470/C470/E465)))","v":2.5000000000000001E-2},200,{"$f":"IFERROR(IF(D470<D478,D478/D470,D470/D478),\"\")","v":2.0449999999999999},{"$f":"IFERROR(D470/IF((C470*E465)<150,150,C470*E465)^0.25*34.9964,\"\")","v":9.2510469209678398E-2},5,450,{"$f":"IF(OR(I470<=0,I470>1000000000),\"\",I465/I470/L464)","v":66666.666666666672},{"$f":"IF(OR(J470=\"\",L470<=0,M465>1),\"\",IF(L470=\"Freilos\",M464/(1-(1/J470))/J470,IF(L470>1000000000,\"\",L470/J470/L465)))","v":1.4999999999999998E-3},200,{"$f":"IFERROR(IF(K470<K478,K478/K470,K470/K478),\"\")","v":36.988888888888887},{"$f":"IFERROR(K470/IF((J470*L465)<150,150,J470*L465)^0.25*34.9964,\"\")","v":2.7471346494166403E-3},null,"Losanzahl",{"$f":"IF(S468=1,\"Chancen 1:\",\"Ø Gewinne 1:\")","v":"Chancen 1:"},"Ø AQ","(Ø) Gewinn"]
[4,50,{"$f":"IF(OR(B471<=0,B471>1000000000),\"\",B465/B471/E464)","v":3200},{"$f":"IF(OR(C471=\"\",E471<=0,F465>1),\"\",IF(E471=\"Freilos\",F464/(1-(1/C471))/C471,IF(E471>1000000000,\"\",E471/C471/E465)))","v":1.2500000000000001E-2},20,{"$f":"IFERROR(IF(D471<D478,D478/D471,D471/D478),\"\")","v":4.09},{"$f":"IFERROR(D471/IF((C471*E465)<150,150,C471*E465)^0.25*34.9964,\"\")","v":6.9167708691447935E-2},4,5000,{"$f":"IF(OR(I471<=0,I471>1000000000),\"\",I465/I471/L464)","v":6000},{"$f":"IF(OR(J471=\"\",L471<=0,M465>1),\"\",IF(L471=\"Freilos\",M464/(1-(1/J471))/J471,IF(L471>1000000000,\"\",L471/J471/L465)))","v":8.3333333333333332E-3},100,{"$f":"IFERROR(IF(K471<K478,K478/K471,K471/K478),\"\")","v":6.6579999999999995},{"$f":"IFERROR(K471/IF((J471*L465)<150,150,J471*L465)^0.25*34.9964,\"\")","v":2.7864215110917426E-2},{"$f":"IF(Q471=\"\",0,IF(Q471>=1000000,7,IF(Q471>=100000,6,IF(Q471>=10000,5,IF(Q471>=1000,4,IF(Q471>=100,3,IF(Q471>=10,2,1)))))))","v":7},1,{"$f":"IF(OR(P471<=0,P471>1000000000),\"\",P469/P471/S468)","v":20000000},{"$f":"IF(OR(Q471=\"\",S471<=0,T469>1),\"\",IF(S471=\"Freilos\",T468/(1-(1/Q471))/Q471,IF(S471>1000000000,\"\",S471/Q471/S469)))","v":5.0000000000000001E-3},200000,{"$f":"IFERROR(IF(R471<R495,R495/R471,R471/R495),\"\")","v":5.3427109974424551},{"$f":"IFERROR(R471/IF((Q471*S469)<150,150,Q471*S469)^0.25*34.9964,\"\")","v":2.2002821639277937E-3}]
[3,175,{"$f":"IF(OR(B472<=0,B472>1000000000),\"\",B465/B472/E464)","v":914.28571428571433},{"$f":"IF(OR(C472=\"\",E472<=0,F465>1),\"\",IF(E472=\"Freilos\",F464/(1-(1/C472))/C472,IF(E472>1000000000,\"\",E472/C472/E465)))","v":2.1874999999999999E-2},10,{"$f":"IFERROR(IF(D472<D478,D478/D472,D472/D478),\"\")","v":2.3371428571428572},{"$f":"IFERROR(D472/IF((C472*E465)<150,150,C472*E465)^0.25*34.9964,\"\")","v":0.1655611555278039},3,80000,{"$f":"IF(OR(I472<=0,I472>1000000000),\"\",I465/I472/L464)","v":375},{"$f":"IF(OR(J472=\"\",L472<=0,M465>1),\"\",IF(L472=\"Freilos\",M464/(1-(1/J472))/J472,IF(L472>1000000000,\"\",L472/J472/L465)))","v":2.6666666666666668E-2},20,{"$f":"IFERROR(IF(K472<K478,K478/K472,K472/K478),\"\")","v":2.0806249999999995},{"$f":"IFERROR(K472/IF((J472*L465)<150,150,J472*L465)^0.25*34.9964,\"\")","v":0.17833097670987152},7,1,{"$f":"IF(OR(P472<=0,P472>1000000000),\"\",P469/P472/S468)","v":20000000},{"$f":"IF(OR(Q472=\"\",S472<=0,T469>1),\"\",IF(S472=\"Freilos\",T468/(1-(1/Q472))/Q472,IF(S472>1000000000,\"\",S472/Q472/S469)))","v":2.5000000000000001E-3},100000,{"$f":"IFERROR(IF(R472<R495,R495/R472,R472/R495),\"\")","v":10.68542199488491},{"$f":"IFERROR(R472/IF((Q472*S469)<150,150,Q472*S469)^0.25*34.9964,\"\")","v":1.1001410819638968E-3}]
[3,800,{"$f":"IF(OR(B473<=0,B473>1000000000),\"\",B465/B473/E464)","v":200},{"$f":"IF(OR(C473=\"\",E473<=0,F465>1),\"\",IF(E473=\"Freilos\",F464/(1-(1/C473))/C473,IF(E473>1000000000,\"\",E473/C473/E465)))","v":0.04},4,{"$f":"IFERROR(IF(D473<D478,D478/D473,D473/D478),\"\")","v":1.278125},{"$f":"IFERROR(D473/IF((C473*E465)<150,150,C473*E465)^0.25*34.9964,\"\")","v":0.40000051301564438},3,300000,{"$f":"IF(OR(I473<=0,I473>1000000000),\"\",I465/I473/L464)","v":100},{"$f":"IF(OR(J473=\"\",L473<=0,M465>1),\"\",IF(L473=\"Freilos\",M464/(1-(1/J473))/J473,IF(L473>1000000000,\"\",L473/J473/L465)))","v":0.05},10,{"$f":"IFERROR(IF(K473<K478,K478/K473,K473/K478),\"\")","v":1.1096666666666666},{"$f":"IFERROR(K473/IF((J473*L465)<150,150,J473*L465)^0.25*34.9964,\"\")","v":0.46530302631961407},7,1,{"$f":"IF(OR(P473<=0,P473>1000000000),\"\",P469/P473/S468)","v":20000000},{"$f":"IF(OR(Q473=\"\",S473<=0,T469>1),\"\",IF(S473=\"Freilos\",T468/(1-(1/Q473))/Q473,IF(S473>1000000000,\"\",S473/Q473/S469)))","v":1.5E-3},60000,{"$f":"IFERROR(IF(R473<R495,R495/R473,R473/R495),\"\")","v":17.809036658141515},{"$f":"IFERROR(R473/IF((Q473*S469)<150,150,Q473*S469)^0.25*34.9964,\"\")","v":6.6008464917833817E-4}]
[2,3750,{"$f":"IF(OR(B474<=0,B474>1000000000),\"\",B465/B474/E464)","v":42.666666666666664},{"$f":"IF(OR(C474=\"\",E474<=0,F465>1),\"\",IF(E474=\"Freilos\",F464/(1-(1/C474))/C474,IF(E474>1000000000,\"\",E474/C474/E465)))","v":9.375E-2},2,{"$f":"IFERROR(IF(D474<D478,D478/D474,D474/D478),\"\")","v":1.8337408312958436},{"$f":"IFERROR(D474/IF((C474*E465)<150,150,C474*E465)^0.25*34.9964,\"\")","v":0.93750120238041645},2,2000000,{"$f":"IF(OR(I474<=0,I474>1000000000),\"\",I465/I474/L464)","v":15},{"$f":"IF(OR(J474=\"\",L474<=0,M465>1),\"\",IF(L474=\"Freilos\",M464/(1-(1/J474))/J474,IF(L474>1000000000,\"\",L474/J474/L465)))","v":0.16666666666666666},5,{"$f":"IFERROR(IF(K474<K478,K478/K474,K474/K478),\"\")","v":3.0039050765995796},{"$f":"IFERROR(K474/IF((J474*L465)<150,150,J474*L465)^0.25*34.9964,\"\")","v":1.6666688042318514},7,4,{"$f":"IF(OR(P474<=0,P474>1000000000),\"\",P469/P474/S468)","v":5000000},{"$f":"IF(OR(Q474=\"\",S474<=0,T469>1),\"\",IF(S474=\"Freilos\",T468/(1-(1/Q474))/Q474,IF(S474>1000000000,\"\",S474/Q474/S469)))","v":2E-3},20000,{"$f":"IFERROR(IF(R474<R495,R495/R474,R474/R495),\"\")","v":13.356777493606137},{"$f":"IFERROR(R474/IF((Q474*S469)<150,150,Q474*S469)^0.25*34.9964,\"\")","v":1.2446675509097231E-3}]
[2,11750,{"$f":"IF(OR(B475<=0,B475>1000000000),\"\",B465/B475/E464)","v":13.617021276595745},{"$f":"IF(OR(C475=\"\",E475<=0,F465>1),\"\",IF(E475=\"Freilos\",F464/(1-(1/C475))/C475,IF(E475>1000000000,\"\",E475/C475/E465)))","v":0.14687500000000001},1,{"$f":"IFERROR(IF(D475<D478,D478/D475,D475/D478),\"\")","v":2.8728606356968216},{"$f":"IFERROR(D475/IF((C475*E465)<150,150,C475*E465)^0.25*34.9964,\"\")","v":1.4687518837293192},1,4400000,{"$f":"IF(OR(I475<=0,I475>1000000000),\"\",I465/I475/L464)","v":6.8181818181818183},{"$f":"IF(OR(J475=\"\",L475<=0,M465>1),\"\",IF(L475=\"Freilos\",M464/(1-(1/J475))/J475,IF(L475>1000000000,\"\",L475/J475/L465)))","v":0.18333333333333332},2.5,{"$f":"IFERROR(IF(K475<K478,K478/K475,K475/K478),\"\")","v":3.3042955842595374},{"$f":"IFERROR(K475/IF((J475*L465)<150,150,J475*L465)^0.25*34.9964,\"\")","v":1.8333356846550364},7,10,{"$f":"IF(OR(P475<=0,P475>1000000000),\"\",P469/P475/S468)","v":2000000},{"$f":"IF(OR(Q475=\"\",S475<=0,T469>1),\"\",IF(S475=\"Freilos\",T468/(1-(1/Q475))/Q475,IF(S475>1000000000,\"\",S475/Q475/S469)))","v":2.5000000000000001E-3},10000,{"$f":"IFERROR(IF(R475<R495,R495/R475,R475/R495),\"\")","v":10.68542199488491},{"$f":"IFERROR(R475/IF((Q475*S469)<150,150,Q475*S469)^0.25*34.9964,\"\")","v":1.9563582341943415E-3}]
[1,23500,{"$f":"IF(OR(B476<=0,B476>1000000000),\"\",B465/B476/E464)","v":6.8085106382978724},{"$f":"IF(OR(C476=\"\",E476<=0,F465>1),\"\",IF(E476=\"Freilos\",F464/(1-(1/C476))/C476,IF(E476>1000000000,\"\",E476/C476/E465)))","v":5.8750000000000004E-2},0.2,{"$f":"IFERROR(IF(D476<D478,D478/D476,D476/D478),\"\")","v":1.1491442542787287},{"$f":"IFERROR(D476/IF((C476*E465)<150,150,C476*E465)^0.25*34.9964,\"\")","v":0.5875007534917277},1,6000000,{"$f":"IF(OR(I476<=0,I476>1000000000),\"\",I465/I476/L464)","v":5},{"$f":"IF(OR(J476=\"\",L476<=0,M465>1),\"\",IF(L476=\"Freilos\",M464/(1-(1/J476))/J476,IF(L476>1000000000,\"\",L476/J476/L465)))","v":0.1},1,{"$f":"IFERROR(IF(K476<K478,K478/K476,K476/K478),\"\")","v":1.8023430459597478},{"$f":"IFERROR(K476/IF((J476*L465)<150,150,J476*L465)^0.25*34.9964,\"\")","v":1.0000012825391109},7,10,{"$f":"IF(OR(P476<=0,P476>1000000000),\"\",P469/P476/S468)","v":2000000},{"$f":"IF(OR(Q476=\"\",S476<=0,T469>1),\"\",IF(S476=\"Freilos\",T468/(1-(1/Q476))/Q476,IF(S476>1000000000,\"\",S476/Q476/S469)))","v":1.5E-3},6000,{"$f":"IFERROR(IF(R476<R495,R495/R476,R476/R495),\"\")","v":17.809036658141515},{"$f":"IFERROR(R476/IF((Q476*S469)<150,150,Q476*S469)^0.25*34.9964,\"\")","v":1.1738149405166047E-3}]
[null,{"$f":"IF(SUM(B467:B476)=0,\"\",SUM(B467:B476))","v":40043},{"$f":"IF(OR(B477<=0,B477>1000000000),\"\",B465/B477/E464)","v":3.9957046175361488},{"$f":"IF(SUM(D467:D476)=0,\"\",SUM(D467:D476))","v":0.51124999999999998},{"$f":"IFERROR(E465*D477,\"\")","v":0.25562499999999999},{"$f":"IFERROR(AVERAGE(F467:F476),\"\")","v":2.0918507465944813},{"$f":"IF(SUM(G467:G476)=0,\"\",SUM(G467:G476))","v":3.9907070369940669},null,{"$f":"IF(SUM(I467:I476)=0,\"\",SUM(I467:I476))","v":12785751},{"$f":"IF(OR(I477<=0,I477>1000000000),\"\",I465/I477/L464)","v":2.3463619774857181},{"$f":"IF(SUM(K467:K476)=0,\"\",SUM(K467:K476))","v":0.55483333333333329},{"$f":"IFERROR(L465*K477,\"\")","v":1.1096666666666666},{"$f":"IFERROR(AVERAGE(M467:M476),\"\")","v":10.15537242623744},{"$f":"IF(SUM(N467:N476)=0,\"\",SUM(N467:N476))","v":5.1905356330205663},7,20,{"$f":"IF(OR(P477<=0,P477>1000000000),\"\",P469/P477/S468)","v":1000000},{"$f":"IF(OR(Q477=\"\",S477<=0,T469>1),\"\",IF(S477=\"Freilos\",T468/(1-(1/Q477))/Q477,IF(S477>1000000000,\"\",S477/Q477/S469)))","v":1E-3},2000,{"$f":"IFERROR(IF(R477<R495,R495/R477,R477/R495),\"\")","v":26.713554987212273},{"$f":"IFERROR(R477/IF((Q477*S469)<150,150,Q477*S469)^0.25*34.9964,\"\")","v":9.3060605263922821E-4}]
[null,null,null,{"$f":"AVERAGE(D467:D476)","v":5.1124999999999997E-2},null,null,null,null,null,null,{"$f":"AVERAGE(K467:K476)","v":5.5483333333333329E-2},null,null,null,6,25,{"$f":"IF(OR(P478<=0,P478>1000000000),\"\",P469/P478/S468)","v":800000},{"$f":"IF(OR(Q478=\"\",S478<=0,T469>1),\"\",IF(S478=\"Freilos\",T468/(1-(1/Q478))/Q478,IF(S478>1000000000,\"\",S478/Q478/S469)))","v":6.2500000000000001E-4},1000,{"$f":"IFERROR(IF(R478<R495,R495/R478,R478/R495),\"\")","v":42.741687979539641},{"$f":"IFERROR(R478/IF((Q478*S469)<150,150,Q478*S469)^0.25*34.9964,\"\")","v":6.1499756102786028E-4}]
[null,null,null,null,null,null,null,null,null,null,null,null,null,null,5,300,{"$f":"IF(OR(P479<=0,P479>1000000000),\"\",P469/P479/S468)","v":66666.666666666672},{"$f":"IF(OR(Q479=\"\",S479<=0,T469>1),\"\",IF(S479=\"Freilos\",T468/(1-(1/Q479))/Q479,IF(S479>1000000000,\"\",S479/Q479/S469)))","v":2.2499999999999998E-3},300,{"$f":"IFERROR(IF(R479<R495,R495/R479,R479/R495),\"\")","v":11.872691105427679},{"$f":"IFERROR(R479/IF((Q479*S469)<150,150,Q479*S469)^0.25*34.9964,\"\")","v":4.1207019741249604E-3}]
[null,"Prosit Neujahr",null,null,1,{"$f":"IFERROR(SUMIF(E483:E491,\"<>Freilos\",D483:D491),\"\")","v":0.48749999999999999},null,null,"GlüXsterne",null,null,1,{"$f":"IFERROR(SUMIF(L483:L491,\"<>Freilos\",K483:K491),\"\")","v":0.61108695652173917},null,5,500,{"$f":"IF(OR(P480<=0,P480>1000000000),\"\",P469/P480/S468)","v":40000},{"$f":"IF(OR(Q480=\"\",S480<=0,T469>1),\"\",IF(S480=\"Freilos\",T468/(1-(1/Q480))/Q480,IF(S480>1000000000,\"\",S480/Q480/S469)))","v":6.2500000000000003E-3},500,{"$f":"IFERROR(IF(R480<R495,R495/R480,R480/R495),\"\")","v":4.2741687979539638},{"$f":"IFERROR(R480/IF((Q480*S469)<150,150,Q480*S469)^0.25*34.9964,\"\")","v":1.3005614962337885E-2}]
[null,5000000,null,null,{"$f":"E480*4","v":4},{"$f":"IFERROR(COUNTIF(E483:E491,\"Freilos\"),\"\")","v":0},null,null,2300000,null,null,{"$f":"L480*0.5","v":0.5},{"$f":"IFERROR(COUNTIF(L483:L491,\"Freilos\"),\"\")","v":0},null,5,1000,{"$f":"IF(OR(P481<=0,P481>1000000000),\"\",P469/P481/S468)","v":20000},{"$f":"IF(OR(Q481=\"\",S481<=0,T469>1),\"\",IF(S481=\"Freilos\",T468/(1-(1/Q481))/Q481,IF(S481>1000000000,\"\",S481/Q481/S469)))","v":1.5E-3},60,{"$f":"IFERROR(IF(R481<R495,R495/R481,R481/R495),\"\")","v":17.809036658141515},{"$f":"IFERROR(R481/IF((Q481*S469)<150,150,Q481*S469)^0.25*34.9964,\"\")","v":3.7119287635675349E-3}]
[null,"Losanzahl",{"$f":"IF(E480=1,\"Chancen 1:\",\"Ø Gewinne 1:\")","v":"Chancen 1:"},"Ø AQ","(Ø) Gewinn",null,null,null,"Losanzahl",{"$f":"IF(L480=1,\"Chancen 1:\",\"Ø Gewinne 1:\")","v":"Chancen 1:"},"Ø AQ","(Ø) Gewinn",null,null,5,1250,{"$f":"IF(OR(P482<=0,P482>1000000000),\"\",P469/P482/S468)","v":16000},{"$f":"IF(OR(Q482=\"\",S482<=0,T469>1),\"\",IF(S482=\"Freilos\",T468/(1-(1/Q482))/Q482,IF(S482>1000000000,\"\",S482/Q482/S469)))","v":3.1250000000000002E-3},100,{"$f":"IFERROR(IF(R482<R495,R495/R482,R482/R495),\"\")","v":8.5483375959079275},{"$f":"IFERROR(R482/IF((Q482*S469)<150,150,Q482*S469)^0.25*34.9964,\"\")","v":8.1768475136141123E-3}]
[{"$f":"IF(C483=\"\",0,IF(C483>=1000000,7,IF(C483>=100000,6,IF(C483>=10000,5,IF(C483>=1000,4,IF(C483>=100,3,IF(C483>=10,2,1)))))))","v":7},3,{"$f":"IF(OR(B483<=0,B483>1000000000),\"\",B481/B483/E480)","v":1666666.6666666667},{"$f":"IF(OR(C483=\"\",E483<=0,F481>1),\"\",IF(E483=\"Freilos\",F480/(1-(1/C483))/C483,IF(E483>1000000000,\"\",E483/C483/E481)))","v":1.7999999999999999E-2},120000,{"$f":"IFERROR(IF(D483<D493,D493/D483,D483/D493),\"\")","v":3.0092592592592595},{"$f":"IFERROR(D483/IF((C483*E481)<150,150,C483*E481)^0.25*34.9964,\"\")","v":1.2397059671665232E-2},{"$f":"IF(J483=\"\",0,IF(J483>=1000000,7,IF(J483>=100000,6,IF(J483>=10000,5,IF(J483>=1000,4,IF(J483>=100,3,IF(J483>=10,2,1)))))))","v":7},1,{"$f":"IF(OR(I483<=0,I483>1000000000),\"\",I481/I483/L480)","v":2300000},{"$f":"IF(OR(J483=\"\",L483<=0,M481>1),\"\",IF(L483=\"Freilos\",M480/(1-(1/J483))/J483,IF(L483>1000000000,\"\",L483/J483/L481)))","v":2.6086956521739132E-3},3000,{"$f":"IFERROR(IF(K483<K493,K493/K483,K483/K493),\"\")","v":26.027777777777779},{"$f":"IFERROR(K483/IF((J483*L481)<150,150,J483*L481)^0.25*34.9964,\"\")","v":2.7878687645858254E-3},4,5000,{"$f":"IF(OR(P483<=0,P483>1000000000),\"\",P469/P483/S468)","v":4000},{"$f":"IF(OR(Q483=\"\",S483<=0,T469>1),\"\",IF(S483=\"Freilos\",T468/(1-(1/Q483))/Q483,IF(S483>1000000000,\"\",S483/Q483/S469)))","v":6.2500000000000003E-3},50,{"$f":"IFERROR(IF(R483<R495,R495/R483,R483/R495),\"\")","v":4.2741687979539638},{"$f":"IFERROR(R483/IF((Q483*S469)<150,150,Q483*S469)^0.25*34.9964,\"\")","v":2.3127617302419599E-2}]
[7,5,{"$f":"IF(OR(B484<=0,B484>1000000000),\"\",B481/B484/E480)","v":1000000},{"$f":"IF(OR(C484=\"\",E484<=0,F481>1),\"\",IF(E484=\"Freilos\",F480/(1-(1/C484))/C484,IF(E484>1000000000,\"\",E484/C484/E481)))","v":2.5000000000000001E-3},10000,{"$f":"IFERROR(IF(D484<D493,D493/D484,D484/D493),\"\")","v":21.666666666666668},{"$f":"IFERROR(D484/IF((C484*E481)<150,150,C484*E481)^0.25*34.9964,\"\")","v":1.9563582341943415E-3},5,115,{"$f":"IF(OR(I484<=0,I484>1000000000),\"\",I481/I484/L480)","v":20000},{"$f":"IF(OR(J484=\"\",L484<=0,M481>1),\"\",IF(L484=\"Freilos\",M480/(1-(1/J484))/J484,IF(L484>1000000000,\"\",L484/J484/L481)))","v":5.0000000000000001E-3},50,{"$f":"IFERROR(IF(K484<K493,K493/K484,K484/K493),\"\")","v":13.579710144927537},{"$f":"IFERROR(K484/IF((J484*L481)<150,150,J484*L481)^0.25*34.9964,\"\")","v":1.7498199999999998E-2},3,25000,{"$f":"IF(OR(P484<=0,P484>1000000000),\"\",P469/P484/S468)","v":800},{"$f":"IF(OR(Q484=\"\",S484<=0,T469>1),\"\",IF(S484=\"Freilos\",T468/(1-(1/Q484))/Q484,IF(S484>1000000000,\"\",S484/Q484/S469)))","v":1.125E-2},18,{"$f":"IFERROR(IF(R484<R495,R495/R484,R484/R495),\"\")","v":2.3745382210855355},{"$f":"IFERROR(R484/IF((Q484*S469)<150,150,Q484*S469)^0.25*34.9964,\"\")","v":6.2250937822303135E-2}]
[5,80,{"$f":"IF(OR(B485<=0,B485>1000000000),\"\",B481/B485/E480)","v":62500},{"$f":"IF(OR(C485=\"\",E485<=0,F481>1),\"\",IF(E485=\"Freilos\",F480/(1-(1/C485))/C485,IF(E485>1000000000,\"\",E485/C485/E481)))","v":4.7999999999999996E-3},1200,{"$f":"IFERROR(IF(D485<D493,D493/D485,D485/D493),\"\")","v":11.284722222222223},{"$f":"IFERROR(D485/IF((C485*E481)<150,150,C485*E481)^0.25*34.9964,\"\")","v":7.5124156193062692E-3},4,460,{"$f":"IF(OR(I485<=0,I485>1000000000),\"\",I481/I485/L480)","v":5000},{"$f":"IF(OR(J485=\"\",L485<=0,M481>1),\"\",IF(L485=\"Freilos\",M480/(1-(1/J485))/J485,IF(L485>1000000000,\"\",L485/J485/L481)))","v":0.01},25,{"$f":"IFERROR(IF(K485<K493,K493/K485,K485/K493),\"\")","v":6.7898550724637685},{"$f":"IFERROR(K485/IF((J485*L481)<150,150,J485*L481)^0.25*34.9964,\"\")","v":4.9492383514233795E-2},3,55000,{"$f":"IF(OR(P485<=0,P485>1000000000),\"\",P469/P485/S468)","v":363.63636363636363},{"$f":"IF(OR(Q485=\"\",S485<=0,T469>1),\"\",IF(S485=\"Freilos\",T468/(1-(1/Q485))/Q485,IF(S485>1000000000,\"\",S485/Q485/S469)))","v":4.1250000000000002E-2},30,{"$f":"IFERROR(IF(R485<R495,R495/R485,R485/R495),\"\")","v":1.5441598851124942},{"$f":"IFERROR(R485/IF((Q485*S469)<150,150,Q485*S469)^0.25*34.9964,\"\")","v":0.27798604785831671}]
[4,1040,{"$f":"IF(OR(B486<=0,B486>1000000000),\"\",B481/B486/E480)","v":4807.6923076923076},{"$f":"IF(OR(C486=\"\",E486<=0,F481>1),\"\",IF(E486=\"Freilos\",F480/(1-(1/C486))/C486,IF(E486>1000000000,\"\",E486/C486/E481)))","v":5.1999999999999998E-3},100,{"$f":"IFERROR(IF(D486<D493,D493/D486,D486/D493),\"\")","v":10.416666666666668},{"$f":"IFERROR(D486/IF((C486*E481)<150,150,C486*E481)^0.25*34.9964,\"\")","v":1.5453524723968815E-2},3,5000,{"$f":"IF(OR(I486<=0,I486>1000000000),\"\",I481/I486/L480)","v":460},{"$f":"IF(OR(J486=\"\",L486<=0,M481>1),\"\",IF(L486=\"Freilos\",M480/(1-(1/J486))/J486,IF(L486>1000000000,\"\",L486/J486/L481)))","v":4.3478260869565216E-2},10,{"$f":"IFERROR(IF(K486<K493,K493/K486,K486/K493),\"\")","v":1.5616666666666668},{"$f":"IFERROR(K486/IF((J486*L481)<150,150,J486*L481)^0.25*34.9964,\"\")","v":0.39071814172300368},3,100000,{"$f":"IF(OR(P486<=0,P486>1000000000),\"\",P469/P486/S468)","v":200},{"$f":"IF(OR(Q486=\"\",S486<=0,T469>1),\"\",IF(S486=\"Freilos\",T468/(1-(1/Q486))/Q486,IF(S486>1000000000,\"\",S486/Q486/S469)))","v":3.7499999999999999E-2},15,{"$f":"IFERROR(IF(R486<R495,R495/R486,R486/R495),\"\")","v":1.403781713738631},{"$f":"IFERROR(R486/IF((Q486*S469)<150,150,Q486*S469)^0.25*34.9964,\"\")","v":0.29345373512915118}]
[3,12000,{"$f":"IF(OR(B487<=0,B487>1000000000),\"\",B481/B487/E480)","v":416.66666666666669},{"$f":"IF(OR(C487=\"\",E487<=0,F481>1),\"\",IF(E487=\"Freilos\",F480/(1-(1/C487))/C487,IF(E487>1000000000,\"\",E487/C487/E481)))","v":1.2E-2},20,{"$f":"IFERROR(IF(D487<D493,D493/D487,D487/D493),\"\")","v":4.5138888888888893},{"$f":"IFERROR(D487/IF((C487*E481)<150,150,C487*E481)^0.25*34.9964,\"\")","v":6.5726791197692147E-2},3,23000,{"$f":"IF(OR(I487<=0,I487>1000000000),\"\",I481/I487/L480)","v":100},{"$f":"IF(OR(J487=\"\",L487<=0,M481>1),\"\",IF(L487=\"Freilos\",M480/(1-(1/J487))/J487,IF(L487>1000000000,\"\",L487/J487/L481)))","v":0.1},5,{"$f":"IFERROR(IF(K487<K493,K493/K487,K487/K493),\"\")","v":1.4727854855923159},{"$f":"IFERROR(K487/IF((J487*L481)<150,150,J487*L481)^0.25*34.9964,\"\")","v":1.0000012825391109},3,175000,{"$f":"IF(OR(P487<=0,P487>1000000000),\"\",P469/P487/S468)","v":114.28571428571429},{"$f":"IF(OR(Q487=\"\",S487<=0,T469>1),\"\",IF(S487=\"Freilos\",T468/(1-(1/Q487))/Q487,IF(S487>1000000000,\"\",S487/Q487/S469)))","v":4.3749999999999997E-2},10,{"$f":"IFERROR(IF(R487<R495,R495/R487,R487/R495),\"\")","v":1.6377453326950695},{"$f":"IFERROR(R487/IF((Q487*S469)<150,150,Q487*S469)^0.25*34.9964,\"\")","v":0.39377300824347294}]
[2,200000,{"$f":"IF(OR(B488<=0,B488>1000000000),\"\",B481/B488/E480)","v":25},{"$f":"IF(OR(C488=\"\",E488<=0,F481>1),\"\",IF(E488=\"Freilos\",F480/(1-(1/C488))/C488,IF(E488>1000000000,\"\",E488/C488/E481)))","v":7.0000000000000007E-2},7,{"$f":"IFERROR(IF(D488<D493,D493/D488,D488/D493),\"\")","v":1.2923076923076924},{"$f":"IFERROR(D488/IF((C488*E481)<150,150,C488*E481)^0.25*34.9964,\"\")","v":0.70000089777737762},2,57500,{"$f":"IF(OR(I488<=0,I488>1000000000),\"\",I481/I488/L480)","v":40},{"$f":"IF(OR(J488=\"\",L488<=0,M481>1),\"\",IF(L488=\"Freilos\",M480/(1-(1/J488))/J488,IF(L488>1000000000,\"\",L488/J488/L481)))","v":0.1},2,{"$f":"IFERROR(IF(K488<K493,K493/K488,K488/K493),\"\")","v":1.4727854855923159},{"$f":"IFERROR(K488/IF((J488*L481)<150,150,J488*L481)^0.25*34.9964,\"\")","v":1.0000012825391109},3,200000,{"$f":"IF(OR(P488<=0,P488>1000000000),\"\",P469/P488/S468)","v":100},{"$f":"IF(OR(Q488=\"\",S488<=0,T469>1),\"\",IF(S488=\"Freilos\",T468/(1-(1/Q488))/Q488,IF(S488>1000000000,\"\",S488/Q488/S469)))","v":4.4999999999999998E-2},9,{"$f":"IFERROR(IF(R488<R495,R495/R488,R488/R495),\"\")","v":1.6845380564863572},{"$f":"IFERROR(R488/IF((Q488*S469)<150,150,Q488*S469)^0.25*34.9964,\"\")","v":0.41877272368765261}]
[1,600000,{"$f":"IF(OR(B489<=0,B489>1000000000),\"\",B481/B489/E480)","v":8.3333333333333339},{"$f":"IF(OR(C489=\"\",E489<=0,F481>1),\"\",IF(E489=\"Freilos\",F480/(1-(1/C489))/C489,IF(E489>1000000000,\"\",E489/C489/E481)))","v":0.15},5,{"$f":"IFERROR(IF(D489<D493,D493/D489,D489/D493),\"\")","v":2.7692307692307692},{"$f":"IFERROR(D489/IF((C489*E481)<150,150,C489*E481)^0.25*34.9964,\"\")","v":1.5000019238086661},2,115000,{"$f":"IF(OR(I489<=0,I489>1000000000),\"\",I481/I489/L480)","v":20},{"$f":"IF(OR(J489=\"\",L489<=0,M481>1),\"\",IF(L489=\"Freilos\",M480/(1-(1/J489))/J489,IF(L489>1000000000,\"\",L489/J489/L481)))","v":0.1},1,{"$f":"IFERROR(IF(K489<K493,K493/K489,K489/K493),\"\")","v":1.4727854855923159},{"$f":"IFERROR(K489/IF((J489*L481)<150,150,J489*L481)^0.25*34.9964,\"\")","v":1.0000012825391109},2,300000,{"$f":"IF(OR(P489<=0,P489>1000000000),\"\",P469/P489/S468)","v":66.666666666666671},{"$f":"IF(OR(Q489=\"\",S489<=0,T469>1),\"\",IF(S489=\"Freilos\",T468/(1-(1/Q489))/Q489,IF(S489>1000000000,\"\",S489/Q489/S469)))","v":4.4999999999999998E-2},6,{"$f":"IFERROR(IF(R489<R495,R495/R489,R489/R495),\"\")","v":1.6845380564863572},{"$f":"IFERROR(R489/IF((Q489*S469)<150,150,Q489*S469)^0.25*34.9964,\"\")","v":0.45000057714259983}]
[1,800000,{"$f":"IF(OR(B490<=0,B490>1000000000),\"\",B481/B490/E480)","v":6.25},{"$f":"IF(OR(C490=\"\",E490<=0,F481>1),\"\",IF(E490=\"Freilos\",F480/(1-(1/C490))/C490,IF(E490>1000000000,\"\",E490/C490/E481)))","v":0.12},3,{"$f":"IFERROR(IF(D490<D493,D493/D490,D490/D493),\"\")","v":2.2153846153846151},{"$f":"IFERROR(D490/IF((C490*E481)<150,150,C490*E481)^0.25*34.9964,\"\")","v":1.200001539046933},1,345000,{"$f":"IF(OR(I490<=0,I490>1000000000),\"\",I481/I490/L480)","v":6.666666666666667},{"$f":"IF(OR(J490=\"\",L490<=0,M481>1),\"\",IF(L490=\"Freilos\",M480/(1-(1/J490))/J490,IF(L490>1000000000,\"\",L490/J490/L481)))","v":0.15},0.5,{"$f":"IFERROR(IF(K490<K493,K493/K490,K490/K493),\"\")","v":2.2091782283884736},{"$f":"IFERROR(K490/IF((J490*L481)<150,150,J490*L481)^0.25*34.9964,\"\")","v":1.5000019238086661},2,500000,{"$f":"IF(OR(P490<=0,P490>1000000000),\"\",P469/P490/S468)","v":40},{"$f":"IF(OR(Q490=\"\",S490<=0,T469>1),\"\",IF(S490=\"Freilos\",T468/(1-(1/Q490))/Q490,IF(S490>1000000000,\"\",S490/Q490/S469)))","v":6.25E-2},5,{"$f":"IFERROR(IF(R490<R495,R495/R490,R490/R495),\"\")","v":2.3396361895643851},{"$f":"IFERROR(R490/IF((Q490*S469)<150,150,Q490*S469)^0.25*34.9964,\"\")","v":0.62500080158694427}]
[1,1400000,{"$f":"IF(OR(B491<=0,B491>1000000000),\"\",B481/B491/E480)","v":3.5714285714285716},{"$f":"IF(OR(C491=\"\",E491<=0,F481>1),\"\",IF(E491=\"Freilos\",F480/(1-(1/C491))/C491,IF(E491>1000000000,\"\",E491/C491/E481)))","v":0.105},1.5,{"$f":"IFERROR(IF(D491<D493,D493/D491,D491/D493),\"\")","v":1.9384615384615382},{"$f":"IFERROR(D491/IF((C491*E481)<150,150,C491*E481)^0.25*34.9964,\"\")","v":1.0500013466660663},1,460000,{"$f":"IF(OR(I491<=0,I491>1000000000),\"\",I481/I491/L480)","v":5},{"$f":"IF(OR(J491=\"\",L491<=0,M481>1),\"\",IF(L491=\"Freilos\",M480/(1-(1/J491))/J491,IF(L491>1000000000,\"\",L491/J491/L481)))","v":0.1},0.25,{"$f":"IFERROR(IF(K491<K493,K493/K491,K491/K493),\"\")","v":1.4727854855923159},{"$f":"IFERROR(K491/IF((J491*L481)<150,150,J491*L481)^0.25*34.9964,\"\")","v":1.0000012825391109},2,2000000,{"$f":"IF(OR(P491<=0,P491>1000000000),\"\",P469/P491/S468)","v":10},{"$f":"IF(OR(Q491=\"\",S491<=0,T469>1),\"\",IF(S491=\"Freilos\",T468/(1-(1/Q491))/Q491,IF(S491>1000000000,\"\",S491/Q491/S469)))","v":0.15},3,{"$f":"IFERROR(IF(R491<R495,R495/R491,R491/R495),\"\")","v":5.6151268549545241},{"$f":"IFERROR(R491/IF((Q491*S469)<150,150,Q491*S469)^0.25*34.9964,\"\")","v":1.5000019238086661}]
[null,{"$f":"IF(SUM(B483:B491)=0,\"\",SUM(B483:B491))","v":3013128},{"$f":"IF(OR(B492<=0,B492>1000000000),\"\",B481/B492/E480)","v":1.6594051099057192},{"$f":"IF(SUM(D483:D491)=0,\"\",SUM(D483:D491))","v":0.48749999999999999},{"$f":"IFERROR(E481*D492,\"\")","v":1.95},{"$f":"IFERROR(AVERAGE(F483:F491),\"\")","v":6.5673987021209248},{"$f":"IF(SUM(G483:G491)=0,\"\",SUM(G483:G491))","v":4.5530518567458698},null,{"$f":"IF(SUM(I483:I491)=0,\"\",SUM(I483:I491))","v":1006076},{"$f":"IF(OR(I492<=0,I492>1000000000),\"\",I481/I492/L480)","v":2.2861095980820534},{"$f":"IF(SUM(K483:K491)=0,\"\",SUM(K483:K491))","v":0.61108695652173917},{"$f":"IFERROR(L481*K492,\"\")","v":0.30554347826086958},{"$f":"IFERROR(AVERAGE(M483:M491),\"\")","v":6.2288144258437219},{"$f":"IF(SUM(N483:N491)=0,\"\",SUM(N483:N491))","v":5.9605036479669327},2,2000000,{"$f":"IF(OR(P492<=0,P492>1000000000),\"\",P469/P492/S468)","v":10},{"$f":"IF(OR(Q492=\"\",S492<=0,T469>1),\"\",IF(S492=\"Freilos\",T468/(1-(1/Q492))/Q492,IF(S492>1000000000,\"\",S492/Q492/S469)))","v":0.05},1,{"$f":"IFERROR(IF(R492<R495,R495/R492,R492/R495),\"\")","v":1.8717089516515082},{"$f":"IFERROR(R492/IF((Q492*S469)<150,150,Q492*S469)^0.25*34.9964,\"\")","v":0.50000064126955546}]
[null,null,null,{"$f":"AVERAGE(D483:D491)","v":5.4166666666666669E-2},null,null,null,null,null,null,{"$f":"AVERAGE(K483:K491)","v":6.7898550724637685E-2},null,null,null,1,3000000,{"$f":"IF(OR(P493<=0,P493>1000000000),\"\",P469/P493/S468)","v":6.666666666666667},{"$f":"IF(OR(Q493=\"\",S493<=0,T469>1),\"\",IF(S493=\"Freilos\",T468/(1-(1/Q493))/Q493,IF(S493>1000000000,\"\",S493/Q493/S469)))","v":9.2161764705882346E-2},"Freilos",{"$f":"IFERROR(IF(R493<R495,R495/R493,R493/R495),\"\")","v":3.45},{"$f":"IFERROR(R493/IF((Q493*S469)<150,150,Q493*S469)^0.25*34.9964,\"\")","v":0.92161882906950099}]
[null,null,null,null,null,null,null,null,null,null,null,null,null,null,null,{"$f":"IF(SUM(P471:P493)=0,\"\",SUM(P471:P493))","v":8363122},{"$f":"IF(OR(P494<=0,P494>1000000000),\"\",P469/P494/S468)","v":2.3914514220885454},{"$f":"IF(SUM(R471:R493)=0,\"\",SUM(R471:R493))","v":0.61441176470588232},{"$f":"IFERROR(S469*R494,\"\")","v":1.2288235294117646},{"$f":"IFERROR(AVERAGE(T471:T493),\"\")","v":9.370774999174488},{"$f":"IF(SUM(U471:U493)=0,\"\",SUM(U471:U493))","v":5.5048828883685852}]
[null,"Goldene 7",null,null,1,{"$f":"IFERROR(SUMIF(E498:E505,\"<>Freilos\",D498:D505),\"\")","v":0.49387799999999998},null,null,"Rubbel die Katz",null,null,1,{"$f":"IFERROR(SUMIF(L498:L505,\"<>Freilos\",K498:K505),\"\")","v":0.50943899999999998},null,null,null,null,{"$f":"AVERAGE(R471:R493)","v":2.6713554987212274E-2}]
[null,1000000,null,null,{"$f":"E495*0.5","v":0.5},{"$f":"IFERROR(COUNTIF(E498:E505,\"Freilos\"),\"\")","v":0},null,null,1000000,null,null,{"$f":"L495*1","v":1},{"$f":"IFERROR(COUNTIF(L498:L505,\"Freilos\"),\"\")","v":0}]
[null,"Losanzahl",{"$f":"IF(E495=1,\"Chancen 1:\",\"Ø Gewinne 1:\")","v":"Chancen 1:"},"Ø AQ","(Ø) Gewinn",null,null,null,"Losanzahl",{"$f":"IF(L495=1,\"Chancen 1:\",\"Ø Gewinne 1:\")","v":"Chancen 1:"},"Ø AQ","(Ø) Gewinn",null,null,null,"Schachmatt",null,null,1,{"$f":"IFERROR(SUMIF(S500:S516,\"<>Freilos\",R500:R516),\"\")","v":0.59650000000000003}]
[{"$f":"IF(C498=\"\",0,IF(C498>=1000000,7,IF(C498>=100000,6,IF(C498>=10000,5,IF(C498>=1000,4,IF(C498>=100,3,IF(C498>=10,2,1)))))))","v":6},5,{"$f":"IF(OR(B498<=0,B498>1000000000),\"\",B496/B498/E495)","v":200000},{"$f":"IF(OR(C498=\"\",E498<=0,F496>1),\"\",IF(E498=\"Freilos\",F495/(1-(1/C498))/C498,IF(E498>1000000000,\"\",E498/C498/E496)))","v":0.01},1000,{"$f":"IFERROR(IF(D498<D507,D507/D498,D498/D507),\"\")","v":6.1734749999999998},{"$f":"IFERROR(D498/IF((C498*E496)<150,150,C498*E496)^0.25*34.9964,\"\")","v":1.9679921952891533E-2},{"$f":"IF(J498=\"\",0,IF(J498>=1000000,7,IF(J498>=100000,6,IF(J498>=10000,5,IF(J498>=1000,4,IF(J498>=100,3,IF(J498>=10,2,1)))))))","v":6},5,{"$f":"IF(OR(I498<=0,I498>1000000000),\"\",I496/I498/L495)","v":200000},{"$f":"IF(OR(J498=\"\",L498<=0,M496>1),\"\",IF(L498=\"Freilos\",M495/(1-(1/J498))/J498,IF(L498>1000000000,\"\",L498/J498/L496)))","v":5.0000000000000001E-3},1000,{"$f":"IFERROR(IF(K498<K507,K507/K498,K498/K507),\"\")","v":12.735975},{"$f":"IFERROR(K498/IF((J498*L496)<150,150,J498*L496)^0.25*34.9964,\"\")","v":8.2743879113296864E-3},null,2000000,null,null,{"$f":"S497*0.5","v":0.5},{"$f":"IFERROR(COUNTIF(S500:S516,\"Freilos\"),\"\")","v":0}]
[6,7,{"$f":"IF(OR(B499<=0,B499>1000000000),\"\",B496/B499/E495)","v":142857.14285714287},{"$f":"IF(OR(C499=\"\",E499<=0,F496>1),\"\",IF(E499=\"Freilos\",F495/(1-(1/C499))/C499,IF(E499>1000000000,\"\",E499/C499/E496)))","v":0.10887799999999999},7777,{"$f":"IFERROR(IF(D499<D507,D507/D499,D499/D507),\"\")","v":1.7636420330526972},{"$f":"IFERROR(D499/IF((C499*E496)<150,150,C499*E496)^0.25*34.9964,\"\")","v":0.23307490469902031},6,7,{"$f":"IF(OR(I499<=0,I499>1000000000),\"\",I496/I499/L495)","v":142857.14285714287},{"$f":"IF(OR(J499=\"\",L499<=0,M496>1),\"\",IF(L499=\"Freilos\",M495/(1-(1/J499))/J499,IF(L499>1000000000,\"\",L499/J499/L496)))","v":5.4438999999999994E-2},7777,{"$f":"IFERROR(IF(K499<K507,K507/K499,K499/K507),\"\")","v":1.1697473318760447},{"$f":"IFERROR(K499/IF((J499*L496)<150,150,J499*L496)^0.25*34.9964,\"\")","v":9.7995925923503646E-2},null,"Losanzahl",{"$f":"IF(S497=1,\"Chancen 1:\",\"Ø Gewinne 1:\")","v":"Chancen 1:"},"Ø AQ","(Ø) Gewinn"]
[6,10,{"$f":"IF(OR(B500<=0,B500>1000000000),\"\",B496/B500/E495)","v":100000},{"$f":"IF(OR(C500=\"\",E500<=0,F496>1),\"\",IF(E500=\"Freilos\",F495/(1-(1/C500))/C500,IF(E500>1000000000,\"\",E500/C500/E496)))","v":0.01},500,{"$f":"IFERROR(IF(D500<D507,D507/D500,D500/D507),\"\")","v":6.1734749999999998},{"$f":"IFERROR(D500/IF((C500*E496)<150,150,C500*E496)^0.25*34.9964,\"\")","v":2.3403503209076856E-2},6,10,{"$f":"IF(OR(I500<=0,I500>1000000000),\"\",I496/I500/L495)","v":100000},{"$f":"IF(OR(J500=\"\",L500<=0,M496>1),\"\",IF(L500=\"Freilos\",M495/(1-(1/J500))/J500,IF(L500>1000000000,\"\",L500/J500/L496)))","v":5.0000000000000001E-3},500,{"$f":"IFERROR(IF(K500<K507,K507/K500,K500/K507),\"\")","v":12.735975},{"$f":"IFERROR(K500/IF((J500*L496)<150,150,J500*L496)^0.25*34.9964,\"\")","v":9.8399609764457663E-3},{"$f":"IF(Q500=\"\",0,IF(Q500>=1000000,7,IF(Q500>=100000,6,IF(Q500>=10000,5,IF(Q500>=1000,4,IF(Q500>=100,3,IF(Q500>=10,2,1)))))))","v":7},1,{"$f":"IF(OR(P500<=0,P500>1000000000),\"\",P498/P500/S497)","v":2000000},{"$f":"IF(OR(Q500=\"\",S500<=0,T498>1),\"\",IF(S500=\"Freilos\",T497/(1-(1/Q500))/Q500,IF(S500>1000000000,\"\",S500/Q500/S498)))","v":0.01},10000,{"$f":"IFERROR(IF(R500<R518,R518/R500,R500/R518),\"\")","v":3.5088235294117647},{"$f":"IFERROR(R500/IF((Q500*S498)<150,150,Q500*S498)^0.25*34.9964,\"\")","v":1.1066833390631669E-2}]
[5,50,{"$f":"IF(OR(B501<=0,B501>1000000000),\"\",B496/B501/E495)","v":20000},{"$f":"IF(OR(C501=\"\",E501<=0,F496>1),\"\",IF(E501=\"Freilos\",F495/(1-(1/C501))/C501,IF(E501>1000000000,\"\",E501/C501/E496)))","v":0.01},100,{"$f":"IFERROR(IF(D501<D507,D507/D501,D501/D507),\"\")","v":6.1734749999999998},{"$f":"IFERROR(D501/IF((C501*E496)<150,150,C501*E496)^0.25*34.9964,\"\")","v":3.4996399999999997E-2},5,50,{"$f":"IF(OR(I501<=0,I501>1000000000),\"\",I496/I501/L495)","v":20000},{"$f":"IF(OR(J501=\"\",L501<=0,M496>1),\"\",IF(L501=\"Freilos\",M495/(1-(1/J501))/J501,IF(L501>1000000000,\"\",L501/J501/L496)))","v":5.0000000000000001E-3},100,{"$f":"IFERROR(IF(K501<K507,K507/K501,K501/K507),\"\")","v":12.735975},{"$f":"IFERROR(K501/IF((J501*L496)<150,150,J501*L496)^0.25*34.9964,\"\")","v":1.4714173653392551E-2},7,1,{"$f":"IF(OR(P501<=0,P501>1000000000),\"\",P498/P501/S497)","v":2000000},{"$f":"IF(OR(Q501=\"\",S501<=0,T498>1),\"\",IF(S501=\"Freilos\",T497/(1-(1/Q501))/Q501,IF(S501>1000000000,\"\",S501/Q501/S498)))","v":5.0000000000000001E-3},5000,{"$f":"IFERROR(IF(R501<R518,R518/R501,R501/R518),\"\")","v":7.0176470588235293},{"$f":"IFERROR(R501/IF((Q501*S498)<150,150,Q501*S498)^0.25*34.9964,\"\")","v":5.5334166953158346E-3}]
[4,150,{"$f":"IF(OR(B502<=0,B502>1000000000),\"\",B496/B502/E495)","v":6666.666666666667},{"$f":"IF(OR(C502=\"\",E502<=0,F496>1),\"\",IF(E502=\"Freilos\",F495/(1-(1/C502))/C502,IF(E502>1000000000,\"\",E502/C502/E496)))","v":1.4999999999999999E-2},50,{"$f":"IFERROR(IF(D502<D507,D507/D502,D502/D507),\"\")","v":4.1156499999999996},{"$f":"IFERROR(D502/IF((C502*E496)<150,150,C502*E496)^0.25*34.9964,\"\")","v":6.9086778880335917E-2},4,150,{"$f":"IF(OR(I502<=0,I502>1000000000),\"\",I496/I502/L495)","v":6666.666666666667},{"$f":"IF(OR(J502=\"\",L502<=0,M496>1),\"\",IF(L502=\"Freilos\",M495/(1-(1/J502))/J502,IF(L502>1000000000,\"\",L502/J502/L496)))","v":7.4999999999999997E-3},50,{"$f":"IFERROR(IF(K502<K507,K507/K502,K502/K507),\"\")","v":8.4906500000000005},{"$f":"IFERROR(K502/IF((J502*L496)<150,150,J502*L496)^0.25*34.9964,\"\")","v":2.9047412350950253E-2},7,2,{"$f":"IF(OR(P502<=0,P502>1000000000),\"\",P498/P502/S497)","v":1000000},{"$f":"IF(OR(Q502=\"\",S502<=0,T498>1),\"\",IF(S502=\"Freilos\",T497/(1-(1/Q502))/Q502,IF(S502>1000000000,\"\",S502/Q502/S498)))","v":4.0000000000000001E-3},2000,{"$f":"IFERROR(IF(R502<R518,R518/R502,R502/R518),\"\")","v":8.7720588235294112},{"$f":"IFERROR(R502/IF((Q502*S498)<150,150,Q502*S498)^0.25*34.9964,\"\")","v":5.2643028034755476E-3}]
[3,2500,{"$f":"IF(OR(B503<=0,B503>1000000000),\"\",B496/B503/E495)","v":400},{"$f":"IF(OR(C503=\"\",E503<=0,F496>1),\"\",IF(E503=\"Freilos\",F495/(1-(1/C503))/C503,IF(E503>1000000000,\"\",E503/C503/E496)))","v":2.5000000000000001E-2},5,{"$f":"IFERROR(IF(D503<D507,D507/D503,D503/D507),\"\")","v":2.4693899999999998},{"$f":"IFERROR(D503/IF((C503*E496)<150,150,C503*E496)^0.25*34.9964,\"\")","v":0.23265151315980703},3,2500,{"$f":"IF(OR(I503<=0,I503>1000000000),\"\",I496/I503/L495)","v":400},{"$f":"IF(OR(J503=\"\",L503<=0,M496>1),\"\",IF(L503=\"Freilos\",M495/(1-(1/J503))/J503,IF(L503>1000000000,\"\",L503/J503/L496)))","v":1.2500000000000001E-2},5,{"$f":"IFERROR(IF(K503<K507,K507/K503,K503/K507),\"\")","v":5.0943899999999998},{"$f":"IFERROR(K503/IF((J503*L496)<150,150,J503*L496)^0.25*34.9964,\"\")","v":9.781791170971707E-2},6,5,{"$f":"IF(OR(P503<=0,P503>1000000000),\"\",P498/P503/S497)","v":400000},{"$f":"IF(OR(Q503=\"\",S503<=0,T498>1),\"\",IF(S503=\"Freilos\",T497/(1-(1/Q503))/Q503,IF(S503>1000000000,\"\",S503/Q503/S498)))","v":5.0000000000000001E-3},1000,{"$f":"IFERROR(IF(R503<R518,R518/R503,R503/R518),\"\")","v":7.0176470588235293},{"$f":"IFERROR(R503/IF((Q503*S498)<150,150,Q503*S498)^0.25*34.9964,\"\")","v":8.2743879113296864E-3}]
[1,105000,{"$f":"IF(OR(B504<=0,B504>1000000000),\"\",B496/B504/E495)","v":9.5238095238095237},{"$f":"IF(OR(C504=\"\",E504<=0,F496>1),\"\",IF(E504=\"Freilos\",F495/(1-(1/C504))/C504,IF(E504>1000000000,\"\",E504/C504/E496)))","v":0.21},1,{"$f":"IFERROR(IF(D504<D507,D507/D504,D504/D507),\"\")","v":3.4016498001530744},{"$f":"IFERROR(D504/IF((C504*E496)<150,150,C504*E496)^0.25*34.9964,\"\")","v":2.1000026933321325},1,105000,{"$f":"IF(OR(I504<=0,I504>1000000000),\"\",I496/I504/L495)","v":9.5238095238095237},{"$f":"IF(OR(J504=\"\",L504<=0,M496>1),\"\",IF(L504=\"Freilos\",M495/(1-(1/J504))/J504,IF(L504>1000000000,\"\",L504/J504/L496)))","v":0.21},2,{"$f":"IFERROR(IF(K504<K507,K507/K504,K504/K507),\"\")","v":3.2977451667422399},{"$f":"IFERROR(K504/IF((J504*L496)<150,150,J504*L496)^0.25*34.9964,\"\")","v":2.1000026933321325},6,10,{"$f":"IF(OR(P504<=0,P504>1000000000),\"\",P498/P504/S497)","v":200000},{"$f":"IF(OR(Q504=\"\",S504<=0,T498>1),\"\",IF(S504=\"Freilos\",T497/(1-(1/Q504))/Q504,IF(S504>1000000000,\"\",S504/Q504/S498)))","v":5.0000000000000001E-3},500,{"$f":"IFERROR(IF(R504<R518,R518/R504,R504/R518),\"\")","v":7.0176470588235293},{"$f":"IFERROR(R504/IF((Q504*S498)<150,150,Q504*S498)^0.25*34.9964,\"\")","v":9.8399609764457663E-3}]
[1,210000,{"$f":"IF(OR(B505<=0,B505>1000000000),\"\",B496/B505/E495)","v":4.7619047619047619},{"$f":"IF(OR(C505=\"\",E505<=0,F496>1),\"\",IF(E505=\"Freilos\",F495/(1-(1/C505))/C505,IF(E505>1000000000,\"\",E505/C505/E496)))","v":0.105},0.25,{"$f":"IFERROR(IF(D505<D507,D507/D505,D505/D507),\"\")","v":1.7008249000765372},{"$f":"IFERROR(D505/IF((C505*E496)<150,150,C505*E496)^0.25*34.9964,\"\")","v":1.0500013466660663},1,210000,{"$f":"IF(OR(I505<=0,I505>1000000000),\"\",I496/I505/L495)","v":4.7619047619047619},{"$f":"IF(OR(J505=\"\",L505<=0,M496>1),\"\",IF(L505=\"Freilos\",M495/(1-(1/J505))/J505,IF(L505>1000000000,\"\",L505/J505/L496)))","v":0.21},1,{"$f":"IFERROR(IF(K505<K507,K507/K505,K505/K507),\"\")","v":3.2977451667422399},{"$f":"IFERROR(K505/IF((J505*L496)<150,150,J505*L496)^0.25*34.9964,\"\")","v":2.1000026933321325},5,25,{"$f":"IF(OR(P505<=0,P505>1000000000),\"\",P498/P505/S497)","v":80000},{"$f":"IF(OR(Q505=\"\",S505<=0,T498>1),\"\",IF(S505=\"Freilos\",T497/(1-(1/Q505))/Q505,IF(S505>1000000000,\"\",S505/Q505/S498)))","v":5.0000000000000001E-3},200,{"$f":"IFERROR(IF(R505<R518,R518/R505,R505/R518),\"\")","v":7.0176470588235293},{"$f":"IFERROR(R505/IF((Q505*S498)<150,150,Q505*S498)^0.25*34.9964,\"\")","v":1.2373095878558451E-2}]
[null,{"$f":"IF(SUM(B498:B505)=0,\"\",SUM(B498:B505))","v":317722},{"$f":"IF(OR(B506<=0,B506>1000000000),\"\",B496/B506/E495)","v":3.1474055935692209},{"$f":"IF(SUM(D498:D505)=0,\"\",SUM(D498:D505))","v":0.49387799999999998},{"$f":"IFERROR(E496*D506,\"\")","v":0.24693899999999999},{"$f":"IFERROR(AVERAGE(F498:F505),\"\")","v":3.9964477166602883},{"$f":"IF(SUM(G498:G505)=0,\"\",SUM(G498:G505))","v":3.7628970618993307},null,{"$f":"IF(SUM(I498:I505)=0,\"\",SUM(I498:I505))","v":317722},{"$f":"IF(OR(I506<=0,I506>1000000000),\"\",I496/I506/L495)","v":3.1474055935692209},{"$f":"IF(SUM(K498:K505)=0,\"\",SUM(K498:K505))","v":0.50943899999999998},{"$f":"IFERROR(L496*K506,\"\")","v":0.50943899999999998},{"$f":"IFERROR(AVERAGE(M498:M505),\"\")","v":7.4447753331700648},{"$f":"IF(SUM(N498:N505)=0,\"\",SUM(N498:N505))","v":4.4576951591896039},5,100,{"$f":"IF(OR(P506<=0,P506>1000000000),\"\",P498/P506/S497)","v":20000},{"$f":"IF(OR(Q506=\"\",S506<=0,T498>1),\"\",IF(S506=\"Freilos\",T497/(1-(1/Q506))/Q506,IF(S506>1000000000,\"\",S506/Q506/S498)))","v":0.01},100,{"$f":"IFERROR(IF(R506<R518,R518/R506,R506/R518),\"\")","v":3.5088235294117647},{"$f":"IFERROR(R506/IF((Q506*S498)<150,150,Q506*S498)^0.25*34.9964,\"\")","v":3.4996399999999997E-2}]
[null,null,null,{"$f":"AVERAGE(D498:D505)","v":6.1734749999999998E-2},null,null,null,null,null,null,{"$f":"AVERAGE(K498:K505)","v":6.3679874999999997E-2},null,null,null,4,250,{"$f":"IF(OR(P507<=0,P507>1000000000),\"\",P498/P507/S497)","v":8000},{"$f":"IF(OR(Q507=\"\",S507<=0,T498>1),\"\",IF(S507=\"Freilos\",T497/(1-(1/Q507))/Q507,IF(S507>1000000000,\"\",S507/Q507/S498)))","v":1.2500000000000001E-2},50,{"$f":"IFERROR(IF(R507<R518,R518/R507,R507/R518),\"\")","v":2.8070588235294118},{"$f":"IFERROR(R507/IF((Q507*S498)<150,150,Q507*S498)^0.25*34.9964,\"\")","v":5.5007054098194862E-2}]
[null,null,null,null,null,null,null,null,null,null,null,null,null,null,4,500,{"$f":"IF(OR(P508<=0,P508>1000000000),\"\",P498/P508/S497)","v":4000},{"$f":"IF(OR(Q508=\"\",S508<=0,T498>1),\"\",IF(S508=\"Freilos\",T497/(1-(1/Q508))/Q508,IF(S508>1000000000,\"\",S508/Q508/S498)))","v":0.01},20,{"$f":"IFERROR(IF(R508<R518,R518/R508,R508/R518),\"\")","v":3.5088235294117647},{"$f":"IFERROR(R508/IF((Q508*S498)<150,150,Q508*S498)^0.25*34.9964,\"\")","v":5.233182408713033E-2}]
[null,"Tutti Frutti Bonus",null,null,1,{"$f":"IFERROR(SUMIF(E512:E523,\"<>Freilos\",D512:D523),\"\")","v":0.51416499999999998},null,null,"Black Jack",null,null,1,{"$f":"IFERROR(SUMIF(L512:L517,\"<>Freilos\",K512:K517),\"\")","v":0.65100000000000002},null,4,1250,{"$f":"IF(OR(P509<=0,P509>1000000000),\"\",P498/P509/S497)","v":1600},{"$f":"IF(OR(Q509=\"\",S509<=0,T498>1),\"\",IF(S509=\"Freilos\",T497/(1-(1/Q509))/Q509,IF(S509>1000000000,\"\",S509/Q509/S498)))","v":1.2500000000000001E-2},10,{"$f":"IFERROR(IF(R509<R518,R518/R509,R509/R518),\"\")","v":2.8070588235294118},{"$f":"IFERROR(R509/IF((Q509*S498)<150,150,Q509*S498)^0.25*34.9964,\"\")","v":8.2254731304305426E-2}]
[null,10000000,null,null,{"$f":"E509*2","v":2},{"$f":"IFERROR(COUNTIF(E512:E523,\"Freilos\"),\"\")","v":0},null,null,1000000,null,null,{"$f":"L509*1","v":1},{"$f":"IFERROR(COUNTIF(L512:L517,\"Freilos\"),\"\")","v":0},null,3,6000,{"$f":"IF(OR(P510<=0,P510>1000000000),\"\",P498/P510/S497)","v":333.33333333333331},{"$f":"IF(OR(Q510=\"\",S510<=0,T498>1),\"\",IF(S510=\"Freilos\",T497/(1-(1/Q510))/Q510,IF(S510>1000000000,\"\",S510/Q510/S498)))","v":3.0000000000000002E-2},5,{"$f":"IFERROR(IF(R510<R518,R518/R510,R510/R518),\"\")","v":1.169607843137255},{"$f":"IFERROR(R510/IF((Q510*S498)<150,150,Q510*S498)^0.25*34.9964,\"\")","v":0.29220149868695866}]
[null,"Losanzahl",{"$f":"IF(E509=1,\"Chancen 1:\",\"Ø Gewinne 1:\")","v":"Chancen 1:"},"Ø AQ","(Ø) Gewinn",null,null,null,"Losanzahl",{"$f":"IF(L509=1,\"Chancen 1:\",\"Ø Gewinne 1:\")","v":"Chancen 1:"},"Ø AQ","(Ø) Gewinn",null,null,3,15000,{"$f":"IF(OR(P511<=0,P511>1000000000),\"\",P498/P511/S497)","v":133.33333333333334},{"$f":"IF(OR(Q511=\"\",S511<=0,T498>1),\"\",IF(S511=\"Freilos\",T497/(1-(1/Q511))/Q511,IF(S511>1000000000,\"\",S511/Q511/S498)))","v":3.7499999999999999E-2},2.5,{"$f":"IFERROR(IF(R511<R518,R518/R511,R511/R518),\"\")","v":1.0687342833193629},{"$f":"IFERROR(R511/IF((Q511*S498)<150,150,Q511*S498)^0.25*34.9964,\"\")","v":0.37500048095216654}]
[{"$f":"IF(C512=\"\",0,IF(C512>=1000000,7,IF(C512>=100000,6,IF(C512>=10000,5,IF(C512>=1000,4,IF(C512>=100,3,IF(C512>=10,2,1)))))))","v":7},10,{"$f":"IF(OR(B512<=0,B512>1000000000),\"\",B510/B512/E509)","v":1000000},{"$f":"IF(OR(C512=\"\",E512<=0,F510>1),\"\",IF(E512=\"Freilos\",F509/(1-(1/C512))/C512,IF(E512>1000000000,\"\",E512/C512/E510)))","v":2.5000000000000001E-2},50000,{"$f":"IFERROR(IF(D512<D525,D525/D512,D512/D525),\"\")","v":1.7138833333333332},{"$f":"IFERROR(D512/IF((C512*E510)<150,150,C512*E510)^0.25*34.9964,\"\")","v":2.3265151315980705E-2},{"$f":"IF(J512=\"\",0,IF(J512>=1000000,7,IF(J512>=100000,6,IF(J512>=10000,5,IF(J512>=1000,4,IF(J512>=100,3,IF(J512>=10,2,1)))))))","v":7},1,{"$f":"IF(OR(I512<=0,I512>1000000000),\"\",I510/I512/L509)","v":1000000},{"$f":"IF(OR(J512=\"\",L512<=0,M510>1),\"\",IF(L512=\"Freilos\",M509/(1-(1/J512))/J512,IF(L512>1000000000,\"\",L512/J512/L510)))","v":2.1000000000000001E-2},21000,{"$f":"IFERROR(IF(K512<K519,K519/K512,K512/K519),\"\")","v":5.1666666666666661},{"$f":"IFERROR(K512/IF((J512*L510)<150,150,J512*L510)^0.25*34.9964,\"\")","v":2.3240350120326506E-2},2,25000,{"$f":"IF(OR(P512<=0,P512>1000000000),\"\",P498/P512/S497)","v":80},{"$f":"IF(OR(Q512=\"\",S512<=0,T498>1),\"\",IF(S512=\"Freilos\",T497/(1-(1/Q512))/Q512,IF(S512>1000000000,\"\",S512/Q512/S498)))","v":0.05},2,{"$f":"IFERROR(IF(R512<R518,R518/R512,R512/R518),\"\")","v":1.4249790444258172},{"$f":"IFERROR(R512/IF((Q512*S498)<150,150,Q512*S498)^0.25*34.9964,\"\")","v":0.50000064126955546}]
[6,20,{"$f":"IF(OR(B513<=0,B513>1000000000),\"\",B510/B513/E509)","v":500000},{"$f":"IF(OR(C513=\"\",E513<=0,F510>1),\"\",IF(E513=\"Freilos\",F509/(1-(1/C513))/C513,IF(E513>1000000000,\"\",E513/C513/E510)))","v":5.0000000000000001E-3},5000,{"$f":"IFERROR(IF(D513<D525,D525/D513,D513/D525),\"\")","v":8.5694166666666671},{"$f":"IFERROR(D513/IF((C513*E510)<150,150,C513*E510)^0.25*34.9964,\"\")","v":5.5334166953158346E-3},6,5,{"$f":"IF(OR(I513<=0,I513>1000000000),\"\",I510/I513/L509)","v":200000},{"$f":"IF(OR(J513=\"\",L513<=0,M510>1),\"\",IF(L513=\"Freilos\",M509/(1-(1/J513))/J513,IF(L513>1000000000,\"\",L513/J513/L510)))","v":1.4999999999999999E-2},3000,{"$f":"IFERROR(IF(K513<K519,K519/K513,K513/K519),\"\")","v":7.2333333333333334},{"$f":"IFERROR(K513/IF((J513*L510)<150,150,J513*L510)^0.25*34.9964,\"\")","v":2.4823163733989056E-2},2,60000,{"$f":"IF(OR(P513<=0,P513>1000000000),\"\",P498/P513/S497)","v":33.333333333333336},{"$f":"IF(OR(Q513=\"\",S513<=0,T498>1),\"\",IF(S513=\"Freilos\",T497/(1-(1/Q513))/Q513,IF(S513>1000000000,\"\",S513/Q513/S498)))","v":7.4999999999999997E-2},1.25,{"$f":"IFERROR(IF(R513<R518,R518/R513,R513/R518),\"\")","v":2.1374685666387259},{"$f":"IFERROR(R513/IF((Q513*S498)<150,150,Q513*S498)^0.25*34.9964,\"\")","v":0.75000096190433307}]
[6,50,{"$f":"IF(OR(B514<=0,B514>1000000000),\"\",B510/B514/E509)","v":200000},{"$f":"IF(OR(C514=\"\",E514<=0,F510>1),\"\",IF(E514=\"Freilos\",F509/(1-(1/C514))/C514,IF(E514>1000000000,\"\",E514/C514/E510)))","v":2.5000000000000001E-3},1000,{"$f":"IFERROR(IF(D514<D525,D525/D514,D514/D525),\"\")","v":17.138833333333334},{"$f":"IFERROR(D514/IF((C514*E510)<150,150,C514*E510)^0.25*34.9964,\"\")","v":3.4789515665279011E-3},4,200,{"$f":"IF(OR(I514<=0,I514>1000000000),\"\",I510/I514/L509)","v":5000},{"$f":"IF(OR(J514=\"\",L514<=0,M510>1),\"\",IF(L514=\"Freilos\",M509/(1-(1/J514))/J514,IF(L514>1000000000,\"\",L514/J514/L510)))","v":0.06},300,{"$f":"IFERROR(IF(K514<K519,K519/K514,K514/K519),\"\")","v":1.8083333333333333},{"$f":"IFERROR(K514/IF((J514*L510)<150,150,J514*L510)^0.25*34.9964,\"\")","v":0.24970780727688732},2,100000,{"$f":"IF(OR(P514<=0,P514>1000000000),\"\",P498/P514/S497)","v":20},{"$f":"IF(OR(Q514=\"\",S514<=0,T498>1),\"\",IF(S514=\"Freilos\",T497/(1-(1/Q514))/Q514,IF(S514>1000000000,\"\",S514/Q514/S498)))","v":0.1},1,{"$f":"IFERROR(IF(R514<R518,R518/R514,R514/R518),\"\")","v":2.8499580888516345},{"$f":"IFERROR(R514/IF((Q514*S498)<150,150,Q514*S498)^0.25*34.9964,\"\")","v":1.0000012825391109}]
[5,333,{"$f":"IF(OR(B515<=0,B515>1000000000),\"\",B510/B515/E509)","v":30030.03003003003},{"$f":"IF(OR(C515=\"\",E515<=0,F510>1),\"\",IF(E515=\"Freilos\",F509/(1-(1/C515))/C515,IF(E515>1000000000,\"\",E515/C515/E510)))","v":1.665E-3},100,{"$f":"IFERROR(IF(D515<D525,D525/D515,D515/D525),\"\")","v":25.733983983983983},{"$f":"IFERROR(D515/IF((C515*E510)<150,150,C515*E510)^0.25*34.9964,\"\")","v":3.7221268437686644E-3},3,1500,{"$f":"IF(OR(I515<=0,I515>1000000000),\"\",I510/I515/L509)","v":666.66666666666663},{"$f":"IF(OR(J515=\"\",L515<=0,M510>1),\"\",IF(L515=\"Freilos\",M509/(1-(1/J515))/J515,IF(L515>1000000000,\"\",L515/J515/L510)))","v":4.5000000000000005E-2},30,{"$f":"IFERROR(IF(K515<K519,K519/K515,K515/K519),\"\")","v":2.411111111111111},{"$f":"IFERROR(K515/IF((J515*L510)<150,150,J515*L510)^0.25*34.9964,\"\")","v":0.30992649179163084},1,250000,{"$f":"IF(OR(P515<=0,P515>1000000000),\"\",P498/P515/S497)","v":8},{"$f":"IF(OR(Q515=\"\",S515<=0,T498>1),\"\",IF(S515=\"Freilos\",T497/(1-(1/Q515))/Q515,IF(S515>1000000000,\"\",S515/Q515/S498)))","v":0.125},0.5,{"$f":"IFERROR(IF(R515<R518,R518/R515,R515/R518),\"\")","v":3.5624476110645431},{"$f":"IFERROR(R515/IF((Q515*S498)<150,150,Q515*S498)^0.25*34.9964,\"\")","v":1.2500016031738885}]
[4,5000,{"$f":"IF(OR(B516<=0,B516>1000000000),\"\",B510/B516/E509)","v":2000},{"$f":"IF(OR(C516=\"\",E516<=0,F510>1),\"\",IF(E516=\"Freilos\",F509/(1-(1/C516))/C516,IF(E516>1000000000,\"\",E516/C516/E510)))","v":1.2500000000000001E-2},50,{"$f":"IFERROR(IF(D516<D525,D525/D516,D516/D525),\"\")","v":3.4277666666666664},{"$f":"IFERROR(D516/IF((C516*E510)<150,150,C516*E510)^0.25*34.9964,\"\")","v":5.5007054098194862E-2},1,160000,{"$f":"IF(OR(I516<=0,I516>1000000000),\"\",I510/I516/L509)","v":6.25},{"$f":"IF(OR(J516=\"\",L516<=0,M510>1),\"\",IF(L516=\"Freilos\",M509/(1-(1/J516))/J516,IF(L516>1000000000,\"\",L516/J516/L510)))","v":0.32},2,{"$f":"IFERROR(IF(K516<K519,K519/K516,K516/K519),\"\")","v":2.9493087557603688},{"$f":"IFERROR(K516/IF((J516*L510)<150,150,J516*L510)^0.25*34.9964,\"\")","v":3.200004104125155},1,400000,{"$f":"IF(OR(P516<=0,P516>1000000000),\"\",P498/P516/S497)","v":5},{"$f":"IF(OR(Q516=\"\",S516<=0,T498>1),\"\",IF(S516=\"Freilos\",T497/(1-(1/Q516))/Q516,IF(S516>1000000000,\"\",S516/Q516/S498)))","v":0.1},0.25,{"$f":"IFERROR(IF(R516<R518,R518/R516,R516/R518),\"\")","v":2.8499580888516345},{"$f":"IFERROR(R516/IF((Q516*S498)<150,150,Q516*S498)^0.25*34.9964,\"\")","v":1.0000012825391109}]
[4,10000,{"$f":"IF(OR(B517<=0,B517>1000000000),\"\",B510/B517/E509)","v":1000},{"$f":"IF(OR(C517=\"\",E517<=0,F510>1),\"\",IF(E517=\"Freilos\",F509/(1-(1/C517))/C517,IF(E517>1000000000,\"\",E517/C517/E510)))","v":0.02},40,{"$f":"IFERROR(IF(D517<D525,D525/D517,D517/D525),\"\")","v":2.1423541666666668},{"$f":"IFERROR(D517/IF((C517*E510)<150,150,C517*E510)^0.25*34.9964,\"\")","v":0.10466364817426066},1,190000,{"$f":"IF(OR(I517<=0,I517>1000000000),\"\",I510/I517/L509)","v":5.2631578947368425},{"$f":"IF(OR(J517=\"\",L517<=0,M510>1),\"\",IF(L517=\"Freilos\",M509/(1-(1/J517))/J517,IF(L517>1000000000,\"\",L517/J517/L510)))","v":0.18999999999999997},1,{"$f":"IFERROR(IF(K517<K519,K519/K517,K517/K519),\"\")","v":1.7511520737327186},{"$f":"IFERROR(K517/IF((J517*L510)<150,150,J517*L510)^0.25*34.9964,\"\")","v":1.9000024368243102},null,{"$f":"IF(SUM(P500:P516)=0,\"\",SUM(P500:P516))","v":858144},{"$f":"IF(OR(P517<=0,P517>1000000000),\"\",P498/P517/S497)","v":2.3306111794757056},{"$f":"IF(SUM(R500:R516)=0,\"\",SUM(R500:R516))","v":0.59650000000000003},{"$f":"IFERROR(S498*R517,\"\")","v":0.29825000000000002},{"$f":"IFERROR(AVERAGE(T500:T516),\"\")","v":4.0027287541415655},{"$f":"IF(SUM(U500:U516)=0,\"\",SUM(U500:U516))","v":5.4441497582105107}]
[3,50000,{"$f":"IF(OR(B518<=0,B518>1000000000),\"\",B510/B518/E509)","v":200},{"$f":"IF(OR(C518=\"\",E518<=0,F510>1),\"\",IF(E518=\"Freilos\",F509/(1-(1/C518))/C518,IF(E518>1000000000,\"\",E518/C518/E510)))","v":2.5000000000000001E-2},10,{"$f":"IFERROR(IF(D520<D525,D525/D520,D520/D525),\"\")","v":1.4003286882615504},{"$f":"IFERROR(D520/IF((C520*E510)<150,150,C520*E510)^0.25*34.9964,\"\")","v":0.49142238555525303},null,{"$f":"IF(SUM(I512:I517)=0,\"\",SUM(I512:I517))","v":351706},{"$f":"IF(OR(I518<=0,I518>1000000000),\"\",I510/I518/L509)","v":2.843283879149062},{"$f":"IF(SUM(K512:K517)=0,\"\",SUM(K512:K517))","v":0.65100000000000002},{"$f":"IFERROR(L510*K518,\"\")","v":0.65100000000000002},{"$f":"IFERROR(AVERAGE(M512:M517),\"\")","v":3.5533175456562556},{"$f":"IF(SUM(N512:N517)=0,\"\",SUM(N512:N517))","v":5.7077043538722982},null,null,null,{"$f":"AVERAGE(R500:R516)","v":3.5088235294117649E-2}]
[3,50000,{"$f":"IF(OR(B519<=0,B519>1000000000),\"\",B510/B519/E509)","v":200},{"$f":"IF(OR(C519=\"\",E519<=0,F510>1),\"\",IF(E519=\"Freilos\",F509/(1-(1/C519))/C519,IF(E519>1000000000,\"\",E519/C519/E510)))","v":1.2500000000000001E-2},5,{"$f":"IFERROR(IF(D518<D525,D525/D518,D518/D525),\"\")","v":1.7138833333333332},{"$f":"IFERROR(D518/IF((C518*E510)<150,150,C518*E510)^0.25*34.9964,\"\")","v":0.19563582341943414},null,null,null,{"$f":"AVERAGE(K512:K517)","v":0.1085}]
[3,60000,{"$f":"IF(OR(B520<=0,B520>1000000000),\"\",B510/B520/E509)","v":166.66666666666666},{"$f":"IF(OR(C520=\"\",E520<=0,F510>1),\"\",IF(E520=\"Freilos\",F509/(1-(1/C520))/C520,IF(E520>1000000000,\"\",E520/C520/E510)))","v":6.0000000000000005E-2},20,{"$f":"IFERROR(IF(D519<D525,D525/D519,D519/D525),\"\")","v":3.4277666666666664},{"$f":"IFERROR(D519/IF((C519*E510)<150,150,C519*E510)^0.25*34.9964,\"\")","v":9.781791170971707E-2},null,null,null,null,null,null,null,null,"Rechtliche Hinweise: Dieser Rechner darf nur für private Zwecke verwendet werden. Eine Weiter-gabe dieser Excel-Datei an andere Personen darf nur unverändert und kostenlos erfolgen! "]
[2,500000,{"$f":"IF(OR(B521<=0,B521>1000000000),\"\",B510/B521/E509)","v":20},{"$f":"IF(OR(C521=\"\",E521<=0,F510>1),\"\",IF(E521=\"Freilos\",F509/(1-(1/C521))/C521,IF(E521>1000000000,\"\",E521/C521/E510)))","v":0.1},4,{"$f":"IFERROR(IF(D521<D525,D525/D521,D521/D525),\"\")","v":2.3338811471025838},{"$f":"IFERROR(D521/IF((C521*E510)<150,150,C521*E510)^0.25*34.9964,\"\")","v":1.0000012825391109},null,"Veraltete Gewinntabellen oder sonstige Fehler gefunden? Dann schreibe bitte eine E-Mail an:\n\nlottohelden@lotteriecheck.de"]
[2,1000000,{"$f":"IF(OR(B522<=0,B522>1000000000),\"\",B510/B522/E509)","v":10},{"$f":"IF(OR(C522=\"\",E522<=0,F510>1),\"\",IF(E522=\"Freilos\",F509/(1-(1/C522))/C522,IF(E522>1000000000,\"\",E522/C522/E510)))","v":0.1},2,{"$f":"IFERROR(IF(D522<D525,D525/D522,D522/D525),\"\")","v":2.3338811471025838},{"$f":"IFERROR(D522/IF((C522*E510)<150,150,C522*E510)^0.25*34.9964,\"\")","v":1.0000012825391109}]
[1,3000000,{"$f":"IF(OR(B523<=0,B523>1000000000),\"\",B510/B523/E509)","v":3.3333333333333335},{"$f":"IF(OR(C523=\"\",E523<=0,F510>1),\"\",IF(E523=\"Freilos\",F509/(1-(1/C523))/C523,IF(E523>1000000000,\"\",E523/C523/E510)))","v":0.15},1,{"$f":"IFERROR(IF(D523<D525,D525/D523,D523/D525),\"\")","v":3.5008217206538754},{"$f":"IFERROR(D523/IF((C523*E510)<150,150,C523*E510)^0.25*34.9964,\"\")","v":1.5000019238086661},null,null,null,null,null,null,null,null,null,null,null,null,null,null,null,"vorübergehend nicht verfügbare Rubbellose (Stand: 11.11.2023):"]
[null,{"$f":"IF(SUM(B512:B523)=0,\"\",SUM(B512:B523))","v":4675413},{"$f":"IF(OR(B524<=0,B524>1000000000),\"\",B510/B524/E509)","v":2.1388484824763077},{"$f":"IF(SUM(D512:D523)=0,\"\",SUM(D512:D523))","v":0.51416499999999998},{"$f":"IFERROR(E510*D524,\"\")","v":1.02833},{"$f":"IFERROR(AVERAGE(F512:F523),\"\")","v":6.1197334044809368},{"$f":"IF(SUM(G512:G523)=0,\"\",SUM(G512:G523))","v":4.4805509582653409},null,null,null,null,null,null,null,null,null,null,null,null,null,null,null,"- Christmas Cashcade (https://www.lottohelden.de/rubbellose/christmas-cashcade/)"]
[null,null,null,{"$f":"AVERAGE(D512:D523)","v":4.2847083333333334E-2},null,null,null,null,null,null,null,null,null,null,null,null,null,null,null,null,null,null,"- Santa's Scratch (https://www.lottohelden.de/rubbellose/santas-scratch/)"]
[null,null,null,null,null,null,null,null,null,null,null,null,null,null,null,null,null,null,null,null,null,null,"- Rubbel Weihnacht (https://www.lottohelden.de/rubbellose/rubbel-weihnacht/)"]
[null,"© Copyright 2023 by Lottoexperte (www.lotteriecheck.de) - Alle Rechte vorbehalten!",null,null,null,null,null,null,null,null,null,null,null,null,null,null,null,null,null,null,null,null,"- Viel Glück (https://www.lottohelden.de/rubbellose/viel-glueck/)"]
[]
[null,"¹ Die Auswertungen erfolgen Anhand der Angaben in den veröffentlichten Rubbellos-Gewinntabellen auf der Homepage von Lottohelden. Es wurden alle Rubbellose ausgewertet, bei de-\n¹ nen Gewinntabellen vorhanden sind, auch wenn einige Rubbellose vorübergehend nicht verfügbar sind. Gewinnklassen mit gleichen Gewinnbeträgen wurden in eine Gewinnklasse zusam-\n¹ mengelegt (durch Addition der entsprechenden Lose). Freilosgewinne und Freispielgewinne wurden mit dem Durchschnittsgewinn veranschlagt, der sich aus der Multiplikation von Spiel-\n¹ Spieleinsatz und Ø AQ ergibt. Alle Angaben sind ohne Gewähr, da die angegebenen Loszahlen (mit Ausnahme von drei Bingo-Rubbellosen) nicht berechnet werden können und somit nicht\n¹ überprüfbar sind. Die Bewertungsübersicht kann mit Strg+[1-6] sortiert werden.\n² Je geringer der Wert, desto höher ist das Verlustpotenzial in Relation zum Spieleinsatz. Berechnung: Summe aller berechneten Werte (X) in den einzelnen Gewinnklassen. Berechnung\n² von X je Gewinnklasse: [Ø AQ dieser Gewinnklasse]/([1:Wahrscheinlichkeit dieser Gewinnklasse]*[Preis je Spiel in Euro])^0,25*34,9964\n² Für den in den runden Klammern berechneten Wert gilt jedoch eine Untergrenze von 150. Die Rubbellosbewertungen wurden daher speziell für Gelegenheitsspieler kalkuliert und tref-\n² fen somit am genauesten auf diejenigen Spieler zu, die in ihrem gesamten Leben lediglich 150 € für dieses Rubbellos ausgeben.\n² Beispiel: Die 1:Wahrscheinlichkeit einer Gewinnklasse liegt bei 50 und der Spielpreis bei 2 €. Der Wert in den runden Klammern beläuft sich dadurch auf 150 (anstelle von 100).\n³ Je höher der Wert, desto ungleichmäßiger ist die Ø Gesamt-AQ auf die Gewinnklassen verteilt. Berechnung: Mittelwert (Ø) aller berechneten Werte (X) in den einzelnen Gewinnklassen. \n³ Berechnung von X je Gewinnklasse: Wenn der Ø der Ø AQs aller Gewinnklassen (Y) größer ist als die Ø Gewinnklassen-AQ (Z), dann wird Y durch Z geteilt, ansonsten wird Z durch Y geteilt.\n⁴ Die erste Gewinnklasse wurde aufgrund der absolut unrealistischen Gewinnchance (ca. 1 zu 10,85 Billionen) nicht berücksichtigt. Die Ø AQ dieser Gewinnklasse liegt bei unter 0,000003 %.\n⁴ Bei diesen Spielen gelten alle Angaben nur unter der Voraussetzung, dass der in dem Softwareprogramm einprogrammierte Zufallsgenerator nicht manipuliert wurde.\n⁵ In der ersten Gewinnklasse wurden die monatlichen Gewinnzahlungen mit einer monatlichen Inflationsrate von 0,125 % diskontiert.\n⁶ Weiteres Rubbellos auf das diese Gewinntabelle zutrifft: \"Rubbel Weihnacht\" / \"Ach, du dickes Ei\"\n⁷ Die Gewinntabelle bezieht sich auf die folgenden 5 Rubbellose von Lucky Day: \"Football Gold\" / \"Eggstravaganza\" / \"Summer Spike\" / \"Mega Hallowin\" / \"Christmas Cashcade\"",null,null,null,null,null,null,null,null,null,null,null,null,null,null,null,null,null,null,null,null,"84 angezeigte Gewinntabellen (https://www.lottohelden.de/gewinnwahrscheinlichkeiten/rubbellose/)"]
[null,null,null,null,null,null,null,null,null,null,null,null,null,null,null,null,null,null,null,null,null,null,"- 10 Rubbellostabellen mit gleicher Gewinntabelle (4 doppelte gemäß Bewertungsübersicht / 2 x gemäß Fußnote 6 / 4 x gemäß Fußnote 7)"]
[null,null,null,null,null,null,null,null,null,null,null,null,null,null,null,null,null,null,null,null,null,null,"+ 4 vorübergehend nicht verfügbare Rubbellose (siehe oben)"]
[null,null,null,null,null,null,null,null,null,null,null,null,null,null,null,null,null,null,null,null,null,null,"= 78 Gewinntabellen in diesem Registerblatt"]
[]
[null,null,null,null,null,null,null,null,null,null,null,null,null,null,null,null,null,null,null,null,null,null,"Rubbellose, die nicht in der Rubrik \"Alle\" unter \"Alle Rubbellose\" (76) gelistet werden, aber in den Gewinntabellen vorhanden sind:"]
[null,null,null,null,null,null,null,null,null,null,null,null,null,null,null,null,null,null,null,null,null,null,"- Prosit Neujahr (https://www.lottohelden.de/rubbellose/prosit-neujahr)"]
[null,null,null,null,null,null,null,null,null,null,null,null,null,null,null,null,null,null,null,null,null,null,"- Eggstravaganza von Lucky Day (https://www.lottohelden.de/rubbellose/eggstravaganza/)"]
[null,null,null,null,null,null,null,null,null,null,null,null,null,null,null,null,null,null,null,null,null,null,"- Hitzefrei (https://www.lottohelden.de/rubbellose/hitzefrei/)"]
[null,null,null,null,null,null,null,null,null,null,null,null,null,null,null,null,null,null,null,null,null,null,"- Ach, du dickes Ei (https://www.lottohelden.de/rubbellose/dickes-ei/)"]
[null,null,null,null,null,null,null,null,null,null,null,null,null,null,null,null,null,null,null,null,null,null,"- Cool Cash (https://www.lottohelden.de/rubbellose/cool-cash/)"]
[null,null,null,null,null,null,null,null,null,null,null,null,null,null,null,null,null,null,null,null,null,null,"- Mega Hallowin (https://www.lottohelden.de/rubbellose/mega-hallowin/) - wird nur bei \"Beliebt\" angezeigt"]
[null,null,null,null,null,null,null,null,null,null,null,null,null,null,null,null,null,null,null,null,null,null,"- Happy Birthday (https://www.lottohelden.de/rubbellose/happy-birthday/) - wird nur bei \"Beliebt\" angezeigt"]
[null,null,null,null,null,null,null,null,null,null,null,null,null,null,null,null,null,null,null,null,null,null,"- Oktobeerfest (https://www.lottohelden.de/rubbellose/oktobeerfest/) - wird nur in Rubrik \"Neu\" angezeigt"]

{"sheet":"Hotpicks+Spiele","index":4,"n_rows":163,"n_cols":29,"rows_kept":163,"cut":false,"hidden":false,"merged":[[102,15,105,18],[113,8,113,10],[114,8,114,10],[123,8,123,10],[124,8,124,10],[107,15,108,18],[1,27,2,27],[1,22,2,22],[1,23,2,23],[1,24,2,24],[1,25,2,25],[1,26,2,26],[141,1,141,3],[123,1,123,3],[140,1,140,3],[106,1,106,3],[124,1,124,3],[1,1,1,3],[2,1,2,3],[8,1,8,3],[9,1,9,3],[2,8,2,10],[134,8,134,10],[16,1,16,3],[17,1,17,3],[24,1,24,3],[25,1,25,3],[34,1,34,3],[77,1,77,3],[78,1,78,3],[90,1,90,3],[82,8,82,10],[83,8,83,10],[96,8,96,10],[97,8,97,10],[105,1,105,3],[133,8,133,10],[44,8,44,10],[68,8,68,10],[69,8,69,10],[55,8,55,10],[91,1,91,3],[65,1,65,3],[66,1,66,3],[53,1,53,3],[54,1,54,3],[33,1,33,3],[43,1,43,3],[44,1,44,3],[143,8,143,10],[148,15,154,18],[1,15,1,18],[69,15,69,18],[93,15,100,18],[32,8,32,10],[43,8,43,10],[56,8,56,10],[10,8,10,10],[11,8,11,10],[20,8,20,10],[21,8,21,10],[31,8,31,10],[1,8,1,10],[110,15,146,18],[144,8,144,10]]}
[]
[null,"Burning Keno (Typ 01) ⁶",null,null,1,null,null,null,"KENO Sofort! (Typ 02) ⁶",null,null,1,null,null,null,"Die besten Spiele mit Ø AQ (RTP) >= 96,50 % *",null,null,null,null,null,null,"Bewertungsübersicht der Hotpicks\nund von 5 Spielen von Lottohelden ¹","Preis\nje Spiel","Wer-\ntung ²","Ø AQ\nGesamt","Chancen\nje Spiel","Vertei-\nlung ³"]
[null,0.1,null,null,{"$f":"E2*1*B3","v":0.1},null,null,null,0.2,null,null,{"$f":"L2*1*I3","v":0.2},null,null,null,"Rang","Name des Spiels","Preis ab","Ø AQ"]
[null,"Richtige",{"$f":"IF(E2=1,\"Chancen 1:\",\"Ø Gewinne 1:\")","v":"Chancen 1:"},"Ø AQ","(Ø) Gewinn",null,null,null,"Richtige",{"$f":"IF(L2=1,\"Chancen 1:\",\"Ø Gewinne 1:\")","v":"Chancen 1:"},"Ø AQ","(Ø) Gewinn",null,null,null,1,"Lottohelden Blackjack ⁴",1,0.99419999999999997,null,null,null,{"$f":"$B$25","v":"Burning Keno (Typ 04) ⁶"},{"$f":"$E$26/$E$25","v":0.1},{"$f":"$G$31","v":9.8118779339411013},{"$f":"$D$31","v":0.98118653498400377},{"$f":"IFERROR($A$31/$E$25,\"\")","v":0.25894674945307866},{"$f":"$F$31","v":1.2570890633883469},9.8118779339411013]
[{"$f":"IFERROR(IF(OR(E5<=0,E5>1000000000),0,1/C5),\"\")","v":0.25000000000000006},1,{"$f":"IF(OR(E5<=0,E5>1000000000),\"\",1/HYPGEOMDIST(B5,1,20,80)/E2)","v":3.9999999999999991},{"$f":"IF(OR(E5<=0,E5>1000000000),\"\",E5/C5/E3)","v":0.87500000000000022},{"$f":"3.5*B3","v":0.35000000000000003},{"$f":"IFERROR(IF(D5<D7,D7/D5,D5/D7),\"\")","v":1},{"$f":"IFERROR(D5/IF((C5*E3)<150,150,C5*E3)^0.25*34.9964,\"\")","v":8.7500112222172231},{"$f":"IFERROR(IF(OR(L5<=0,L5>1000000000),0,1/J5),\"\")","v":7.8674948240165646E-2},2,{"$f":"IF(OR(L5<=0,L5>1000000000),\"\",1/HYPGEOMDIST(I5,2,20,70)/L2)","v":12.710526315789471},{"$f":"IF(OR(L5<=0,L5>1000000000),\"\",L5/J5/L3)","v":0.39337474120082822},{"$f":"ROUND(5*I3,2)","v":1},{"$f":"IFERROR(IF(K5<K9,K9/K5,K5/K9),\"\")","v":1.2297734627831718},{"$f":"IFERROR(K5/IF((J5*L3)<150,150,J5*L3)^0.25*34.9964,\"\")","v":3.9337524571931901},null,2,"Money Cart ⁵",0.1,0.98,null,null,null,{"$f":"$B$9","v":"Burning Keno (Typ 02) ⁶"},{"$f":"$E$10/$E$9","v":0.1},{"$f":"$G$14","v":9.8101391641495059},{"$f":"$D$14","v":0.98101265822784822},{"$f":"IFERROR($A$14/$E$9,\"\")","v":0.43987341772151894},{"$f":"$F$14","v":1.2587365591397854},9.8101391641495059]
[{"$f":"IF(SUM(A5:A5)=0,\"\",SUM(A5:A5))","v":0.25000000000000006},"Gesamt",{"$f":"IFERROR(1/A6,\"\")","v":3.9999999999999991},{"$f":"IF(SUM(D5:D5)=0,\"\",SUM(D5:D5))","v":0.87500000000000022},{"$f":"IFERROR(E3*D6,\"\")","v":8.7500000000000022E-2},{"$f":"IFERROR(AVERAGE(F5:F5),\"\")","v":1},{"$f":"IF(SUM(G5:G5)=0,\"\",SUM(G5:G5))","v":8.7500112222172231},0.41407867494824013,1,{"$f":"IF(OR(L6<=0,L6>1000000000),\"\",1/HYPGEOMDIST(I6,2,20,70)/L2)","v":2.415},{"$f":"IF(OR(L6<=0,L6>1000000000),\"\",L6/J6/L3)","v":0.41407867494824013},{"$f":"ROUND(1*I3,2)","v":0.2},{"$f":"IFERROR(IF(K6<K9,K9/K6,K6/K9),\"\")","v":1.2944983818770226},{"$f":"IFERROR(K6/IF((J6*L3)<150,150,J6*L3)^0.25*34.9964,\"\")","v":4.1407920602033572},null,3,"Elite of Evil (The First Quest) ⁵",0.05,0.97499999999999998,null,null,null,{"$f":"$B$34","v":"Burning Keno (Typ 05) ⁶"},{"$f":"$E$35/$E$34","v":0.1},{"$f":"$G$41","v":9.8097408367641954},{"$f":"$D$41","v":0.98177139316379813},{"$f":"IFERROR($A$41/$E$34,\"\")","v":0.36712970573730064},{"$f":"$F$41","v":1.5357584431427265},9.8097408367641954]
[null,null,null,{"$f":"AVERAGE(D5:D5)","v":0.87500000000000022},null,null,null,0.50724637681159412,0,{"$f":"IF(OR(L7<=0,L7>1000000000),\"\",1/HYPGEOMDIST(I7,2,20,70)/L2)","v":1.9714285714285718},{"$f":"IF(OR(L7<=0,L7>1000000000),\"\",L7/J7/L3)","v":0.15217391304347822},{"$f":"ROUND(0.3*I3,2)","v":0.06},{"$f":"IFERROR(IF(K7<K9,K9/K7,K7/K9),\"\")","v":2.1020408163265314},{"$f":"IFERROR(K7/IF((J7*L3)<150,150,J7*L3)^0.25*34.9964,\"\")","v":1.5217410821247335},null,4,"Elite of Evil (Portal of Gold) ⁵",0.1,0.97499999999999998,null,null,null,{"$f":"$B$17","v":"Burning Keno (Typ 03) ⁶"},{"$f":"$E$18/$E$17","v":0.1},{"$f":"$G$22","v":9.712768055820483},{"$f":"$D$22","v":0.97127555988315528},{"$f":"IFERROR($A$22/$E$17,\"\")","v":0.15262901655306721},{"$f":"$F$22","v":1.5892857142857149},9.712768055820483]
[null,null,null,null,null,null,null,{"$f":"IF(SUM(H5:H7)=0,\"\",SUM(H5:H7))","v":0.99999999999999989},"Gesamt",{"$f":"IFERROR(1/H8,\"\")","v":1.0000000000000002},{"$f":"IF(SUM(K5:K7)=0,\"\",SUM(K5:K7))","v":0.95962732919254656},{"$f":"IFERROR(L3*K8,\"\")","v":0.19192546583850933},{"$f":"IFERROR(AVERAGE(M5:M7),\"\")","v":1.5421042203289084},{"$f":"IF(SUM(N5:N7)=0,\"\",SUM(N5:N7))","v":9.5962855995212806},null,5,"Psycho Candies ⁵",0.1,0.97499999999999998,null,null,null,{"$f":"$I$21","v":"KENO Sofort! (Typ 04) ⁶"},{"$f":"$L$22/$L$21","v":0.2},{"$f":"$N$29","v":9.6078191050620969},{"$f":"$K$29","v":0.96078067826741298},{"$f":"IFERROR($H$29/$L$21,\"\")","v":0.99999999999999933},{"$f":"$M$29","v":1.8661689013752407},9.6078191050620969]
[null,"Burning Keno (Typ 02) ⁶",null,null,1,null,null,null,null,null,{"$f":"AVERAGE(K5:K7)","v":0.31987577639751552},null,null,null,null,6,"Starsign Clusters ⁵",0.2,0.97499999999999998,null,null,null,{"$f":"$I$2","v":"KENO Sofort! (Typ 02) ⁶"},{"$f":"$L$3/$L$2","v":0.2},{"$f":"$N$8","v":9.5962855995212806},{"$f":"$K$8","v":0.95962732919254656},{"$f":"IFERROR($H$8/$L$2,\"\")","v":0.99999999999999989},{"$f":"$M$8","v":1.5421042203289084},9.5962855995212806]
[null,0.1,null,null,{"$f":"E9*1*B10","v":0.1},null,null,null,null,null,null,null,null,null,null,7,"Thor's Egg Hunt ⁵",0.2,0.97499999999999998,null,null,null,{"$f":"$I$32","v":"KENO Sofort! (Typ 05) ⁶"},{"$f":"$L$33/$L$32","v":0.2},{"$f":"$N$41","v":9.5906270651928107},{"$f":"$K$41","v":0.96033731763013697},{"$f":"IFERROR($H$41/$L$32,\"\")","v":0.99999999999999978},{"$f":"$M$41","v":2.8516625129503814},9.5906270651928107]
[null,"Richtige",{"$f":"IF(E9=1,\"Chancen 1:\",\"Ø Gewinne 1:\")","v":"Chancen 1:"},"Ø AQ","(Ø) Gewinn",null,null,null,"KENO Sofort! (Typ 03) ⁶",null,null,1,null,null,null,8,"World Cup Roulette Platinum ⁶",0.1,{"$f":"36/37","v":0.97297297297297303},null,null,null,{"$f":"$I$11","v":"KENO Sofort! (Typ 03) ⁶"},{"$f":"$L$12/$L$11","v":0.2},{"$f":"$N$18","v":9.5542687389103893},{"$f":"$K$18","v":0.95542564852027734},{"$f":"IFERROR($H$18/$L$11,\"\")","v":0.99999999999999933},{"$f":"$M$18","v":1.6747719262304903},9.5542687389103893]
[{"$f":"IFERROR(IF(OR(E12<=0,E12>1000000000),0,1/C12),\"\")","v":6.0126582278481035E-2},2,{"$f":"IF(OR(E12<=0,E12>1000000000),\"\",1/HYPGEOMDIST(B12,2,20,80)/E9)","v":16.631578947368414},{"$f":"IF(OR(E12<=0,E12>1000000000),\"\",E12/C12/E10)","v":0.60126582278481033},{"$f":"10*B10","v":1},{"$f":"IFERROR(IF(D12<D15,D15/D12,D12/D15),\"\")","v":1.2258064516129035},{"$f":"IFERROR(D12/IF((C12*E10)<150,150,C12*E10)^0.25*34.9964,\"\")","v":6.01266593931744},null,0.2,null,null,{"$f":"L11*1*I12","v":0.2},null,null,null,9,"Lottohelden Roulette ⁶",1,{"$f":"36/37","v":0.97297297297297303},null,null,null,{"$f":"$I$83","v":"KENO Sofort! (Typ 09) ⁶"},{"$f":"$L$84/$L$83","v":0.2},{"$f":"$N$94","v":9.3090728937378824},{"$f":"$K$94","v":0.94576742384897561},{"$f":"IFERROR($H$94/$L$83,\"\")","v":0.54307247879708143},{"$f":"$M$94","v":7.6062474854646585},9.3090728937378824]
[0.37974683544303789,1,{"$f":"IF(OR(E13<=0,E13>1000000000),\"\",1/HYPGEOMDIST(B13,2,20,80)/E9)","v":2.6333333333333337},{"$f":"IF(OR(E13<=0,E13>1000000000),\"\",E13/C13/E10)","v":0.37974683544303789},{"$f":"1*B10","v":0.1},{"$f":"IFERROR(IF(D13<D15,D15/D13,D13/D15),\"\")","v":1.2916666666666672},{"$f":"IFERROR(D13/IF((C13*E10)<150,150,C13*E10)^0.25*34.9964,\"\")","v":3.7974732248320655},null,"Richtige",{"$f":"IF(L11=1,\"Chancen 1:\",\"Ø Gewinne 1:\")","v":"Chancen 1:"},"Ø AQ","(Ø) Gewinn",null,null,null,10,"Secrets of Atlantis ⁵",0.2,0.97070000000000001,null,null,null,{"$f":"$B$106","v":"Bingo 90 ⁶"},{"$f":"$E$107/$E$106","v":0.2},{"$f":"$G$121","v":9.2254643608984672},{"$f":"$D$121","v":0.94308345684309791},{"$f":"$A$122","v":0.69128937048042371},{"$f":"$F$121","v":23.036738521594259},9.2254643608984672]
[{"$f":"IF(SUM(A12:A13)=0,\"\",SUM(A12:A13))","v":0.43987341772151894},"Gesamt",{"$f":"IFERROR(1/A14,\"\")","v":2.2733812949640289},{"$f":"IF(SUM(D12:D13)=0,\"\",SUM(D12:D13))","v":0.98101265822784822},{"$f":"IFERROR(E10*D14,\"\")","v":9.8101265822784833E-2},{"$f":"IFERROR(AVERAGE(F12:F13),\"\")","v":1.2587365591397854},{"$f":"IF(SUM(G12:G13)=0,\"\",SUM(G12:G13))","v":9.8101391641495059},{"$f":"IFERROR(IF(OR(L14<=0,L14>1000000000),0,1/J14),\"\")","v":2.0825721592985017E-2},3,{"$f":"IF(OR(L14<=0,L14>1000000000),\"\",1/HYPGEOMDIST(I14,3,20,70)/L11)","v":48.01754385964913},{"$f":"IF(OR(L14<=0,L14>1000000000),\"\",L14/J14/L12)","v":0.20825721592985016},{"$f":"ROUND(10*I12,2)","v":2},{"$f":"IFERROR(IF(K14<K19,K19/K14,K14/K19),\"\")","v":1.1469298245614032},{"$f":"IFERROR(K14/IF((J14*L12)<150,150,J14*L12)^0.25*34.9964,\"\")","v":2.0825748302787468},null,11,"Pyramids of the Nile ⁵",0.3,0.97050000000000003,null,null,null,{"$f":"$B$54","v":"Burning Keno (Typ 07) ⁶"},{"$f":"$E$55/$E$54","v":0.1},{"$f":"$G$63","v":9.2233576455852262},{"$f":"$D$63","v":0.93606338922794619},{"$f":"IFERROR($A$63/$E$54,\"\")","v":0.35815344422939355},{"$f":"$F$63","v":2.5048685149003469},9.2233576455852262]
[null,null,null,{"$f":"AVERAGE(D12:D13)","v":0.49050632911392411},null,null,null,0.1735476799415418,2,{"$f":"IF(OR(L15<=0,L15>1000000000),\"\",1/HYPGEOMDIST(I15,3,20,70)/L11)","v":5.7621052631578955},{"$f":"IF(OR(L15<=0,L15>1000000000),\"\",L15/J15/L12)","v":0.43386919985385447},{"$f":"ROUND(2.5*I12,2)","v":0.5},{"$f":"IFERROR(IF(K15<K19,K19/K15,K15/K19),\"\")","v":1.8164435946462716},{"$f":"IFERROR(K15/IF((J15*L12)<150,150,J15*L12)^0.25*34.9964,\"\")","v":4.3386975630807232},null,12,"Super Duper ⁵",0.05,0.97,null,null,null,{"$f":"$I$97","v":"KENO Sofort! (Typ 10) ⁶"},{"$f":"$L$98/$L$97","v":0.2},{"$f":"$N$109","v":9.2145769297843287},{"$f":"$K$109","v":0.94944265815057982},{"$f":"IFERROR($H$109/$L$97,\"\")","v":0.61655184598506074},{"$f":"$M$109","v":8.9713992788906936},9.2145769297843287]
[null,null,null,null,null,null,null,0.44757033248081812,1,{"$f":"IF(OR(L16<=0,L16>1000000000),\"\",1/HYPGEOMDIST(I16,3,20,70)/L11)","v":2.2342857142857158},{"$f":"IF(OR(L16<=0,L16>1000000000),\"\",L16/J16/L12)","v":0.22378516624040906},{"$f":"ROUND(0.5*I12,2)","v":0.1},{"$f":"IFERROR(IF(K16<K19,K19/K16,K16/K19),\"\")","v":1.0673469387755106},{"$f":"IFERROR(K16/IF((J16*L12)<150,150,J16*L12)^0.25*34.9964,\"\")","v":2.2378545325363719},null,13,"Aviator ⁵",0.1,0.97,null,null,null,{"$f":"$I$69","v":"KENO Sofort! (Typ 08) ⁶"},{"$f":"$L$70/$L$69","v":0.2},{"$f":"$N$80","v":9.1727250043412454},{"$f":"$K$80","v":0.94599058771005928},{"$f":"IFERROR($H$80/$L$69,\"\")","v":0.78838837486774271},{"$f":"$M$80","v":4.6518322029974648},9.1727250043412454]
[null,"Burning Keno (Typ 03) ⁶",null,null,1,null,null,0.35805626598465451,0,{"$f":"IF(OR(L17<=0,L17>1000000000),\"\",1/HYPGEOMDIST(I17,3,20,70)/L11)","v":2.7928571428571445},{"$f":"IF(OR(L17<=0,L17>1000000000),\"\",L17/J17/L12)","v":8.9514066496163627E-2},{"$f":"ROUND(0.25*I12,2)","v":0.05},{"$f":"IFERROR(IF(K17<K19,K19/K17,K17/K19),\"\")","v":2.6683673469387763},{"$f":"IFERROR(K17/IF((J17*L12)<150,150,J17*L12)^0.25*34.9964,\"\")","v":0.89514181301454887},null,14,"Motörhead ⁵",0.2,0.9698,null,null,null,{"$f":"$B$44","v":"Burning Keno (Typ 06) ⁶"},{"$f":"$E$45/$E$44","v":0.1},{"$f":"$G$51","v":9.1622004002100734},{"$f":"$D$51","v":0.93793864363484625},{"$f":"IFERROR($A$51/$E$44,\"\")","v":0.1615820887972787},{"$f":"$F$51","v":1.9577849857771195},9.1622004002100734]
[null,0.1,null,null,{"$f":"E17*1*B18","v":0.1},null,null,{"$f":"IF(SUM(H14:H17)=0,\"\",SUM(H14:H17))","v":0.99999999999999933},"Gesamt",{"$f":"IFERROR(1/H18,\"\")","v":1.0000000000000007},{"$f":"IF(SUM(K14:K17)=0,\"\",SUM(K14:K17))","v":0.95542564852027734},{"$f":"IFERROR(L12*K18,\"\")","v":0.19108512970405547},{"$f":"IFERROR(AVERAGE(M14:M17),\"\")","v":1.6747719262304903},{"$f":"IF(SUM(N14:N17)=0,\"\",SUM(N14:N17))","v":9.5542687389103893},null,15,"Jack's Treasure ⁵",0.2,0.9698,null,null,null,{"$f":"$I$56","v":"KENO Sofort! (Typ 07) ⁶"},{"$f":"$L$57/$L$56","v":0.2},{"$f":"$N$66","v":9.1453065157334308},{"$f":"$K$66","v":0.94884887128750883},{"$f":"IFERROR($H$66/$L$56,\"\")","v":0.7348842991950979},{"$f":"$M$66","v":3.6887183214506871},9.1453065157334308]
[null,"Richtige",{"$f":"IF(E17=1,\"Chancen 1:\",\"Ø Gewinne 1:\")","v":"Chancen 1:"},"Ø AQ","(Ø) Gewinn",null,null,null,null,null,{"$f":"AVERAGE(K14:K17)","v":0.23885641213006933},null,null,null,null,16,"Guns N' Roses ⁵",0.2,0.9698,null,null,null,{"$f":"$B$66","v":"Burning Keno (Typ 08) ⁶"},{"$f":"$E$67/$E$66","v":0.1},{"$f":"$G$75","v":9.1360730151239071},{"$f":"$D$75","v":0.92944156589032634},{"$f":"IFERROR($A$75/$E$66,\"\")","v":0.19060403929486644},{"$f":"$F$75","v":5.0195565724069526},9.1360730151239071]
[{"$f":"IFERROR(IF(OR(E20<=0,E20>1000000000),0,1/C20),\"\")","v":1.3875365141187937E-2},3,{"$f":"IF(OR(E20<=0,E20>1000000000),\"\",1/HYPGEOMDIST(B20,3,20,80)/E17)","v":72.070175438596436},{"$f":"IF(OR(E20<=0,E20>1000000000),\"\",E20/C20/E18)","v":0.69376825705939682},{"$f":"50*B18","v":5},{"$f":"IFERROR(IF(D20<D23,D23/D20,D20/D23),\"\")","v":1.428571428571429},{"$f":"IFERROR(D20/IF((C20*E18)<150,150,C20*E18)^0.25*34.9964,\"\")","v":6.9376914684432034},null,null,null,null,null,null,null,null,17,"Coins of Egypt ⁵",0.2,0.96970000000000001,null,null,null,{"$f":"$B$124","v":"Bingo 75 ⁶"},{"$f":"$E$125/$E$124","v":0.2},{"$f":"$G$138","v":9.1248958419728972},{"$f":"$D$138","v":0.94546329400280427},{"$f":"$A$139","v":0.56511215572573659},{"$f":"$F$138","v":642.73592008581716},9.1248958419728972]
[0.13875365141187926,2,{"$f":"IF(OR(E21<=0,E21>1000000000),\"\",1/HYPGEOMDIST(B21,3,20,80)/E17)","v":7.2070175438596493},{"$f":"IF(OR(E21<=0,E21>1000000000),\"\",E21/C21/E18)","v":0.27750730282375852},{"$f":"2*B18","v":0.2},{"$f":"IFERROR(IF(D21<D23,D23/D21,D21/D23),\"\")","v":1.7500000000000009},{"$f":"IFERROR(D21/IF((C21*E18)<150,150,C21*E18)^0.25*34.9964,\"\")","v":2.7750765873772791},null,"KENO Sofort! (Typ 04) ⁶",null,null,1,null,null,null,18,"Long Pao ⁵",0.25,0.96960000000000002,null,null,null,{"$f":"$B$78","v":"Burning Keno (Typ 09) ⁶"},{"$f":"$E$79/$E$78","v":0.1},{"$f":"$G$88","v":9.1248013045277752},{"$f":"$D$88","v":0.93488343748444369},{"$f":"IFERROR($A$88/$E$78,\"\")","v":0.21679905419284654},{"$f":"$F$88","v":7.00727737511935},9.1248013045277752]
[{"$f":"IF(SUM(A20:A21)=0,\"\",SUM(A20:A21))","v":0.15262901655306721},"Gesamt",{"$f":"IFERROR(1/A22,\"\")","v":6.551834130781498},{"$f":"IF(SUM(D20:D21)=0,\"\",SUM(D20:D21))","v":0.97127555988315528},{"$f":"IFERROR(E18*D22,\"\")","v":9.7127555988315531E-2},{"$f":"IFERROR(AVERAGE(F20:F21),\"\")","v":1.5892857142857149},{"$f":"IF(SUM(G20:G21)=0,\"\",SUM(G20:G21))","v":9.712768055820483},null,0.2,null,null,{"$f":"L21*1*I22","v":0.2},null,null,null,19,"Victorious (Max) ⁵",0.25,0.96950000000000003,null,null,null,{"$f":"$B$141","v":"Bingo Jackpot ⁶"},{"$f":"$E$142/$E$141","v":0.2},{"$f":"$G$155","v":9.0530930180030236},{"$f":"$D$155","v":0.94721973060086573},{"$f":"$A$156","v":0.56511215572573659},{"$f":"$F$155","v":4.8283239652472254},9.0530930180030236]
[null,null,null,{"$f":"AVERAGE(D20:D21)","v":0.48563777994157764},null,null,null,null,"Richtige",{"$f":"IF(L21=1,\"Chancen 1:\",\"Ø Gewinne 1:\")","v":"Chancen 1:"},"Ø AQ","(Ø) Gewinn",null,null,null,20,"Blood Suckers 2 ⁵",0.25,0.96940000000000004,null,null,null,{"$f":"$I$44","v":"KENO Sofort! (Typ 06) ⁶"},{"$f":"$L$45/$L$44","v":0.2},{"$f":"$N$53","v":9.0220873632278558},{"$f":"$K$53","v":0.94859053608146948},{"$f":"IFERROR($H$53/$L$44,\"\")","v":0.67681133616164313},{"$f":"$M$53","v":3.2973656755026801},9.0220873632278558]
[null,null,null,null,null,null,null,{"$f":"IFERROR(IF(OR(L24<=0,L24>1000000000),0,1/J24),\"\")","v":5.2841383146379848E-3},4,{"$f":"IF(OR(L24<=0,L24>1000000000),\"\",1/HYPGEOMDIST(I24,4,20,70)/L21)","v":189.24561403508793},{"$f":"IF(OR(L24<=0,L24>1000000000),\"\",L24/J24/L22)","v":0.1321034578659496},{"$f":"ROUND(25*I22,2)","v":5},{"$f":"IFERROR(IF(K24<K30,K30/K24,K24/K30),\"\")","v":1.4545882352941188},{"$f":"IFERROR(K24/IF((J24*L22)<150,150,J24*L22)^0.25*34.9964,\"\")","v":1.3210362729380101},null,21,"Fortunes of Ali Baba ⁵",0.2,0.96889999999999998,null,null,null,{"$f":"$B$91","v":"Burning Keno (Typ 10) ⁶"},{"$f":"$E$92/$E$91","v":0.1},{"$f":"$G$101","v":8.8540791206592928},{"$f":"$D$101","v":0.9082052104476932},{"$f":"IFERROR($A$101/$E$91,\"\")","v":0.11045057838555086},{"$f":"$F$101","v":19.530133565666919},8.8540791206592928]
[null,"Burning Keno (Typ 04) ⁶",null,null,1,null,null,6.2166333113388095E-2,3,{"$f":"IF(OR(L25<=0,L25>1000000000),\"\",1/HYPGEOMDIST(I25,4,20,70)/L21)","v":16.085877192982462},{"$f":"IF(OR(L25<=0,L25>1000000000),\"\",L25/J25/L22)","v":0.31083166556694047},{"$f":"ROUND(5*I22,2)","v":1},{"$f":"IFERROR(IF(K25<K30,K30/K25,K25/K30),\"\")","v":1.6175994823681656},{"$f":"IFERROR(K25/IF((J25*L22)<150,150,J25*L22)^0.25*34.9964,\"\")","v":3.1083206422070844},null,22,"Phoenix Gold ⁵",0.2,0.96879999999999999,null,null,null,{"$f":"$B$2","v":"Burning Keno (Typ 01) ⁶"},{"$f":"$E$3/$E$2","v":0.1},{"$f":"$G$6","v":8.7500112222172231},{"$f":"$D$6","v":0.87500000000000022},{"$f":"IFERROR($A$6/$E$2,\"\")","v":0.25000000000000006},{"$f":"$F$6","v":1},8.7500112222172231]
[null,0.1,null,null,{"$f":"E25*1*B26","v":0.1},null,null,0.25384586021300143,2,{"$f":"IF(OR(L26<=0,L26>1000000000),\"\",1/HYPGEOMDIST(I26,4,20,70)/L21)","v":3.9393984962406026},{"$f":"IF(OR(L26<=0,L26>1000000000),\"\",L26/J26/L22)","v":0.25384586021300143},{"$f":"ROUND(1*I22,2)","v":0.2},{"$f":"IFERROR(IF(K26<K30,K30/K26,K26/K30),\"\")","v":1.3210395772673353},{"$f":"IFERROR(K26/IF((J26*L22)<150,150,J26*L22)^0.25*34.9964,\"\")","v":2.5384618578024529},null,23,"Victorious (Classic) ⁵",0.25,0.96879999999999999,null,null,null,{"$f":"CONCATENATE($I$134,\" (\",$I$140,\" Zahlen)\")","v":"HotPicks SuperLotto (2 Zahlen)"},{"$f":"$L$135/$L$134","v":0.5},{"$f":"$N$140","v":7.4906463111543911},{"$f":"$K$140","v":0.74906367041198529},{"$f":"$H$140","v":3.7453183520599269E-3},{"$f":"$M$140","v":1},7.4906463111543911]
[null,"Richtige",{"$f":"IF(E25=1,\"Chancen 1:\",\"Ø Gewinne 1:\")","v":"Chancen 1:"},"Ø AQ","(Ø) Gewinn",null,null,0.42752986983242314,1,{"$f":"IF(OR(L27<=0,L27>1000000000),\"\",1/HYPGEOMDIST(I27,4,20,70)/L21)","v":2.3390178571428595},{"$f":"IF(OR(L27<=0,L27>1000000000),\"\",L27/J27/L22)","v":0.21376493491621157},{"$f":"ROUND(0.5*I22,2)","v":0.1},{"$f":"IFERROR(IF(K27<K30,K30/K27,K27/K30),\"\")","v":1.1124543808567027},{"$f":"IFERROR(K27/IF((J27*L22)<150,150,J27*L22)^0.25*34.9964,\"\")","v":2.1376520907810113},null,24,"Silverbird ⁵",0.1,0.96870000000000001,null,null,null,{"$f":"CONCATENATE($I$134,\" (\",$I$141,\" Zahl)\")","v":"HotPicks SuperLotto (1 Zahl)"},{"$f":"$L$135/$L$134","v":0.5},{"$f":"$N$141","v":6.6666752169274055},{"$f":"$K$141","v":0.66666666666666663},{"$f":"$H$141","v":6.6666666666666666E-2},{"$f":"$M$141","v":1},6.6666752169274055]
[{"$f":"IFERROR(IF(OR(E28<=0,E28>1000000000),0,1/C28),\"\")","v":3.0633923038986348E-3},4,{"$f":"IF(OR(E28<=0,E28>1000000000),\"\",1/HYPGEOMDIST(B28,4,20,80)/E25)","v":326.43550051599567},{"$f":"IF(OR(E28<=0,E28>1000000000),\"\",E28/C28/E26)","v":0.22975442279239761},{"$f":"75*B26","v":7.5},{"$f":"IFERROR(IF(D28<D32,D32/D28,D28/D32),\"\")","v":1.4235294117647057},{"$f":"IFERROR(D28/IF((C28*E26)<150,150,C28*E26)^0.25*34.9964,\"\")","v":2.2975471746143072},{"$f":"IFERROR(IF(OR(L28<=0,L28>1000000000),0,1/J28),\"\")","v":0.25117379852654875},0,{"$f":"IF(OR(L28<=0,L28>1000000000),\"\",1/HYPGEOMDIST(I28,4,20,70)/L21)","v":3.9813069908814605},{"$f":"IF(OR(L28<=0,L28>1000000000),\"\",L28/J28/L22)","v":5.0234759705309752E-2},{"$f":"ROUND(0.2*I22,2)","v":0.04},{"$f":"IFERROR(IF(K28<K30,K30/K28,K28/K30),\"\")","v":3.8251628310898824},{"$f":"IFERROR(K28/IF((J28*L22)<150,150,J28*L22)^0.25*34.9964,\"\")","v":0.50234824133353795},null,25,"Secret of the Stones (Max) ⁵",0.25,0.96809999999999996,null,null,null,{"$f":"CONCATENATE($I$144,\" (\",$I$151,\" Zahlen)\")","v":"HotPicks LOTTO 6aus49 (2 Zahlen)"},{"$f":"$L$145/$L$144","v":1},{"$f":"$N$151","v":6.377559199866778},{"$f":"$K$151","v":0.63775510204081631},{"$f":"$H$151","v":1.2755102040816325E-2},{"$f":"$M$151","v":1},6.377559199866778]
[4.3247891349157186E-2,3,{"$f":"IF(OR(E29<=0,E29>1000000000),\"\",1/HYPGEOMDIST(B29,4,20,80)/E25)","v":23.122514619883034},{"$f":"IF(OR(E29<=0,E29>1000000000),\"\",E29/C29/E26)","v":0.43247891349157186},{"$f":"10*B26","v":1},{"$f":"IFERROR(IF(D29<D32,D32/D29,D29/D32),\"\")","v":1.3223140495867767},{"$f":"IFERROR(D29/IF((C29*E26)<150,150,C29*E26)^0.25*34.9964,\"\")","v":4.3247946816269307},{"$f":"IF(SUM(H24:H28)=0,\"\",SUM(H24:H28))","v":0.99999999999999933},"Gesamt",{"$f":"IFERROR(1/H29,\"\")","v":1.0000000000000007},{"$f":"IF(SUM(K24:K28)=0,\"\",SUM(K24:K28))","v":0.96078067826741298},{"$f":"IFERROR(L22*K29,\"\")","v":0.19215613565348261},{"$f":"IFERROR(AVERAGE(M24:M28),\"\")","v":1.8661689013752407},{"$f":"IF(SUM(N24:N28)=0,\"\",SUM(N24:N28))","v":9.6078191050620969},null,26,"Leprechaun goes Egypt ⁵",0.01,0.96750000000000003,null,null,null,{"$f":"CONCATENATE($I$144,\" (\",$I$152,\" Zahl)\")","v":"HotPicks LOTTO 6aus49 (1 Zahl)"},{"$f":"$L$145/$L$144","v":1},{"$f":"$N$152","v":6.1224568318721104},{"$f":"$K$152","v":0.61224489795918402},{"$f":"$H$152","v":0.1224489795918368},{"$f":"$M$152","v":1},6.1224568318721104]
[0.21263546580002285,2,{"$f":"IF(OR(E30<=0,E30>1000000000),\"\",1/HYPGEOMDIST(B30,4,20,80)/E25)","v":4.7028843294677349},{"$f":"IF(OR(E30<=0,E30>1000000000),\"\",E30/C30/E26)","v":0.31895319870003436},{"$f":"1.5*B26","v":0.15000000000000002},{"$f":"IFERROR(IF(D30<D32,D32/D30,D30/D32),\"\")","v":1.025423728813559},{"$f":"IFERROR(D30/IF((C30*E26)<150,150,C30*E26)^0.25*34.9964,\"\")","v":3.189536077699862},null,null,null,{"$f":"AVERAGE(K24:K28)","v":0.19215613565348261},null,null,null,null,27,"Easter Eggs ⁵",0.01,0.96750000000000003,null,null,null,{"$f":"CONCATENATE($I$114,\" (\",$I$121,\" Zahl)\")","v":"HotPicks EuroMillions (1 Zahl)"},{"$f":"$L$115/$L$114","v":2.75},{"$f":"$N$121","v":5.4545524502133302},{"$f":"$K$121","v":0.5454545454545453},{"$f":"$H$121","v":9.9999999999999964E-2},{"$f":"$M$121","v":1},5.4545524502133302]
[{"$f":"IF(SUM(A28:A30)=0,\"\",SUM(A28:A30))","v":0.25894674945307866},"Gesamt",{"$f":"IFERROR(1/A31,\"\")","v":3.8617978488322393},{"$f":"IF(SUM(D28:D30)=0,\"\",SUM(D28:D30))","v":0.98118653498400377},{"$f":"IFERROR(E26*D31,\"\")","v":9.8118653498400377E-2},{"$f":"IFERROR(AVERAGE(F28:F30),\"\")","v":1.2570890633883469},{"$f":"IF(SUM(G28:G30)=0,\"\",SUM(G28:G30))","v":9.8118779339411013},null,null,null,null,null,null,null,null,28,"Secret of the Stones (Classic) ⁵",0.25,0.96719999999999995,null,null,null,{"$f":"CONCATENATE($I$124,\" (\",$I$131,\" Zahl)\")","v":"HotPicks EuroJackpot (1 Zahl)"},{"$f":"$L$125/$L$124","v":2},{"$f":"$N$131","v":5.0000064126955523},{"$f":"$K$131","v":0.49999999999999983},{"$f":"$H$131","v":9.9999999999999964E-2},{"$f":"$M$131","v":1},5.0000064126955523]
[null,null,null,{"$f":"AVERAGE(D28:D30)","v":0.32706217832800127},null,null,null,null,"KENO Sofort! (Typ 05) ⁶",null,null,1,null,null,null,29,"Secrets of Christmas ⁵",0.25,0.96719999999999995,null,null,null,{"$f":"CONCATENATE($I$134,\" (\",$I$139,\" Zahlen)\")","v":"HotPicks SuperLotto (3 Zahlen)"},{"$f":"$L$135/$L$134","v":0.5},{"$f":"$N$139","v":4.0465363618537307},{"$f":"$K$139","v":0.8512087163772557},{"$f":"$H$139","v":1.7024174327545113E-4},{"$f":"$M$139","v":1},4.0465363618537307]
[null,null,null,null,null,null,null,null,0.2,null,null,{"$f":"L32*1*I33","v":0.2},null,null,null,30,"Golden Ticket ⁵",0.2,0.96689999999999998,null,null,null,{"$f":"CONCATENATE($I$114,\" (\",$I$120,\" Zahlen)\")","v":"HotPicks EuroMillions (2 Zahlen)"},{"$f":"$L$115/$L$114","v":2.75},{"$f":"$N$120","v":3.6372960640996066},{"$f":"$K$120","v":0.44526901669758806},{"$f":"$H$120","v":8.163265306122448E-3},{"$f":"$M$120","v":1},3.6372960640996066]
[null,"Burning Keno (Typ 05) ⁶",null,null,1,null,null,null,"Richtige",{"$f":"IF(L32=1,\"Chancen 1:\",\"Ø Gewinne 1:\")","v":"Chancen 1:"},"Ø AQ","(Ø) Gewinn",null,null,null,31,"Multi Wild ⁵",0.05,0.96679999999999999,null,null,null,{"$f":"CONCATENATE($I$124,\" (\",$I$130,\" Zahlen)\")","v":"HotPicks EuroJackpot (2 Zahlen)"},{"$f":"$L$125/$L$124","v":2},{"$f":"$N$130","v":3.6104868395871388},{"$f":"$K$130","v":0.4081632653061224},{"$f":"$H$130","v":8.163265306122448E-3},{"$f":"$M$130","v":1},3.6104868395871388]
[null,0.1,null,null,{"$f":"E34*1*B35","v":0.1},null,null,{"$f":"IFERROR(IF(OR(L35<=0,L35>1000000000),0,1/J35),\"\")","v":1.2810032277910271E-3},5,{"$f":"IF(OR(L35<=0,L35>1000000000),\"\",1/HYPGEOMDIST(I35,5,20,70)/L32)","v":780.63815789473733},{"$f":"IF(OR(L35<=0,L35>1000000000),\"\",L35/J35/L33)","v":0.12810032277910272},{"$f":"ROUND(100*I33,2)","v":20},{"$f":"IFERROR(IF(K35<K42,K42/K35,K35/K42),\"\")","v":1.2494599243206057},{"$f":"IFERROR(K35/IF((J35*L33)<150,150,J35*L33)^0.25*34.9964,\"\")","v":1.2682464429175131},null,32,"Multi Wild Double Play ⁵",0.1,0.96679999999999999,null,null,null,{"$f":"CONCATENATE($I$144,\" (\",$I$150,\" Zahlen)\")","v":"HotPicks LOTTO 6aus49 (3 Zahlen)"},{"$f":"$L$145/$L$144","v":1},{"$f":"$N$150","v":3.4478706498235607},{"$f":"$K$150","v":0.5427702996092052},{"$f":"$H$150","v":1.0855405992184104E-3},{"$f":"$M$150","v":1},3.4478706498235607]
[null,"Richtige",{"$f":"IF(E34=1,\"Chancen 1:\",\"Ø Gewinne 1:\")","v":"Chancen 1:"},"Ø AQ","(Ø) Gewinn",null,null,2.0015675434234794E-2,4,{"$f":"IF(OR(L36<=0,L36>1000000000),\"\",1/HYPGEOMDIST(I36,5,20,70)/L32)","v":49.960842105263204},{"$f":"IF(OR(L36<=0,L36>1000000000),\"\",L36/J36/L33)","v":0.20015675434234792},{"$f":"ROUND(10*I33,2)","v":2},{"$f":"IFERROR(IF(K36<K42,K42/K36,K36/K42),\"\")","v":1.2505403091256484},{"$f":"IFERROR(K36/IF((J36*L33)<150,150,J36*L33)^0.25*34.9964,\"\")","v":2.0015701105121368},null,33,"Banana Rock ⁵",0.1,0.96599999999999997,null,null,null,{"$f":"CONCATENATE($I$134,\" (\",$I$138,\" Zahlen)\")","v":"HotPicks SuperLotto (4 Zahlen)"},{"$f":"$L$135/$L$134","v":0.5},{"$f":"$N$138","v":2.4051709029370443},{"$f":"$K$138","v":1.1740809881065604},{"$f":"$H$138","v":5.8704049405328018E-6},{"$f":"$M$138","v":1},2.4051709029370443]
[{"$f":"IFERROR(IF(OR(E37<=0,E37>1000000000),0,1/C37),\"\")","v":6.4492469555760745E-4},5,{"$f":"IF(OR(E37<=0,E37>1000000000),\"\",1/HYPGEOMDIST(B37,5,20,80)/E34)","v":1550.5686274509792},{"$f":"IF(OR(E37<=0,E37>1000000000),\"\",E37/C37/E35)","v":9.673870433364111E-2},{"$f":"150*B35","v":15},{"$f":"IFERROR(IF(D37<D42,D42/D37,D37/D42),\"\")","v":2.537173202614377},{"$f":"IFERROR(D37/IF((C37*E35)<150,150,C37*E35)^0.25*34.9964,\"\")","v":0.95940259757224688},0.11538448191500066,3,{"$f":"IF(OR(L37<=0,L37>1000000000),\"\",1/HYPGEOMDIST(I37,5,20,70)/L32)","v":8.6666766917293252},{"$f":"IF(OR(L37<=0,L37>1000000000),\"\",L37/J37/L33)","v":0.23076896383000131},{"$f":"ROUND(2*I33,2)","v":0.4},{"$f":"IFERROR(IF(K37<K42,K42/K37,K37/K42),\"\")","v":1.4417994152272193},{"$f":"IFERROR(K37/IF((J37*L33)<150,150,J37*L33)^0.25*34.9964,\"\")","v":2.3076925980022298},null,34,"Crystal Sun ⁵",0.1,0.96599999999999997,null,null,null,{"$f":"CONCATENATE($I$114,\" (\",$I$119,\" Zahlen)\")","v":"HotPicks EuroMillions (3 Zahlen)"},{"$f":"$L$115/$L$114","v":2.75},{"$f":"$N$119","v":2.2733100400622561},{"$f":"$K$119","v":0.55658627087198553},{"$f":"$H$119","v":5.1020408163265343E-4},{"$f":"$M$119","v":1},2.2733100400622561]
[1.2092338041705125E-2,4,{"$f":"IF(OR(E38<=0,E38>1000000000),\"\",1/HYPGEOMDIST(B38,5,20,80)/E34)","v":82.696993464052326},{"$f":"IF(OR(E38<=0,E38>1000000000),\"\",E38/C38/E35)","v":0.3627701412511537},{"$f":"30*B35","v":3},{"$f":"IFERROR(IF(D38<D42,D42/D38,D38/D42),\"\")","v":1.4780228626630165},{"$f":"IFERROR(D38/IF((C38*E35)<150,150,C38*E35)^0.25*34.9964,\"\")","v":3.6277060651804809},0.30769195177333503,2,{"$f":"IF(OR(L38<=0,L38>1000000000),\"\",1/HYPGEOMDIST(I38,5,20,70)/L32)","v":3.2500037593984974},{"$f":"IF(OR(L38<=0,L38>1000000000),\"\",L38/J38/L33)","v":0.30769195177333503},{"$f":"ROUND(1*I33,2)","v":0.2},{"$f":"IFERROR(IF(K38<K42,K42/K38,K38/K42),\"\")","v":1.9223992203029587},{"$f":"IFERROR(K38/IF((J38*L33)<150,150,J38*L33)^0.25*34.9964,\"\")","v":3.0769234640029728},null,35,"TNT Bonanza ⁵",0.2,0.96599999999999997,null,null,null,{"$f":"CONCATENATE($I$124,\" (\",$I$129,\" Zahlen)\")","v":"HotPicks EuroJackpot (3 Zahlen)"},{"$f":"$L$125/$L$124","v":2},{"$f":"$N$129","v":2.2565542747419642},{"$f":"$K$129","v":0.51020408163265341},{"$f":"$H$129","v":5.1020408163265343E-4},{"$f":"$M$129","v":1},2.2565542747419642]
[8.3935052289482684E-2,3,{"$f":"IF(OR(E39<=0,E39>1000000000),\"\",1/HYPGEOMDIST(B39,5,20,80)/E34)","v":11.913973634651599},{"$f":"IF(OR(E39<=0,E39>1000000000),\"\",E39/C39/E35)","v":0.25180515686844807},{"$f":"3*B35","v":0.30000000000000004},{"$f":"IFERROR(IF(D39<D42,D42/D39,D39/D42),\"\")","v":1.0259217517308006},{"$f":"IFERROR(D39/IF((C39*E35)<150,150,C39*E35)^0.25*34.9964,\"\")","v":2.5180547981841008},0.3805663614038618,1,{"$f":"IF(OR(L39<=0,L39>1000000000),\"\",1/HYPGEOMDIST(I39,5,20,70)/L32)","v":2.6276626139817636},{"$f":"IF(OR(L39<=0,L39>1000000000),\"\",L39/J39/L33)","v":7.6113272280772359E-2},{"$f":"ROUND(0.2*I33,2)","v":0.04},{"$f":"IFERROR(IF(K39<K42,K42/K39,K39/K42),\"\")","v":2.1028687219568676},{"$f":"IFERROR(K39/IF((J39*L33)<150,150,J39*L33)^0.25*34.9964,\"\")","v":0.76113369899020911},null,36,"Tome of Madness ⁵",0.1,0.96589999999999998,null,null,null,{"$f":"CONCATENATE($I$144,\" (\",$I$149,\" Zahlen)\")","v":"HotPicks LOTTO 6aus49 (4 Zahlen)"},{"$f":"$L$145/$L$144","v":1},{"$f":"$N$149","v":1.1363320166369182},{"$f":"$K$149","v":0.35398063017991643},{"$f":"$H$149","v":7.079612603598329E-5},{"$f":"$M$149","v":1},1.1363320166369182]
[0.27045739071055519,2,{"$f":"IF(OR(E40<=0,E40>1000000000),\"\",1/HYPGEOMDIST(B40,5,20,80)/E34)","v":3.6974400935125669},{"$f":"IF(OR(E40<=0,E40>1000000000),\"\",E40/C40/E35)","v":0.27045739071055519},{"$f":"1*B35","v":0.1},{"$f":"IFERROR(IF(D40<D42,D42/D40,D40/D42),\"\")","v":1.1019159555627112},{"$f":"IFERROR(D40/IF((C40*E35)<150,150,C40*E35)^0.25*34.9964,\"\")","v":2.7045773758273657},0.17506052624577645,0,{"$f":"IF(OR(L40<=0,L40>1000000000),\"\",1/HYPGEOMDIST(I40,5,20,70)/L32)","v":5.7123100303951375},{"$f":"IF(OR(L40<=0,L40>1000000000),\"\",L40/J40/L33)","v":1.7506052624577644E-2},{"$f":"ROUND(0.1*I33,2)","v":0.02},{"$f":"IFERROR(IF(K40<K42,K42/K40,K40/K42),\"\")","v":9.1429074867689888},{"$f":"IFERROR(K40/IF((J40*L33)<150,150,J40*L33)^0.25*34.9964,\"\")","v":0.1750607507677481},null,37,"Legacy of Dead ⁵",0.1,0.96579999999999999,null,null,null,{"$f":"CONCATENATE($I$134,\" (\",$I$137,\" Zahlen)\")","v":"HotPicks SuperLotto (5 Zahlen)"},{"$f":"$L$135/$L$134","v":0.5},{"$f":"$N$137","v":1.092145186719627},{"$f":"$K$137","v":1.3652104512866967},{"$f":"$H$137","v":1.3652104512866966E-7},{"$f":"$M$137","v":1},1.092145186719627]
[{"$f":"IF(SUM(A37:A40)=0,\"\",SUM(A37:A40))","v":0.36712970573730064},"Gesamt",{"$f":"IFERROR(1/A41,\"\")","v":2.7238329788424944},{"$f":"IF(SUM(D37:D40)=0,\"\",SUM(D37:D40))","v":0.98177139316379813},{"$f":"IFERROR(E35*D41,\"\")","v":9.8177139316379822E-2},{"$f":"IFERROR(AVERAGE(F37:F40),\"\")","v":1.5357584431427265},{"$f":"IF(SUM(G37:G40)=0,\"\",SUM(G37:G40))","v":9.8097408367641954},{"$f":"IF(SUM(H35:H40)=0,\"\",SUM(H35:H40))","v":0.99999999999999978},"Gesamt",{"$f":"IFERROR(1/H41,\"\")","v":1.0000000000000002},{"$f":"IF(SUM(K35:K40)=0,\"\",SUM(K35:K40))","v":0.96033731763013697},{"$f":"IFERROR(L33*K41,\"\")","v":0.19206746352602741},{"$f":"IFERROR(AVERAGE(M35:M40),\"\")","v":2.8516625129503814},{"$f":"IF(SUM(N35:N40)=0,\"\",SUM(N35:N40))","v":9.5906270651928107},null,38,"Rise of Merlin ⁵",0.1,0.96579999999999999,null,null,null,{"$f":"CONCATENATE($I$114,\" (\",$I$118,\" Zahlen)\")","v":"HotPicks EuroMillions (4 Zahlen)"},{"$f":"$L$115/$L$114","v":2.75},{"$f":"$N$118","v":0.87872673083361175},{"$f":"$K$118","v":0.47369044329530557},{"$f":"$H$118","v":2.1710811984368171E-5},{"$f":"$M$118","v":1},0.87872673083361175]
[null,null,null,{"$f":"AVERAGE(D37:D40)","v":0.24544284829094953},null,null,null,null,null,null,{"$f":"AVERAGE(K35:K40)","v":0.16005621960502284},null,null,null,null,39,"Rockin' Gorilla ⁵",0.5,0.9657,null,null,null,{"$f":"CONCATENATE($I$124,\" (\",$I$128,\" Zahlen)\")","v":"HotPicks EuroJackpot (4 Zahlen)"},{"$f":"$L$125/$L$124","v":2},{"$f":"$N$128","v":0.87224994648698029},{"$f":"$K$128","v":0.43421623968736339},{"$f":"$H$128","v":2.1710811984368171E-5},{"$f":"$M$128","v":1},0.87224994648698029]
[null,null,null,null,null,null,null,null,null,null,null,null,null,null,null,40,"Roman Legend ⁵",0.5,0.9657,null,null,null,{"$f":"CONCATENATE($I$144,\" (\",$I$148,\" Zahlen)\")","v":"HotPicks LOTTO 6aus49 (5 Zahlen)"},{"$f":"$L$145/$L$144","v":1},{"$f":"$N$148","v":0.695662111098312},{"$f":"$K$148","v":0.47197417357322252},{"$f":"$H$148","v":3.1464944904881502E-6},{"$f":"$M$148","v":1},0.695662111098312]
[null,"Burning Keno (Typ 06) ⁶",null,null,1,null,null,null,"KENO Sofort! (Typ 06) ⁶",null,null,1,null,null,null,41,"Zeus Rush Fever Deluxe ⁵",0.5,0.96560000000000001,null,null,null,{"$f":"CONCATENATE($I$124,\" (\",$I$127,\" Zahlen)\")","v":"HotPicks EuroJackpot (5 Zahlen)"},{"$f":"$L$125/$L$124","v":2},{"$f":"$N$127","v":0.3640522053095942},{"$f":"$K$127","v":0.47197417357322269},{"$f":"$H$127","v":4.7197417357322267E-7},{"$f":"$M$127","v":1},0.3640522053095942]
[null,0.1,null,null,{"$f":"E44*1*B45","v":0.1},null,null,null,0.2,null,null,{"$f":"L44*1*I45","v":0.2},null,null,null,42,"Gems Bonanza ⁵",0.2,0.96550000000000002,null,null,null,{"$f":"CONCATENATE($I$114,\" (\",$I$117,\" Zahlen)\")","v":"HotPicks EuroMillions (5 Zahlen)"},{"$f":"$L$115/$L$114","v":2.75},{"$f":"$N$117","v":0.3361924775348456},{"$f":"$K$117","v":0.47197417357322274},{"$f":"$H$117","v":4.7197417357322267E-7},{"$f":"$M$117","v":1},0.3361924775348456]
[null,"Richtige",{"$f":"IF(E44=1,\"Chancen 1:\",\"Ø Gewinne 1:\")","v":"Chancen 1:"},"Ø AQ","(Ø) Gewinn",null,null,null,"Richtige",{"$f":"IF(L44=1,\"Chancen 1:\",\"Ø Gewinne 1:\")","v":"Chancen 1:"},"Ø AQ","(Ø) Gewinn",null,null,null,43,"Golden Colts ⁵",0.2,0.96550000000000002,null,null,null,{"$f":"CONCATENATE($I$144,\" (\",$I$147,\" Zahlen)\")","v":"HotPicks LOTTO 6aus49 (6 Zahlen)"},{"$f":"$L$145/$L$144","v":1},{"$f":"$N$147","v":0.20462620506583803},{"$f":"$K$147","v":0.35755619210092615},{"$f":"$H$147","v":7.1511238420185226E-8},{"$f":"$M$147","v":1},0.20462620506583803]
[{"$f":"IFERROR(IF(OR(E47<=0,E47>1000000000),0,1/C47),\"\")","v":1.2898493911152152E-4},6,{"$f":"IF(OR(E47<=0,E47>1000000000),\"\",1/HYPGEOMDIST(B47,6,20,80)/E44)","v":7752.8431372548939},{"$f":"IF(OR(E47<=0,E47>1000000000),\"\",E47/C47/E45)","v":6.4492469555760754E-2},{"$f":"500*B45","v":50},{"$f":"IFERROR(IF(D47<D52,D52/D47,D47/D52),\"\")","v":3.6358455882352909},{"$f":"IFERROR(D47/IF((C47*E45)<150,150,C47*E45)^0.25*34.9964,\"\")","v":0.42772745713042404},{"$f":"IFERROR(IF(OR(L47<=0,L47>1000000000),0,1/J47),\"\")","v":2.9561612949023744E-4},6,{"$f":"IF(OR(L47<=0,L47>1000000000),\"\",1/HYPGEOMDIST(I47,6,20,70)/L44)","v":3382.7653508771905},{"$f":"IF(OR(L47<=0,L47>1000000000),\"\",L47/J47/L45)","v":0.14780806474511871},{"$f":"ROUND(500*I45,2)","v":100},{"$f":"IFERROR(IF(K47<K54,K54/K47,K47/K54),\"\")","v":1.0696197325421382},{"$f":"IFERROR(K47/IF((J47*L45)<150,150,J47*L45)^0.25*34.9964,\"\")","v":1.014252379515961},null,44,"Rainforest Magic ⁵",0.25,0.96540000000000004]
[3.0956385386765139E-3,5,{"$f":"IF(OR(E48<=0,E48>1000000000),\"\",1/HYPGEOMDIST(B48,6,20,80)/E44)","v":323.03513071895418},{"$f":"IF(OR(E48<=0,E48>1000000000),\"\",E48/C48/E45)","v":0.18573831232059082},{"$f":"60*B45","v":6},{"$f":"IFERROR(IF(D48<D52,D52/D48,D48/D52),\"\")","v":1.2624463848039216},{"$f":"IFERROR(D48/IF((C48*E45)<150,150,C48*E45)^0.25*34.9964,\"\")","v":1.8573855053724075},5.9123225898047374E-3,5,{"$f":"IF(OR(L48<=0,L48>1000000000),\"\",1/HYPGEOMDIST(I48,6,20,70)/L44)","v":169.13826754385985},{"$f":"IF(OR(L48<=0,L48>1000000000),\"\",L48/J48/L45)","v":0.29561612949023686},{"$f":"ROUND(50*I45,2)","v":10},{"$f":"IFERROR(IF(K48<K54,K54/K48,K48/K54),\"\")","v":1.8698233953169945},{"$f":"IFERROR(K48/IF((J48*L45)<150,150,J48*L45)^0.25*34.9964,\"\")","v":2.9561650862948472},null,45,"Leprechaun goes to Hell ⁵",0.25,0.96540000000000004]
[2.8537917778424116E-2,4,{"$f":"IF(OR(E49<=0,E49>1000000000),\"\",1/HYPGEOMDIST(B49,6,20,80)/E44)","v":35.041098925445873},{"$f":"IF(OR(E49<=0,E49>1000000000),\"\",E49/C49/E45)","v":0.42806876667636173},{"$f":"15*B45","v":1.5},{"$f":"IFERROR(IF(D49<D52,D52/D49,D49/D52),\"\")","v":1.8255725769755806},{"$f":"IFERROR(D49/IF((C49*E45)<150,150,C49*E45)^0.25*34.9964,\"\")","v":4.2806931569129709},4.5266219828192504E-2,4,{"$f":"IF(OR(L49<=0,L49>1000000000),\"\",1/HYPGEOMDIST(I49,6,20,70)/L44)","v":22.091528822055171},{"$f":"IF(OR(L49<=0,L49>1000000000),\"\",L49/J49/L45)","v":0.11316554957048125},{"$f":"ROUND(2.5*I45,2)","v":0.5},{"$f":"IFERROR(IF(K49<K54,K54/K49,K49/K54),\"\")","v":1.3970543445448367},{"$f":"IFERROR(K49/IF((J49*L45)<150,150,J49*L45)^0.25*34.9964,\"\")","v":1.1316569470972457},null,46,"The Sword and the Grail ⁵",0.1,0.96530000000000005]
[0.12981954754106653,3,{"$f":"IF(OR(E50<=0,E50>1000000000),\"\",1/HYPGEOMDIST(B50,6,20,80)/E44)","v":7.7030001948178448},{"$f":"IF(OR(E50<=0,E50>1000000000),\"\",E50/C50/E45)","v":0.25963909508213306},{"$f":"2*B45","v":0.2},{"$f":"IFERROR(IF(D50<D52,D52/D50,D50/D52),\"\")","v":1.1072753930936852},{"$f":"IFERROR(D50/IF((C50*E45)<150,150,C50*E45)^0.25*34.9964,\"\")","v":2.5963942807942719},0.17041400405907783,3,{"$f":"IF(OR(L50<=0,L50>1000000000),\"\",1/HYPGEOMDIST(I50,6,20,70)/L44)","v":5.8680623433583987},{"$f":"IF(OR(L50<=0,L50>1000000000),\"\",L50/J50/L45)","v":0.21301750507384729},{"$f":"ROUND(1.25*I45,2)","v":0.25},{"$f":"IFERROR(IF(K50<K54,K54/K50,K50/K54),\"\")","v":1.3473727407431293},{"$f":"IFERROR(K50/IF((J50*L45)<150,150,J50*L45)^0.25*34.9964,\"\")","v":2.1301777827712884},null,47,"Rise of Dead ⁵",0.2,0.96530000000000005]
[{"$f":"IF(SUM(A47:A50)=0,\"\",SUM(A47:A50))","v":0.1615820887972787},"Gesamt",{"$f":"IFERROR(1/A51,\"\")","v":6.1888047582712122},{"$f":"IF(SUM(D47:D50)=0,\"\",SUM(D47:D50))","v":0.93793864363484625},{"$f":"IFERROR(E45*D51,\"\")","v":9.3793864363484636E-2},{"$f":"IFERROR(AVERAGE(F47:F50),\"\")","v":1.9577849857771195},{"$f":"IF(SUM(G47:G50)=0,\"\",SUM(G47:G50))","v":9.1622004002100734},0.3337274246156941,2,{"$f":"IF(OR(L51<=0,L51>1000000000),\"\",1/HYPGEOMDIST(I51,6,20,70)/L44)","v":2.9964573668213101},{"$f":"IF(OR(L51<=0,L51>1000000000),\"\",L51/J51/L45)","v":0.16686371230784705},{"$f":"ROUND(0.5*I45,2)","v":0.1},{"$f":"IFERROR(IF(K51<K54,K54/K51,K51/K54),\"\")","v":1.0554419802487847},{"$f":"IFERROR(K51/IF((J51*L45)<150,150,J51*L45)^0.25*34.9964,\"\")","v":1.6686392631708427},null,48,"Mustang Gold ⁵",0.25,0.96530000000000005]
[null,null,null,{"$f":"AVERAGE(D47:D50)","v":0.23448466090871156},null,null,null,0.12119574893938363,0,{"$f":"IF(OR(L52<=0,L52>1000000000),\"\",1/HYPGEOMDIST(I52,6,20,70)/L44)","v":8.2511144883485361},{"$f":"IF(OR(L52<=0,L52>1000000000),\"\",L52/J52/L45)","v":1.2119574893938362E-2},{"$f":"ROUND(0.1*I45,2)","v":0.02},{"$f":"IFERROR(IF(K52<K54,K54/K52,K52/K54),\"\")","v":13.044881859620197},{"$f":"IFERROR(K52/IF((J52*L45)<150,150,J52*L45)^0.25*34.9964,\"\")","v":0.12119590437767171},null,49,"Magician's Secrets ⁵",0.1,0.96509999999999996]
[null,null,null,null,null,null,null,{"$f":"IF(SUM(H47:H52)=0,\"\",SUM(H47:H52))","v":0.67681133616164313},"Gesamt",{"$f":"IFERROR(1/H53,\"\")","v":1.4775166232753076},{"$f":"IF(SUM(K47:K52)=0,\"\",SUM(K47:K52))","v":0.94859053608146948},{"$f":"IFERROR(L45*K53,\"\")","v":0.1897181072162939},{"$f":"IFERROR(AVERAGE(M47:M52),\"\")","v":3.2973656755026801},{"$f":"IF(SUM(N47:N52)=0,\"\",SUM(N47:N52))","v":9.0220873632278558},null,50,"Elemental Gems Megaways ⁵",0.2,0.96509999999999996]
[null,"Burning Keno (Typ 07) ⁶",null,null,1,null,null,null,null,null,{"$f":"AVERAGE(K47:K52)","v":0.1580984226802449},null,null,null,null,51,"Wild West Gold ⁵",0.2,0.96509999999999996]
[null,0.1,null,null,{"$f":"E54*1*B55","v":0.1},null,null,null,null,null,null,null,null,null,null,52,"The Dog House ⁵",0.2,0.96509999999999996]
[null,"Richtige",{"$f":"IF(E54=1,\"Chancen 1:\",\"Ø Gewinne 1:\")","v":"Chancen 1:"},"Ø AQ","(Ø) Gewinn",null,null,null,"KENO Sofort! (Typ 07) ⁶",null,null,1,null,null,null,53,"Grim Muerto ⁵",0.2,0.96509999999999996]
[{"$f":"IFERROR(IF(OR(E57<=0,E57>1000000000),0,1/C57),\"\")","v":2.4402556048125704E-5},7,{"$f":"IF(OR(E57<=0,E57>1000000000),\"\",1/HYPGEOMDIST(B57,7,20,80)/E54)","v":40979.313725490138},{"$f":"IF(OR(E57<=0,E57>1000000000),\"\",E57/C57/E55)","v":2.4402556048125704E-2},{"$f":"1000*B55","v":100},{"$f":"IFERROR(IF(D57<D64,D64/D57,D57/D64),\"\")","v":6.3932058823529321},{"$f":"IFERROR(D57/IF((C57*E55)<150,150,C57*E55)^0.25*34.9964,\"\")","v":0.10673762138027836},null,0.2,null,null,{"$f":"L56*1*I57","v":0.2},null,null,null,54,"Reactoonz ⁵",0.2,0.96509999999999996]
[7.3207668144377046E-4,6,{"$f":"IF(OR(E58<=0,E58>1000000000),\"\",1/HYPGEOMDIST(B58,7,20,80)/E54)","v":1365.9771241830058},{"$f":"IF(OR(E58<=0,E58>1000000000),\"\",E58/C58/E55)","v":5.8566134515501633E-2},{"$f":"80*B55","v":8},{"$f":"IFERROR(IF(D58<D64,D64/D58,D58/D64),\"\")","v":2.6638357843137244},{"$f":"IFERROR(D58/IF((C58*E55)<150,150,C58*E55)^0.25*34.9964,\"\")","v":0.58566209628859722},null,"Richtige",{"$f":"IF(L56=1,\"Chancen 1:\",\"Ø Gewinne 1:\")","v":"Chancen 1:"},"Ø AQ","(Ø) Gewinn",null,null,null,55,"10 Cent Slot ⁵",0.1,0.96499999999999997]
[8.6385048410364939E-3,5,{"$f":"IF(OR(E59<=0,E59>1000000000),\"\",1/HYPGEOMDIST(B59,7,20,80)/E54)","v":115.76077323584791},{"$f":"IF(OR(E59<=0,E59>1000000000),\"\",E59/C59/E55)","v":0.17277009682072986},{"$f":"20*B55","v":2},{"$f":"IFERROR(IF(D59<D64,D64/D59,D59/D64),\"\")","v":1.1074256218688046},{"$f":"IFERROR(D59/IF((C59*E55)<150,150,C59*E55)^0.25*34.9964,\"\")","v":1.7277031840513621},{"$f":"IFERROR(IF(OR(L59<=0,L59>1000000000),0,1/J59),\"\")","v":6.4666028325989348E-5},7,{"$f":"IF(OR(L59<=0,L59>1000000000),\"\",1/HYPGEOMDIST(I59,7,20,70)/L56)","v":15464.070175438606},{"$f":"IF(OR(L59<=0,L59>1000000000),\"\",L59/J59/L57)","v":6.4666028325989347E-2},{"$f":"ROUND(1000*I57,2)","v":200},{"$f":"IFERROR(IF(K59<K67,K67/K59,K59/K67),\"\")","v":2.0961522187822501},{"$f":"IFERROR(K59/IF((J59*L57)<150,150,J59*L57)^0.25*34.9964,\"\")","v":0.30346674612746194},null,56,"Book of the Fallen ⁵",0.1,0.96499999999999997]
[5.2190966747928787E-2,4,{"$f":"IF(OR(E60<=0,E60>1000000000),\"\",1/HYPGEOMDIST(B60,7,20,80)/E54)","v":19.160403845933459},{"$f":"IF(OR(E60<=0,E60>1000000000),\"\",E60/C60/E55)","v":0.20876386699171515},{"$f":"4*B55","v":0.4},{"$f":"IFERROR(IF(D60<D64,D64/D60,D60/D64),\"\")","v":1.3381392930914715},{"$f":"IFERROR(D60/IF((C60*E55)<150,150,C60*E55)^0.25*34.9964,\"\")","v":2.0876413473953948},1.6166507081497368E-3,6,{"$f":"IF(OR(L60<=0,L60>1000000000),\"\",1/HYPGEOMDIST(I60,7,20,70)/L56)","v":618.56280701754304},{"$f":"IF(OR(L60<=0,L60>1000000000),\"\",L60/J60/L57)","v":0.16166507081497367},{"$f":"ROUND(100*I57,2)","v":20},{"$f":"IFERROR(IF(K60<K67,K67/K60,K60/K67),\"\")","v":1.1926614763942898},{"$f":"IFERROR(K60/IF((J60*L57)<150,150,J60*L57)^0.25*34.9964,\"\")","v":1.6166527815674985},null,57,"Book of Vikings ⁵",0.1,0.96499999999999997]
[0.17499324144893755,3,{"$f":"IF(OR(E61<=0,E61>1000000000),\"\",1/HYPGEOMDIST(B61,7,20,80)/E54)","v":5.7145064101906859},{"$f":"IF(OR(E61<=0,E61>1000000000),\"\",E61/C61/E55)","v":0.34998648289787504},{"$f":"2*B55","v":0.2},{"$f":"IFERROR(IF(D61<D64,D64/D61,D61/D64),\"\")","v":2.2433511678298177},{"$f":"IFERROR(D61/IF((C61*E55)<150,150,C61*E55)^0.25*34.9964,\"\")","v":3.4998693176922759},1.5843176939867382E-2,5,{"$f":"IF(OR(L61<=0,L61>1000000000),\"\",1/HYPGEOMDIST(I61,7,20,70)/L56)","v":63.118653777300466},{"$f":"IF(OR(L61<=0,L61>1000000000),\"\",L61/J61/L57)","v":0.15843176939867382},{"$f":"ROUND(10*I57,2)","v":2},{"$f":"IFERROR(IF(K61<K67,K67/K61,K61/K67),\"\")","v":1.1688082468664012},{"$f":"IFERROR(K61/IF((J61*L57)<150,150,J61*L57)^0.25*34.9964,\"\")","v":1.5843197259361446},null,58,"Fishin Reels ⁵",0.1,0.96499999999999997]
[0.12157425195399879,0,{"$f":"IF(OR(E62<=0,E62>1000000000),\"\",1/HYPGEOMDIST(B62,7,20,80)/E54)","v":8.2254258934562845},{"$f":"IF(OR(E62<=0,E62>1000000000),\"\",E62/C62/E55)","v":0.12157425195399879},{"$f":"1*B55","v":0.1},{"$f":"IFERROR(IF(D62<D64,D64/D62,D62/D64),\"\")","v":1.283253339945333},{"$f":"IFERROR(D62/IF((C62*E55)<150,150,C62*E55)^0.25*34.9964,\"\")","v":1.2157440787773179},7.9215884699336908E-2,4,{"$f":"IF(OR(L62<=0,L62>1000000000),\"\",1/HYPGEOMDIST(I62,7,20,70)/L56)","v":12.623730755460095},{"$f":"IF(OR(L62<=0,L62>1000000000),\"\",L62/J62/L57)","v":0.19803971174834226},{"$f":"ROUND(2.5*I57,2)","v":0.5},{"$f":"IFERROR(IF(K62<K67,K67/K62,K62/K67),\"\")","v":1.4610103085830015},{"$f":"IFERROR(K62/IF((J62*L57)<150,150,J62*L57)^0.25*34.9964,\"\")","v":1.9803996574201808},null,59,"Smugglers Cove ⁵",0.2,0.96499999999999997]
[{"$f":"IF(SUM(A57:A62)=0,\"\",SUM(A57:A62))","v":0.35815344422939355},"Gesamt",{"$f":"IFERROR(1/A63,\"\")","v":2.7920993532579583},{"$f":"IF(SUM(D57:D62)=0,\"\",SUM(D57:D62))","v":0.93606338922794619},{"$f":"IFERROR(E55*D63,\"\")","v":9.360633892279463E-2},{"$f":"IFERROR(AVERAGE(F57:F62),\"\")","v":2.5048685149003469},{"$f":"IF(SUM(G57:G62)=0,\"\",SUM(G57:G62))","v":9.2233576455852262},0.21900862240404931,3,{"$f":"IF(OR(L63<=0,L63>1000000000),\"\",1/HYPGEOMDIST(I63,7,20,70)/L56)","v":4.5660302732515188},{"$f":"IF(OR(L63<=0,L63>1000000000),\"\",L63/J63/L57)","v":0.2737607780050616},{"$f":"ROUND(1.25*I57,2)","v":0.25},{"$f":"IFERROR(IF(K63<K67,K67/K63,K63/K67),\"\")","v":2.0196318971588569},{"$f":"IFERROR(K63/IF((J63*L57)<150,150,J63*L57)^0.25*34.9964,\"\")","v":2.7376112911396642},null,60,"Chicken Drop ⁵",0.2,0.96499999999999997]
[null,null,null,{"$f":"AVERAGE(D57:D62)","v":0.15601056487132436},null,null,null,0.33581322101954231,2,{"$f":"IF(OR(L64<=0,L64>1000000000),\"\",1/HYPGEOMDIST(I64,7,20,70)/L56)","v":2.9778458303814253},{"$f":"IF(OR(L64<=0,L64>1000000000),\"\",L64/J64/L57)","v":8.3953305254885577E-2},{"$f":"ROUND(0.25*I57,2)","v":0.05},{"$f":"IFERROR(IF(K64<K67,K67/K64,K64/K67),\"\")","v":1.6145860885860739},{"$f":"IFERROR(K64/IF((J64*L57)<150,150,J64*L57)^0.25*34.9964,\"\")","v":0.83953412928283044},null,61,"The Ultimate 5 ⁵",0.2,0.96499999999999997]
[null,null,null,null,null,null,null,8.3322077395826255E-2,0,{"$f":"IF(OR(L65<=0,L65>1000000000),\"\",1/HYPGEOMDIST(I65,7,20,70)/L56)","v":12.001621073961505},{"$f":"IF(OR(L65<=0,L65>1000000000),\"\",L65/J65/L57)","v":8.3322077395826255E-3},{"$f":"ROUND(0.1*I57,2)","v":0.02},{"$f":"IFERROR(IF(K65<K67,K67/K65,K65/K67),\"\")","v":16.268178013783935},{"$f":"IFERROR(K65/IF((J65*L57)<150,150,J65*L57)^0.25*34.9964,\"\")","v":8.332218425964931E-2},null,62,"Colossal Cash Zone ⁵",0.2,0.96499999999999997]
[null,"Burning Keno (Typ 08) ⁶",null,null,1,null,null,{"$f":"IF(SUM(H59:H65)=0,\"\",SUM(H59:H65))","v":0.7348842991950979},"Gesamt",{"$f":"IFERROR(1/H66,\"\")","v":1.3607584229181073},{"$f":"IF(SUM(K59:K65)=0,\"\",SUM(K59:K65))","v":0.94884887128750883},{"$f":"IFERROR(L57*K66,\"\")","v":0.18976977425750177},{"$f":"IFERROR(AVERAGE(M59:M65),\"\")","v":3.6887183214506871},{"$f":"IF(SUM(N59:N65)=0,\"\",SUM(N59:N65))","v":9.1453065157334308},null,63,"Chilli Heat Megaways ⁵",0.2,0.96499999999999997]
[null,0.1,null,null,{"$f":"E66*1*B67","v":0.1},null,null,null,null,null,{"$f":"AVERAGE(K59:K65)","v":0.13554983875535839},null,null,null,null,64,"Starlight Princess ⁵",0.2,0.96499999999999997]
[null,"Richtige",{"$f":"IF(E66=1,\"Chancen 1:\",\"Ø Gewinne 1:\")","v":"Chancen 1:"},"Ø AQ","(Ø) Gewinn",null,null,null,null,null,null,null,null,null,null,65,"Release the Kraken ⁵",0.2,0.96499999999999997]
[{"$f":"IFERROR(IF(OR(E69<=0,E69>1000000000),0,1/C69),\"\")","v":4.3456606661045696E-6},8,{"$f":"IF(OR(E69<=0,E69>1000000000),\"\",1/HYPGEOMDIST(B69,8,20,80)/E66)","v":230114.60784313735},{"$f":"IF(OR(E69<=0,E69>1000000000),\"\",E69/C69/E67)","v":8.6913213322091388E-3},{"$f":"2000*B67","v":200},{"$f":"IFERROR(IF(D69<D76,D76/D69,D69/D76),\"\")","v":17.823173453996997},{"$f":"IFERROR(D69/IF((C69*E67)<150,150,C69*E67)^0.25*34.9964,\"\")","v":2.4695801819582201E-2},null,"KENO Sofort! (Typ 08) ⁶",null,null,1]
[1.6045516305616893E-4,7,{"$f":"IF(OR(E70<=0,E70>1000000000),\"\",1/HYPGEOMDIST(B70,8,20,80)/E66)","v":6232.270629084961},{"$f":"IF(OR(E70<=0,E70>1000000000),\"\",E70/C70/E67)","v":3.2091032611233784E-2},{"$f":"200*B67","v":20},{"$f":"IFERROR(IF(D70<D76,D76/D70,D70/D76),\"\")","v":4.8271094771241803},{"$f":"IFERROR(D70/IF((C70*E67)<150,150,C70*E67)^0.25*34.9964,\"\")","v":0.22477369643353448},null,0.2,null,null,{"$f":"L69*1*I70","v":0.2},null,null,null,"Die schlechtesten Spiele mit Ø AQ (RTP) <= 88,00 % *"]
[2.3667136550784913E-3,6,{"$f":"IF(OR(E71<=0,E71>1000000000),\"\",1/HYPGEOMDIST(B71,8,20,80)/E66)","v":422.52682231084492},{"$f":"IF(OR(E71<=0,E71>1000000000),\"\",E71/C71/E67)","v":0.11833568275392456},{"$f":"50*B67","v":5},{"$f":"IFERROR(IF(D71<D76,D76/D71,D71/D76),\"\")","v":1.3090466378641847},{"$f":"IFERROR(D71/IF((C71*E67)<150,150,C71*E67)^0.25*34.9964,\"\")","v":1.1833583452406591},null,"Richtige",{"$f":"IF(L69=1,\"Chancen 1:\",\"Ø Gewinne 1:\")","v":"Chancen 1:"},"Ø AQ","(Ø) Gewinn",null,null,null,"Rang","Name des Spiels","Preis ab","Ø AQ"]
[1.8302585599273662E-2,5,{"$f":"IF(OR(E72<=0,E72>1000000000),\"\",1/HYPGEOMDIST(B72,8,20,80)/E66)","v":54.637089091919613},{"$f":"IF(OR(E72<=0,E72>1000000000),\"\",E72/C72/E67)","v":0.27453878398910492},{"$f":"15*B67","v":1.5},{"$f":"IFERROR(IF(D72<D76,D76/D72,D72/D76),\"\")","v":1.7722821577887147},{"$f":"IFERROR(D72/IF((C72*E67)<150,150,C72*E67)^0.25*34.9964,\"\")","v":2.7453913609583283},{"$f":"IFERROR(IF(OR(L72<=0,L72>1000000000),0,1/J72),\"\")","v":1.3343783622823193E-5},8,{"$f":"IF(OR(L72<=0,L72>1000000000),\"\",1/HYPGEOMDIST(I72,8,20,70)/L69)","v":74941.26315789482},{"$f":"IF(OR(L72<=0,L72>1000000000),\"\",L72/J72/L70)","v":2.6687567245646381E-2},{"$f":"ROUND(2000*I70,2)","v":400},{"$f":"IFERROR(IF(K72<K81,K81/K72,K72/K81),\"\")","v":4.430858098654447},{"$f":"IFERROR(K72/IF((J72*L70)<150,150,J72*L70)^0.25*34.9964,\"\")","v":8.4410137415313349E-2},null,1,"Robinson Cash ⁷",0.1,0.60070000000000001]
[8.1503701496765502E-2,4,{"$f":"IF(OR(E73<=0,E73>1000000000),\"\",1/HYPGEOMDIST(B73,8,20,80)/E66)","v":12.269381410115285},{"$f":"IF(OR(E73<=0,E73>1000000000),\"\",E73/C73/E67)","v":0.40751850748382751},{"$f":"5*B67","v":0.5},{"$f":"IFERROR(IF(D73<D76,D76/D73,D73/D76),\"\")","v":2.6307313279676228},{"$f":"IFERROR(D73/IF((C73*E67)<150,150,C73*E67)^0.25*34.9964,\"\")","v":4.0751903014225173},4.105779576253297E-4,7,{"$f":"IF(OR(L73<=0,L73>1000000000),\"\",1/HYPGEOMDIST(I73,8,20,70)/L69)","v":2435.5910526315774},{"$f":"IF(OR(L73<=0,L73>1000000000),\"\",L73/J73/L70)","v":4.1057795762532968E-2},{"$f":"ROUND(100*I70,2)","v":20},{"$f":"IFERROR(IF(K73<K81,K81/K73,K73/K81),\"\")","v":2.8800577641253851},{"$f":"IFERROR(K73/IF((J73*L70)<150,150,J73*L70)^0.25*34.9964,\"\")","v":0.30585135606863545},null,2,"Schatztruhe 7x7 ⁷",0.2,0.62139999999999995]
[8.8266237720026508E-2,0,{"$f":"IF(OR(E74<=0,E74>1000000000),\"\",1/HYPGEOMDIST(B74,8,20,80)/E66)","v":11.329360192873752},{"$f":"IF(OR(E74<=0,E74>1000000000),\"\",E74/C74/E67)","v":8.8266237720026508E-2},{"$f":"1*B67","v":0.1},{"$f":"IFERROR(IF(D74<D76,D76/D74,D74/D76),\"\")","v":1.7549963797000185},{"$f":"IFERROR(D74/IF((C74*E67)<150,150,C74*E67)^0.25*34.9964,\"\")","v":0.88266350924928549},5.0295799809102907E-3,6,{"$f":"IF(OR(L74<=0,L74>1000000000),\"\",1/HYPGEOMDIST(I74,8,20,70)/L69)","v":198.82375939849607},{"$f":"IF(OR(L74<=0,L74>1000000000),\"\",L74/J74/L70)","v":7.5443699713654347E-2},{"$f":"ROUND(15*I70,2)","v":3},{"$f":"IFERROR(IF(K74<K81,K81/K74,K74/K81),\"\")","v":1.5673783750342227},{"$f":"IFERROR(K74/IF((J74*L70)<150,150,J74*L70)^0.25*34.9964,\"\")","v":0.75443796473149893},null,3,"Slingo ⁷",0.5,0.63819999999999999]
[{"$f":"IF(SUM(A69:A74)=0,\"\",SUM(A69:A74))","v":0.19060403929486644},"Gesamt",{"$f":"IFERROR(1/A75,\"\")","v":5.2464785305677051},{"$f":"IF(SUM(D69:D74)=0,\"\",SUM(D69:D74))","v":0.92944156589032634},{"$f":"IFERROR(E67*D75,\"\")","v":9.2944156589032642E-2},{"$f":"IFERROR(AVERAGE(F69:F74),\"\")","v":5.0195565724069526},{"$f":"IF(SUM(G69:G74)=0,\"\",SUM(G69:G74))","v":9.1360730151239071},3.2189311877825824E-2,5,{"$f":"IF(OR(L75<=0,L75>1000000000),\"\",1/HYPGEOMDIST(I75,8,20,70)/L69)","v":31.066212406015044},{"$f":"IF(OR(L75<=0,L75>1000000000),\"\",L75/J75/L70)","v":0.16094655938912911},{"$f":"ROUND(5*I70,2)","v":1},{"$f":"IFERROR(IF(K75<K81,K81/K75,K75/K81),\"\")","v":1.3610838118694544},{"$f":"IFERROR(K75/IF((J75*L70)<150,150,J75*L70)^0.25*34.9964,\"\")","v":1.6094676580938627},null,4,"Schatz der Maya ⁷",0.5,0.73760000000000003]
[null,null,null,{"$f":"AVERAGE(D69:D74)","v":0.15490692764838773},null,null,null,0.11819512955139162,4,{"$f":"IF(OR(L76<=0,L76>1000000000),\"\",1/HYPGEOMDIST(I76,8,20,70)/L69)","v":8.4605855063189956},{"$f":"IF(OR(L76<=0,L76>1000000000),\"\",L76/J76/L70)","v":0.23639025910278325},{"$f":"ROUND(2*I70,2)","v":0.4},{"$f":"IFERROR(IF(K76<K81,K81/K76,K76/K81),\"\")","v":1.9990918486832598},{"$f":"IFERROR(K76/IF((J76*L70)<150,150,J76*L70)^0.25*34.9964,\"\")","v":2.3639056228253597},null,5,"Fruits XL Bonus Spin ⁵",0.1,0.85009999999999997]
[null,null,null,null,null,null,null,0.25585769220536586,3,{"$f":"IF(OR(L77<=0,L77>1000000000),\"\",1/HYPGEOMDIST(I77,8,20,70)/L69)","v":3.908422652375616},{"$f":"IF(OR(L77<=0,L77>1000000000),\"\",L77/J77/L70)","v":0.31982211525670728},{"$f":"ROUND(1.25*I70,2)","v":0.25},{"$f":"IFERROR(IF(K77<K81,K81/K77,K77/K81),\"\")","v":2.7046536776302976},{"$f":"IFERROR(K77/IF((J77*L70)<150,150,J77*L70)^0.25*34.9964,\"\")","v":3.1982252544107861},null,6,"Ring the Wild Bell Bonus Spin ⁵",0.1,0.85160000000000002]
[null,"Burning Keno (Typ 09) ⁶",null,null,1,null,null,0.31982211525670684,2,{"$f":"IF(OR(L78<=0,L78>1000000000),\"\",1/HYPGEOMDIST(I78,8,20,70)/L69)","v":3.1267381219004977},{"$f":"IF(OR(L78<=0,L78>1000000000),\"\",L78/J78/L70)","v":7.995552881417671E-2},{"$f":"ROUND(0.25*I70,2)","v":0.05},{"$f":"IFERROR(IF(K78<K81,K81/K78,K78/K81),\"\")","v":1.4789324167760494},{"$f":"IFERROR(K78/IF((J78*L70)<150,150,J78*L70)^0.25*34.9964,\"\")","v":0.79955631360269541},null,7,"Big Money Slingo Bonus ⁷",0.5,0.87529999999999997]
[null,0.1,null,null,{"$f":"E78*1*B79","v":0.1},null,null,5.6870624254294143E-2,0,{"$f":"IF(OR(L79<=0,L79>1000000000),\"\",1/HYPGEOMDIST(I79,8,20,70)/L69)","v":17.583770410687777},{"$f":"IF(OR(L79<=0,L79>1000000000),\"\",L79/J79/L70)","v":5.6870624254294145E-3},{"$f":"ROUND(0.1*I70,2)","v":0.02},{"$f":"IFERROR(IF(K79<K81,K81/K79,K79/K81),\"\")","v":20.792601631206601},{"$f":"IFERROR(K79/IF((J79*L70)<150,150,J79*L70)^0.25*34.9964,\"\")","v":5.6870697193094011E-2},null,8,"Epic Crystal Deluxe ⁵",0.1,0.87570000000000003]
[null,"Richtige",{"$f":"IF(E78=1,\"Chancen 1:\",\"Ø Gewinne 1:\")","v":"Chancen 1:"},"Ø AQ","(Ø) Gewinn",null,null,{"$f":"IF(SUM(H72:H79)=0,\"\",SUM(H72:H79))","v":0.78838837486774271},"Gesamt",{"$f":"IFERROR(1/H80,\"\")","v":1.2684103823420234},{"$f":"IF(SUM(K72:K79)=0,\"\",SUM(K72:K79))","v":0.94599058771005928},{"$f":"IFERROR(L70*K80,\"\")","v":0.18919811754201188},{"$f":"IFERROR(AVERAGE(M72:M79),\"\")","v":4.6518322029974648},{"$f":"IF(SUM(N72:N79)=0,\"\",SUM(N72:N79))","v":9.1727250043412454},null,9,"Serendipity Deluxe ⁵",0.1,0.876]
[{"$f":"IFERROR(IF(OR(E81<=0,E81>1000000000),0,1/C81),\"\")","v":7.2427677768409518E-7},9,{"$f":"IF(OR(E81<=0,E81>1000000000),\"\",1/HYPGEOMDIST(B81,9,20,80)/E78)","v":1380687.6470588236},{"$f":"IF(OR(E81<=0,E81>1000000000),\"\",E81/C81/E79)","v":3.6213838884204754E-3},{"$f":"5000*B79","v":500},{"$f":"IFERROR(IF(D81<D89,D89/D81,D81/D89),\"\")","v":36.879486102133185},{"$f":"IFERROR(D81/IF((C81*E79)<150,150,C81*E79)^0.25*34.9964,\"\")","v":6.5746717818560849E-3},null,null,null,{"$f":"AVERAGE(K72:K79)","v":0.11824882346375741},null,null,null,null,10,"Retropia ⁵",0.25,0.87770000000000004]
[3.2592454995784256E-5,8,{"$f":"IF(OR(E82<=0,E82>1000000000),\"\",1/HYPGEOMDIST(B82,9,20,80)/E78)","v":30681.947712418325},{"$f":"IF(OR(E82<=0,E82>1000000000),\"\",E82/C82/E79)","v":3.2592454995784254E-2},{"$f":"1000*B79","v":100},{"$f":"IFERROR(IF(D82<D89,D89/D82,D82/D89),\"\")","v":4.0977206780148014},{"$f":"IFERROR(D82/IF((C82*E79)<150,150,C82*E79)^0.25*34.9964,\"\")","v":0.15325678646958574},null,null,null,null,null,null,null,null,11,"Legend of Perseus ⁵",0.2,0.87909999999999999]
[5.9167841376962305E-4,7,{"$f":"IF(OR(E83<=0,E83>1000000000),\"\",1/HYPGEOMDIST(B83,9,20,80)/E78)","v":1690.107289243379},{"$f":"IF(OR(E83<=0,E83>1000000000),\"\",E83/C83/E79)","v":7.3959801721202881E-2},{"$f":"125*B79","v":12.5},{"$f":"IFERROR(IF(D83<D89,D89/D83,D83/D89),\"\")","v":1.8057752140404173},{"$f":"IFERROR(D83/IF((C83*E79)<150,150,C83*E79)^0.25*34.9964,\"\")","v":0.71786130026027684},null,"KENO Sofort! (Typ 09) ⁶",null,null,1,null,null,null,12,"Moon of Thoth ⁵",0.1,0.87960000000000005]
[5.7195579997730214E-3,6,{"$f":"IF(OR(E84<=0,E84>1000000000),\"\",1/HYPGEOMDIST(B84,9,20,80)/E78)","v":174.8386850941427},{"$f":"IF(OR(E84<=0,E84>1000000000),\"\",E84/C84/E79)","v":0.14298894999432551},{"$f":"25*B79","v":2.5},{"$f":"IFERROR(IF(D84<D89,D89/D84,D84/D89),\"\")","v":1.0706389800353413},{"$f":"IFERROR(D84/IF((C84*E79)<150,150,C84*E79)^0.25*34.9964,\"\")","v":1.429891333832463},null,0.2,null,null,{"$f":"L83*1*I84","v":0.2},null,null,null,13,"777 Heist ⁵",0.2,0.87960000000000005]
[3.2601480598706212E-2,5,{"$f":"IF(OR(E85<=0,E85>1000000000),\"\",1/HYPGEOMDIST(B85,9,20,80)/E78)","v":30.673453525288203},{"$f":"IF(OR(E85<=0,E85>1000000000),\"\",E85/C85/E79)","v":0.32601480598706212},{"$f":"10*B79","v":1},{"$f":"IFERROR(IF(D85<D89,D89/D85,D85/D89),\"\")","v":2.4410568744805778},{"$f":"IFERROR(D85/IF((C85*E79)<150,150,C85*E79)^0.25*34.9964,\"\")","v":3.2601522411380151},null,"Richtige",{"$f":"IF(L83=1,\"Chancen 1:\",\"Ø Gewinne 1:\")","v":"Chancen 1:"},"Ø AQ","(Ø) Gewinn",null,null,null,14,"Gold's Guardian ⁵",0.2,0.87990000000000002]
[0.11410518209547174,4,{"$f":"IF(OR(E86<=0,E86>1000000000),\"\",1/HYPGEOMDIST(B86,9,20,80)/E78)","v":8.7638438643680576},{"$f":"IF(OR(E86<=0,E86>1000000000),\"\",E86/C86/E79)","v":0.22821036419094348},{"$f":"2*B79","v":0.2},{"$f":"IFERROR(IF(D86<D89,D89/D86,D86/D89),\"\")","v":1.7087398121364046},{"$f":"IFERROR(D86/IF((C86*E79)<150,150,C86*E79)^0.25*34.9964,\"\")","v":2.2821065687966104},{"$f":"IFERROR(IF(OR(L86<=0,L86>1000000000),0,1/J86),\"\")","v":2.5826677979657834E-6},9,{"$f":"IF(OR(L86<=0,L86>1000000000),\"\",1/HYPGEOMDIST(I86,9,20,70)/L83)","v":387196.52631578926},{"$f":"IF(OR(L86<=0,L86>1000000000),\"\",L86/J86/L84)","v":1.2913338989828917E-2},{"$f":"ROUND(5000*I84,2)","v":1000},{"$f":"IFERROR(IF(K86<K95,K95/K86,K86/K95),\"\")","v":9.1549465304239028},{"$f":"IFERROR(K86/IF((J86*L84)<150,150,J86*L84)^0.25*34.9964,\"\")","v":2.7090783255031236E-2},null,15,"Boomerang Jack's Lost Mines ⁵",0.1,0.87990000000000002]
[6.3747838353352487E-2,0,{"$f":"IF(OR(E87<=0,E87>1000000000),\"\",1/HYPGEOMDIST(B87,9,20,80)/E78)","v":15.686806420902116},{"$f":"IF(OR(E87<=0,E87>1000000000),\"\",E87/C87/E79)","v":0.12749567670670497},{"$f":"2*B79","v":0.2},{"$f":"IFERROR(IF(D87<D89,D89/D87,D87/D89),\"\")","v":1.0475239649947152},{"$f":"IFERROR(D87/IF((C87*E79)<150,150,C87*E79)^0.25*34.9964,\"\")","v":1.2749584022489682},9.6850042423716717E-5,8,{"$f":"IF(OR(L87<=0,L87>1000000000),\"\",1/HYPGEOMDIST(I87,9,20,70)/L83)","v":10325.240701754397},{"$f":"IF(OR(L87<=0,L87>1000000000),\"\",L87/J87/L84)","v":9.6850042423716719E-3},{"$f":"ROUND(100*I84,2)","v":20},{"$f":"IFERROR(IF(K87<K95,K95/K87,K87/K95),\"\")","v":12.206595373898557},{"$f":"IFERROR(K87/IF((J87*L84)<150,150,J87*L84)^0.25*34.9964,\"\")","v":5.0279464310582528E-2},null,16,"Freche Früchtchen ⁵",0.1,0.88]
[{"$f":"IF(SUM(A81:A87)=0,\"\",SUM(A81:A87))","v":0.21679905419284654},"Gesamt",{"$f":"IFERROR(1/A88,\"\")","v":4.6125662481464635},{"$f":"IF(SUM(D81:D87)=0,\"\",SUM(D81:D87))","v":0.93488343748444369},{"$f":"IFERROR(E79*D88,\"\")","v":9.3488343748444377E-2},{"$f":"IFERROR(AVERAGE(F81:F87),\"\")","v":7.00727737511935},{"$f":"IF(SUM(G81:G87)=0,\"\",SUM(G81:G87))","v":9.1248013045277752},1.4602006396191153E-3,7,{"$f":"IF(OR(L88<=0,L88>1000000000),\"\",1/HYPGEOMDIST(I88,9,20,70)/L83)","v":684.83739348370921},{"$f":"IF(OR(L88<=0,L88>1000000000),\"\",L88/J88/L84)","v":7.3010031980955764E-2},{"$f":"ROUND(50*I84,2)","v":10},{"$f":"IFERROR(IF(K88<K95,K95/K88,K88/K95),\"\")","v":1.6192422434763374},{"$f":"IFERROR(K88/IF((J88*L84)<150,150,J88*L84)^0.25*34.9964,\"\")","v":0.73010125619177257},null,17,"El Diablo ⁵",0.1,0.88]
[null,null,null,{"$f":"AVERAGE(D81:D87)","v":0.13355477678349195},null,null,null,1.1681605116952942E-2,6,{"$f":"IF(OR(L89<=0,L89>1000000000),\"\",1/HYPGEOMDIST(I89,9,20,70)/L83)","v":85.604674185463523},{"$f":"IF(OR(L89<=0,L89>1000000000),\"\",L89/J89/L84)","v":0.11681605116952941},{"$f":"ROUND(10*I84,2)","v":2},{"$f":"IFERROR(IF(K89<K95,K95/K89,K89/K95),\"\")","v":1.0120264021727092},{"$f":"IFERROR(K89/IF((J89*L84)<150,150,J89*L84)^0.25*34.9964,\"\")","v":1.1681620099068382},null,18,"O'Bryans' Funland ⁵",0.1,0.88]
[null,null,null,null,null,null,null,5.490354404967869E-2,5,{"$f":"IF(OR(L90<=0,L90>1000000000),\"\",1/HYPGEOMDIST(I90,9,20,70)/L83)","v":18.213760464992284},{"$f":"IF(OR(L90<=0,L90>1000000000),\"\",L90/J90/L84)","v":0.27451772024839344},{"$f":"ROUND(5*I84,2)","v":1},{"$f":"IFERROR(IF(K90<K95,K95/K90,K90/K95),\"\")","v":2.3220738065279751},{"$f":"IFERROR(K90/IF((J90*L84)<150,150,J90*L84)^0.25*34.9964,\"\")","v":2.7451807232810626},null,19,"Vikings Journey ⁵",0.1,0.88]
[null,"Burning Keno (Typ 10) ⁶",null,null,1,null,null,0.15784768914282626,4,{"$f":"IF(OR(L91<=0,L91>1000000000),\"\",1/HYPGEOMDIST(I91,9,20,70)/L83)","v":6.3352210313016624},{"$f":"IF(OR(L91<=0,L91>1000000000),\"\",L91/J91/L84)","v":0.31569537828565253},{"$f":"ROUND(2*I84,2)","v":0.4},{"$f":"IFERROR(IF(K91<K95,K95/K91,K91/K95),\"\")","v":2.6703848775071717},{"$f":"IFERROR(K91/IF((J91*L84)<150,150,J91*L84)^0.25*34.9964,\"\")","v":3.156957831773223},null,20,"Freche Früchtchen 6 Deluxe ⁵",0.05,0.88]
[null,0.1,null,null,{"$f":"E91*1*B92","v":0.1},null,null,0.27855474554616416,3,{"$f":"IF(OR(L92<=0,L92>1000000000),\"\",1/HYPGEOMDIST(I92,9,20,70)/L83)","v":3.5899585844042732},{"$f":"IF(OR(L92<=0,L92>1000000000),\"\",L92/J92/L84)","v":0.13927737277308208},{"$f":"ROUND(0.5*I84,2)","v":0.1},{"$f":"IFERROR(IF(K92<K95,K95/K92,K92/K95),\"\")","v":1.1781109753708119},{"$f":"IFERROR(K92/IF((J92*L84)<150,150,J92*L84)^0.25*34.9964,\"\")","v":1.3927755140175992},null,21,"Clover The Rainbow Deluxe ⁵",0.05,0.88]
[null,"Richtige",{"$f":"IF(E91=1,\"Chancen 1:\",\"Ø Gewinne 1:\")","v":"Chancen 1:"},"Ø AQ","(Ø) Gewinn",null,null,3.8525261591618606E-2,0,{"$f":"IF(OR(L93<=0,L93>1000000000),\"\",1/HYPGEOMDIST(I93,9,20,70)/L83)","v":25.956994415777199},{"$f":"IF(OR(L93<=0,L93>1000000000),\"\",L93/J93/L84)","v":3.852526159161861E-3},{"$f":"ROUND(0.1*I84,2)","v":0.02},{"$f":"IFERROR(IF(K93<K95,K95/K93,K93/K95),\"\")","v":30.686599674339806},{"$f":"IFERROR(K93/IF((J93*L84)<150,150,J93*L84)^0.25*34.9964,\"\")","v":3.8525311001773352E-2}]
[{"$f":"IFERROR(IF(OR(E94<=0,E94>1000000000),0,1/C94),\"\")","v":1.1221189513415582E-7},10,{"$f":"IF(OR(E94<=0,E94>1000000000),\"\",1/HYPGEOMDIST(B94,10,20,80)/E91)","v":8911711.1764705703},{"$f":"IF(OR(E94<=0,E94>1000000000),\"\",E94/C94/E92)","v":1.1221189513415581E-3},{"$f":"10000*B92","v":1000},{"$f":"IFERROR(IF(D94<D102,D102/D94,D94/D102),\"\")","v":115.62375034965019},{"$f":"IFERROR(D94/IF((C94*E92)<150,150,C94*E92)^0.25*34.9964,\"\")","v":1.2781210668520869E-3},{"$f":"IF(SUM(H86:H93)=0,\"\",SUM(H86:H93))","v":0.54307247879708143},"Gesamt",{"$f":"IFERROR(1/H94,\"\")","v":1.8413748422954961},{"$f":"IF(SUM(K86:K93)=0,\"\",SUM(K86:K93))","v":0.94576742384897561},{"$f":"IFERROR(L84*K94,\"\")","v":0.18915348476979513},{"$f":"IFERROR(AVERAGE(M86:M93),\"\")","v":7.6062474854646585},{"$f":"IF(SUM(N86:N93)=0,\"\",SUM(N86:N93))","v":9.3090728937378824},null,"* Da Lottohelden über 650 Spiele anbietet, ist es durchaus möglich, dass es noch weitere Spiele mit einer Ø AQ >= 96,5 bzw. <= 88 % gibt. Sollten Sie welche entdecken, dann schreiben Sie mir bitte ei-ne E-Mail an info@lotteriecheck.de und ich werde diese Spiele in der Tabelle ergänzen. Da sich die Ø AQ bei einigen Spielen von Zeit zu Zeit ändert, ist es somit auch möglich, dass die Angaben bei man-chen Spielen bereits veraltet sind. Daher sollten Sie diese vor dem Spielen überprüfen. Die Ø AQ wird bei fast allen Spielen in der aus-führlichen Spielbeschreibung innerhalb des Spiels angegeben."]
[6.120648825499408E-6,9,{"$f":"IF(OR(E95<=0,E95>1000000000),\"\",1/HYPGEOMDIST(B95,10,20,80)/E91)","v":163381.37156862713},{"$f":"IF(OR(E95<=0,E95>1000000000),\"\",E95/C95/E92)","v":1.2241297650998814E-2},{"$f":"2000*B92","v":200},{"$f":"IFERROR(IF(D95<D102,D102/D95,D95/D102),\"\")","v":10.598843782051269},{"$f":"IFERROR(D95/IF((C95*E92)<150,150,C95*E92)^0.25*34.9964,\"\")","v":3.7892232678040344E-2},null,null,null,{"$f":"AVERAGE(K86:K93)","v":0.11822092798112195}]
[1.3541935526417427E-4,8,{"$f":"IF(OR(E96<=0,E96>1000000000),\"\",1/HYPGEOMDIST(B96,10,20,80)/E91)","v":7384.4687714633801},{"$f":"IF(OR(E96<=0,E96>1000000000),\"\",E96/C96/E92)","v":4.0625806579252279E-2},{"$f":"300*B92","v":30},{"$f":"IFERROR(IF(D96<D102,D102/D96,D96/D102),\"\")","v":3.193625245062532},{"$f":"IFERROR(D96/IF((C96*E92)<150,150,C96*E92)^0.25*34.9964,\"\")","v":0.27273793859926682}]
[1.6111430985276121E-3,7,{"$f":"IF(OR(E97<=0,E97>1000000000),\"\",1/HYPGEOMDIST(B97,10,20,80)/E91)","v":620.67733208420645},{"$f":"IF(OR(E97<=0,E97>1000000000),\"\",E97/C97/E92)","v":0.16111430985276121},{"$f":"100*B92","v":10},{"$f":"IFERROR(IF(D97<D102,D102/D97,D97/D102),\"\")","v":1.2417900227784286},{"$f":"IFERROR(D97/IF((C97*E92)<150,150,C97*E92)^0.25*34.9964,\"\")","v":1.6111451648816493},null,"KENO Sofort! (Typ 10) ⁶",null,null,1]
[1.1479394577009234E-2,6,{"$f":"IF(OR(E98<=0,E98>1000000000),\"\",1/HYPGEOMDIST(B98,10,20,80)/E91)","v":87.112608011818466},{"$f":"IF(OR(E98<=0,E98>1000000000),\"\",E98/C98/E92)","v":0.34438183731027699},{"$f":"30*B92","v":3},{"$f":"IFERROR(IF(D98<D102,D102/D98,D98/D102),\"\")","v":2.6543261736888906},{"$f":"IFERROR(D98/IF((C98*E92)<150,150,C98*E92)^0.25*34.9964,\"\")","v":3.443822789934524},null,0.2,null,null,{"$f":"L97*1*I98","v":0.2}]
[5.1427687705001328E-2,5,{"$f":"IF(OR(E99<=0,E99>1000000000),\"\",1/HYPGEOMDIST(B99,10,20,80)/E91)","v":19.444778574066635},{"$f":"IF(OR(E99<=0,E99>1000000000),\"\",E99/C99/E92)","v":0.25713843852500662},{"$f":"5*B92","v":0.5},{"$f":"IFERROR(IF(D99<D102,D102/D99,D99/D102),\"\")","v":1.9818968763543701},{"$f":"IFERROR(D99/IF((C99*E92)<150,150,C99*E92)^0.25*34.9964,\"\")","v":2.5713876831511091},null,"Richtige",{"$f":"IF(L97=1,\"Chancen 1:\",\"Ø Gewinne 1:\")","v":"Chancen 1:"},"Ø AQ","(Ø) Gewinn"]
[4.5790700789027881E-2,0,{"$f":"IF(OR(E100<=0,E100>1000000000),\"\",1/HYPGEOMDIST(B100,10,20,80)/E91)","v":21.838495213412731},{"$f":"IF(OR(E100<=0,E100>1000000000),\"\",E100/C100/E92)","v":9.1581401578055777E-2},{"$f":"2*B92","v":0.2},{"$f":"IFERROR(IF(D100<D102,D102/D100,D100/D102),\"\")","v":1.4167025100827462},{"$f":"IFERROR(D100/IF((C100*E92)<150,150,C100*E92)^0.25*34.9964,\"\")","v":0.9158151903478513},{"$f":"IFERROR(IF(OR(L100<=0,L100>1000000000),0,1/J100),\"\")","v":4.6572697996104239E-7},10,{"$f":"IF(OR(L100<=0,L100>1000000000),\"\",1/HYPGEOMDIST(I100,10,20,70)/L97)","v":2147180.7368421066},{"$f":"IF(OR(L100<=0,L100>1000000000),\"\",L100/J100/L98)","v":4.6572697996104234E-3},{"$f":"ROUND(10000*I98,2)","v":2000},{"$f":"IFERROR(IF(K100<K110,K110/K100,K100/K110),\"\")","v":22.651388736856561},{"$f":"IFERROR(K100/IF((J100*L98)<150,150,J100*L98)^0.25*34.9964,\"\")","v":6.3669306577251493E-3}]
[{"$f":"IF(SUM(A94:A100)=0,\"\",SUM(A94:A100))","v":0.11045057838555086},"Gesamt",{"$f":"IFERROR(1/A101,\"\")","v":9.0538231181487401},{"$f":"IF(SUM(D94:D100)=0,\"\",SUM(D94:D100))","v":0.9082052104476932},{"$f":"IFERROR(E92*D101,\"\")","v":9.0820521044769328E-2},{"$f":"IFERROR(AVERAGE(F94:F100),\"\")","v":19.530133565666919},{"$f":"IF(SUM(G94:G100)=0,\"\",SUM(G94:G100))","v":8.8540791206592928},2.1169408180047369E-5,9,{"$f":"IF(OR(L101<=0,L101>1000000000),\"\",1/HYPGEOMDIST(I101,10,20,70)/L97)","v":47237.976210526373},{"$f":"IF(OR(L101<=0,L101>1000000000),\"\",L101/J101/L98)","v":2.1169408180047367E-2},{"$f":"ROUND(1000*I98,2)","v":200},{"$f":"IFERROR(IF(K101<K110,K110/K101,K101/K110),\"\")","v":4.9833055221084468},{"$f":"IFERROR(K101/IF((J101*L98)<150,150,J101*L98)^0.25*34.9964,\"\")","v":7.5145290716930102E-2}]
[null,null,null,{"$f":"AVERAGE(D94:D100)","v":0.12974360149252759},null,null,null,3.8898787530837031E-4,8,{"$f":"IF(OR(L102<=0,L102>1000000000),\"\",1/HYPGEOMDIST(I102,10,20,70)/L97)","v":2570.774215538851},{"$f":"IF(OR(L102<=0,L102>1000000000),\"\",L102/J102/L98)","v":3.8898787530837024E-2},{"$f":"ROUND(100*I98,2)","v":20},{"$f":"IFERROR(IF(K102<K110,K110/K102,K102/K110),\"\")","v":2.7120030052290875},{"$f":"IFERROR(K102/IF((J102*L98)<150,150,J102*L98)^0.25*34.9964,\"\")","v":0.28588143516480874}]
[null,null,null,null,null,null,null,3.830034464574725E-3,7,{"$f":"IF(OR(L103<=0,L103>1000000000),\"\",1/HYPGEOMDIST(I103,10,20,70)/L97)","v":261.0942562656644},{"$f":"IF(OR(L103<=0,L103>1000000000),\"\",L103/J103/L98)","v":0.19150172322873624},{"$f":"ROUND(50*I98,2)","v":10},{"$f":"IFERROR(IF(K103<K110,K110/K103,K103/K110),\"\")","v":1.8152918391257704},{"$f":"IFERROR(K103/IF((J103*L98)<150,150,J103*L98)^0.25*34.9964,\"\")","v":1.9150196883718607},null,"Rechtliche Hinweise:\nDieser Rechner darf nur für private Zwecke verwendet werden. Eine Weitergabe dieser Excel-Datei an andere Personen darf nur unverändert und kostenlos erfolgen! "]
[null,null,null,null,null,null,null,2.2501452479376571E-2,6,{"$f":"IF(OR(L104<=0,L104>1000000000),\"\",1/HYPGEOMDIST(I104,10,20,70)/L97)","v":44.441575534581055},{"$f":"IF(OR(L104<=0,L104>1000000000),\"\",L104/J104/L98)","v":0.22501452479376571},{"$f":"ROUND(10*I98,2)","v":2},{"$f":"IFERROR(IF(K104<K110,K110/K104,K104/K110),\"\")","v":2.1329679109727859},{"$f":"IFERROR(K104/IF((J104*L98)<150,150,J104*L98)^0.25*34.9964,\"\")","v":2.2501481338369427}]
[null,null,null,null,null,null,null,8.2805345124105589E-2,5,{"$f":"IF(OR(L105<=0,L105>1000000000),\"\",1/HYPGEOMDIST(I105,10,20,70)/L97)","v":12.076515090918793},{"$f":"IF(OR(L105<=0,L105>1000000000),\"\",L105/J105/L98)","v":0.16561069024821118},{"$f":"ROUND(2*I98,2)","v":0.4},{"$f":"IFERROR(IF(K105<K110,K110/K105,K105/K110),\"\")","v":1.5698643824759668},{"$f":"IFERROR(K105/IF((J105*L98)<150,150,J105*L98)^0.25*34.9964,\"\")","v":1.6561090265039859}]
[null,"Bingo 90 ⁶",null,null,1,null,null,0.19407502763462273,4,{"$f":"IF(OR(L106<=0,L106>1000000000),\"\",1/HYPGEOMDIST(I106,10,20,70)/L97)","v":5.1526464387920115},{"$f":"IF(OR(L106<=0,L106>1000000000),\"\",L106/J106/L98)","v":0.2425937845432784},{"$f":"ROUND(1.25*I98,2)","v":0.25},{"$f":"IFERROR(IF(K106<K110,K110/K106,K106/K110),\"\")","v":2.2996060290175326},{"$f":"IFERROR(K106/IF((J106*L98)<150,150,J106*L98)^0.25*34.9964,\"\")","v":2.4259409567929513}]
[null,0.2,null,null,{"$f":"E106*B107","v":0.2},null,null,0.28703533498902156,3,{"$f":"IF(OR(L107<=0,L107>1000000000),\"\",1/HYPGEOMDIST(I107,10,20,70)/L97)","v":3.4838916262286932},{"$f":"IF(OR(L107<=0,L107>1000000000),\"\",L107/J107/L98)","v":5.7407066997804311E-2},{"$f":"ROUND(0.2*I98,2)","v":0.04},{"$f":"IFERROR(IF(K107<K110,K110/K107,K107/K110),\"\")","v":1.8376418479528427},{"$f":"IFERROR(K107/IF((J107*L98)<150,150,J107*L98)^0.25*34.9964,\"\")","v":0.57407140624612973}]
[null,"Richtige","Ø Gewinne 1:","Ø AQ","(Ø) Gewinn",null,null,2.5894028282891203E-2,0,{"$f":"IF(OR(L108<=0,L108>1000000000),\"\",1/HYPGEOMDIST(I108,10,20,70)/L97)","v":38.618942911278261},{"$f":"IF(OR(L108<=0,L108>1000000000),\"\",L108/J108/L98)","v":2.5894028282891202E-3},{"$f":"ROUND(0.1*I98,2)","v":0.02},{"$f":"IFERROR(IF(K108<K110,K110/K108,K108/K110),\"\")","v":40.740524236277253},{"$f":"IFERROR(K108/IF((J108*L98)<150,150,J108*L98)^0.25*34.9964,\"\")","v":2.5894061492995214E-2},null,"© Copyright 2023 by Lottoexperte\n(www.lotteriecheck.de) - Alle Rechte vorbehalten!"]
[{"$f":"IFERROR(IF(OR(E109<=0,E109>1000000000),0,1/C109),\"\")","v":7.0922488497942547E-8},"15 (1x)",{"$f":"IF(OR(E109<=0,E109>1000000000),\"\",1/HYPGEOMDIST(15,15,35,90)/E106)","v":14099900.062432382},{"$f":"IF(OR(E109<=0,E109>1000000000),\"\",E109/C109/E107)","v":3.546124424897127E-4},{"$f":"5000*B107","v":1000},{"$f":"IFERROR(IF(D109<D122,D122/D109,D109/D122),\"\")","v":221.6230415336824},{"$f":"IFERROR(D109/IF((C109*E107)<150,150,C109*E107)^0.25*34.9964,\"\")","v":3.0284181064630424E-4},{"$f":"IF(SUM(H100:H108)=0,\"\",SUM(H100:H108))","v":0.61655184598506074},"Gesamt",{"$f":"IFERROR(1/H109,\"\")","v":1.6219236168246431},{"$f":"IF(SUM(K100:K108)=0,\"\",SUM(K100:K108))","v":0.94944265815057982},{"$f":"IFERROR(L98*K109,\"\")","v":0.18988853163011599},{"$f":"IFERROR(AVERAGE(M100:M108),\"\")","v":8.9713992788906936},{"$f":"IF(SUM(N100:N108)=0,\"\",SUM(N100:N108))","v":9.2145769297843287}]
[3.0465834189550974E-6,"12 (1x)",{"$f":"IF(OR(E110<=0,E110>1000000000),\"\",1/HYPGEOMDIST(12,12,35,90)/E106)","v":328236.53991492384},{"$f":"IF(OR(E110<=0,E110>1000000000),\"\",E110/C110/E107)","v":4.5698751284326457E-3},{"$f":"1500*B107","v":300},{"$f":"IFERROR(IF(D110<D122,D122/D110,D110/D122),\"\")","v":17.197469484732437},{"$f":"IFERROR(D110/IF((C110*E107)<150,150,C110*E107)^0.25*34.9964,\"\")","v":9.9913339379629641E-3},null,null,null,{"$f":"AVERAGE(K100:K108)","v":0.10549362868339776}]
[9.6272036038980843E-5,"10 (3x)",{"$f":"IF(OR(E111<=0,E111>1000000000),\"\",1/HYPGEOMDIST(10,10,35,90)/3/E106)","v":10387.232275788754},{"$f":"IF(OR(E111<=0,E111>1000000000),\"\",E111/C111/E107)","v":1.4440805405847128E-2},{"$f":"150*B107","v":30},{"$f":"IFERROR(IF(D111<D122,D122/D111,D111/D122),\"\")","v":5.4422371787128094},{"$f":"IFERROR(D111/IF((C111*E107)<150,150,C111*E107)^0.25*34.9964,\"\")","v":7.4856984426015932E-2},null,null,null,null,null,null,null,null,"¹ Die Bewertungsübersicht kann mit Strg+[1-6] sortiert werden.\n² Je geringer der Wert, desto höher ist das Verlustpotenzial in Re-\n² lation zum Spieleinsatz. Berechnung: Summe aller berechneten\n² Werte (X) in den einzelnen Gewinnklassen. Berechnung von X je\n² Gewinnklasse: [Ø AQ dieser Gewinnklasse]/([1:Wahrscheinlichkeit\n² dieser Gewinnklasse]*[Preis je Spiel in Euro])^0,25*34,9964\n² Für den in den runden Klammern berechneten Wert gilt jedoch\n² eine Untergrenze von 150. Die Spielebewertungen wurden\n² daher speziell für Gelegenheitsspieler kalkuliert und treffen so-\n² mit am genauesten auf diejenigen Spieler zu, die in ihrem gesam-\n² ten Leben lediglich 150 € für dieses Spiel ausgeben.\n² Beispiel: Die 1:Wahrscheinlichkeit einer Gewinnklasse liegt bei 20\n² und der Spielpreis bei 4 €. Der Wert in den runden Klammern be-\n² beläuft sich dadurch auf 150 (anstelle von 80).\n³ Je höher der Wert, desto ungleichmäßiger ist die Ø Gesamt-AQ\n³ auf die Gewinnklassen verteilt. Berechnung: Mittelwert (Ø) aller\n³ berechneten Werte (X) in den einzelnen Gewinnklassen. Berech-\n³ nung von X je Gewinnklasse: Wenn der Ø der Ø AQs aller Gewinn-\n³ klassen (Y) größer ist als die Ø Gewinnklassen-AQ (Z), dann wird Y\n³ durch Z geteilt, ansonsten wird Z durch Y geteilt.\n⁴ Bei diesem Onlinespiel wurde die Ø AQ lediglich aus der Spielbe-\n⁴ schreibung des Spiels entnommen, erfolgt jedoch ohne Gewähr,\n⁴ da der tatsächliche Wert maßgeblich von den Entscheidungen\n⁴ des Spielers abhängig ist und daher mit keiner mathematischen\n⁴ Formel berechnet und überprüft werden kann. Die veröffentlich-\n⁴ te Ø AQ bei dem Spiel \"Lottohelden Blackjack\" trifft daher nur\n⁴ bei Anwendung der bestmöglichen Strategie zu. Bei Spielern, die\n⁴ stategisch schlechte Entscheidungen treffen, kann die Ø AQ so-\n⁴ mit auch deutlich geringer ausfallen.\n⁵ Die Ø AQs dieser Onlinespiele wurden lediglich aus der Spielbe-\n⁵ schreibung im Spiel entnommen und erfolgen ohne Gewähr, da\n⁵ diese mathematisch nicht berechnet werden können, weil nicht\n⁵ veröffentlicht wurde, mit welcher Wahrscheinlichkeit die einzel-\n⁵ nen Gewinnklassen erreicht werden. Genauere Informationen zu\n⁵ diesen Onlinespielen können somit nicht ermittelt werden. \n⁶ Bei diesen Spielen gelten alle Angaben nur unter der Vorausset-\n⁶ zung, dass der in dem Softwareprogramm einprogrammierte Zu-\n⁶ fallsgenerator nicht manipuliert wurde.\n⁷ Bei diesen Onlinespielen wurden keine Gewinntabellen von Lot-\n⁷ tohelden veröffentlich. Ausführlichere Informationen zu diesen\n⁷ Sofortlotterien sind daher leider nicht verfügbar und können\n⁷ auch nicht berechnet werden, da der Spielausgang bereits zu\n⁷ Spielbeginn vorab festgelegt ist und somit während dem Spiel\n⁷ keine zufälligen Aktionen mehr stattfinden. Die Ø AQs wurden\n⁷ hierbei lediglich aus der Spielbeschreibung der jeweiligen Spiele\n⁷ entnommen. Alle Angaben erfolgen somit ohne Gewähr.",null,null,null,null,null,null,"Sofort","Burning","B 90","B 75","Jackpot"]
[9.9974806655864869E-5,"9 (1x)",{"$f":"IF(OR(E112<=0,E112>1000000000),\"\",1/HYPGEOMDIST(9,9,35,90)/E106)","v":10002.519969278046},{"$f":"IF(OR(E112<=0,E112>1000000000),\"\",E112/C112/E107)","v":9.9974806655864848E-3},{"$f":"100*B107","v":20},{"$f":"IFERROR(IF(D112<D122,D122/D112,D112/D122),\"\")","v":7.8610092581407152},{"$f":"IFERROR(D112/IF((C112*E107)<150,150,C112*E107)^0.25*34.9964,\"\")","v":5.2315344435483191E-2},null,null,null,null,null,null,null,null,null,null,null,null,null,null,null,0.1,0.1,0.1,0.2,0.1]
[3.0362719058447929E-4,"8 (1x)",{"$f":"IF(OR(E113<=0,E113>1000000000),\"\",1/HYPGEOMDIST(8,8,35,90)/E106)","v":3293.5126728110549},{"$f":"IF(OR(E113<=0,E113>1000000000),\"\",E113/C113/E107)","v":9.1088157175343784E-3},{"$f":"30*B107","v":6},{"$f":"IFERROR(IF(D113<D122,D122/D113,D113/D122),\"\")","v":8.6279369906422243},{"$f":"IFERROR(D113/IF((C113*E107)<150,150,C113*E107)^0.25*34.9964,\"\")","v":6.2923511961853987E-2},null,null,null,null,null,null,null,null,null,null,null,null,null,null,null,0.2,0.2,0.2,0.4,0.2]
[9.0003774351827734E-4,"7 (1x)",{"$f":"IF(OR(E114<=0,E114>1000000000),\"\",1/HYPGEOMDIST(7,7,35,90)/E106)","v":1111.0645161290313},{"$f":"IF(OR(E114<=0,E114>1000000000),\"\",E114/C114/E107)","v":2.2500943587956932E-2},{"$f":"25*B107","v":5},{"$f":"IFERROR(IF(D114<D122,D122/D114,D114/D122),\"\")","v":3.4927552154889026},{"$f":"IFERROR(D114/IF((C114*E107)<150,150,C114*E107)^0.25*34.9964,\"\")","v":0.20395379195639834},null,"HotPicks EuroMillions",null,null,1,null,null,null,null,null,null,null,null,null,null,0.5,0.4,0.5,0.6,0.5]
[1.477303330740342E-2,"5 (2x)",{"$f":"IF(OR(E115<=0,E115>1000000000),\"\",1/HYPGEOMDIST(5,5,35,90)/2/E106)","v":67.690905394415907},{"$f":"IF(OR(E115<=0,E115>1000000000),\"\",E115/C115/E107)","v":0.22159549961105129},{"$f":"15*B107","v":3},{"$f":"IFERROR(IF(D115<D122,D122/D115,D115/D122),\"\")","v":2.8196295630440917},{"$f":"IFERROR(D115/IF((C115*E107)<150,150,C115*E107)^0.25*34.9964,\"\")","v":2.2159578381594636},null,"(1 bis 5) aus 5 aus 50",null,null,{"$f":"L114*2.75","v":2.75},null,null,null,null,null,null,null,null,null,null,1,0.5,1,0.8,1]
[2.215954996110513E-2,"5 (3x)",{"$f":"IF(OR(E116<=0,E116>1000000000),\"\",1/HYPGEOMDIST(5,5,35,90)/3/E106)","v":45.127270262943938},{"$f":"IF(OR(E116<=0,E116>1000000000),\"\",E116/C116/E107)","v":0.22159549961105129},{"$f":"10*B107","v":2},{"$f":"IFERROR(IF(D116<D122,D122/D116,D116/D122),\"\")","v":2.8196295630440917},{"$f":"IFERROR(D116/IF((C116*E107)<150,150,C116*E107)^0.25*34.9964,\"\")","v":2.2159578381594636},null,"Zahlen",{"$f":"IF(L114=1,\"Chancen 1:\",\"Ø Gewinne 1:\")","v":"Chancen 1:"},"Ø AQ","Gewinn",null,null,null,null,null,null,null,null,null,null,2,1,2,1,5]
[4.431909992221026E-2,"5 (6x)",{"$f":"IF(OR(E117<=0,E117>1000000000),\"\",1/HYPGEOMDIST(5,5,35,90)/6/E106)","v":22.563635131471969},{"$f":"IF(OR(E117<=0,E117>1000000000),\"\",E117/C117/E107)","v":0.11079774980552565},{"$f":"2.5*B107","v":0.5},{"$f":"IFERROR(IF(D117<D122,D122/D117,D117/D122),\"\")","v":1.4098147815220459},{"$f":"IFERROR(D117/IF((C117*E107)<150,150,C117*E107)^0.25*34.9964,\"\")","v":1.1079789190797318},{"$f":"IFERROR(IF(OR(L117<=0,L117>1000000000),\"\",1/J117)/L114,\"\")","v":4.7197417357322267E-7},5,{"$f":"IF(OR(L117<=0,L117>1000000000),\"\",1/HYPGEOMDIST(5,5,5,50)/L114)","v":2118759.9999999972},{"$f":"IF(OR(L117<=0,L117>1000000000),\"\",L117/J117/L115)","v":0.47197417357322274},2750000,{"$f":"IF(L117>0,1,\"\")","v":1},{"$f":"IFERROR(K117/IF((J117*L115)<150,150,J117*L115)^0.25*34.9964,\"\")","v":0.3361924775348456},null,null,null,null,null,null,null,null,5,2,3,2,10]
[0.12294976107451895,"4 (6x)",{"$f":"IF(OR(E118<=0,E118>1000000000),\"\",1/HYPGEOMDIST(4,4,35,90)/6/E106)","v":8.133403361344536},{"$f":"IF(OR(E118<=0,E118>1000000000),\"\",E118/C118/E107)","v":0.12294976107451895},{"$f":"1*B107","v":0.2},{"$f":"IFERROR(IF(D118<D122,D122/D118,D118/D122),\"\")","v":1.5644396285276918},{"$f":"IFERROR(D118/IF((C118*E107)<150,150,C118*E107)^0.25*34.9964,\"\")","v":1.2294991876239618},{"$f":"IFERROR(IF(OR(L118<=0,L118>1000000000),\"\",1/J118)/L114,\"\")","v":2.1710811984368171E-5},4,{"$f":"IF(OR(L118<=0,L118>1000000000),\"\",1/HYPGEOMDIST(4,4,5,50)/L114)","v":46060.000000000095},{"$f":"IF(OR(L118<=0,L118>1000000000),\"\",L118/J118/L115)","v":0.47369044329530557},60000,{"$f":"IF(L118>0,1,\"\")","v":1},{"$f":"IFERROR(K118/IF((J118*L115)<150,150,J118*L115)^0.25*34.9964,\"\")","v":0.87872673083361175},null,null,null,null,null,null,null,null,10,2.5,5,3,20]
[0.16393301476602526,"4 (8x)",{"$f":"IF(OR(E119<=0,E119>1000000000),\"\",1/HYPGEOMDIST(4,4,35,90)/8/E106)","v":6.1000525210084025},{"$f":"IF(OR(E119<=0,E119>1000000000),\"\",E119/C119/E107)","v":4.9179904429807575E-2},{"$f":"0.3*B107","v":0.06},{"$f":"IFERROR(IF(D119<D122,D122/D119,D119/D122),\"\")","v":1.5980162828991828},{"$f":"IFERROR(D119/IF((C119*E107)<150,150,C119*E107)^0.25*34.9964,\"\")","v":0.49179967504958477},{"$f":"IFERROR(IF(OR(L119<=0,L119>1000000000),\"\",1/J119)/L114,\"\")","v":5.1020408163265343E-4},3,{"$f":"IF(OR(L119<=0,L119>1000000000),\"\",1/HYPGEOMDIST(3,3,5,50)/L114)","v":1959.9999999999986},{"$f":"IF(OR(L119<=0,L119>1000000000),\"\",L119/J119/L115)","v":0.55658627087198553},3000,{"$f":"IF(L119>0,1,\"\")","v":1},{"$f":"IFERROR(K119/IF((J119*L115)<150,150,J119*L115)^0.25*34.9964,\"\")","v":2.2733100400622561},null,null,null,null,null,null,null,null,null,4,null,4,30]
[0.77996254681647936,"3 (14x)",{"$f":"IF(OR(E120<=0,E120>1000000000),\"\",1/HYPGEOMDIST(3,3,35,90)/14/E106)","v":1.2821128451380552},{"$f":"IF(OR(E120<=0,E120>1000000000),\"\",E120/C120/E107)","v":0.15599250936329589},{"$f":"0.2*B107","v":4.0000000000000008E-2},{"$f":"IFERROR(IF(D120<D122,D122/D120,D120/D122),\"\")","v":1.9848827786945087},{"$f":"IFERROR(D120/IF((C120*E107)<150,150,C120*E107)^0.25*34.9964,\"\")","v":1.5599270942979013},{"$f":"IFERROR(IF(OR(L120<=0,L120>1000000000),\"\",1/J120)/L114,\"\")","v":8.163265306122448E-3},2,{"$f":"IF(OR(L120<=0,L120>1000000000),\"\",1/HYPGEOMDIST(2,2,5,50)/L114)","v":122.50000000000001},{"$f":"IF(OR(L120<=0,L120>1000000000),\"\",L120/J120/L115)","v":0.44526901669758806},150,{"$f":"IF(L120>0,1,\"\")","v":1},{"$f":"IFERROR(K120/IF((J120*L115)<150,150,J120*L115)^0.25*34.9964,\"\")","v":3.6372960640996066},null,null,null,null,null,null,null,null,null,5,null,5]
[{"$f":"IF(SUM(A109:A120)=0,\"\",SUM(A109:A120))","v":1.1495000351304474},"Gesamt",{"$f":"IFERROR(1/A121,\"\")","v":0.86994342708873262},{"$f":"IF(SUM(D109:D120)=0,\"\",SUM(D109:D120))","v":0.94308345684309791},{"$f":"IFERROR(E107*D121,\"\")","v":0.18861669136861958},{"$f":"IFERROR(AVERAGE(F109:F120),\"\")","v":23.036738521594259},{"$f":"IF(SUM(G109:G120)=0,\"\",SUM(G109:G120))","v":9.2254643608984672},{"$f":"IFERROR(IF(OR(L121<=0,L121>1000000000),\"\",1/J121)/L114,\"\")","v":9.9999999999999964E-2},1,{"$f":"IF(OR(L121<=0,L121>1000000000),\"\",1/HYPGEOMDIST(1,1,5,50)/L114)","v":10.000000000000004},{"$f":"IF(OR(L121<=0,L121>1000000000),\"\",L121/J121/L115)","v":0.5454545454545453},15,{"$f":"IF(L121>0,1,\"\")","v":1},{"$f":"IFERROR(K121/IF((J121*L115)<150,150,J121*L115)^0.25*34.9964,\"\")","v":5.4545524502133302},null,null,null,null,null,null,null,null,null,10,null,10]
[{"$f":"IF(SUM(A109:A120)=0,\"\",1-(1-A109/E106)*(1-A110/E106)*(1-A111/E106/3)^3*(1-A112/E106)*(1-A113/E106)*(1-A114/E106)*(1-A115/E106/2)^2*(1-A116/E106/3)^3*(1-A117/E106/6)^6*(1-A118/E106/6)^6*(1-A119/E106/8)^8*(1-A120/E106/14)^14)","v":0.69128937048042371},null,null,{"$f":"AVERAGE(D109:D120)","v":7.8590288070258155E-2},null,null,null,null,null,null,null,null,null,null,null,null,null,null,null,null,null,null,null,20,null,15]
[null,null,null,null,null,null,null,null,null,null,null,null,null,null,null,null,null,null,null,null,null,null,null,25,null,20]
[null,"Bingo 75 ⁶",null,null,1,null,null,null,"HotPicks EuroJackpot",null,null,1,null,null,null,null,null,null,null,null,null,null,null,40]
[null,0.2,null,null,{"$f":"E124*B125","v":0.2},null,null,null,"(1 bis 5) aus 5 aus 50",null,null,{"$f":"L124*2","v":2},null,null,null,null,null,null,null,null,null,null,null,50]
[null,"Richtige","Ø Gewinne 1:","Ø AQ","(Ø) Gewinn",null,null,null,"Zahlen",{"$f":"IF(L124=1,\"Chancen 1:\",\"Ø Gewinne 1:\")","v":"Chancen 1:"},"Ø AQ","Gewinn",null,null,null,null,null,null,null,null,null,null,null,100]
[{"$f":"IFERROR(IF(OR(E127<=0,E127>1000000000),0,1/C127),\"\")","v":2.4381408944776313E-9},"24 (1x)",{"$f":"IF(OR(E127<=0,E127>1000000000),\"\",1/HYPGEOMDIST(24,24,40,75)/E124)","v":410148569.45510888},{"$f":"IF(OR(E127<=0,E127>1000000000),\"\",E127/C127/E125)","v":1.2190704472388155E-5},{"$f":"5000*B125","v":1000},{"$f":"IFERROR(IF(D127<D139,D139/D127,D127/D139),\"\")","v":7050.5530455920953},{"$f":"IFERROR(D127/IF((C127*E125)<150,150,C127*E125)^0.25*34.9964,\"\")","v":4.4829033506360129E-6},{"$f":"IFERROR(IF(OR(L127<=0,L127>1000000000),\"\",1/J127)/L124,\"\")","v":4.7197417357322267E-7},5,{"$f":"IF(OR(L127<=0,L127>1000000000),\"\",1/HYPGEOMDIST(5,5,5,50)/L124)","v":2118759.9999999972},{"$f":"IF(OR(L127<=0,L127>1000000000),\"\",L127/J127/L125)","v":0.47197417357322269},2000000,{"$f":"IF(L127>0,1,\"\")","v":1},{"$f":"IFERROR(K127/IF((J127*L125)<150,150,J127*L125)^0.25*34.9964,\"\")","v":0.3640522053095942}]
[7.3510820960125387E-6,"16 (1x)",{"$f":"IF(OR(E128<=0,E128>1000000000),\"\",1/HYPGEOMDIST(16,16,40,75)/E124)","v":136034.39424821985},{"$f":"IF(OR(E128<=0,E128>1000000000),\"\",E128/C128/E125)","v":1.4702164192025077E-2},{"$f":"2000*B125","v":400},{"$f":"IFERROR(IF(D128<D139,D139/D128,D128/D139),\"\")","v":5.8461602947090032},{"$f":"IFERROR(D128/IF((C128*E125)<150,150,C128*E125)^0.25*34.9964,\"\")","v":4.0062215215628062E-2},{"$f":"IFERROR(IF(OR(L128<=0,L128>1000000000),\"\",1/J128)/L124,\"\")","v":2.1710811984368171E-5},4,{"$f":"IF(OR(L128<=0,L128>1000000000),\"\",1/HYPGEOMDIST(4,4,5,50)/L124)","v":46060.000000000095},{"$f":"IF(OR(L128<=0,L128>1000000000),\"\",L128/J128/L125)","v":0.43421623968736339},40000,{"$f":"IF(L128>0,1,\"\")","v":1},{"$f":"IFERROR(K128/IF((J128*L125)<150,150,J128*L125)^0.25*34.9964,\"\")","v":0.87224994648698029}]
[2.1385994220861061E-4,"12 (1x)",{"$f":"IF(OR(E129<=0,E129>1000000000),\"\",1/HYPGEOMDIST(12,12,40,75)/E124)","v":4675.9574966336877},{"$f":"IF(OR(E129<=0,E129>1000000000),\"\",E129/C129/E125)","v":4.2771988441722121E-2},{"$f":"200*B125","v":40},{"$f":"IFERROR(IF(D129<D139,D139/D129,D129/D139),\"\")","v":2.0095209897201785},{"$f":"IFERROR(D129/IF((C129*E125)<150,150,C129*E125)^0.25*34.9964,\"\")","v":0.27068093932857845},{"$f":"IFERROR(IF(OR(L129<=0,L129>1000000000),\"\",1/J129)/L124,\"\")","v":5.1020408163265343E-4},3,{"$f":"IF(OR(L129<=0,L129>1000000000),\"\",1/HYPGEOMDIST(3,3,5,50)/L124)","v":1959.9999999999986},{"$f":"IF(OR(L129<=0,L129>1000000000),\"\",L129/J129/L125)","v":0.51020408163265341},2000,{"$f":"IF(L129>0,1,\"\")","v":1},{"$f":"IFERROR(K129/IF((J129*L125)<150,150,J129*L125)^0.25*34.9964,\"\")","v":2.2565542747419642}]
[1.0225946661928957E-3,"10 (1x)",{"$f":"IF(OR(E130<=0,E130>1000000000),\"\",1/HYPGEOMDIST(10,10,40,75)/E124)","v":977.90457261329618},{"$f":"IF(OR(E130<=0,E130>1000000000),\"\",E130/C130/E125)","v":0.10225946661928957},{"$f":"100*B125","v":20},{"$f":"IFERROR(IF(D130<D139,D139/D130,D130/D139),\"\")","v":1.1897385545766612},{"$f":"IFERROR(D130/IF((C130*E125)<150,150,C130*E125)^0.25*34.9964,\"\")","v":0.95696328693835309},{"$f":"IFERROR(IF(OR(L130<=0,L130>1000000000),\"\",1/J130)/L124,\"\")","v":8.163265306122448E-3},2,{"$f":"IF(OR(L130<=0,L130>1000000000),\"\",1/HYPGEOMDIST(2,2,5,50)/L124)","v":122.50000000000001},{"$f":"IF(OR(L130<=0,L130>1000000000),\"\",L130/J130/L125)","v":0.4081632653061224},100,{"$f":"IF(L130>0,1,\"\")","v":1},{"$f":"IFERROR(K130/IF((J130*L125)<150,150,J130*L125)^0.25*34.9964,\"\")","v":3.6104868395871388}]
[4.5583806591784192E-3,"8 (1x)",{"$f":"IF(OR(E131<=0,E131>1000000000),\"\",1/HYPGEOMDIST(8,8,40,75)/E124)","v":219.37615016562378},{"$f":"IF(OR(E131<=0,E131>1000000000),\"\",E131/C131/E125)","v":0.11395951647946047},{"$f":"25*B125","v":5},{"$f":"IFERROR(IF(D131<D139,D139/D131,D131/D139),\"\")","v":1.3258628750851824},{"$f":"IFERROR(D131/IF((C131*E125)<150,150,C131*E125)^0.25*34.9964,\"\")","v":1.1395966263699742},{"$f":"IFERROR(IF(OR(L131<=0,L131>1000000000),\"\",1/J131)/L124,\"\")","v":9.9999999999999964E-2},1,{"$f":"IF(OR(L131<=0,L131>1000000000),\"\",1/HYPGEOMDIST(1,1,5,50)/L124)","v":10.000000000000004},{"$f":"IF(OR(L131<=0,L131>1000000000),\"\",L131/J131/L125)","v":0.49999999999999983},10,{"$f":"IF(L131>0,1,\"\")","v":1},{"$f":"IFERROR(K131/IF((J131*L125)<150,150,J131*L125)^0.25*34.9964,\"\")","v":5.0000064126955523}]
[4.5583806591784192E-3,"8 (1x)",{"$f":"IF(OR(E132<=0,E132>1000000000),\"\",1/HYPGEOMDIST(8,8,40,75)/E124)","v":219.37615016562378},{"$f":"IF(OR(E132<=0,E132>1000000000),\"\",E132/C132/E125)","v":9.1167613183568377E-2},{"$f":"20*B125","v":4},{"$f":"IFERROR(IF(D132<D139,D139/D132,D132/D139),\"\")","v":1.060690300068146},{"$f":"IFERROR(D132/IF((C132*E125)<150,150,C132*E125)^0.25*34.9964,\"\")","v":0.91167730109597922}]
[4.5583806591784192E-3,"8 (1x)",{"$f":"IF(OR(E133<=0,E133>1000000000),\"\",1/HYPGEOMDIST(8,8,40,75)/E124)","v":219.37615016562378},{"$f":"IF(OR(E133<=0,E133>1000000000),\"\",E133/C133/E125)","v":4.5583806591784189E-2},{"$f":"10*B125","v":2},{"$f":"IFERROR(IF(D133<D139,D139/D133,D133/D139),\"\")","v":1.885564523284041},{"$f":"IFERROR(D133/IF((C133*E125)<150,150,C133*E125)^0.25*34.9964,\"\")","v":0.45583865054798961}]
[3.7572107251410032E-2,"7 (4x)",{"$f":"IF(OR(E134<=0,E134>1000000000),\"\",1/HYPGEOMDIST(7,7,40,75)/4/E124)","v":26.615488806858746},{"$f":"IF(OR(E134<=0,E134>1000000000),\"\",E134/C134/E125)","v":0.18786053625705015},{"$f":"5*B125","v":1},{"$f":"IFERROR(IF(D134<D139,D139/D134,D134/D139),\"\")","v":2.1856648607464844},{"$f":"IFERROR(D134/IF((C134*E125)<150,150,C134*E125)^0.25*34.9964,\"\")","v":1.8786077719553529},null,"HotPicks SuperLotto",null,null,1]
[0.15038051750380521,"4 (2x)",{"$f":"IF(OR(E135<=0,E135>1000000000),\"\",1/HYPGEOMDIST(4,4,40,75)/2/E124)","v":6.6497975708502004},{"$f":"IF(OR(E135<=0,E135>1000000000),\"\",E135/C135/E125)","v":0.15038051750380524},{"$f":"1*B125","v":0.2},{"$f":"IFERROR(IF(D135<D139,D139/D135,D135/D139),\"\")","v":1.7496032929406895},{"$f":"IFERROR(D135/IF((C135*E125)<150,150,C135*E125)^0.25*34.9964,\"\")","v":1.5038071037270044},null,"(1 bis 5) aus 6 aus 90",null,null,{"$f":"L134*0.5","v":0.5}]
[0.30076103500761042,"4 (4x)",{"$f":"IF(OR(E136<=0,E136>1000000000),\"\",1/HYPGEOMDIST(4,4,40,75)/4/E124)","v":3.3248987854251002},{"$f":"IF(OR(E136<=0,E136>1000000000),\"\",E136/C136/E125)","v":0.10526636225266363},{"$f":"0.35*B125","v":6.9999999999999993E-2},{"$f":"IFERROR(IF(D136<D139,D139/D136,D136/D139),\"\")","v":1.2247223050584821},{"$f":"IFERROR(D136/IF((C136*E125)<150,150,C136*E125)^0.25*34.9964,\"\")","v":1.0526649726089028},null,"Zahlen",{"$f":"IF(L134=1,\"Chancen 1:\",\"Ø Gewinne 1:\")","v":"Chancen 1:"},"Ø AQ","Gewinn"]
[0.30499710592321055,"5 (8x)",{"$f":"IF(OR(E137<=0,E137>1000000000),\"\",1/HYPGEOMDIST(5,5,40,75)/8/E124)","v":3.2787196356275299},{"$f":"IF(OR(E137<=0,E137>1000000000),\"\",E137/C137/E125)","v":9.1499131776963144E-2},{"$f":"0.3*B125","v":0.06},{"$f":"IFERROR(IF(D137<D139,D139/D137,D137/D139),\"\")","v":1.0645473557047571},{"$f":"IFERROR(D137/IF((C137*E125)<150,150,C137*E125)^0.25*34.9964,\"\")","v":0.91499249128178262},{"$f":"IFERROR(IF(OR(L137<=0,L137>1000000000),\"\",1/J137)/L134,\"\")","v":1.3652104512866966E-7},5,{"$f":"IF(OR(L137<=0,L137>1000000000),\"\",1/HYPGEOMDIST(5,5,6,90)/L134)","v":7324878.0000000028},{"$f":"IF(OR(L137<=0,L137>1000000000),\"\",L137/J137/L135)","v":1.3652104512866967},5000000,{"$f":"IF(L137>0,1,\"\")","v":1},{"$f":"IFERROR(K137/IF((J137*L135)<150,150,J137*L135)^0.25*34.9964,\"\")","v":1.092145186719627}]
[{"$f":"IF(SUM(A127:A137)=0,\"\",SUM(A127:A137))","v":0.80862971579220999},"Gesamt",{"$f":"IFERROR(1/A138,\"\")","v":1.2366599699100911},{"$f":"IF(SUM(D127:D137)=0,\"\",SUM(D127:D137))","v":0.94546329400280427},{"$f":"IFERROR(E125*D138,\"\")","v":0.18909265880056086},{"$f":"IFERROR(AVERAGE(F127:F137),\"\")","v":642.73592008581716},{"$f":"IF(SUM(G127:G137)=0,\"\",SUM(G127:G137))","v":9.1248958419728972},{"$f":"IFERROR(IF(OR(L138<=0,L138>1000000000),\"\",1/J138)/L134,\"\")","v":5.8704049405328018E-6},4,{"$f":"IF(OR(L138<=0,L138>1000000000),\"\",1/HYPGEOMDIST(4,4,6,90)/L134)","v":170345.99999999988},{"$f":"IF(OR(L138<=0,L138>1000000000),\"\",L138/J138/L135)","v":1.1740809881065604},100000,{"$f":"IF(L138>0,1,\"\")","v":1},{"$f":"IFERROR(K138/IF((J138*L135)<150,150,J138*L135)^0.25*34.9964,\"\")","v":2.4051709029370443}]
[{"$f":"IF(SUM(A127:A137)=0,\"\",1-(1-A127/E124)*(1-A128/E124)*(1-A129/E124)*(1-A130/E124)*(1-A131/E124)*(1-A132/E124)*(1-A133/E124)*(1-A134/E124/4)^4*(1-A135/E124/2)^2*(1-A136/E124/4)^4*(1-A137/E124/8)^8)","v":0.56511215572573659},null,null,{"$f":"AVERAGE(D127:D137)","v":8.5951208545709479E-2},null,null,null,{"$f":"IFERROR(IF(OR(L139<=0,L139>1000000000),\"\",1/J139)/L134,\"\")","v":1.7024174327545113E-4},3,{"$f":"IF(OR(L139<=0,L139>1000000000),\"\",1/HYPGEOMDIST(3,3,6,90)/L134)","v":5874},{"$f":"IF(OR(L139<=0,L139>1000000000),\"\",L139/J139/L135)","v":0.8512087163772557},2500,{"$f":"IF(L139>0,1,\"\")","v":1},{"$f":"IFERROR(K139/IF((J139*L135)<150,150,J139*L135)^0.25*34.9964,\"\")","v":4.0465363618537307}]
[null,null,null,null,null,null,null,{"$f":"IFERROR(IF(OR(L140<=0,L140>1000000000),\"\",1/J140)/L134,\"\")","v":3.7453183520599269E-3},2,{"$f":"IF(OR(L140<=0,L140>1000000000),\"\",1/HYPGEOMDIST(2,2,6,90)/L134)","v":266.99999999999989},{"$f":"IF(OR(L140<=0,L140>1000000000),\"\",L140/J140/L135)","v":0.74906367041198529},100,{"$f":"IF(L140>0,1,\"\")","v":1},{"$f":"IFERROR(K140/IF((J140*L135)<150,150,J140*L135)^0.25*34.9964,\"\")","v":7.4906463111543911}]
[null,"Bingo Jackpot ⁶",null,null,1,null,null,{"$f":"IFERROR(IF(OR(L141<=0,L141>1000000000),\"\",1/J141)/L134,\"\")","v":6.6666666666666666E-2},1,{"$f":"IF(OR(L141<=0,L141>1000000000),\"\",1/HYPGEOMDIST(1,1,6,90)/L134)","v":15},{"$f":"IF(OR(L141<=0,L141>1000000000),\"\",L141/J141/L135)","v":0.66666666666666663},5,{"$f":"IF(L141>0,1,\"\")","v":1},{"$f":"IFERROR(K141/IF((J141*L135)<150,150,J141*L135)^0.25*34.9964,\"\")","v":6.6666752169274055}]
[null,0.2,null,null,{"$f":"E141*B142","v":0.2}]
[null,"Richtige","Ø Gewinne 1:","Ø AQ","(Ø) Gewinn"]
[{"$f":"IFERROR(IF(OR(E144<=0,E144>1000000000),0,1/C144),\"\")","v":2.4381408944776313E-9},"24 (1x)",{"$f":"IF(OR(E144<=0,E144>1000000000),\"\",1/HYPGEOMDIST(24,24,40,75)/E141)","v":410148569.45510888},{"$f":"IF(OR(E144<=0,E144>1000000000),\"\",E144/C144/E142)","v":2.438140894477631E-3},{"$f":"1000000*B142","v":200000},{"$f":"IFERROR(IF(D144<D156,D156/D144,D144/D156),\"\")","v":35.318256133236254},{"$f":"IFERROR(D144/IF((C144*E142)<150,150,C144*E142)^0.25*34.9964,\"\")","v":8.9658067012720266E-4},null,"HotPicks LOTTO 6aus49",null,null,1]
[7.3510820960125387E-6,"16 (1x)",{"$f":"IF(OR(E145<=0,E145>1000000000),\"\",1/HYPGEOMDIST(16,16,40,75)/E141)","v":136034.39424821985},{"$f":"IF(OR(E145<=0,E145>1000000000),\"\",E145/C145/E142)","v":1.8377705240031347E-2},{"$f":"2500*B142","v":500},{"$f":"IFERROR(IF(D145<D156,D156/D145,D145/D156),\"\")","v":4.6856168099000284},{"$f":"IFERROR(D145/IF((C145*E142)<150,150,C145*E142)^0.25*34.9964,\"\")","v":5.0077769019535076E-2},null,"(1 bis 6) aus 6 aus 49",null,null,{"$f":"L144*1","v":1}]
[2.1385994220861061E-4,"12 (1x)",{"$f":"IF(OR(E146<=0,E146>1000000000),\"\",1/HYPGEOMDIST(12,12,40,75)/E141)","v":4675.9574966336877},{"$f":"IF(OR(E146<=0,E146>1000000000),\"\",E146/C146/E142)","v":5.346498555215265E-2},{"$f":"250*B142","v":50},{"$f":"IFERROR(IF(D146<D156,D156/D146,D146/D156),\"\")","v":1.6106033455499857},{"$f":"IFERROR(D146/IF((C146*E142)<150,150,C146*E142)^0.25*34.9964,\"\")","v":0.33835117416072308},null,"Zahlen",{"$f":"IF(L144=1,\"Chancen 1:\",\"Ø Gewinne 1:\")","v":"Chancen 1:"},"Ø AQ","Gewinn"]
[1.0225946661928957E-3,"10 (1x)",{"$f":"IF(OR(E147<=0,E147>1000000000),\"\",1/HYPGEOMDIST(10,10,40,75)/E141)","v":977.90457261329618},{"$f":"IF(OR(E147<=0,E147>1000000000),\"\",E147/C147/E142)","v":0.10225946661928957},{"$f":"100*B142","v":20},{"$f":"IFERROR(IF(D147<D156,D156/D147,D147/D156),\"\")","v":1.1875324135178622},{"$f":"IFERROR(D147/IF((C147*E142)<150,150,C147*E142)^0.25*34.9964,\"\")","v":0.95696328693835309},{"$f":"IFERROR(IF(OR(L147<=0,L147>1000000000),\"\",1/J147)/L144,\"\")","v":7.1511238420185226E-8},6,{"$f":"IF(OR(L147<=0,L147>1000000000),\"\",1/HYPGEOMDIST(6,6,6,49)/L144)","v":13983815.999999987},{"$f":"IF(OR(L147<=0,L147>1000000000),\"\",L147/J147/L145)","v":0.35755619210092615},5000000,{"$f":"IF(L147>0,1,\"\")","v":1},{"$f":"IFERROR(K147/IF((J147*L145)<150,150,J147*L145)^0.25*34.9964,\"\")","v":0.20462620506583803}]
[4.5583806591784192E-3,"8 (1x)",{"$f":"IF(OR(E148<=0,E148>1000000000),\"\",1/HYPGEOMDIST(8,8,40,75)/E141)","v":219.37615016562378},{"$f":"IF(OR(E148<=0,E148>1000000000),\"\",E148/C148/E142)","v":0.11395951647946047},{"$f":"25*B142","v":5},{"$f":"IFERROR(IF(D148<D156,D156/D148,D148/D156),\"\")","v":1.3234043176854824},{"$f":"IFERROR(D148/IF((C148*E142)<150,150,C148*E142)^0.25*34.9964,\"\")","v":1.1395966263699742},{"$f":"IFERROR(IF(OR(L148<=0,L148>1000000000),\"\",1/J148)/L144,\"\")","v":3.1464944904881502E-6},5,{"$f":"IF(OR(L148<=0,L148>1000000000),\"\",1/HYPGEOMDIST(5,5,6,49)/L144)","v":317813.99999999971},{"$f":"IF(OR(L148<=0,L148>1000000000),\"\",L148/J148/L145)","v":0.47197417357322252},150000,1,{"$f":"IFERROR(K148/IF((J148*L145)<150,150,J148*L145)^0.25*34.9964,\"\")","v":0.695662111098312}]
[4.5583806591784192E-3,"8 (1x)",{"$f":"IF(OR(E149<=0,E149>1000000000),\"\",1/HYPGEOMDIST(8,8,40,75)/E141)","v":219.37615016562378},{"$f":"IF(OR(E149<=0,E149>1000000000),\"\",E149/C149/E142)","v":9.1167613183568377E-2},{"$f":"20*B142","v":4},{"$f":"IFERROR(IF(D149<D156,D156/D149,D149/D156),\"\")","v":1.0587234541483859},{"$f":"IFERROR(D149/IF((C149*E142)<150,150,C149*E142)^0.25*34.9964,\"\")","v":0.91167730109597922},{"$f":"IFERROR(IF(OR(L149<=0,L149>1000000000),\"\",1/J149)/L144,\"\")","v":7.079612603598329E-5},4,{"$f":"IF(OR(L149<=0,L149>1000000000),\"\",1/HYPGEOMDIST(4,4,6,49)/L144)","v":14125.066666666671},{"$f":"IF(OR(L149<=0,L149>1000000000),\"\",L149/J149/L145)","v":0.35398063017991643},5000,1,{"$f":"IFERROR(K149/IF((J149*L145)<150,150,J149*L145)^0.25*34.9964,\"\")","v":1.1363320166369182},null,"Weitere Berechnungsfunktionen zu Glücksspielen finden Sie in meinem Excel-Tool auf www.lotteriecheck.de/tool6. Damit kön-\nnen Sie sich z. B. mit der fünften Funktion auch die Ø AQs von den Sportwetten von Lottohelden berechnen lassen. \n\nDie Erstellung dieses Excel-Berechnungstools ist unglaublich Zeit-aufwändig gewesen. Falls Sie es daher nützlich finden sollten, dann würde ich mich sehr über eine kleine Spende per PayPal an meine\nE-Mail-Adresse info@lotteriecheck.de freuen. Herzlichen Dank!"]
[4.5583806591784192E-3,"8 (1x)",{"$f":"IF(OR(E150<=0,E150>1000000000),\"\",1/HYPGEOMDIST(8,8,40,75)/E141)","v":219.37615016562378},{"$f":"IF(OR(E150<=0,E150>1000000000),\"\",E150/C150/E142)","v":4.5583806591784189E-2},{"$f":"10*B142","v":2},{"$f":"IFERROR(IF(D150<D156,D156/D150,D150/D156),\"\")","v":1.8890674350921568},{"$f":"IFERROR(D150/IF((C150*E142)<150,150,C150*E142)^0.25*34.9964,\"\")","v":0.45583865054798961},{"$f":"IFERROR(IF(OR(L150<=0,L150>1000000000),\"\",1/J150)/L144,\"\")","v":1.0855405992184104E-3},3,{"$f":"IF(OR(L150<=0,L150>1000000000),\"\",1/HYPGEOMDIST(3,3,6,49)/L144)","v":921.20000000000027},{"$f":"IF(OR(L150<=0,L150>1000000000),\"\",L150/J150/L145)","v":0.5427702996092052},500,1,{"$f":"IFERROR(K150/IF((J150*L145)<150,150,J150*L145)^0.25*34.9964,\"\")","v":3.4478706498235607}]
[3.7572107251410032E-2,"7 (4x)",{"$f":"IF(OR(E151<=0,E151>1000000000),\"\",1/HYPGEOMDIST(7,7,40,75)/4/E141)","v":26.615488806858746},{"$f":"IF(OR(E151<=0,E151>1000000000),\"\",E151/C151/E142)","v":0.18786053625705015},{"$f":"5*B142","v":1},{"$f":"IFERROR(IF(D151<D156,D156/D151,D151/D156),\"\")","v":2.1816119661239486},{"$f":"IFERROR(D151/IF((C151*E142)<150,150,C151*E142)^0.25*34.9964,\"\")","v":1.8786077719553529},{"$f":"IFERROR(IF(OR(L151<=0,L151>1000000000),\"\",1/J151)/L144,\"\")","v":1.2755102040816325E-2},2,{"$f":"IF(OR(L151<=0,L151>1000000000),\"\",1/HYPGEOMDIST(2,2,6,49)/L144)","v":78.400000000000006},{"$f":"IF(OR(L151<=0,L151>1000000000),\"\",L151/J151/L145)","v":0.63775510204081631},50,1,{"$f":"IFERROR(K151/IF((J151*L145)<150,150,J151*L145)^0.25*34.9964,\"\")","v":6.377559199866778}]
[0.15038051750380521,"4 (2x)",{"$f":"IF(OR(E152<=0,E152>1000000000),\"\",1/HYPGEOMDIST(4,4,40,75)/2/E141)","v":6.6497975708502004},{"$f":"IF(OR(E152<=0,E152>1000000000),\"\",E152/C152/E142)","v":0.15038051750380524},{"$f":"1*B142","v":0.2},{"$f":"IFERROR(IF(D152<D156,D156/D152,D152/D156),\"\")","v":1.7463589905296106},{"$f":"IFERROR(D152/IF((C152*E142)<150,150,C152*E142)^0.25*34.9964,\"\")","v":1.5038071037270044},{"$f":"IFERROR(IF(OR(L152<=0,L152>1000000000),\"\",1/J152)/L144,\"\")","v":0.1224489795918368},1,{"$f":"IF(OR(L152<=0,L152>1000000000),\"\",1/HYPGEOMDIST(1,1,6,49)/L144)","v":8.1666666666666625},{"$f":"IF(OR(L152<=0,L152>1000000000),\"\",L152/J152/L145)","v":0.61224489795918402},5,1,{"$f":"IFERROR(K152/IF((J152*L145)<150,150,J152*L145)^0.25*34.9964,\"\")","v":6.1224568318721104}]
[0.30076103500761042,"4 (4x)",{"$f":"IF(OR(E153<=0,E153>1000000000),\"\",1/HYPGEOMDIST(4,4,40,75)/4/E141)","v":3.3248987854251002},{"$f":"IF(OR(E153<=0,E153>1000000000),\"\",E153/C153/E142)","v":9.0228310502283124E-2},{"$f":"0.3*B142","v":0.06},{"$f":"IFERROR(IF(D153<D156,D156/D153,D153/D156),\"\")","v":1.0478153943177662},{"$f":"IFERROR(D153/IF((C153*E142)<150,150,C153*E142)^0.25*34.9964,\"\")","v":0.90228426223620239}]
[0.30499710592321055,"5 (8x)",{"$f":"IF(OR(E154<=0,E154>1000000000),\"\",1/HYPGEOMDIST(5,5,40,75)/8/E141)","v":3.2787196356275299},{"$f":"IF(OR(E154<=0,E154>1000000000),\"\",E154/C154/E142)","v":9.1499131776963144E-2},{"$f":"0.3*B142","v":0.06},{"$f":"IFERROR(IF(D154<D156,D156/D154,D154/D156),\"\")","v":1.0625733576180161},{"$f":"IFERROR(D154/IF((C154*E142)<150,150,C154*E142)^0.25*34.9964,\"\")","v":0.91499249128178262}]
[{"$f":"IF(SUM(A144:A154)=0,\"\",SUM(A144:A154))","v":0.80862971579220999},"Gesamt",{"$f":"IFERROR(1/A155,\"\")","v":1.2366599699100911},{"$f":"IF(SUM(D144:D154)=0,\"\",SUM(D144:D154))","v":0.94721973060086573},{"$f":"IFERROR(E142*D155,\"\")","v":0.18944394612017315},{"$f":"IFERROR(AVERAGE(F144:F154),\"\")","v":4.8283239652472254},{"$f":"IF(SUM(G144:G154)=0,\"\",SUM(G144:G154))","v":9.0530930180030236}]
[{"$f":"IF(SUM(A144:A154)=0,\"\",1-(1-A144/E141)*(1-A145/E141)*(1-A146/E141)*(1-A147/E141)*(1-A148/E141)*(1-A149/E141)*(1-A150/E141)*(1-A151/E141/4)^4*(1-A152/E141/2)^2*(1-A153/E141/4)^4*(1-A154/E141/8)^8)","v":0.56511215572573659},null,null,{"$f":"AVERAGE(D144:D154)","v":8.6110884600078708E-2}]
[null,null,null,null,null,null,null,null,null,null,null,null,null,null,null,65,"Legacy of Egypt ⁵",0.3,0.96499999999999997]
[null,null,null,null,null,null,null,null,null,null,null,null,null,null,null,65,"Bounty Gold ⁵",0.25,0.96499999999999997]
[null,null,null,null,null,null,null,null,null,null,null,null,null,null,null,65,"Gold Party ⁵",0.25,0.96499999999999997]
[null,null,null,null,null,null,null,null,null,null,null,null,null,null,null,65,"Tomb of the Scarab Queen ⁵",0.25,0.96499999999999997]
[null,null,null,null,null,null,null,null,null,null,null,null,null,null,null,65,"Zombie Carnival ⁵",0.2,0.96499999999999997]
[null,null,null,null,null,null,null,null,null,null,null,null,null,null,null,65,"Gates of Olympus ⁵",0.2,0.96499999999999997]
[null,null,null,null,null,null,null,null,null,null,null,null,null,null,null,65,"Sugar Rush Xmas ⁵",0.2,0.96499999999999997]